{"text_format":"1","workbook":"xlsx","n_sheets":4,"sheets":["Purchase Req.","Shipping Menu","WIPAC Funding","Vendor List"],"not_rendered":{"charts":0,"images":1,"macros":0,"external_links":1,"defined_names":11,"comments":2,"pivot_tables":0},"unopened":[],"bounds":{"document_bytes":16777216,"sheet_cells":100000,"rows_first":2000,"rows_last":500,"rows_between":2000,"halvings":0,"cell_chars":16384,"cell_head_chars":4096},"cells_cut":0,"cells_raw":0,"read":"whole","date_system":"1904"}

{"sheet":"Purchase Req.","index":0,"n_rows":3749,"n_cols":16,"rows_kept":3749,"cut":false,"hidden":false,"merged":[[32,14,32,15],[31,14,31,15],[30,14,30,15],[12,14,12,15],[5,13,6,14],[5,15,6,15],[26,12,26,13],[9,13,9,14],[7,13,7,14],[8,13,8,14],[0,11,0,14],[27,14,27,15],[26,14,26,15],[29,14,29,15],[1,1,1,15],[17,9,17,11],[15,13,15,15],[14,14,14,15],[9,7,13,11],[16,7,16,8],[18,2,18,5],[17,2,17,5],[16,2,16,5],[6,2,6,5],[21,1,22,1],[23,1,24,1],[28,5,28,6],[27,5,27,6],[21,2,22,15],[11,2,11,5],[26,5,26,6],[3,13,3,15],[4,13,4,14],[3,1,3,5],[3,7,3,11],[18,7,18,9],[6,7,6,8],[18,10,18,11],[8,7,8,11],[17,7,17,8],[4,7,4,8],[4,2,4,5],[5,2,5,5],[5,7,5,8],[14,2,14,5],[13,2,13,5],[10,2,10,5],[12,2,12,5],[16,9,16,11],[7,2,7,5],[7,7,7,8],[7,9,7,11],[40,1,40,2],[40,3,40,7],[41,3,41,7],[35,1,35,3],[34,5,34,6],[38,3,38,7],[39,1,39,2],[39,3,39,7],[9,1,9,5],[32,1,32,3],[31,1,31,3],[30,1,30,3],[30,9,30,10],[30,5,30,6],[44,3,44,7],[38,1,38,2],[28,1,28,3],[38,10,38,15],[41,10,41,15],[40,10,40,15],[39,10,39,15],[29,5,29,6],[34,14,34,15],[29,12,29,13],[28,12,28,13],[35,5,35,6],[36,5,36,6],[34,1,34,3],[33,1,33,3],[30,12,30,13],[44,10,44,15],[33,5,33,6],[41,1,41,2],[35,14,35,15],[33,14,33,15],[31,9,31,10],[46,1,46,2],[46,3,46,7],[46,10,46,15],[43,1,43,2],[43,3,43,7],[43,10,43,15],[45,1,45,2],[44,1,44,2],[45,3,45,7],[45,10,45,15],[35,12,35,13],[34,12,34,13],[33,12,33,13],[35,9,35,10],[34,9,34,10],[33,9,33,10],[32,9,32,10],[32,12,32,13],[31,12,31,13],[32,5,32,6],[31,5,31,6],[26,9,26,10],[27,12,27,13],[29,9,29,10],[23,2,24,15],[26,1,26,3],[13,14,13,15],[18,13,18,15],[17,13,17,15],[16,13,16,15],[20,1,20,15],[27,1,27,3],[27,9,27,10],[28,9,28,10],[15,2,15,5],[28,14,28,15],[29,1,29,3]]}
[{"$f":"\"\"","v":""},null,null,null,null,null,null,null,null,null,null,"Form last updated on:",null,null,null,"2018-10-31"]
[{"$f":"\"\"","v":""},"WIPAC Purchase Requisition Form"]
[{"$f":"\"\"","v":""}]
[{"$f":"\"\"","v":""},"Requestor",null,null,null,null,null,"For Purchasing Use",null,null,null,null,null,"PSL Work Orders:"]
[{"$f":"\"\"","v":""},"Name:","Dennis Comerford",null,null,null,null,"WIPAC requisition#:",null,"WRC-7892","Eligible Vendor (Yes/No): ","Y",null,"Funding end date:"]
[{"$f":"\"\"","v":""},"Email:","helpdeskmanager@wipac.wisc.edu",null,null,null,null,"Date order placed:",null,null,"Match Code: ",0,null,"PSL project name:"]
[{"$f":"\"\"","v":""},"Date:","2020-05-07",null,null,null,null,"WISDM / MP PO#:",null,null,"Invoice approval by:"]
[{"$f":"\"\"","v":""},"Date required:","2020-05-08",null,null,null,null,null,null,null,null,null,null,"PSL project#:"]
[{"$f":"\"\"","v":""},null,null,null,null,null,null,"For Purchasing Use - Order Comments"]
[{"$f":"\"\"","v":""},"Vendor "]
[{"$f":"\"\"","v":""},"Name:","Altium LLC"]
[{"$f":"\"\"","v":""},"Number:",{"$f":"IF($C$11=\"\",\"\",IF(ISNA(ERROR.TYPE(VLOOKUP($C$11,'[1]Vendor List'!$A$1:$J$3700,2,0))=7),IF(VLOOKUP($C$11,'[1]Vendor List'!$A$1:$J$3700,2,0)=0,\"\",VLOOKUP($C$11,'[1]Vendor List'!$A$1:$J$3700,2,0)),\"\"))","v":""},null,null,null,null,null,null,null,null,null,null,"Capital Equipment System\n"]
[{"$f":"\"\"","v":""},"Address:","4225 Executive Square",null,null,null,null,null,null,null,null,null,null,"Number:"]
[{"$f":"\"\"","v":""},null,"Suite 800",null,null,null,null,null,null,null,null,null,null,"Name:"]
[{"$f":"\"\"","v":""},null,"La Jolla, CA  92037  UNITED STATES",null,null,null,null,null,null,null,null,null,null,"Label:"]
[{"$f":"\"\"","v":""},"Phone / Fax","858-864-1500  /  858-864-1710",null,null,null,null,"Shipping"]
[{"$f":"\"\"","v":""},"Web Address:","www.altium.com",null,null,null,null,"Shipping locations:",null,"222 W Washington Ave. 5Th Floor, Madison, WI 53703"]
[{"$f":"\"\"","v":""},"Contact:",null,null,null,null,null,"Shipping method:",null,"Ground  "]
[{"$f":"\"\"","v":""},"Email:","sales.na@altium.com",null,null,null,null,"Partial shipment acceptable: (Yes/No)",null,null,"NO"]
[{"$f":"\"\"","v":""}]
[{"$f":"\"\"","v":""},"Additional Information"]
[{"$f":"\"\"","v":""},"Special instructions:","The standalone license is being used by Perry Sandstrom for IceCube Upgrade.\nThe shared licenses are being used by the following: Thomas Meures and his student for CTA ; Kael and Delia for IceCube Upgrade ; other license is for anyone.  Quote: Q-271192-1"]
[{"$f":"\"\"","v":""}]
[{"$f":"\"\"","v":""},"Reason for purchase:","Annual renewal of our licenses for Altium Designer. It is software used to design electronic components within various test instruments.\n(e.g.: SOLIDWORKS is used to design the IceCube DOM, Altium Designer is used to design the circuit boards that control the DOM.)"]
[{"$f":"\"\"","v":""}]
[{"$f":"\"\"","v":""}]
[{"$f":"\"\"","v":""},"Item description",null,null,"Qty","Unit",null,"Unit price","Total $","Funding & Project #",null,"Cost code","Cost category",null,"Comments"]
[{"$f":"\"\"","v":""},"Altium Designer License (Academic On-Demand)",null,null,5,"EA",null,100,{"$f":"IF(OR(E28=\"\",H28=\"\"),\"\",H28*E28)","v":500},"50% IceCube Upgrade 400115.010  Project Engineering 50% FS8 20060.001  Technical & Science",null,"3150/3521"]
[{"$f":"\"\"","v":""},"Altium Designer License (Academic Standalone)",null,null,1,"EA",null,100,{"$f":"IF(OR(E29=\"\",H29=\"\"),\"\",H29*E29)","v":100},"50% IceCube Upgrade 400115.010  Project Engineering 50% FS80  20060.001  Technical & Science",null,"3150/3521"]
[{"$f":"\"\"","v":""},null,null,null,null,null,null,null,{"$f":"IF(OR(E30=\"\",H30=\"\"),\"\",H30*E30)","v":""}]
[{"$f":"\"\"","v":""},null,null,null,null,null,null,null,""]
[{"$f":"\"\"","v":""},null,null,null,null,null,null,null,""]
[{"$f":"\"\"","v":""},null,null,null,null,null,null,null,""]
[{"$f":"\"\"","v":""},null,null,null,null,null,null,null,""]
[{"$f":"\"\"","v":""},null,null,null,null,null,null,null,""]
[{"$f":"\"\"","v":""},null,null,null,null,null,null,null,""]
[{"$f":"\"\"","v":""},"Total","Unit = Each, Package, /k",null,null,null,null,null,{"$f":"SUM(I28:I36)","v":600}]
[{"$f":"\"\"","v":""}]
[{"$f":"\"\"","v":""},"Authorization",null,"Autorization required for",null,null,null,null,"Date","Signature","Comment"]
[{"$f":"\"\"","v":""},"Functional Area Manager",null,"Total purchase $500 - $5,000"]
[{"$f":"\"\"","v":""},"Resource Coordinator",null,"Total purchase in excess of $5,000"]
[{"$f":"\"\"","v":""},"Director / Associate Director",null,"Total purchase in excess of $5,000"]
[{"$f":"\"\"","v":""}]
[{"$f":"\"\"","v":""},"Acknowledgement",null,"Acknowledge required for",null,null,null,null,"Date","Signature","Comment"]
[{"$f":"\"\"","v":""},"WIPAC Purchasing",null,"capital equip. system, cost codes, funding ",null,null,null,null,"2020-05-11","Debbie Sewell"]
[{"$f":"\"\"","v":""},"Purchasing Agent",null,"processing the work order"]
[{"$f":"\"\"","v":""},"Vendor Contact Person",null,"receiving and processing the work order"]
[{"$f":"\"\"","v":""}]
[{"$f":"\"\"","v":""}]
[{"$f":"\"\"","v":""}]
[{"$f":"\"\"","v":""},null,{"$f":"IF('Vendor List'!$A2=\"\",\"\",'Vendor List'!$A2)","v":"11X17 INC"}]
[{"$f":"\"\"","v":""},"`",{"$f":"IF('Vendor List'!$A3=\"\",\"\",'Vendor List'!$A3)","v":"1ST VISION"}]
[{"$f":"\"\"","v":""},null,{"$f":"IF('Vendor List'!$A4=\"\",\"\",'Vendor List'!$A4)","v":"3 COM"}]
[{"$f":"\"\"","v":""},null,{"$f":"IF('Vendor List'!$A5=\"\",\"\",'Vendor List'!$A5)","v":"4IMPRINT"}]
[{"$f":"\"\"","v":""},null,{"$f":"IF('Vendor List'!$A6=\"\",\"\",'Vendor List'!$A6)","v":"4IMPRINT"}]
[{"$f":"\"\"","v":""},null,{"$f":"IF('Vendor List'!$A7=\"\",\"\",'Vendor List'!$A7)","v":"5NINES DATA, LLC"}]
[{"$f":"\"\"","v":""},null,{"$f":"IF('Vendor List'!$A8=\"\",\"\",'Vendor List'!$A8)","v":"A & C MACHINE REBUILDERS"}]
[{"$f":"\"\"","v":""},null,{"$f":"IF('Vendor List'!$A9=\"\",\"\",'Vendor List'!$A9)","v":"A & J VACUUM"}]
[{"$f":"\"\"","v":""},null,{"$f":"IF('Vendor List'!$A10=\"\",\"\",'Vendor List'!$A10)","v":"A & N CORPORATION"}]
[{"$f":"\"\"","v":""},null,{"$f":"IF('Vendor List'!$A11=\"\",\"\",'Vendor List'!$A11)","v":"A E PETSCHE CO"}]
[{"$f":"\"\"","v":""},null,{"$f":"IF('Vendor List'!$A12=\"\",\"\",'Vendor List'!$A12)","v":"A E YALE ENTERPRISES"}]
[{"$f":"\"\"","v":""},null,{"$f":"IF('Vendor List'!$A13=\"\",\"\",'Vendor List'!$A13)","v":"A I MCDERMOTT"}]
[{"$f":"\"\"","v":""},null,{"$f":"IF('Vendor List'!$A14=\"\",\"\",'Vendor List'!$A14)","v":"A TO Z RENTALL & SALES"}]
[{"$f":"\"\"","v":""},null,{"$f":"IF('Vendor List'!$A15=\"\",\"\",'Vendor List'!$A15)","v":"A&A MANUFACTURING CO INC"}]
[{"$f":"\"\"","v":""},null,{"$f":"IF('Vendor List'!$A16=\"\",\"\",'Vendor List'!$A16)","v":"A+ COMPUTER"}]
[{"$f":"\"\"","v":""},null,{"$f":"IF('Vendor List'!$A17=\"\",\"\",'Vendor List'!$A17)","v":"A-L TOOL SUPPLY"}]
[{"$f":"\"\"","v":""},null,{"$f":"IF('Vendor List'!$A18=\"\",\"\",'Vendor List'!$A18)","v":"A-PLUS COMPUTERS & SERVICE"}]
[{"$f":"\"\"","v":""},null,{"$f":"IF('Vendor List'!$A19=\"\",\"\",'Vendor List'!$A19)","v":"A.H. SYSTEMS"}]
[{"$f":"\"\"","v":""},null,{"$f":"IF('Vendor List'!$A20=\"\",\"\",'Vendor List'!$A20)","v":"A1 FURNITURE"}]
[{"$f":"\"\"","v":""},null,{"$f":"IF('Vendor List'!$A21=\"\",\"\",'Vendor List'!$A21)","v":"A1BOOKS"}]
[{"$f":"\"\"","v":""},null,{"$f":"IF('Vendor List'!$A22=\"\",\"\",'Vendor List'!$A22)","v":"A2Z COMPUTERS INC"}]
[{"$f":"\"\"","v":""},null,{"$f":"IF('Vendor List'!$A23=\"\",\"\",'Vendor List'!$A23)","v":"AAA ACME RUBBER CO"}]
[{"$f":"\"\"","v":""},null,{"$f":"IF('Vendor List'!$A24=\"\",\"\",'Vendor List'!$A24)","v":"AABREE COFFEE"}]
[{"$f":"\"\"","v":""},null,{"$f":"IF('Vendor List'!$A25=\"\",\"\",'Vendor List'!$A25)","v":"AALBORG INSTRUMENT"}]
[{"$f":"\"\"","v":""},null,{"$f":"IF('Vendor List'!$A26=\"\",\"\",'Vendor List'!$A26)","v":"AAMRO CORP"}]
[{"$f":"\"\"","v":""},null,{"$f":"IF('Vendor List'!$A27=\"\",\"\",'Vendor List'!$A27)","v":"AARON'S METRIC SCREWS"}]
[{"$f":"\"\"","v":""},null,{"$f":"IF('Vendor List'!$A28=\"\",\"\",'Vendor List'!$A28)","v":"AAXEON TECHNOLOGIES"}]
[{"$f":"\"\"","v":""},null,{"$f":"IF('Vendor List'!$A29=\"\",\"\",'Vendor List'!$A29)","v":"AB TOOLS INC"}]
[{"$f":"\"\"","v":""},null,{"$f":"IF('Vendor List'!$A30=\"\",\"\",'Vendor List'!$A30)","v":"ABBOTT PLASTICS COMPANY"}]
[{"$f":"\"\"","v":""},null,{"$f":"IF('Vendor List'!$A31=\"\",\"\",'Vendor List'!$A31)","v":"ABC SUPPLY"}]
[{"$f":"\"\"","v":""},null,{"$f":"IF('Vendor List'!$A32=\"\",\"\",'Vendor List'!$A32)","v":"ABF UPACK MOVING"}]
[{"$f":"\"\"","v":""},null,{"$f":"IF('Vendor List'!$A33=\"\",\"\",'Vendor List'!$A33)","v":"ABLE ELECTROPOLISH"}]
[{"$f":"\"\"","v":""},null,{"$f":"IF('Vendor List'!$A34=\"\",\"\",'Vendor List'!$A34)","v":"ABSOLUTE MACHINING"}]
[{"$f":"\"\"","v":""},null,{"$f":"IF('Vendor List'!$A35=\"\",\"\",'Vendor List'!$A35)","v":"AC SUPPLY"}]
[{"$f":"\"\"","v":""},null,{"$f":"IF('Vendor List'!$A36=\"\",\"\",'Vendor List'!$A36)","v":"ACAD OF CERTIFIED HAZ MAT MGRS"}]
[{"$f":"\"\"","v":""},null,{"$f":"IF('Vendor List'!$A37=\"\",\"\",'Vendor List'!$A37)","v":"ACADEMIC SUPERSTORE"}]
[{"$f":"\"\"","v":""},null,{"$f":"IF('Vendor List'!$A38=\"\",\"\",'Vendor List'!$A38)","v":"ACADEMY ELECTRIC"}]
[{"$f":"\"\"","v":""},null,{"$f":"IF('Vendor List'!$A39=\"\",\"\",'Vendor List'!$A39)","v":"ACCEL INSTRUMENTS GMBH"}]
[{"$f":"\"\"","v":""},null,{"$f":"IF('Vendor List'!$A40=\"\",\"\",'Vendor List'!$A40)","v":"ACCESS I/O PRODUCTS"}]
[{"$f":"\"\"","v":""},null,{"$f":"IF('Vendor List'!$A41=\"\",\"\",'Vendor List'!$A41)","v":"ACCESSORIES"}]
[{"$f":"\"\"","v":""},null,{"$f":"IF('Vendor List'!$A42=\"\",\"\",'Vendor List'!$A42)","v":"ACCUMET ENGINEERING CORP"}]
[{"$f":"\"\"","v":""},null,{"$f":"IF('Vendor List'!$A43=\"\",\"\",'Vendor List'!$A43)","v":"ACCUMET MATERIALS CO"}]
[{"$f":"\"\"","v":""},null,{"$f":"IF('Vendor List'!$A44=\"\",\"\",'Vendor List'!$A44)","v":"ACCUMULATORS, INC"}]
[{"$f":"\"\"","v":""},null,{"$f":"IF('Vendor List'!$A45=\"\",\"\",'Vendor List'!$A45)","v":"ACCURATE SCREW MACHINE"}]
[{"$f":"\"\"","v":""},null,{"$f":"IF('Vendor List'!$A46=\"\",\"\",'Vendor List'!$A46)","v":"ACCUSOURCE ELECTRONICS"}]
[{"$f":"\"\"","v":""},null,{"$f":"IF('Vendor List'!$A47=\"\",\"\",'Vendor List'!$A47)","v":"ACD SYSTEMS"}]
[{"$f":"\"\"","v":""},null,{"$f":"IF('Vendor List'!$A48=\"\",\"\",'Vendor List'!$A48)","v":"ACE GLASS"}]
[{"$f":"\"\"","v":""},null,{"$f":"IF('Vendor List'!$A49=\"\",\"\",'Vendor List'!$A49)","v":"ACHESON COLLOIDS CO"}]
[{"$f":"\"\"","v":""},null,{"$f":"IF('Vendor List'!$A50=\"\",\"\",'Vendor List'!$A50)","v":"ACI ALLOYS, INC"}]
[{"$f":"\"\"","v":""},null,{"$f":"IF('Vendor List'!$A51=\"\",\"\",'Vendor List'!$A51)","v":"ACME GALVANIZING, INC."}]
[{"$f":"\"\"","v":""},null,{"$f":"IF('Vendor List'!$A52=\"\",\"\",'Vendor List'!$A52)","v":"ACME MACHELL CO"}]
[{"$f":"\"\"","v":""},null,{"$f":"IF('Vendor List'!$A53=\"\",\"\",'Vendor List'!$A53)","v":"ACME PHOTO FINISHING"}]
[{"$f":"\"\"","v":""},null,{"$f":"IF('Vendor List'!$A54=\"\",\"\",'Vendor List'!$A54)","v":"ACOPIAN CO"}]
[{"$f":"\"\"","v":""},null,{"$f":"IF('Vendor List'!$A55=\"\",\"\",'Vendor List'!$A55)","v":"ACR CORP"}]
[{"$f":"\"\"","v":""},null,{"$f":"IF('Vendor List'!$A56=\"\",\"\",'Vendor List'!$A56)","v":"ACRO SALES & ENGINEERING INC"}]
[{"$f":"\"\"","v":""},null,{"$f":"IF('Vendor List'!$A57=\"\",\"\",'Vendor List'!$A57)","v":"ACROTECH"}]
[{"$f":"\"\"","v":""},null,{"$f":"IF('Vendor List'!$A58=\"\",\"\",'Vendor List'!$A58)","v":"ACRYLIC DESIGN WORKS"}]
[{"$f":"\"\"","v":""},null,{"$f":"IF('Vendor List'!$A59=\"\",\"\",'Vendor List'!$A59)","v":"ACS MADISON TAXI"}]
[{"$f":"\"\"","v":""},null,{"$f":"IF('Vendor List'!$A60=\"\",\"\",'Vendor List'!$A60)","v":"ACTFAX COMMUNICATIONS"}]
[{"$f":"\"\"","v":""},null,{"$f":"IF('Vendor List'!$A61=\"\",\"\",'Vendor List'!$A61)","v":"ACTION ELECTRONICS"}]
[{"$f":"\"\"","v":""},null,{"$f":"IF('Vendor List'!$A62=\"\",\"\",'Vendor List'!$A62)","v":"ACTIVE EDM"}]
[{"$f":"\"\"","v":""},null,{"$f":"IF('Vendor List'!$A63=\"\",\"\",'Vendor List'!$A63)","v":"ACTON MOBILE IND INC"}]
[{"$f":"\"\"","v":""},null,{"$f":"IF('Vendor List'!$A64=\"\",\"\",'Vendor List'!$A64)","v":"ACUREN INSPECTION,  INC"}]
[{"$f":"\"\"","v":""},null,{"$f":"IF('Vendor List'!$A65=\"\",\"\",'Vendor List'!$A65)","v":"AD-VANCE MAGNETICS"}]
[{"$f":"\"\"","v":""},null,{"$f":"IF('Vendor List'!$A66=\"\",\"\",'Vendor List'!$A66)","v":"ADAPTEC"}]
[{"$f":"\"\"","v":""},null,{"$f":"IF('Vendor List'!$A67=\"\",\"\",'Vendor List'!$A67)","v":"ADDISON ENGINEERING"}]
[{"$f":"\"\"","v":""},null,{"$f":"IF('Vendor List'!$A68=\"\",\"\",'Vendor List'!$A68)","v":"ADDONICS TECHNOLOGIES"}]
[{"$f":"\"\"","v":""},null,{"$f":"IF('Vendor List'!$A69=\"\",\"\",'Vendor List'!$A69)","v":"ADEK INDUSTRIAL COMPUTERS"}]
[{"$f":"\"\"","v":""},null,{"$f":"IF('Vendor List'!$A70=\"\",\"\",'Vendor List'!$A70)","v":"ADIT ELECTRON TUBES"}]
[{"$f":"\"\"","v":""},null,{"$f":"IF('Vendor List'!$A71=\"\",\"\",'Vendor List'!$A71)","v":"ADLER PLANETARIUM"}]
[{"$f":"\"\"","v":""},null,{"$f":"IF('Vendor List'!$A72=\"\",\"\",'Vendor List'!$A72)","v":"ADLER-NORCO"}]
[{"$f":"\"\"","v":""},null,{"$f":"IF('Vendor List'!$A73=\"\",\"\",'Vendor List'!$A73)","v":"ADMIN DATA PROCESSING"}]
[{"$f":"\"\"","v":""},null,{"$f":"IF('Vendor List'!$A74=\"\",\"\",'Vendor List'!$A74)","v":"ADMIRALTY TRAVEL"}]
[{"$f":"\"\"","v":""},null,{"$f":"IF('Vendor List'!$A75=\"\",\"\",'Vendor List'!$A75)","v":"ADOBE PLUG-IN"}]
[{"$f":"\"\"","v":""},null,{"$f":"IF('Vendor List'!$A76=\"\",\"\",'Vendor List'!$A76)","v":"ADOBE SUTDIOS"}]
[{"$f":"\"\"","v":""},null,{"$f":"IF('Vendor List'!$A77=\"\",\"\",'Vendor List'!$A77)","v":"ADOBE SYSTEMS INC"}]
[{"$f":"\"\"","v":""},null,{"$f":"IF('Vendor List'!$A78=\"\",\"\",'Vendor List'!$A78)","v":"ADOBE SYSTEMS INC"}]
[{"$f":"\"\"","v":""},null,{"$f":"IF('Vendor List'!$A79=\"\",\"\",'Vendor List'!$A79)","v":"ADORAMA"}]
[{"$f":"\"\"","v":""},null,{"$f":"IF('Vendor List'!$A80=\"\",\"\",'Vendor List'!$A80)","v":"ADRON TOOL CORPORATION"}]
[{"$f":"\"\"","v":""},null,{"$f":"IF('Vendor List'!$A81=\"\",\"\",'Vendor List'!$A81)","v":"ADVACO"}]
[{"$f":"\"\"","v":""},null,{"$f":"IF('Vendor List'!$A82=\"\",\"\",'Vendor List'!$A82)","v":"ADVANCE  HYDRAULICS"}]
[{"$f":"\"\"","v":""},null,{"$f":"IF('Vendor List'!$A83=\"\",\"\",'Vendor List'!$A83)","v":"ADVANCE HYDRAULICS"}]
[{"$f":"\"\"","v":""},null,{"$f":"IF('Vendor List'!$A84=\"\",\"\",'Vendor List'!$A84)","v":"ADVANCED ASSEMBLY"}]
[{"$f":"\"\"","v":""},null,{"$f":"IF('Vendor List'!$A85=\"\",\"\",'Vendor List'!$A85)","v":"ADVANCED CIRCUITS"}]
[{"$f":"\"\"","v":""},null,{"$f":"IF('Vendor List'!$A86=\"\",\"\",'Vendor List'!$A86)","v":"ADVANCED CONTROL COMPONENTS"}]
[{"$f":"\"\"","v":""},null,{"$f":"IF('Vendor List'!$A87=\"\",\"\",'Vendor List'!$A87)","v":"ADVANCED CONTROL SYSTEMS CORP."}]
[{"$f":"\"\"","v":""},null,{"$f":"IF('Vendor List'!$A88=\"\",\"\",'Vendor List'!$A88)","v":"ADVANCED DESIGN CONSULTING"}]
[{"$f":"\"\"","v":""},null,{"$f":"IF('Vendor List'!$A89=\"\",\"\",'Vendor List'!$A89)","v":"ADVANCED FERRITE TECHNOLOGY IN"}]
[{"$f":"\"\"","v":""},null,{"$f":"IF('Vendor List'!$A90=\"\",\"\",'Vendor List'!$A90)","v":"ADVANCED KIOSKS"}]
[{"$f":"\"\"","v":""},null,{"$f":"IF('Vendor List'!$A91=\"\",\"\",'Vendor List'!$A91)","v":"ADVANCED MACHINE & ENGR."}]
[{"$f":"\"\"","v":""},null,{"$f":"IF('Vendor List'!$A92=\"\",\"\",'Vendor List'!$A92)","v":"ADVANCED MACHINERY SALES"}]
[{"$f":"\"\"","v":""},null,{"$f":"IF('Vendor List'!$A93=\"\",\"\",'Vendor List'!$A93)","v":"ADVANCED MAGNET LAB"}]
[{"$f":"\"\"","v":""},null,{"$f":"IF('Vendor List'!$A94=\"\",\"\",'Vendor List'!$A94)","v":"ADVANCED MEASUREMENT TECH"}]
[{"$f":"\"\"","v":""},null,{"$f":"IF('Vendor List'!$A95=\"\",\"\",'Vendor List'!$A95)","v":"ADVANCED MICRO SYSTEMS INC"}]
[{"$f":"\"\"","v":""},null,{"$f":"IF('Vendor List'!$A96=\"\",\"\",'Vendor List'!$A96)","v":"ADVANCED MICROMACHING GMBH"}]
[{"$f":"\"\"","v":""},null,{"$f":"IF('Vendor List'!$A97=\"\",\"\",'Vendor List'!$A97)","v":"ADVANCED OPTICS, INC"}]
[{"$f":"\"\"","v":""},null,{"$f":"IF('Vendor List'!$A98=\"\",\"\",'Vendor List'!$A98)","v":"ADVANCED ORIENTATION SYSTEMS"}]
[{"$f":"\"\"","v":""},null,{"$f":"IF('Vendor List'!$A99=\"\",\"\",'Vendor List'!$A99)","v":"ADVANCED PERIPHERAL SYSTEMS"}]
[{"$f":"\"\"","v":""},null,{"$f":"IF('Vendor List'!$A100=\"\",\"\",'Vendor List'!$A100)","v":"ADVANCED PRODUCTS GROUP"}]
[{"$f":"\"\"","v":""},null,{"$f":"IF('Vendor List'!$A101=\"\",\"\",'Vendor List'!$A101)","v":"ADVANCED VACUUM TECHNOLOGY"}]
[{"$f":"\"\"","v":""},null,{"$f":"IF('Vendor List'!$A102=\"\",\"\",'Vendor List'!$A102)","v":"ADVENT ELECTRONICS INC"}]
[{"$f":"\"\"","v":""},null,{"$f":"IF('Vendor List'!$A103=\"\",\"\",'Vendor List'!$A103)","v":"ADVENT TOOL & MFG"}]
[{"$f":"\"\"","v":""},null,{"$f":"IF('Vendor List'!$A104=\"\",\"\",'Vendor List'!$A104)","v":"ADVERTISING CREATIONS"}]
[{"$f":"\"\"","v":""},null,{"$f":"IF('Vendor List'!$A105=\"\",\"\",'Vendor List'!$A105)","v":"AE BUSINESS SOLUTIONS ZENITH D"}]
[{"$f":"\"\"","v":""},null,{"$f":"IF('Vendor List'!$A106=\"\",\"\",'Vendor List'!$A106)","v":"AEA TECHNOLOGY INC"}]
[{"$f":"\"\"","v":""},null,{"$f":"IF('Vendor List'!$A107=\"\",\"\",'Vendor List'!$A107)","v":"AEARO CO."}]
[{"$f":"\"\"","v":""},null,{"$f":"IF('Vendor List'!$A108=\"\",\"\",'Vendor List'!$A108)","v":"AED"}]
[{"$f":"\"\"","v":""},null,{"$f":"IF('Vendor List'!$A109=\"\",\"\",'Vendor List'!$A109)","v":"AED PROFESSIONALS"}]
[{"$f":"\"\"","v":""},null,{"$f":"IF('Vendor List'!$A110=\"\",\"\",'Vendor List'!$A110)","v":"AERO RESEARCH ASSOC"}]
[{"$f":"\"\"","v":""},null,{"$f":"IF('Vendor List'!$A111=\"\",\"\",'Vendor List'!$A111)","v":"AEROSPACE WIRE & CABLE INC"}]
[{"$f":"\"\"","v":""},null,{"$f":"IF('Vendor List'!$A112=\"\",\"\",'Vendor List'!$A112)","v":"AEROTECH INC"}]
[{"$f":"\"\"","v":""},null,{"$f":"IF('Vendor List'!$A113=\"\",\"\",'Vendor List'!$A113)","v":"AGA GAS INC"}]
[{"$f":"\"\"","v":""},null,{"$f":"IF('Vendor List'!$A114=\"\",\"\",'Vendor List'!$A114)","v":"AGA/LINDE"}]
[{"$f":"\"\"","v":""},null,{"$f":"IF('Vendor List'!$A115=\"\",\"\",'Vendor List'!$A115)","v":"AGILENT TECH (VARIAN)"}]
[{"$f":"\"\"","v":""},null,{"$f":"IF('Vendor List'!$A116=\"\",\"\",'Vendor List'!$A116)","v":"AGILENT TECHNOLGIES"}]
[{"$f":"\"\"","v":""},null,{"$f":"IF('Vendor List'!$A117=\"\",\"\",'Vendor List'!$A117)","v":"AGILENT TECHNOLOGIES"}]
[{"$f":"\"\"","v":""},null,{"$f":"IF('Vendor List'!$A118=\"\",\"\",'Vendor List'!$A118)","v":"AGILYSYS"}]
[{"$f":"\"\"","v":""},null,{"$f":"IF('Vendor List'!$A119=\"\",\"\",'Vendor List'!$A119)","v":"AGSCO CORPORATION"}]
[{"$f":"\"\"","v":""},null,{"$f":"IF('Vendor List'!$A120=\"\",\"\",'Vendor List'!$A120)","v":"AHSRESCUE.COM"}]
[{"$f":"\"\"","v":""},null,{"$f":"IF('Vendor List'!$A121=\"\",\"\",'Vendor List'!$A121)","v":"AIDC"}]
[{"$f":"\"\"","v":""},null,{"$f":"IF('Vendor List'!$A122=\"\",\"\",'Vendor List'!$A122)","v":"AIHA"}]
[{"$f":"\"\"","v":""},null,{"$f":"IF('Vendor List'!$A123=\"\",\"\",'Vendor List'!$A123)","v":"AIHA"}]
[{"$f":"\"\"","v":""},null,{"$f":"IF('Vendor List'!$A124=\"\",\"\",'Vendor List'!$A124)","v":"AIO MICROSERVICE"}]
[{"$f":"\"\"","v":""},null,{"$f":"IF('Vendor List'!$A125=\"\",\"\",'Vendor List'!$A125)","v":"AIR GUARD INDUSTRIES"}]
[{"$f":"\"\"","v":""},null,{"$f":"IF('Vendor List'!$A126=\"\",\"\",'Vendor List'!$A126)","v":"AIR SUPPLY SYSTEMS"}]
[{"$f":"\"\"","v":""},null,{"$f":"IF('Vendor List'!$A127=\"\",\"\",'Vendor List'!$A127)","v":"AIRBORNE EXPRESS"}]
[{"$f":"\"\"","v":""},null,{"$f":"IF('Vendor List'!$A128=\"\",\"\",'Vendor List'!$A128)","v":"AIRCRAFP SPRUCE & SPECIALTY CO"}]
[{"$f":"\"\"","v":""},null,{"$f":"IF('Vendor List'!$A129=\"\",\"\",'Vendor List'!$A129)","v":"AIRGAS  USA LLC"}]
[{"$f":"\"\"","v":""},null,{"$f":"IF('Vendor List'!$A130=\"\",\"\",'Vendor List'!$A130)","v":"AIRGAS (LINDE)"}]
[{"$f":"\"\"","v":""},null,{"$f":"IF('Vendor List'!$A131=\"\",\"\",'Vendor List'!$A131)","v":"AIRGAS NORTH CENTRAL"}]
[{"$f":"\"\"","v":""},null,{"$f":"IF('Vendor List'!$A132=\"\",\"\",'Vendor List'!$A132)","v":"AIRGAS RUTLAND TOOL"}]
[{"$f":"\"\"","v":""},null,{"$f":"IF('Vendor List'!$A133=\"\",\"\",'Vendor List'!$A133)","v":"AIRLOC"}]
[{"$f":"\"\"","v":""},null,{"$f":"IF('Vendor List'!$A134=\"\",\"\",'Vendor List'!$A134)","v":"AJUMP INC"}]
[{"$f":"\"\"","v":""},null,{"$f":"IF('Vendor List'!$A135=\"\",\"\",'Vendor List'!$A135)","v":"ALADDIN SYSTEMS"}]
[{"$f":"\"\"","v":""},null,{"$f":"IF('Vendor List'!$A136=\"\",\"\",'Vendor List'!$A136)","v":"ALADDIN SYSTEMS"}]
[{"$f":"\"\"","v":""},null,{"$f":"IF('Vendor List'!$A137=\"\",\"\",'Vendor List'!$A137)","v":"ALARM DISTRIBUTORS"}]
[{"$f":"\"\"","v":""},null,{"$f":"IF('Vendor List'!$A138=\"\",\"\",'Vendor List'!$A138)","v":"ALBANY STEEL"}]
[{"$f":"\"\"","v":""},null,{"$f":"IF('Vendor List'!$A139=\"\",\"\",'Vendor List'!$A139)","v":"ALCATEL"}]
[{"$f":"\"\"","v":""},null,{"$f":"IF('Vendor List'!$A140=\"\",\"\",'Vendor List'!$A140)","v":"ALCATEL NETWORK SYSTEMS"}]
[{"$f":"\"\"","v":""},null,{"$f":"IF('Vendor List'!$A141=\"\",\"\",'Vendor List'!$A141)","v":"ALCATEL VACUUM PRODUCTS"}]
[{"$f":"\"\"","v":""},null,{"$f":"IF('Vendor List'!$A142=\"\",\"\",'Vendor List'!$A142)","v":"ALDRICH CHEMICAL CO"}]
[{"$f":"\"\"","v":""},null,{"$f":"IF('Vendor List'!$A143=\"\",\"\",'Vendor List'!$A143)","v":"ALDUS CORPORATION"}]
[{"$f":"\"\"","v":""},null,{"$f":"IF('Vendor List'!$A144=\"\",\"\",'Vendor List'!$A144)","v":"ALDUS CORPORATION"}]
[{"$f":"\"\"","v":""},null,{"$f":"IF('Vendor List'!$A145=\"\",\"\",'Vendor List'!$A145)","v":"ALEXANDER & ALEXANDER"}]
[{"$f":"\"\"","v":""},null,{"$f":"IF('Vendor List'!$A146=\"\",\"\",'Vendor List'!$A146)","v":"ALEXANDER & ALEXANDER CONSULTI"}]
[{"$f":"\"\"","v":""},null,{"$f":"IF('Vendor List'!$A147=\"\",\"\",'Vendor List'!$A147)","v":"ALFA AESAR"}]
[{"$f":"\"\"","v":""},null,{"$f":"IF('Vendor List'!$A148=\"\",\"\",'Vendor List'!$A148)","v":"ALGORITHM"}]
[{"$f":"\"\"","v":""},null,{"$f":"IF('Vendor List'!$A149=\"\",\"\",'Vendor List'!$A149)","v":"ALL COLOR POWDER COATING"}]
[{"$f":"\"\"","v":""},null,{"$f":"IF('Vendor List'!$A150=\"\",\"\",'Vendor List'!$A150)","v":"ALL CONTROL"}]
[{"$f":"\"\"","v":""},null,{"$f":"IF('Vendor List'!$A151=\"\",\"\",'Vendor List'!$A151)","v":"ALL ELECTRONICS CORP"}]
[{"$f":"\"\"","v":""},null,{"$f":"IF('Vendor List'!$A152=\"\",\"\",'Vendor List'!$A152)","v":"ALL METALS & FORGE"}]
[{"$f":"\"\"","v":""},null,{"$f":"IF('Vendor List'!$A153=\"\",\"\",'Vendor List'!$A153)","v":"ALLEGIS CORP"}]
[{"$f":"\"\"","v":""},null,{"$f":"IF('Vendor List'!$A154=\"\",\"\",'Vendor List'!$A154)","v":"ALLEN,MICHAELA"}]
[{"$f":"\"\"","v":""},null,{"$f":"IF('Vendor List'!$A155=\"\",\"\",'Vendor List'!$A155)","v":"ALLIANCE PERIPHERAL SYSTEMS"}]
[{"$f":"\"\"","v":""},null,{"$f":"IF('Vendor List'!$A156=\"\",\"\",'Vendor List'!$A156)","v":"ALLIANCE TRAILER SERVICE  INC"}]
[{"$f":"\"\"","v":""},null,{"$f":"IF('Vendor List'!$A157=\"\",\"\",'Vendor List'!$A157)","v":"ALLIANT ENERGY"}]
[{"$f":"\"\"","v":""},null,{"$f":"IF('Vendor List'!$A158=\"\",\"\",'Vendor List'!$A158)","v":"ALLIED DEVICES CORP"}]
[{"$f":"\"\"","v":""},null,{"$f":"IF('Vendor List'!$A159=\"\",\"\",'Vendor List'!$A159)","v":"ALLIED ELECTRONICS"}]
[{"$f":"\"\"","v":""},null,{"$f":"IF('Vendor List'!$A160=\"\",\"\",'Vendor List'!$A160)","v":"ALLIED ELECTRONICS, INC"}]
[{"$f":"\"\"","v":""},null,{"$f":"IF('Vendor List'!$A161=\"\",\"\",'Vendor List'!$A161)","v":"ALLIED INSULATION SUPPLY CO"}]
[{"$f":"\"\"","v":""},null,{"$f":"IF('Vendor List'!$A162=\"\",\"\",'Vendor List'!$A162)","v":"ALLIED MUNICIPAL SUPPLY"}]
[{"$f":"\"\"","v":""},null,{"$f":"IF('Vendor List'!$A163=\"\",\"\",'Vendor List'!$A163)","v":"ALLTECH APPLIED SCIENCE"}]
[{"$f":"\"\"","v":""},null,{"$f":"IF('Vendor List'!$A164=\"\",\"\",'Vendor List'!$A164)","v":"ALLTRONICS"}]
[{"$f":"\"\"","v":""},null,{"$f":"IF('Vendor List'!$A165=\"\",\"\",'Vendor List'!$A165)","v":"ALMEG CONTROLS"}]
[{"$f":"\"\"","v":""},null,{"$f":"IF('Vendor List'!$A166=\"\",\"\",'Vendor List'!$A166)","v":"ALMO CORPORATION"}]
[{"$f":"\"\"","v":""},null,{"$f":"IF('Vendor List'!$A167=\"\",\"\",'Vendor List'!$A167)","v":"ALPHA ENGRG & SALES INC"}]
[{"$f":"\"\"","v":""},null,{"$f":"IF('Vendor List'!$A168=\"\",\"\",'Vendor List'!$A168)","v":"ALPHA METAL FINISHING CO"}]
[{"$f":"\"\"","v":""},null,{"$f":"IF('Vendor List'!$A169=\"\",\"\",'Vendor List'!$A169)","v":"ALPHA METALS"}]
[{"$f":"\"\"","v":""},null,{"$f":"IF('Vendor List'!$A170=\"\",\"\",'Vendor List'!$A170)","v":"ALPHA SPECTRA  INC"}]
[{"$f":"\"\"","v":""},null,{"$f":"IF('Vendor List'!$A171=\"\",\"\",'Vendor List'!$A171)","v":"ALRAN SALES CO, INC"}]
[{"$f":"\"\"","v":""},null,{"$f":"IF('Vendor List'!$A172=\"\",\"\",'Vendor List'!$A172)","v":"ALRO METALS PLUS"}]
[{"$f":"\"\"","v":""},null,{"$f":"IF('Vendor List'!$A173=\"\",\"\",'Vendor List'!$A173)","v":"ALSOFT, INC"}]
[{"$f":"\"\"","v":""},null,{"$f":"IF('Vendor List'!$A174=\"\",\"\",'Vendor List'!$A174)","v":"ALT CONSULTING"}]
[{"$f":"\"\"","v":""},null,{"$f":"IF('Vendor List'!$A175=\"\",\"\",'Vendor List'!$A175)","v":"ALTAIR ENGINEERING"}]
[{"$f":"\"\"","v":""},null,{"$f":"IF('Vendor List'!$A176=\"\",\"\",'Vendor List'!$A176)","v":"ALTERNATIVE MACHINE TOOL INC"}]
[{"$f":"\"\"","v":""},null,{"$f":"IF('Vendor List'!$A177=\"\",\"\",'Vendor List'!$A177)","v":"ALTEX ELECTRONICS INC"}]
[{"$f":"\"\"","v":""},null,{"$f":"IF('Vendor List'!$A178=\"\",\"\",'Vendor List'!$A178)","v":"ALTHOR PRODUCTS"}]
[{"$f":"\"\"","v":""},null,{"$f":"IF('Vendor List'!$A179=\"\",\"\",'Vendor List'!$A179)","v":"ALUMINUM ASSOCIATION"}]
[{"$f":"\"\"","v":""},null,{"$f":"IF('Vendor List'!$A180=\"\",\"\",'Vendor List'!$A180)","v":"ALZATEX"}]
[{"$f":"\"\"","v":""},null,{"$f":"IF('Vendor List'!$A181=\"\",\"\",'Vendor List'!$A181)","v":"ALZATEX"}]
[{"$f":"\"\"","v":""},null,{"$f":"IF('Vendor List'!$A182=\"\",\"\",'Vendor List'!$A182)","v":"AMALGA COMPOSITES INC"}]
[{"$f":"\"\"","v":""},null,{"$f":"IF('Vendor List'!$A183=\"\",\"\",'Vendor List'!$A183)","v":"AMAMAX"}]
[{"$f":"\"\"","v":""},null,{"$f":"IF('Vendor List'!$A184=\"\",\"\",'Vendor List'!$A184)","v":"AMAZON"}]
[{"$f":"\"\"","v":""},null,{"$f":"IF('Vendor List'!$A185=\"\",\"\",'Vendor List'!$A185)","v":"AMBRY INTERNATIONAL"}]
[{"$f":"\"\"","v":""},null,{"$f":"IF('Vendor List'!$A186=\"\",\"\",'Vendor List'!$A186)","v":"AMCI COMPUTERS"}]
[{"$f":"\"\"","v":""},null,{"$f":"IF('Vendor List'!$A187=\"\",\"\",'Vendor List'!$A187)","v":"AMCO"}]
[{"$f":"\"\"","v":""},null,{"$f":"IF('Vendor List'!$A188=\"\",\"\",'Vendor List'!$A188)","v":"AMER SOC OF SAFETY ENGRS"}]
[{"$f":"\"\"","v":""},null,{"$f":"IF('Vendor List'!$A189=\"\",\"\",'Vendor List'!$A189)","v":"AMER SOCIETY OF MECH ENGINEERS"}]
[{"$f":"\"\"","v":""},null,{"$f":"IF('Vendor List'!$A190=\"\",\"\",'Vendor List'!$A190)","v":"AMERICAL ELECTRICAL INC"}]
[{"$f":"\"\"","v":""},null,{"$f":"IF('Vendor List'!$A191=\"\",\"\",'Vendor List'!$A191)","v":"AMERICAN 3B SCIENTIFIC"}]
[{"$f":"\"\"","v":""},null,{"$f":"IF('Vendor List'!$A192=\"\",\"\",'Vendor List'!$A192)","v":"AMERICAN AIRLINES"}]
[{"$f":"\"\"","v":""},null,{"$f":"IF('Vendor List'!$A193=\"\",\"\",'Vendor List'!$A193)","v":"AMERICAN ALDES VENTILATION COR"}]
[{"$f":"\"\"","v":""},null,{"$f":"IF('Vendor List'!$A194=\"\",\"\",'Vendor List'!$A194)","v":"AMERICAN ALUMINUM EXTRUSIONS"}]
[{"$f":"\"\"","v":""},null,{"$f":"IF('Vendor List'!$A195=\"\",\"\",'Vendor List'!$A195)","v":"AMERICAN ASSC CANCER RESEARCH"}]
[{"$f":"\"\"","v":""},null,{"$f":"IF('Vendor List'!$A196=\"\",\"\",'Vendor List'!$A196)","v":"AMERICAN ASSN FOR ADV SCIENCE"}]
[{"$f":"\"\"","v":""},null,{"$f":"IF('Vendor List'!$A197=\"\",\"\",'Vendor List'!$A197)","v":"AMERICAN BEVERAGE EQUIPMENT"}]
[{"$f":"\"\"","v":""},null,{"$f":"IF('Vendor List'!$A198=\"\",\"\",'Vendor List'!$A198)","v":"AMERICAN BOA"}]
[{"$f":"\"\"","v":""},null,{"$f":"IF('Vendor List'!$A199=\"\",\"\",'Vendor List'!$A199)","v":"AMERICAN CHEMICAL SOCIETY"}]
[{"$f":"\"\"","v":""},null,{"$f":"IF('Vendor List'!$A200=\"\",\"\",'Vendor List'!$A200)","v":"AMERICAN DURAFILM"}]
[{"$f":"\"\"","v":""},null,{"$f":"IF('Vendor List'!$A201=\"\",\"\",'Vendor List'!$A201)","v":"AMERICAN GRINDING & MACHINE CO"}]
[{"$f":"\"\"","v":""},null,{"$f":"IF('Vendor List'!$A202=\"\",\"\",'Vendor List'!$A202)","v":"AMERICAN HEALTH & SAFETY INC"}]
[{"$f":"\"\"","v":""},null,{"$f":"IF('Vendor List'!$A203=\"\",\"\",'Vendor List'!$A203)","v":"AMERICAN INDUSTRIAL HYGIENE AS"}]
[{"$f":"\"\"","v":""},null,{"$f":"IF('Vendor List'!$A204=\"\",\"\",'Vendor List'!$A204)","v":"AMERICAN INFO CENTER"}]
[{"$f":"\"\"","v":""},null,{"$f":"IF('Vendor List'!$A205=\"\",\"\",'Vendor List'!$A205)","v":"AMERICAN INSTITUTE OF PHYSICS"}]
[{"$f":"\"\"","v":""},null,{"$f":"IF('Vendor List'!$A206=\"\",\"\",'Vendor List'!$A206)","v":"AMERICAN INSTITUTE OF PHYSICS"}]
[{"$f":"\"\"","v":""},null,{"$f":"IF('Vendor List'!$A207=\"\",\"\",'Vendor List'!$A207)","v":"AMERICAN INSTITUTE OF PHYSICS"}]
[{"$f":"\"\"","v":""},null,{"$f":"IF('Vendor List'!$A208=\"\",\"\",'Vendor List'!$A208)","v":"AMERICAN LIFTING SYSTEMS INC"}]
[{"$f":"\"\"","v":""},null,{"$f":"IF('Vendor List'!$A209=\"\",\"\",'Vendor List'!$A209)","v":"AMERICAN LINEAR MANUFACTURERS"}]
[{"$f":"\"\"","v":""},null,{"$f":"IF('Vendor List'!$A210=\"\",\"\",'Vendor List'!$A210)","v":"AMERICAN MAGNETICS"}]
[{"$f":"\"\"","v":""},null,{"$f":"IF('Vendor List'!$A211=\"\",\"\",'Vendor List'!$A211)","v":"AMERICAN NATIONAL STANDARDS IN"}]
[{"$f":"\"\"","v":""},null,{"$f":"IF('Vendor List'!$A212=\"\",\"\",'Vendor List'!$A212)","v":"AMERICAN OF MADISON"}]
[{"$f":"\"\"","v":""},null,{"$f":"IF('Vendor List'!$A213=\"\",\"\",'Vendor List'!$A213)","v":"AMERICAN OF MADISON"}]
[{"$f":"\"\"","v":""},null,{"$f":"IF('Vendor List'!$A214=\"\",\"\",'Vendor List'!$A214)","v":"AMERICAN PAGING INC"}]
[{"$f":"\"\"","v":""},null,{"$f":"IF('Vendor List'!$A215=\"\",\"\",'Vendor List'!$A215)","v":"AMERICAN PHYSICAL SOCIETY"}]
[{"$f":"\"\"","v":""},null,{"$f":"IF('Vendor List'!$A216=\"\",\"\",'Vendor List'!$A216)","v":"AMERICAN PHYSICAL SOCIETY"}]
[{"$f":"\"\"","v":""},null,{"$f":"IF('Vendor List'!$A217=\"\",\"\",'Vendor List'!$A217)","v":"AMERICAN PHYSICAL SOCIETY"}]
[{"$f":"\"\"","v":""},null,{"$f":"IF('Vendor List'!$A218=\"\",\"\",'Vendor List'!$A218)","v":"AMERICAN PHYSICAL SOCIETY"}]
[{"$f":"\"\"","v":""},null,{"$f":"IF('Vendor List'!$A219=\"\",\"\",'Vendor List'!$A219)","v":"AMERICAN POLYWATER CORP"}]
[{"$f":"\"\"","v":""},null,{"$f":"IF('Vendor List'!$A220=\"\",\"\",'Vendor List'!$A220)","v":"AMERICAN PORTWELL TECH"}]
[{"$f":"\"\"","v":""},null,{"$f":"IF('Vendor List'!$A221=\"\",\"\",'Vendor List'!$A221)","v":"AMERICAN POWER CONVERSION CORP"}]
[{"$f":"\"\"","v":""},null,{"$f":"IF('Vendor List'!$A222=\"\",\"\",'Vendor List'!$A222)","v":"AMERICAN PRECISION INDUSTRIES"}]
[{"$f":"\"\"","v":""},null,{"$f":"IF('Vendor List'!$A223=\"\",\"\",'Vendor List'!$A223)","v":"AMERICAN PRECISION INDUSTRIES"}]
[{"$f":"\"\"","v":""},null,{"$f":"IF('Vendor List'!$A224=\"\",\"\",'Vendor List'!$A224)","v":"AMERICAN RED CROSS"}]
[{"$f":"\"\"","v":""},null,{"$f":"IF('Vendor List'!$A225=\"\",\"\",'Vendor List'!$A225)","v":"AMERICAN SAFETY TRAINING INC"}]
[{"$f":"\"\"","v":""},null,{"$f":"IF('Vendor List'!$A226=\"\",\"\",'Vendor List'!$A226)","v":"AMERICAN SCIENCES & SURPLUS"}]
[{"$f":"\"\"","v":""},null,{"$f":"IF('Vendor List'!$A227=\"\",\"\",'Vendor List'!$A227)","v":"AMERICAN SOC. FOR QUALITY CONT"}]
[{"$f":"\"\"","v":""},null,{"$f":"IF('Vendor List'!$A228=\"\",\"\",'Vendor List'!$A228)","v":"AMERICAN SOCIETY OF MECH ENGRS"}]
[{"$f":"\"\"","v":""},null,{"$f":"IF('Vendor List'!$A229=\"\",\"\",'Vendor List'!$A229)","v":"AMERICAN STAR INTERNATIONAL IN"}]
[{"$f":"\"\"","v":""},null,{"$f":"IF('Vendor List'!$A230=\"\",\"\",'Vendor List'!$A230)","v":"AMERICAN TRAINCO"}]
[{"$f":"\"\"","v":""},null,{"$f":"IF('Vendor List'!$A231=\"\",\"\",'Vendor List'!$A231)","v":"AMERICAN TYPE CULTURE COLLECTI"}]
[{"$f":"\"\"","v":""},null,{"$f":"IF('Vendor List'!$A232=\"\",\"\",'Vendor List'!$A232)","v":"AMERICAN VACUUM SOCIETY"}]
[{"$f":"\"\"","v":""},null,{"$f":"IF('Vendor List'!$A233=\"\",\"\",'Vendor List'!$A233)","v":"AMERICAN WELDING & ENGINEERING"}]
[{"$f":"\"\"","v":""},null,{"$f":"IF('Vendor List'!$A234=\"\",\"\",'Vendor List'!$A234)","v":"AMERICANA METAL SERVICES"}]
[{"$f":"\"\"","v":""},null,{"$f":"IF('Vendor List'!$A235=\"\",\"\",'Vendor List'!$A235)","v":"AMERICASE, INC"}]
[{"$f":"\"\"","v":""},null,{"$f":"IF('Vendor List'!$A236=\"\",\"\",'Vendor List'!$A236)","v":"AMERIGAS"}]
[{"$f":"\"\"","v":""},null,{"$f":"IF('Vendor List'!$A237=\"\",\"\",'Vendor List'!$A237)","v":"AMERITECH CELLULAR"}]
[{"$f":"\"\"","v":""},null,{"$f":"IF('Vendor List'!$A238=\"\",\"\",'Vendor List'!$A238)","v":"AMERITECH CREDIT CORP"}]
[{"$f":"\"\"","v":""},null,{"$f":"IF('Vendor List'!$A239=\"\",\"\",'Vendor List'!$A239)","v":"AMETEK THERMOX INSTRUMENTS DIV"}]
[{"$f":"\"\"","v":""},null,{"$f":"IF('Vendor List'!$A240=\"\",\"\",'Vendor List'!$A240)","v":"AMIDON, INC"}]
[{"$f":"\"\"","v":""},null,{"$f":"IF('Vendor List'!$A241=\"\",\"\",'Vendor List'!$A241)","v":"AMP TEK"}]
[{"$f":"\"\"","v":""},null,{"$f":"IF('Vendor List'!$A242=\"\",\"\",'Vendor List'!$A242)","v":"AMPCO SAFETY TOOLS"}]
[{"$f":"\"\"","v":""},null,{"$f":"IF('Vendor List'!$A243=\"\",\"\",'Vendor List'!$A243)","v":"AMPHENOL CORP"}]
[{"$f":"\"\"","v":""},null,{"$f":"IF('Vendor List'!$A244=\"\",\"\",'Vendor List'!$A244)","v":"AMPTEK, INC"}]
[{"$f":"\"\"","v":""},null,{"$f":"IF('Vendor List'!$A245=\"\",\"\",'Vendor List'!$A245)","v":"AMPTEK, INC"}]
[{"$f":"\"\"","v":""},null,{"$f":"IF('Vendor List'!$A246=\"\",\"\",'Vendor List'!$A246)","v":"AMS LAWN CARE"}]
[{"$f":"\"\"","v":""},null,{"$f":"IF('Vendor List'!$A247=\"\",\"\",'Vendor List'!$A247)","v":"AMUNEAL MANUFACTURING CORP"}]
[{"$f":"\"\"","v":""},null,{"$f":"IF('Vendor List'!$A248=\"\",\"\",'Vendor List'!$A248)","v":"ANALOG DEVICES"}]
[{"$f":"\"\"","v":""},null,{"$f":"IF('Vendor List'!$A249=\"\",\"\",'Vendor List'!$A249)","v":"ANALOG MODULES  INC"}]
[{"$f":"\"\"","v":""},null,{"$f":"IF('Vendor List'!$A250=\"\",\"\",'Vendor List'!$A250)","v":"ANALOG SERVICES"}]
[{"$f":"\"\"","v":""},null,{"$f":"IF('Vendor List'!$A251=\"\",\"\",'Vendor List'!$A251)","v":"ANALYTICAL SYSTEMS INT.''"}]
[{"$f":"\"\"","v":""},null,{"$f":"IF('Vendor List'!$A252=\"\",\"\",'Vendor List'!$A252)","v":"AND TECHNOLOGIES"}]
[{"$f":"\"\"","v":""},null,{"$f":"IF('Vendor List'!$A253=\"\",\"\",'Vendor List'!$A253)","v":"ANDERSON PUMP & PROCESS"}]
[{"$f":"\"\"","v":""},null,{"$f":"IF('Vendor List'!$A254=\"\",\"\",'Vendor List'!$A254)","v":"ANDERSON THOMAS"}]
[{"$f":"\"\"","v":""},null,{"$f":"IF('Vendor List'!$A255=\"\",\"\",'Vendor List'!$A255)","v":"ANDREW CORPORATION"}]
[{"$f":"\"\"","v":""},null,{"$f":"IF('Vendor List'!$A256=\"\",\"\",'Vendor List'!$A256)","v":"ANGELIC BREWING CO"}]
[{"$f":"\"\"","v":""},null,{"$f":"IF('Vendor List'!$A257=\"\",\"\",'Vendor List'!$A257)","v":"ANIXTER"}]
[{"$f":"\"\"","v":""},null,{"$f":"IF('Vendor List'!$A258=\"\",\"\",'Vendor List'!$A258)","v":"ANIXTER BROS"}]
[{"$f":"\"\"","v":""},null,{"$f":"IF('Vendor List'!$A259=\"\",\"\",'Vendor List'!$A259)","v":"ANIXTER INC"}]
[{"$f":"\"\"","v":""},null,{"$f":"IF('Vendor List'!$A260=\"\",\"\",'Vendor List'!$A260)","v":"ANTIQUE ELECTRONIC SUPPLY"}]
[{"$f":"\"\"","v":""},null,{"$f":"IF('Vendor List'!$A261=\"\",\"\",'Vendor List'!$A261)","v":"ANTISTATIC INDUSTRIES INC"}]
[{"$f":"\"\"","v":""},null,{"$f":"IF('Vendor List'!$A262=\"\",\"\",'Vendor List'!$A262)","v":"ANVS, INC"}]
[{"$f":"\"\"","v":""},null,{"$f":"IF('Vendor List'!$A263=\"\",\"\",'Vendor List'!$A263)","v":"AP CIRCUITS"}]
[{"$f":"\"\"","v":""},null,{"$f":"IF('Vendor List'!$A264=\"\",\"\",'Vendor List'!$A264)","v":"APD CRYOGENICS"}]
[{"$f":"\"\"","v":""},null,{"$f":"IF('Vendor List'!$A265=\"\",\"\",'Vendor List'!$A265)","v":"APEX BATTERY"}]
[{"$f":"\"\"","v":""},null,{"$f":"IF('Vendor List'!$A266=\"\",\"\",'Vendor List'!$A266)","v":"APPLE COMPUTER INC"}]
[{"$f":"\"\"","v":""},null,{"$f":"IF('Vendor List'!$A267=\"\",\"\",'Vendor List'!$A267)","v":"APPLE COMPUTERS"}]
[{"$f":"\"\"","v":""},null,{"$f":"IF('Vendor List'!$A268=\"\",\"\",'Vendor List'!$A268)","v":"APPLE RUBBER PRODUCT"}]
[{"$f":"\"\"","v":""},null,{"$f":"IF('Vendor List'!$A269=\"\",\"\",'Vendor List'!$A269)","v":"APPLICATION EQUIPMENT"}]
[{"$f":"\"\"","v":""},null,{"$f":"IF('Vendor List'!$A270=\"\",\"\",'Vendor List'!$A270)","v":"APPLIED DIAMOND,  INC"}]
[{"$f":"\"\"","v":""},null,{"$f":"IF('Vendor List'!$A271=\"\",\"\",'Vendor List'!$A271)","v":"APPLIED ENGINEERING"}]
[{"$f":"\"\"","v":""},null,{"$f":"IF('Vendor List'!$A272=\"\",\"\",'Vendor List'!$A272)","v":"APPLIED ENGINEERING PRODUCTS"}]
[{"$f":"\"\"","v":""},null,{"$f":"IF('Vendor List'!$A273=\"\",\"\",'Vendor List'!$A273)","v":"APPLIED INDUSTRIAL TECHNOLOGIE"}]
[{"$f":"\"\"","v":""},null,{"$f":"IF('Vendor List'!$A274=\"\",\"\",'Vendor List'!$A274)","v":"APPLIED INFORMATION SYSTEMS IN"}]
[{"$f":"\"\"","v":""},null,{"$f":"IF('Vendor List'!$A275=\"\",\"\",'Vendor List'!$A275)","v":"APPLIED PHYSICS TECHNOLOGIES"}]
[{"$f":"\"\"","v":""},null,{"$f":"IF('Vendor List'!$A276=\"\",\"\",'Vendor List'!$A276)","v":"APTEC NUCLEAR"}]
[{"$f":"\"\"","v":""},null,{"$f":"IF('Vendor List'!$A277=\"\",\"\",'Vendor List'!$A277)","v":"APTEK INDUSTRIES INC"}]
[{"$f":"\"\"","v":""},null,{"$f":"IF('Vendor List'!$A278=\"\",\"\",'Vendor List'!$A278)","v":"AQUATROL INC"}]
[{"$f":"\"\"","v":""},null,{"$f":"IF('Vendor List'!$A279=\"\",\"\",'Vendor List'!$A279)","v":"ARAMARK CLASSIC FARE CATERING"}]
[{"$f":"\"\"","v":""},null,{"$f":"IF('Vendor List'!$A280=\"\",\"\",'Vendor List'!$A280)","v":"ARAMARK UNIFORM SERVICES"}]
[{"$f":"\"\"","v":""},null,{"$f":"IF('Vendor List'!$A281=\"\",\"\",'Vendor List'!$A281)","v":"ARBORETUM"}]
[{"$f":"\"\"","v":""},null,{"$f":"IF('Vendor List'!$A282=\"\",\"\",'Vendor List'!$A282)","v":"ARCTIC GLACIER, INC"}]
[{"$f":"\"\"","v":""},null,{"$f":"IF('Vendor List'!$A283=\"\",\"\",'Vendor List'!$A283)","v":"AREMCO PRODUCTS"}]
[{"$f":"\"\"","v":""},null,{"$f":"IF('Vendor List'!$A284=\"\",\"\",'Vendor List'!$A284)","v":"ARES SOFTWARE"}]
[{"$f":"\"\"","v":""},null,{"$f":"IF('Vendor List'!$A285=\"\",\"\",'Vendor List'!$A285)","v":"ARGONNE NATIONAL LABORATORY"}]
[{"$f":"\"\"","v":""},null,{"$f":"IF('Vendor List'!$A286=\"\",\"\",'Vendor List'!$A286)","v":"ARLINGTON COMPUTER PRODUCTS"}]
[{"$f":"\"\"","v":""},null,{"$f":"IF('Vendor List'!$A287=\"\",\"\",'Vendor List'!$A287)","v":"ARMENTA,REBECCA"}]
[{"$f":"\"\"","v":""},null,{"$f":"IF('Vendor List'!$A288=\"\",\"\",'Vendor List'!$A288)","v":"ARMOLOY OF ILLINOIS"}]
[{"$f":"\"\"","v":""},null,{"$f":"IF('Vendor List'!$A289=\"\",\"\",'Vendor List'!$A289)","v":"ARMOLOY OF ILLINOIS INC"}]
[{"$f":"\"\"","v":""},null,{"$f":"IF('Vendor List'!$A290=\"\",\"\",'Vendor List'!$A290)","v":"ARMORLINK CORPORATION"}]
[{"$f":"\"\"","v":""},null,{"$f":"IF('Vendor List'!$A291=\"\",\"\",'Vendor List'!$A291)","v":"ARNDT & SON PLUMBING"}]
[{"$f":"\"\"","v":""},null,{"$f":"IF('Vendor List'!$A292=\"\",\"\",'Vendor List'!$A292)","v":"ARNOLD & O'SHERIDAN INC"}]
[{"$f":"\"\"","v":""},null,{"$f":"IF('Vendor List'!$A293=\"\",\"\",'Vendor List'!$A293)","v":"ARROW ADVANTAGE"}]
[{"$f":"\"\"","v":""},null,{"$f":"IF('Vendor List'!$A294=\"\",\"\",'Vendor List'!$A294)","v":"ARROW ELECTRONICS"}]
[{"$f":"\"\"","v":""},null,{"$f":"IF('Vendor List'!$A295=\"\",\"\",'Vendor List'!$A295)","v":"ARROW ELECTRONICS INC"}]
[{"$f":"\"\"","v":""},null,{"$f":"IF('Vendor List'!$A296=\"\",\"\",'Vendor List'!$A296)","v":"ARROW STAR INC"}]
[{"$f":"\"\"","v":""},null,{"$f":"IF('Vendor List'!$A297=\"\",\"\",'Vendor List'!$A297)","v":"ARTISAN CORP"}]
[{"$f":"\"\"","v":""},null,{"$f":"IF('Vendor List'!$A298=\"\",\"\",'Vendor List'!$A298)","v":"ARTISTIC PLATING CO  INC"}]
[{"$f":"\"\"","v":""},null,{"$f":"IF('Vendor List'!$A299=\"\",\"\",'Vendor List'!$A299)","v":"ASAP SOFTWARE EXPRESS INC"}]
[{"$f":"\"\"","v":""},null,{"$f":"IF('Vendor List'!$A300=\"\",\"\",'Vendor List'!$A300)","v":"ASAT, INC"}]
[{"$f":"\"\"","v":""},null,{"$f":"IF('Vendor List'!$A301=\"\",\"\",'Vendor List'!$A301)","v":"ASC PUMPING EQUIPMENT"}]
[{"$f":"\"\"","v":""},null,{"$f":"IF('Vendor List'!$A302=\"\",\"\",'Vendor List'!$A302)","v":"ASH EQUIPMENT"}]
[{"$f":"\"\"","v":""},null,{"$f":"IF('Vendor List'!$A303=\"\",\"\",'Vendor List'!$A303)","v":"ASH EQUIPMENT"}]
[{"$f":"\"\"","v":""},null,{"$f":"IF('Vendor List'!$A304=\"\",\"\",'Vendor List'!$A304)","v":"ASHEVILLE SHOONMAKER MICA CO"}]
[{"$f":"\"\"","v":""},null,{"$f":"IF('Vendor List'!$A305=\"\",\"\",'Vendor List'!$A305)","v":"ASLESON'S TRUE VALUE"}]
[{"$f":"\"\"","v":""},null,{"$f":"IF('Vendor List'!$A306=\"\",\"\",'Vendor List'!$A306)","v":"ASM INTERNATIONAL"}]
[{"$f":"\"\"","v":""},null,{"$f":"IF('Vendor List'!$A307=\"\",\"\",'Vendor List'!$A307)","v":"ASM SOFTWARE"}]
[{"$f":"\"\"","v":""},null,{"$f":"IF('Vendor List'!$A308=\"\",\"\",'Vendor List'!$A308)","v":"ASME  AMERICAN SOCIETY OF MECH"}]
[{"$f":"\"\"","v":""},null,{"$f":"IF('Vendor List'!$A309=\"\",\"\",'Vendor List'!$A309)","v":"ASSOCIATED RESEARCH INC"}]
[{"$f":"\"\"","v":""},null,{"$f":"IF('Vendor List'!$A310=\"\",\"\",'Vendor List'!$A310)","v":"ASSOCIATED SPRING CO"}]
[{"$f":"\"\"","v":""},null,{"$f":"IF('Vendor List'!$A311=\"\",\"\",'Vendor List'!$A311)","v":"ASSOCIATED SPRING RAYMOND"}]
[{"$f":"\"\"","v":""},null,{"$f":"IF('Vendor List'!$A312=\"\",\"\",'Vendor List'!$A312)","v":"ASTM"}]
[{"$f":"\"\"","v":""},null,{"$f":"IF('Vendor List'!$A313=\"\",\"\",'Vendor List'!$A313)","v":"ASTRO INDUSTRIES"}]
[{"$f":"\"\"","v":""},null,{"$f":"IF('Vendor List'!$A314=\"\",\"\",'Vendor List'!$A314)","v":"ASTRO MODEL DEVELOPMENT"}]
[{"$f":"\"\"","v":""},null,{"$f":"IF('Vendor List'!$A315=\"\",\"\",'Vendor List'!$A315)","v":"ASTRO TOOL"}]
[{"$f":"\"\"","v":""},null,{"$f":"IF('Vendor List'!$A316=\"\",\"\",'Vendor List'!$A316)","v":"ASTRODYNE"}]
[{"$f":"\"\"","v":""},null,{"$f":"IF('Vendor List'!$A317=\"\",\"\",'Vendor List'!$A317)","v":"AT BATTERY CO"}]
[{"$f":"\"\"","v":""},null,{"$f":"IF('Vendor List'!$A318=\"\",\"\",'Vendor List'!$A318)","v":"AT&T INFORMATION CENTER"}]
[{"$f":"\"\"","v":""},null,{"$f":"IF('Vendor List'!$A319=\"\",\"\",'Vendor List'!$A319)","v":"AT&T INFORMATION SYSTEMS"}]
[{"$f":"\"\"","v":""},null,{"$f":"IF('Vendor List'!$A320=\"\",\"\",'Vendor List'!$A320)","v":"ATCOM, INC."}]
[{"$f":"\"\"","v":""},null,{"$f":"IF('Vendor List'!$A321=\"\",\"\",'Vendor List'!$A321)","v":"ATD AMERICAN"}]
[{"$f":"\"\"","v":""},null,{"$f":"IF('Vendor List'!$A322=\"\",\"\",'Vendor List'!$A322)","v":"ATEX CORPORATION"}]
[{"$f":"\"\"","v":""},null,{"$f":"IF('Vendor List'!$A323=\"\",\"\",'Vendor List'!$A323)","v":"ATLANTA LIGHT BULBS"}]
[{"$f":"\"\"","v":""},null,{"$f":"IF('Vendor List'!$A324=\"\",\"\",'Vendor List'!$A324)","v":"ATLANTIC GASKET CORPORATION"}]
[{"$f":"\"\"","v":""},null,{"$f":"IF('Vendor List'!$A325=\"\",\"\",'Vendor List'!$A325)","v":"ATLANTIC STAINLESS"}]
[{"$f":"\"\"","v":""},null,{"$f":"IF('Vendor List'!$A326=\"\",\"\",'Vendor List'!$A326)","v":"ATLAS CASE CORP"}]
[{"$f":"\"\"","v":""},null,{"$f":"IF('Vendor List'!$A327=\"\",\"\",'Vendor List'!$A327)","v":"ATLAS PEN & PENCIL CORP"}]
[{"$f":"\"\"","v":""},null,{"$f":"IF('Vendor List'!$A328=\"\",\"\",'Vendor List'!$A328)","v":"ATS MACHINE SAFETY SOLUTIONS"}]
[{"$f":"\"\"","v":""},null,{"$f":"IF('Vendor List'!$A329=\"\",\"\",'Vendor List'!$A329)","v":"ATT METROLOGY SERVICES"}]
[{"$f":"\"\"","v":""},null,{"$f":"IF('Vendor List'!$A330=\"\",\"\",'Vendor List'!$A330)","v":"AUDIO CONTRACTORS"}]
[{"$f":"\"\"","v":""},null,{"$f":"IF('Vendor List'!$A331=\"\",\"\",'Vendor List'!$A331)","v":"AUDIO VIDEO SUPPLY"}]
[{"$f":"\"\"","v":""},null,{"$f":"IF('Vendor List'!$A332=\"\",\"\",'Vendor List'!$A332)","v":"AUDIO VIDEO SUPPLY"}]
[{"$f":"\"\"","v":""},null,{"$f":"IF('Vendor List'!$A333=\"\",\"\",'Vendor List'!$A333)","v":"AUSTIN HARDWARE & SUPPLY"}]
[{"$f":"\"\"","v":""},null,{"$f":"IF('Vendor List'!$A334=\"\",\"\",'Vendor List'!$A334)","v":"AUSTIN SCIENTIFIC CO INC"}]
[{"$f":"\"\"","v":""},null,{"$f":"IF('Vendor List'!$A335=\"\",\"\",'Vendor List'!$A335)","v":"AUTEK RESEARCH"}]
[{"$f":"\"\"","v":""},null,{"$f":"IF('Vendor List'!$A336=\"\",\"\",'Vendor List'!$A336)","v":"AUTODESK INC."}]
[{"$f":"\"\"","v":""},null,{"$f":"IF('Vendor List'!$A337=\"\",\"\",'Vendor List'!$A337)","v":"AUTOMATED ANALYSIS CORP"}]
[{"$f":"\"\"","v":""},null,{"$f":"IF('Vendor List'!$A338=\"\",\"\",'Vendor List'!$A338)","v":"AUTOMATION & PROCESS CONTROLS"}]
[{"$f":"\"\"","v":""},null,{"$f":"IF('Vendor List'!$A339=\"\",\"\",'Vendor List'!$A339)","v":"AUTOMATION DIRECT"}]
[{"$f":"\"\"","v":""},null,{"$f":"IF('Vendor List'!$A340=\"\",\"\",'Vendor List'!$A340)","v":"AUTOMATION GAGES INC"}]
[{"$f":"\"\"","v":""},null,{"$f":"IF('Vendor List'!$A341=\"\",\"\",'Vendor List'!$A341)","v":"AVA DIRECT INC"}]
[{"$f":"\"\"","v":""},null,{"$f":"IF('Vendor List'!$A342=\"\",\"\",'Vendor List'!$A342)","v":"AVALAN WIRELESS SYSTEMS, INC"}]
[{"$f":"\"\"","v":""},null,{"$f":"IF('Vendor List'!$A343=\"\",\"\",'Vendor List'!$A343)","v":"AVANT GARDE GROUP"}]
[{"$f":"\"\"","v":""},null,{"$f":"IF('Vendor List'!$A344=\"\",\"\",'Vendor List'!$A344)","v":"AVANTI CORP"}]
[{"$f":"\"\"","v":""},null,{"$f":"IF('Vendor List'!$A345=\"\",\"\",'Vendor List'!$A345)","v":"AVAYA"}]
[{"$f":"\"\"","v":""},null,{"$f":"IF('Vendor List'!$A346=\"\",\"\",'Vendor List'!$A346)","v":"AVI MIDWEST"}]
[{"$f":"\"\"","v":""},null,{"$f":"IF('Vendor List'!$A347=\"\",\"\",'Vendor List'!$A347)","v":"AVNET ELECTRONICS MARKETING"}]
[{"$f":"\"\"","v":""},null,{"$f":"IF('Vendor List'!$A348=\"\",\"\",'Vendor List'!$A348)","v":"AVTECH ELECTROSYSTEMS"}]
[{"$f":"\"\"","v":""},null,{"$f":"IF('Vendor List'!$A349=\"\",\"\",'Vendor List'!$A349)","v":"AWP BUTCHER BLOCK, INC"}]
[{"$f":"\"\"","v":""},null,{"$f":"IF('Vendor List'!$A350=\"\",\"\",'Vendor List'!$A350)","v":"AXIOMTEK"}]
[{"$f":"\"\"","v":""},null,{"$f":"IF('Vendor List'!$A351=\"\",\"\",'Vendor List'!$A351)","v":"B & B TRAILERS, INC"}]
[{"$f":"\"\"","v":""},null,{"$f":"IF('Vendor List'!$A352=\"\",\"\",'Vendor List'!$A352)","v":"B & D ENTERPRISES"}]
[{"$f":"\"\"","v":""},null,{"$f":"IF('Vendor List'!$A353=\"\",\"\",'Vendor List'!$A353)","v":"B & H PHOTO"}]
[{"$f":"\"\"","v":""},null,{"$f":"IF('Vendor List'!$A354=\"\",\"\",'Vendor List'!$A354)","v":"B J WOLFE ENTERPRISES"}]
[{"$f":"\"\"","v":""},null,{"$f":"IF('Vendor List'!$A355=\"\",\"\",'Vendor List'!$A355)","v":"B&B ELECTRONICS"}]
[{"$f":"\"\"","v":""},null,{"$f":"IF('Vendor List'!$A356=\"\",\"\",'Vendor List'!$A356)","v":"BACHARACH INC"}]
[{"$f":"\"\"","v":""},null,{"$f":"IF('Vendor List'!$A357=\"\",\"\",'Vendor List'!$A357)","v":"BACHMANN POOLS & SPAS"}]
[{"$f":"\"\"","v":""},null,{"$f":"IF('Vendor List'!$A358=\"\",\"\",'Vendor List'!$A358)","v":"BACKCOUNTRY EQUIPMENT"}]
[{"$f":"\"\"","v":""},null,{"$f":"IF('Vendor List'!$A359=\"\",\"\",'Vendor List'!$A359)","v":"BACKUPWORKS.COM"}]
[{"$f":"\"\"","v":""},null,{"$f":"IF('Vendor List'!$A360=\"\",\"\",'Vendor List'!$A360)","v":"BACTERIOLOGY DEPT"}]
[{"$f":"\"\"","v":""},null,{"$f":"IF('Vendor List'!$A361=\"\",\"\",'Vendor List'!$A361)","v":"BADGER CAB COMPANY"}]
[{"$f":"\"\"","v":""},null,{"$f":"IF('Vendor List'!$A362=\"\",\"\",'Vendor List'!$A362)","v":"BADGER CONTRACTORS RENTAL"}]
[{"$f":"\"\"","v":""},null,{"$f":"IF('Vendor List'!$A363=\"\",\"\",'Vendor List'!$A363)","v":"BADGER DIVERSIFIED"}]
[{"$f":"\"\"","v":""},null,{"$f":"IF('Vendor List'!$A364=\"\",\"\",'Vendor List'!$A364)","v":"BADGER ELECTRIC MOTOR CO"}]
[{"$f":"\"\"","v":""},null,{"$f":"IF('Vendor List'!$A365=\"\",\"\",'Vendor List'!$A365)","v":"BADGER FLUID SYSTEM TECH"}]
[{"$f":"\"\"","v":""},null,{"$f":"IF('Vendor List'!$A366=\"\",\"\",'Vendor List'!$A366)","v":"BADGER GRAPHIC SYSTEMS"}]
[{"$f":"\"\"","v":""},null,{"$f":"IF('Vendor List'!$A367=\"\",\"\",'Vendor List'!$A367)","v":"BADGER METER INC"}]
[{"$f":"\"\"","v":""},null,{"$f":"IF('Vendor List'!$A368=\"\",\"\",'Vendor List'!$A368)","v":"BADGER MILL SUPPLY"}]
[{"$f":"\"\"","v":""},null,{"$f":"IF('Vendor List'!$A369=\"\",\"\",'Vendor List'!$A369)","v":"BADGER OFFICE SUPPLIES"}]
[{"$f":"\"\"","v":""},null,{"$f":"IF('Vendor List'!$A370=\"\",\"\",'Vendor List'!$A370)","v":"BADGER SHEET METAL"}]
[{"$f":"\"\"","v":""},null,{"$f":"IF('Vendor List'!$A371=\"\",\"\",'Vendor List'!$A371)","v":"BADGER STATE INDUSTRIES"}]
[{"$f":"\"\"","v":""},null,{"$f":"IF('Vendor List'!$A372=\"\",\"\",'Vendor List'!$A372)","v":"BADGER STATE LOGISTICS"}]
[{"$f":"\"\"","v":""},null,{"$f":"IF('Vendor List'!$A373=\"\",\"\",'Vendor List'!$A373)","v":"BADGER UTILITY INC"}]
[{"$f":"\"\"","v":""},null,{"$f":"IF('Vendor List'!$A374=\"\",\"\",'Vendor List'!$A374)","v":"BADGER WELDING SUPPLY CO"}]
[{"$f":"\"\"","v":""},null,{"$f":"IF('Vendor List'!$A375=\"\",\"\",'Vendor List'!$A375)","v":"BAGELS FOREVER"}]
[{"$f":"\"\"","v":""},null,{"$f":"IF('Vendor List'!$A376=\"\",\"\",'Vendor List'!$A376)","v":"BAILEY'S"}]
[{"$f":"\"\"","v":""},null,{"$f":"IF('Vendor List'!$A377=\"\",\"\",'Vendor List'!$A377)","v":"BAKER COMPANY"}]
[{"$f":"\"\"","v":""},null,{"$f":"IF('Vendor List'!$A378=\"\",\"\",'Vendor List'!$A378)","v":"BAL SEAL ENGINEERING"}]
[{"$f":"\"\"","v":""},null,{"$f":"IF('Vendor List'!$A379=\"\",\"\",'Vendor List'!$A379)","v":"BAL-TEC"}]
[{"$f":"\"\"","v":""},null,{"$f":"IF('Vendor List'!$A380=\"\",\"\",'Vendor List'!$A380)","v":"BALZERS"}]
[{"$f":"\"\"","v":""},null,{"$f":"IF('Vendor List'!$A381=\"\",\"\",'Vendor List'!$A381)","v":"BALZERS"}]
[{"$f":"\"\"","v":""},null,{"$f":"IF('Vendor List'!$A382=\"\",\"\",'Vendor List'!$A382)","v":"BALZERS CORP"}]
[{"$f":"\"\"","v":""},null,{"$f":"IF('Vendor List'!$A383=\"\",\"\",'Vendor List'!$A383)","v":"BANGS LABORATORIES"}]
[{"$f":"\"\"","v":""},null,{"$f":"IF('Vendor List'!$A384=\"\",\"\",'Vendor List'!$A384)","v":"BARANIAK ROBOTICS"}]
[{"$f":"\"\"","v":""},null,{"$f":"IF('Vendor List'!$A385=\"\",\"\",'Vendor List'!$A385)","v":"BARDEN PRECISION BEARINGS"}]
[{"$f":"\"\"","v":""},null,{"$f":"IF('Vendor List'!$A386=\"\",\"\",'Vendor List'!$A386)","v":"BARKER ROCKFORD"}]
[{"$f":"\"\"","v":""},null,{"$f":"IF('Vendor List'!$A387=\"\",\"\",'Vendor List'!$A387)","v":"BARNES & NOBLE"}]
[{"$f":"\"\"","v":""},null,{"$f":"IF('Vendor List'!$A388=\"\",\"\",'Vendor List'!$A388)","v":"BARNES & NOBLE"}]
[{"$f":"\"\"","v":""},null,{"$f":"IF('Vendor List'!$A389=\"\",\"\",'Vendor List'!$A389)","v":"BARNES, INC"}]
[{"$f":"\"\"","v":""},null,{"$f":"IF('Vendor List'!$A390=\"\",\"\",'Vendor List'!$A390)","v":"BARNSTEAD THERMOLYNE"}]
[{"$f":"\"\"","v":""},null,{"$f":"IF('Vendor List'!$A391=\"\",\"\",'Vendor List'!$A391)","v":"BARTOL RESEARCH"}]
[{"$f":"\"\"","v":""},null,{"$f":"IF('Vendor List'!$A392=\"\",\"\",'Vendor List'!$A392)","v":"BARTON SOLVENTS"}]
[{"$f":"\"\"","v":""},null,{"$f":"IF('Vendor List'!$A393=\"\",\"\",'Vendor List'!$A393)","v":"BASE EIGHT"}]
[{"$f":"\"\"","v":""},null,{"$f":"IF('Vendor List'!$A394=\"\",\"\",'Vendor List'!$A394)","v":"BASON COMPUTER WAREHOUSE"}]
[{"$f":"\"\"","v":""},null,{"$f":"IF('Vendor List'!$A395=\"\",\"\",'Vendor List'!$A395)","v":"BATTERIES PLUS"}]
[{"$f":"\"\"","v":""},null,{"$f":"IF('Vendor List'!$A396=\"\",\"\",'Vendor List'!$A396)","v":"BATTERIES PLUS"}]
[{"$f":"\"\"","v":""},null,{"$f":"IF('Vendor List'!$A397=\"\",\"\",'Vendor List'!$A397)","v":"BATTERY MART"}]
[{"$f":"\"\"","v":""},null,{"$f":"IF('Vendor List'!$A398=\"\",\"\",'Vendor List'!$A398)","v":"BATTERY PRODUCTS INC"}]
[{"$f":"\"\"","v":""},null,{"$f":"IF('Vendor List'!$A399=\"\",\"\",'Vendor List'!$A399)","v":"BATTERYWHOLESALE.COM"}]
[{"$f":"\"\"","v":""},null,{"$f":"IF('Vendor List'!$A400=\"\",\"\",'Vendor List'!$A400)","v":"BAUMER ELECTRIC"}]
[{"$f":"\"\"","v":""},null,{"$f":"IF('Vendor List'!$A401=\"\",\"\",'Vendor List'!$A401)","v":"BAXTER"}]
[{"$f":"\"\"","v":""},null,{"$f":"IF('Vendor List'!$A402=\"\",\"\",'Vendor List'!$A402)","v":"BAY PRESS SERVICES"}]
[{"$f":"\"\"","v":""},null,{"$f":"IF('Vendor List'!$A403=\"\",\"\",'Vendor List'!$A403)","v":"BAY VERTE MACHINERING INC"}]
[{"$f":"\"\"","v":""},null,{"$f":"IF('Vendor List'!$A404=\"\",\"\",'Vendor List'!$A404)","v":"BCD MACHINE SPECIALTIES"}]
[{"$f":"\"\"","v":""},null,{"$f":"IF('Vendor List'!$A405=\"\",\"\",'Vendor List'!$A405)","v":"BDS INC"}]
[{"$f":"\"\"","v":""},null,{"$f":"IF('Vendor List'!$A406=\"\",\"\",'Vendor List'!$A406)","v":"BEAGLE SOFTWARE"}]
[{"$f":"\"\"","v":""},null,{"$f":"IF('Vendor List'!$A407=\"\",\"\",'Vendor List'!$A407)","v":"BEARING HEADQUARTERS COMPANY"}]
[{"$f":"\"\"","v":""},null,{"$f":"IF('Vendor List'!$A408=\"\",\"\",'Vendor List'!$A408)","v":"BEARING SERVICE"}]
[{"$f":"\"\"","v":""},null,{"$f":"IF('Vendor List'!$A409=\"\",\"\",'Vendor List'!$A409)","v":"BEI TECHNOLGIES"}]
[{"$f":"\"\"","v":""},null,{"$f":"IF('Vendor List'!$A410=\"\",\"\",'Vendor List'!$A410)","v":"BEIGE BAG SOFTWARE"}]
[{"$f":"\"\"","v":""},null,{"$f":"IF('Vendor List'!$A411=\"\",\"\",'Vendor List'!$A411)","v":"BELCAN CORPORATION"}]
[{"$f":"\"\"","v":""},null,{"$f":"IF('Vendor List'!$A412=\"\",\"\",'Vendor List'!$A412)","v":"BELCHER EQUIPMENT, LLC"}]
[{"$f":"\"\"","v":""},null,{"$f":"IF('Vendor List'!$A413=\"\",\"\",'Vendor List'!$A413)","v":"BELL ELECTRONICS"}]
[{"$f":"\"\"","v":""},null,{"$f":"IF('Vendor List'!$A414=\"\",\"\",'Vendor List'!$A414)","v":"BEN'S CLEANER SALES INC"}]
[{"$f":"\"\"","v":""},null,{"$f":"IF('Vendor List'!$A415=\"\",\"\",'Vendor List'!$A415)","v":"BENCHMARK PRODUCTS"}]
[{"$f":"\"\"","v":""},null,{"$f":"IF('Vendor List'!$A416=\"\",\"\",'Vendor List'!$A416)","v":"BENJAMIN PLUMBING INC"}]
[{"$f":"\"\"","v":""},null,{"$f":"IF('Vendor List'!$A417=\"\",\"\",'Vendor List'!$A417)","v":"BERBEE INFORMATION NETWORKS"}]
[{"$f":"\"\"","v":""},null,{"$f":"IF('Vendor List'!$A418=\"\",\"\",'Vendor List'!$A418)","v":"BERG JOHNSON & ASSOCIATES"}]
[{"$f":"\"\"","v":""},null,{"$f":"IF('Vendor List'!$A419=\"\",\"\",'Vendor List'!$A419)","v":"BERKELEY NUCLEONICS CORP."}]
[{"$f":"\"\"","v":""},null,{"$f":"IF('Vendor List'!$A420=\"\",\"\",'Vendor List'!$A420)","v":"BERNDT ASSOCIATES"}]
[{"$f":"\"\"","v":""},null,{"$f":"IF('Vendor List'!$A421=\"\",\"\",'Vendor List'!$A421)","v":"BERNIE'S EQUIPMENT"}]
[{"$f":"\"\"","v":""},null,{"$f":"IF('Vendor List'!$A422=\"\",\"\",'Vendor List'!$A422)","v":"BERTAN ASSOCIATES"}]
[{"$f":"\"\"","v":""},null,{"$f":"IF('Vendor List'!$A423=\"\",\"\",'Vendor List'!$A423)","v":"BERTAN ASSOCIATES INC"}]
[{"$f":"\"\"","v":""},null,{"$f":"IF('Vendor List'!$A424=\"\",\"\",'Vendor List'!$A424)","v":"BERTAN ASSOCIATES INC"}]
[{"$f":"\"\"","v":""},null,{"$f":"IF('Vendor List'!$A425=\"\",\"\",'Vendor List'!$A425)","v":"BERTSCH CO"}]
[{"$f":"\"\"","v":""},null,{"$f":"IF('Vendor List'!$A426=\"\",\"\",'Vendor List'!$A426)","v":"BEST BUY"}]
[{"$f":"\"\"","v":""},null,{"$f":"IF('Vendor List'!$A427=\"\",\"\",'Vendor List'!$A427)","v":"BEST GROUP INC"}]
[{"$f":"\"\"","v":""},null,{"$f":"IF('Vendor List'!$A428=\"\",\"\",'Vendor List'!$A428)","v":"BEST WESTERN THE INNTOWNER"}]
[{"$f":"\"\"","v":""},null,{"$f":"IF('Vendor List'!$A429=\"\",\"\",'Vendor List'!$A429)","v":"BESTE SCI GLASS"}]
[{"$f":"\"\"","v":""},null,{"$f":"IF('Vendor List'!$A430=\"\",\"\",'Vendor List'!$A430)","v":"BESTEC GMBH"}]
[{"$f":"\"\"","v":""},null,{"$f":"IF('Vendor List'!$A431=\"\",\"\",'Vendor List'!$A431)","v":"BETA ELECTRONICS"}]
[{"$f":"\"\"","v":""},null,{"$f":"IF('Vendor List'!$A432=\"\",\"\",'Vendor List'!$A432)","v":"BICRON"}]
[{"$f":"\"\"","v":""},null,{"$f":"IF('Vendor List'!$A433=\"\",\"\",'Vendor List'!$A433)","v":"BID SERVICE"}]
[{"$f":"\"\"","v":""},null,{"$f":"IF('Vendor List'!$A434=\"\",\"\",'Vendor List'!$A434)","v":"BIOPHYSICAL SOCIETY"}]
[{"$f":"\"\"","v":""},null,{"$f":"IF('Vendor List'!$A435=\"\",\"\",'Vendor List'!$A435)","v":"BIOSAN LABORATORIES,  INC"}]
[{"$f":"\"\"","v":""},null,{"$f":"IF('Vendor List'!$A436=\"\",\"\",'Vendor List'!$A436)","v":"BIRCHWOOD LABORATORIES"}]
[{"$f":"\"\"","v":""},null,{"$f":"IF('Vendor List'!$A437=\"\",\"\",'Vendor List'!$A437)","v":"BIRD ELECTRONIC CORPORATION"}]
[{"$f":"\"\"","v":""},null,{"$f":"IF('Vendor List'!$A438=\"\",\"\",'Vendor List'!$A438)","v":"BIRNS, INC"}]
[{"$f":"\"\"","v":""},null,{"$f":"IF('Vendor List'!$A439=\"\",\"\",'Vendor List'!$A439)","v":"BISCO INDUSTRIES"}]
[{"$f":"\"\"","v":""},null,{"$f":"IF('Vendor List'!$A440=\"\",\"\",'Vendor List'!$A440)","v":"BISHOP WISECARVER CORP"}]
[{"$f":"\"\"","v":""},null,{"$f":"IF('Vendor List'!$A441=\"\",\"\",'Vendor List'!$A441)","v":"BIT 7, INC"}]
[{"$f":"\"\"","v":""},null,{"$f":"IF('Vendor List'!$A442=\"\",\"\",'Vendor List'!$A442)","v":"BIT360"}]
[{"$f":"\"\"","v":""},null,{"$f":"IF('Vendor List'!$A443=\"\",\"\",'Vendor List'!$A443)","v":"BJ ELECTRIC SUPPLY"}]
[{"$f":"\"\"","v":""},null,{"$f":"IF('Vendor List'!$A444=\"\",\"\",'Vendor List'!$A444)","v":"BLACK BOX CORPORATION"}]
[{"$f":"\"\"","v":""},null,{"$f":"IF('Vendor List'!$A445=\"\",\"\",'Vendor List'!$A445)","v":"BLACK LAB MICRO"}]
[{"$f":"\"\"","v":""},null,{"$f":"IF('Vendor List'!$A446=\"\",\"\",'Vendor List'!$A446)","v":"BLACKHAWK CO., INC."}]
[{"$f":"\"\"","v":""},null,{"$f":"IF('Vendor List'!$A447=\"\",\"\",'Vendor List'!$A447)","v":"BLACKHAWK LASER"}]
[{"$f":"\"\"","v":""},null,{"$f":"IF('Vendor List'!$A448=\"\",\"\",'Vendor List'!$A448)","v":"BLACKWELL PUBLISHING"}]
[{"$f":"\"\"","v":""},null,{"$f":"IF('Vendor List'!$A449=\"\",\"\",'Vendor List'!$A449)","v":"BLACKWELL PUBLISHING"}]
[{"$f":"\"\"","v":""},null,{"$f":"IF('Vendor List'!$A450=\"\",\"\",'Vendor List'!$A450)","v":"BLAINS FARM & FLEET"}]
[{"$f":"\"\"","v":""},null,{"$f":"IF('Vendor List'!$A451=\"\",\"\",'Vendor List'!$A451)","v":"BLISS MACHINE LTD"}]
[{"$f":"\"\"","v":""},null,{"$f":"IF('Vendor List'!$A452=\"\",\"\",'Vendor List'!$A452)","v":"BLOCK IRON & SUPPLY"}]
[{"$f":"\"\"","v":""},null,{"$f":"IF('Vendor List'!$A453=\"\",\"\",'Vendor List'!$A453)","v":"BLOCK IRON & SUPPLY"}]
[{"$f":"\"\"","v":""},null,{"$f":"IF('Vendor List'!$A454=\"\",\"\",'Vendor List'!$A454)","v":"BLUE BEAN LLC"}]
[{"$f":"\"\"","v":""},null,{"$f":"IF('Vendor List'!$A455=\"\",\"\",'Vendor List'!$A455)","v":"BLUECOSMO COMMUNICATIONS"}]
[{"$f":"\"\"","v":""},null,{"$f":"IF('Vendor List'!$A456=\"\",\"\",'Vendor List'!$A456)","v":"BLUEPRINTS INC"}]
[{"$f":"\"\"","v":""},null,{"$f":"IF('Vendor List'!$A457=\"\",\"\",'Vendor List'!$A457)","v":"BOAT DOCTOR, LLC"}]
[{"$f":"\"\"","v":""},null,{"$f":"IF('Vendor List'!$A458=\"\",\"\",'Vendor List'!$A458)","v":"BOB GREEN GUEST HOUSE"}]
[{"$f":"\"\"","v":""},null,{"$f":"IF('Vendor List'!$A459=\"\",\"\",'Vendor List'!$A459)","v":"BOBCAT OF MADISON"}]
[{"$f":"\"\"","v":""},null,{"$f":"IF('Vendor List'!$A460=\"\",\"\",'Vendor List'!$A460)","v":"BOBS COPY SHOP"}]
[{"$f":"\"\"","v":""},null,{"$f":"IF('Vendor List'!$A461=\"\",\"\",'Vendor List'!$A461)","v":"BODEN MACHINING"}]
[{"$f":"\"\"","v":""},null,{"$f":"IF('Vendor List'!$A462=\"\",\"\",'Vendor List'!$A462)","v":"BODY SHOP SUPPLY"}]
[{"$f":"\"\"","v":""},null,{"$f":"IF('Vendor List'!$A463=\"\",\"\",'Vendor List'!$A463)","v":"BOGGIS JOHNSON ELECTRIC CO"}]
[{"$f":"\"\"","v":""},null,{"$f":"IF('Vendor List'!$A464=\"\",\"\",'Vendor List'!$A464)","v":"BOKER'S INC"}]
[{"$f":"\"\"","v":""},null,{"$f":"IF('Vendor List'!$A465=\"\",\"\",'Vendor List'!$A465)","v":"BOND OPTICS"}]
[{"$f":"\"\"","v":""},null,{"$f":"IF('Vendor List'!$A466=\"\",\"\",'Vendor List'!$A466)","v":"BOOKS & BYTES"}]
[{"$f":"\"\"","v":""},null,{"$f":"IF('Vendor List'!$A467=\"\",\"\",'Vendor List'!$A467)","v":"BORDERS BOOK SHOP"}]
[{"$f":"\"\"","v":""},null,{"$f":"IF('Vendor List'!$A468=\"\",\"\",'Vendor List'!$A468)","v":"BOSON SOFTWARE INC"}]
[{"$f":"\"\"","v":""},null,{"$f":"IF('Vendor List'!$A469=\"\",\"\",'Vendor List'!$A469)","v":"BOSON TRAINING INC"}]
[{"$f":"\"\"","v":""},null,{"$f":"IF('Vendor List'!$A470=\"\",\"\",'Vendor List'!$A470)","v":"BOSTON BUSINESS COMPUTING LTD"}]
[{"$f":"\"\"","v":""},null,{"$f":"IF('Vendor List'!$A471=\"\",\"\",'Vendor List'!$A471)","v":"BOXWOOD TECHNOLOGY"}]
[{"$f":"\"\"","v":""},null,{"$f":"IF('Vendor List'!$A472=\"\",\"\",'Vendor List'!$A472)","v":"BOXWOOD TECHNOLOGY"}]
[{"$f":"\"\"","v":""},null,{"$f":"IF('Vendor List'!$A473=\"\",\"\",'Vendor List'!$A473)","v":"BRAAS COMPANY"}]
[{"$f":"\"\"","v":""},null,{"$f":"IF('Vendor List'!$A474=\"\",\"\",'Vendor List'!$A474)","v":"BRADFORD SUPPLY CO"}]
[{"$f":"\"\"","v":""},null,{"$f":"IF('Vendor List'!$A475=\"\",\"\",'Vendor List'!$A475)","v":"BRANDS ON SALE"}]
[{"$f":"\"\"","v":""},null,{"$f":"IF('Vendor List'!$A476=\"\",\"\",'Vendor List'!$A476)","v":"BRANTNER & ASSOCIATES INC"}]
[{"$f":"\"\"","v":""},null,{"$f":"IF('Vendor List'!$A477=\"\",\"\",'Vendor List'!$A477)","v":"BRECOFLEX CO"}]
[{"$f":"\"\"","v":""},null,{"$f":"IF('Vendor List'!$A478=\"\",\"\",'Vendor List'!$A478)","v":"BRENT-WOOD PRODUCTS INC"}]
[{"$f":"\"\"","v":""},null,{"$f":"IF('Vendor List'!$A479=\"\",\"\",'Vendor List'!$A479)","v":"BRETFORD"}]
[{"$f":"\"\"","v":""},null,{"$f":"IF('Vendor List'!$A480=\"\",\"\",'Vendor List'!$A480)","v":"BREWER SCIENCE INC"}]
[{"$f":"\"\"","v":""},null,{"$f":"IF('Vendor List'!$A481=\"\",\"\",'Vendor List'!$A481)","v":"BRICKSON SHAW INC"}]
[{"$f":"\"\"","v":""},null,{"$f":"IF('Vendor List'!$A482=\"\",\"\",'Vendor List'!$A482)","v":"BRIGADE QUARTERMASTERS LTD"}]
[{"$f":"\"\"","v":""},null,{"$f":"IF('Vendor List'!$A483=\"\",\"\",'Vendor List'!$A483)","v":"BRITE INC"}]
[{"$f":"\"\"","v":""},null,{"$f":"IF('Vendor List'!$A484=\"\",\"\",'Vendor List'!$A484)","v":"BRITISH LIBRARY"}]
[{"$f":"\"\"","v":""},null,{"$f":"IF('Vendor List'!$A485=\"\",\"\",'Vendor List'!$A485)","v":"BRODERBUND SOFTWARE"}]
[{"$f":"\"\"","v":""},null,{"$f":"IF('Vendor List'!$A486=\"\",\"\",'Vendor List'!$A486)","v":"BROOKS AUTOMATION"}]
[{"$f":"\"\"","v":""},null,{"$f":"IF('Vendor List'!$A487=\"\",\"\",'Vendor List'!$A487)","v":"BROOKS AUTOMATION  INC"}]
[{"$f":"\"\"","v":""},null,{"$f":"IF('Vendor List'!$A488=\"\",\"\",'Vendor List'!$A488)","v":"BROOKS INSTRUMENT DIVISION"}]
[{"$f":"\"\"","v":""},null,{"$f":"IF('Vendor List'!$A489=\"\",\"\",'Vendor List'!$A489)","v":"BROUX HOUSE"}]
[{"$f":"\"\"","v":""},null,{"$f":"IF('Vendor List'!$A490=\"\",\"\",'Vendor List'!$A490)","v":"BROWN SALES"}]
[{"$f":"\"\"","v":""},null,{"$f":"IF('Vendor List'!$A491=\"\",\"\",'Vendor List'!$A491)","v":"BRUKER OPTIC"}]
[{"$f":"\"\"","v":""},null,{"$f":"IF('Vendor List'!$A492=\"\",\"\",'Vendor List'!$A492)","v":"BRUNSELL BROTHERS LTD"}]
[{"$f":"\"\"","v":""},null,{"$f":"IF('Vendor List'!$A493=\"\",\"\",'Vendor List'!$A493)","v":"BRUNSON INSTRUMENT CO"}]
[{"$f":"\"\"","v":""},null,{"$f":"IF('Vendor List'!$A494=\"\",\"\",'Vendor List'!$A494)","v":"BRUSH WELLMAN"}]
[{"$f":"\"\"","v":""},null,{"$f":"IF('Vendor List'!$A495=\"\",\"\",'Vendor List'!$A495)","v":"BRYANT PRODUCTS  INC"}]
[{"$f":"\"\"","v":""},null,{"$f":"IF('Vendor List'!$A496=\"\",\"\",'Vendor List'!$A496)","v":"BTX INC."}]
[{"$f":"\"\"","v":""},null,{"$f":"IF('Vendor List'!$A497=\"\",\"\",'Vendor List'!$A497)","v":"BUCKBEE MEARS COMPANY"}]
[{"$f":"\"\"","v":""},null,{"$f":"IF('Vendor List'!$A498=\"\",\"\",'Vendor List'!$A498)","v":"BUCKY PORTABLE TOILET"}]
[{"$f":"\"\"","v":""},null,{"$f":"IF('Vendor List'!$A499=\"\",\"\",'Vendor List'!$A499)","v":"BUCKY USA"}]
[{"$f":"\"\"","v":""},null,{"$f":"IF('Vendor List'!$A500=\"\",\"\",'Vendor List'!$A500)","v":"BUEHLER LTD"}]
[{"$f":"\"\"","v":""},null,{"$f":"IF('Vendor List'!$A501=\"\",\"\",'Vendor List'!$A501)","v":"BUHLER INC"}]
[{"$f":"\"\"","v":""},null,{"$f":"IF('Vendor List'!$A502=\"\",\"\",'Vendor List'!$A502)","v":"BUILDING TRUST FUND"}]
[{"$f":"\"\"","v":""},null,{"$f":"IF('Vendor List'!$A503=\"\",\"\",'Vendor List'!$A503)","v":"BULB DIRECT"}]
[{"$f":"\"\"","v":""},null,{"$f":"IF('Vendor List'!$A504=\"\",\"\",'Vendor List'!$A504)","v":"BUREAU OF CITIZENSHIP & IMMIGR"}]
[{"$f":"\"\"","v":""},null,{"$f":"IF('Vendor List'!$A505=\"\",\"\",'Vendor List'!$A505)","v":"BURKHALTER TRAVEL"}]
[{"$f":"\"\"","v":""},null,{"$f":"IF('Vendor List'!$A506=\"\",\"\",'Vendor List'!$A506)","v":"BURLE INDUSTRIES, INC"}]
[{"$f":"\"\"","v":""},null,{"$f":"IF('Vendor List'!$A507=\"\",\"\",'Vendor List'!$A507)","v":"BURNE COLOR LAB LTD"}]
[{"$f":"\"\"","v":""},null,{"$f":"IF('Vendor List'!$A508=\"\",\"\",'Vendor List'!$A508)","v":"BURTON INDUSTRIES, INC"}]
[{"$f":"\"\"","v":""},null,{"$f":"IF('Vendor List'!$A509=\"\",\"\",'Vendor List'!$A509)","v":"BUSBY METALS"}]
[{"$f":"\"\"","v":""},null,{"$f":"IF('Vendor List'!$A510=\"\",\"\",'Vendor List'!$A510)","v":"BUSINESS EFFICIENCY AIDS, INC."}]
[{"$f":"\"\"","v":""},null,{"$f":"IF('Vendor List'!$A511=\"\",\"\",'Vendor List'!$A511)","v":"BUSINESS LAND"}]
[{"$f":"\"\"","v":""},null,{"$f":"IF('Vendor List'!$A512=\"\",\"\",'Vendor List'!$A512)","v":"BUSINESS WORLD INC"}]
[{"$f":"\"\"","v":""},null,{"$f":"IF('Vendor List'!$A513=\"\",\"\",'Vendor List'!$A513)","v":"BUY COM"}]
[{"$f":"\"\"","v":""},null,{"$f":"IF('Vendor List'!$A514=\"\",\"\",'Vendor List'!$A514)","v":"BYRON ELLIS ASSOC."}]
[{"$f":"\"\"","v":""},null,{"$f":"IF('Vendor List'!$A515=\"\",\"\",'Vendor List'!$A515)","v":"BYRON ELLIS ASSOCIATES"}]
[{"$f":"\"\"","v":""},null,{"$f":"IF('Vendor List'!$A516=\"\",\"\",'Vendor List'!$A516)","v":"C & M HYDRAULIC TOOL SUPPLY"}]
[{"$f":"\"\"","v":""},null,{"$f":"IF('Vendor List'!$A517=\"\",\"\",'Vendor List'!$A517)","v":"C E SUNDBERG"}]
[{"$f":"\"\"","v":""},null,{"$f":"IF('Vendor List'!$A518=\"\",\"\",'Vendor List'!$A518)","v":"C H PETERS CO"}]
[{"$f":"\"\"","v":""},null,{"$f":"IF('Vendor List'!$A519=\"\",\"\",'Vendor List'!$A519)","v":"C L THOMPSON CO"}]
[{"$f":"\"\"","v":""},null,{"$f":"IF('Vendor List'!$A520=\"\",\"\",'Vendor List'!$A520)","v":"C&H DISTRIBUTORS"}]
[{"$f":"\"\"","v":""},null,{"$f":"IF('Vendor List'!$A521=\"\",\"\",'Vendor List'!$A521)","v":"C&R RUBBER PROD INC"}]
[{"$f":"\"\"","v":""},null,{"$f":"IF('Vendor List'!$A522=\"\",\"\",'Vendor List'!$A522)","v":"C-FLEX BEARING CO INC"}]
[{"$f":"\"\"","v":""},null,{"$f":"IF('Vendor List'!$A523=\"\",\"\",'Vendor List'!$A523)","v":"C.J. SAPORITO PLATING CO."}]
[{"$f":"\"\"","v":""},null,{"$f":"IF('Vendor List'!$A524=\"\",\"\",'Vendor List'!$A524)","v":"C4 IMAGING"}]
[{"$f":"\"\"","v":""},null,{"$f":"IF('Vendor List'!$A525=\"\",\"\",'Vendor List'!$A525)","v":"CA MASTERPIECE USERS GROUP"}]
[{"$f":"\"\"","v":""},null,{"$f":"IF('Vendor List'!$A526=\"\",\"\",'Vendor List'!$A526)","v":"CABBAGE CASES, INC"}]
[{"$f":"\"\"","v":""},null,{"$f":"IF('Vendor List'!$A527=\"\",\"\",'Vendor List'!$A527)","v":"CABLE MARKERS CO INC"}]
[{"$f":"\"\"","v":""},null,{"$f":"IF('Vendor List'!$A528=\"\",\"\",'Vendor List'!$A528)","v":"CABLEMASTER"}]
[{"$f":"\"\"","v":""},null,{"$f":"IF('Vendor List'!$A529=\"\",\"\",'Vendor List'!$A529)","v":"CABLEORGANIZER.COM"}]
[{"$f":"\"\"","v":""},null,{"$f":"IF('Vendor List'!$A530=\"\",\"\",'Vendor List'!$A530)","v":"CABLES N MOR"}]
[{"$f":"\"\"","v":""},null,{"$f":"IF('Vendor List'!$A531=\"\",\"\",'Vendor List'!$A531)","v":"CABLES TO GO"}]
[{"$f":"\"\"","v":""},null,{"$f":"IF('Vendor List'!$A532=\"\",\"\",'Vendor List'!$A532)","v":"CABLETRON"}]
[{"$f":"\"\"","v":""},null,{"$f":"IF('Vendor List'!$A533=\"\",\"\",'Vendor List'!$A533)","v":"CABLING SYSTEM WAREHOUSE"}]
[{"$f":"\"\"","v":""},null,{"$f":"IF('Vendor List'!$A534=\"\",\"\",'Vendor List'!$A534)","v":"CABOT MICROELECTRONICS POLISH"}]
[{"$f":"\"\"","v":""},null,{"$f":"IF('Vendor List'!$A535=\"\",\"\",'Vendor List'!$A535)","v":"CADD ENGINEERING SUPPLY"}]
[{"$f":"\"\"","v":""},null,{"$f":"IF('Vendor List'!$A536=\"\",\"\",'Vendor List'!$A536)","v":"CADSYS INC"}]
[{"$f":"\"\"","v":""},null,{"$f":"IF('Vendor List'!$A537=\"\",\"\",'Vendor List'!$A537)","v":"CAERE"}]
[{"$f":"\"\"","v":""},null,{"$f":"IF('Vendor List'!$A538=\"\",\"\",'Vendor List'!$A538)","v":"CAERE CORPORATION"}]
[{"$f":"\"\"","v":""},null,{"$f":"IF('Vendor List'!$A539=\"\",\"\",'Vendor List'!$A539)","v":"CAERE CORPORATION"}]
[{"$f":"\"\"","v":""},null,{"$f":"IF('Vendor List'!$A540=\"\",\"\",'Vendor List'!$A540)","v":"CAIN-FORLAW"}]
[{"$f":"\"\"","v":""},null,{"$f":"IF('Vendor List'!$A541=\"\",\"\",'Vendor List'!$A541)","v":"CALDERA INC."}]
[{"$f":"\"\"","v":""},null,{"$f":"IF('Vendor List'!$A542=\"\",\"\",'Vendor List'!$A542)","v":"CALERA RECOGNITION SYSTEMS"}]
[{"$f":"\"\"","v":""},null,{"$f":"IF('Vendor List'!$A543=\"\",\"\",'Vendor List'!$A543)","v":"CALIFORNIA BRAZING"}]
[{"$f":"\"\"","v":""},null,{"$f":"IF('Vendor List'!$A544=\"\",\"\",'Vendor List'!$A544)","v":"CALIFORNIA PC PRODUCTS"}]
[{"$f":"\"\"","v":""},null,{"$f":"IF('Vendor List'!$A545=\"\",\"\",'Vendor List'!$A545)","v":"CALMONT WIRE & CABLE"}]
[{"$f":"\"\"","v":""},null,{"$f":"IF('Vendor List'!$A546=\"\",\"\",'Vendor List'!$A546)","v":"CALTIME METALS"}]
[{"$f":"\"\"","v":""},null,{"$f":"IF('Vendor List'!$A547=\"\",\"\",'Vendor List'!$A547)","v":"CAMBRIDGE COMPUTER SERVICES"}]
[{"$f":"\"\"","v":""},null,{"$f":"IF('Vendor List'!$A548=\"\",\"\",'Vendor List'!$A548)","v":"CAMBRIDGE UNIVERSITY PRESS"}]
[{"$f":"\"\"","v":""},null,{"$f":"IF('Vendor List'!$A549=\"\",\"\",'Vendor List'!$A549)","v":"CAMBRIDGE UNIVERSITY PRESS"}]
[{"$f":"\"\"","v":""},null,{"$f":"IF('Vendor List'!$A550=\"\",\"\",'Vendor List'!$A550)","v":"CAMECA INSTRUMENTS  INC"}]
[{"$f":"\"\"","v":""},null,{"$f":"IF('Vendor List'!$A551=\"\",\"\",'Vendor List'!$A551)","v":"CAMERA COMPANY"}]
[{"$f":"\"\"","v":""},null,{"$f":"IF('Vendor List'!$A552=\"\",\"\",'Vendor List'!$A552)","v":"CAMERA COMPANY EAST"}]
[{"$f":"\"\"","v":""},null,{"$f":"IF('Vendor List'!$A553=\"\",\"\",'Vendor List'!$A553)","v":"CAMERA CORNER INC"}]
[{"$f":"\"\"","v":""},null,{"$f":"IF('Vendor List'!$A554=\"\",\"\",'Vendor List'!$A554)","v":"CAMI RESEARCH, INC"}]
[{"$f":"\"\"","v":""},null,{"$f":"IF('Vendor List'!$A555=\"\",\"\",'Vendor List'!$A555)","v":"CAMPBELL MFG"}]
[{"$f":"\"\"","v":""},null,{"$f":"IF('Vendor List'!$A556=\"\",\"\",'Vendor List'!$A556)","v":"CAMPUS INN"}]
[{"$f":"\"\"","v":""},null,{"$f":"IF('Vendor List'!$A557=\"\",\"\",'Vendor List'!$A557)","v":"CAMPUZANO,JUAN-CARLOS"}]
[{"$f":"\"\"","v":""},null,{"$f":"IF('Vendor List'!$A558=\"\",\"\",'Vendor List'!$A558)","v":"CANADIAN COMMERCIAL VEHICLES"}]
[{"$f":"\"\"","v":""},null,{"$f":"IF('Vendor List'!$A559=\"\",\"\",'Vendor List'!$A559)","v":"CANARY COMMUNICATIONS"}]
[{"$f":"\"\"","v":""},null,{"$f":"IF('Vendor List'!$A560=\"\",\"\",'Vendor List'!$A560)","v":"CANBERRA INDUSTRIES"}]
[{"$f":"\"\"","v":""},null,{"$f":"IF('Vendor List'!$A561=\"\",\"\",'Vendor List'!$A561)","v":"CANDLEWOOD SUITES"}]
[{"$f":"\"\"","v":""},null,{"$f":"IF('Vendor List'!$A562=\"\",\"\",'Vendor List'!$A562)","v":"CANICS, INC"}]
[{"$f":"\"\"","v":""},null,{"$f":"IF('Vendor List'!$A563=\"\",\"\",'Vendor List'!$A563)","v":"CANON USA INC"}]
[{"$f":"\"\"","v":""},null,{"$f":"IF('Vendor List'!$A564=\"\",\"\",'Vendor List'!$A564)","v":"CAPITAL CITY CLEANING SUPPLY"}]
[{"$f":"\"\"","v":""},null,{"$f":"IF('Vendor List'!$A565=\"\",\"\",'Vendor List'!$A565)","v":"CAPITAL DATA INC"}]
[{"$f":"\"\"","v":""},null,{"$f":"IF('Vendor List'!$A566=\"\",\"\",'Vendor List'!$A566)","v":"CAPITAL DATA INC"}]
[{"$f":"\"\"","v":""},null,{"$f":"IF('Vendor List'!$A567=\"\",\"\",'Vendor List'!$A567)","v":"CAPITAL DATA PROCESSING SUPPLY"}]
[{"$f":"\"\"","v":""},null,{"$f":"IF('Vendor List'!$A568=\"\",\"\",'Vendor List'!$A568)","v":"CAPITAL LUBRICANTS"}]
[{"$f":"\"\"","v":""},null,{"$f":"IF('Vendor List'!$A569=\"\",\"\",'Vendor List'!$A569)","v":"CAPITAL NEWSPAPERS"}]
[{"$f":"\"\"","v":""},null,{"$f":"IF('Vendor List'!$A570=\"\",\"\",'Vendor List'!$A570)","v":"CAPITOL CENTRE FOODS"}]
[{"$f":"\"\"","v":""},null,{"$f":"IF('Vendor List'!$A571=\"\",\"\",'Vendor List'!$A571)","v":"CAPLUGS"}]
[{"$f":"\"\"","v":""},null,{"$f":"IF('Vendor List'!$A572=\"\",\"\",'Vendor List'!$A572)","v":"CAPOVANI BROTHERS"}]
[{"$f":"\"\"","v":""},null,{"$f":"IF('Vendor List'!$A573=\"\",\"\",'Vendor List'!$A573)","v":"CARBIDE TOOL INC"}]
[{"$f":"\"\"","v":""},null,{"$f":"IF('Vendor List'!$A574=\"\",\"\",'Vendor List'!$A574)","v":"CARDINAL COMPONENTS"}]
[{"$f":"\"\"","v":""},null,{"$f":"IF('Vendor List'!$A575=\"\",\"\",'Vendor List'!$A575)","v":"CARDINAL GLASS"}]
[{"$f":"\"\"","v":""},null,{"$f":"IF('Vendor List'!$A576=\"\",\"\",'Vendor List'!$A576)","v":"CAREER TRACK"}]
[{"$f":"\"\"","v":""},null,{"$f":"IF('Vendor List'!$A577=\"\",\"\",'Vendor List'!$A577)","v":"CAREER TRACK PUBLICATIONS"}]
[{"$f":"\"\"","v":""},null,{"$f":"IF('Vendor List'!$A578=\"\",\"\",'Vendor List'!$A578)","v":"CAREERBUILDER.COM"}]
[{"$f":"\"\"","v":""},null,{"$f":"IF('Vendor List'!$A579=\"\",\"\",'Vendor List'!$A579)","v":"CARINA SOFTWARE"}]
[{"$f":"\"\"","v":""},null,{"$f":"IF('Vendor List'!$A580=\"\",\"\",'Vendor List'!$A580)","v":"CARL ZEISS"}]
[{"$f":"\"\"","v":""},null,{"$f":"IF('Vendor List'!$A581=\"\",\"\",'Vendor List'!$A581)","v":"CARL ZEISS LASER OPTICS GMBH"}]
[{"$f":"\"\"","v":""},null,{"$f":"IF('Vendor List'!$A582=\"\",\"\",'Vendor List'!$A582)","v":"CARL ZEISS NTS  INC"}]
[{"$f":"\"\"","v":""},null,{"$f":"IF('Vendor List'!$A583=\"\",\"\",'Vendor List'!$A583)","v":"CARLSON COMPUTER INTL"}]
[{"$f":"\"\"","v":""},null,{"$f":"IF('Vendor List'!$A584=\"\",\"\",'Vendor List'!$A584)","v":"CARLSON ELECTRIC SALES"}]
[{"$f":"\"\"","v":""},null,{"$f":"IF('Vendor List'!$A585=\"\",\"\",'Vendor List'!$A585)","v":"CARLSON TOOL & MFG"}]
[{"$f":"\"\"","v":""},null,{"$f":"IF('Vendor List'!$A586=\"\",\"\",'Vendor List'!$A586)","v":"CAROL STATZ"}]
[{"$f":"\"\"","v":""},null,{"$f":"IF('Vendor List'!$A587=\"\",\"\",'Vendor List'!$A587)","v":"CAROLINA TAPE & SUPPLY"}]
[{"$f":"\"\"","v":""},null,{"$f":"IF('Vendor List'!$A588=\"\",\"\",'Vendor List'!$A588)","v":"CARQUEST"}]
[{"$f":"\"\"","v":""},null,{"$f":"IF('Vendor List'!$A589=\"\",\"\",'Vendor List'!$A589)","v":"CARR LANE MFG CO"}]
[{"$f":"\"\"","v":""},null,{"$f":"IF('Vendor List'!$A590=\"\",\"\",'Vendor List'!$A590)","v":"CARROLL APPLIANCE PARTS"}]
[{"$f":"\"\"","v":""},null,{"$f":"IF('Vendor List'!$A591=\"\",\"\",'Vendor List'!$A591)","v":"CASCADE LASER CORP"}]
[{"$f":"\"\"","v":""},null,{"$f":"IF('Vendor List'!$A592=\"\",\"\",'Vendor List'!$A592)","v":"CASE PARTS MIDWEST"}]
[{"$f":"\"\"","v":""},null,{"$f":"IF('Vendor List'!$A593=\"\",\"\",'Vendor List'!$A593)","v":"CASES 4 LESS"}]
[{"$f":"\"\"","v":""},null,{"$f":"IF('Vendor List'!$A594=\"\",\"\",'Vendor List'!$A594)","v":"CASES BY SOURCE"}]
[{"$f":"\"\"","v":""},null,{"$f":"IF('Vendor List'!$A595=\"\",\"\",'Vendor List'!$A595)","v":"CASES2GO"}]
[{"$f":"\"\"","v":""},null,{"$f":"IF('Vendor List'!$A596=\"\",\"\",'Vendor List'!$A596)","v":"CASHIER-625 BABCOCK HALL"}]
[{"$f":"\"\"","v":""},null,{"$f":"IF('Vendor List'!$A597=\"\",\"\",'Vendor List'!$A597)","v":"CASPERSEN DIE COMPANY"}]
[{"$f":"\"\"","v":""},null,{"$f":"IF('Vendor List'!$A598=\"\",\"\",'Vendor List'!$A598)","v":"CASTLE METALS"}]
[{"$f":"\"\"","v":""},null,{"$f":"IF('Vendor List'!$A599=\"\",\"\",'Vendor List'!$A599)","v":"CATI"}]
[{"$f":"\"\"","v":""},null,{"$f":"IF('Vendor List'!$A600=\"\",\"\",'Vendor List'!$A600)","v":"CATON CONNECTOR CORP"}]
[{"$f":"\"\"","v":""},null,{"$f":"IF('Vendor List'!$A601=\"\",\"\",'Vendor List'!$A601)","v":"CBSTUDIOS"}]
[{"$f":"\"\"","v":""},null,{"$f":"IF('Vendor List'!$A602=\"\",\"\",'Vendor List'!$A602)","v":"CC&N"}]
[{"$f":"\"\"","v":""},null,{"$f":"IF('Vendor List'!$A603=\"\",\"\",'Vendor List'!$A603)","v":"CC&N"}]
[{"$f":"\"\"","v":""},null,{"$f":"IF('Vendor List'!$A604=\"\",\"\",'Vendor List'!$A604)","v":"CCI INSPECTION SERVICES INC"}]
[{"$f":"\"\"","v":""},null,{"$f":"IF('Vendor List'!$A605=\"\",\"\",'Vendor List'!$A605)","v":"CDP INC"}]
[{"$f":"\"\"","v":""},null,{"$f":"IF('Vendor List'!$A606=\"\",\"\",'Vendor List'!$A606)","v":"CEBUS CONFERENCE"}]
[{"$f":"\"\"","v":""},null,{"$f":"IF('Vendor List'!$A607=\"\",\"\",'Vendor List'!$A607)","v":"CECOMP ELECTRONICS"}]
[{"$f":"\"\"","v":""},null,{"$f":"IF('Vendor List'!$A608=\"\",\"\",'Vendor List'!$A608)","v":"CED INTERSTATE ELECTRIC SUPPLY"}]
[{"$f":"\"\"","v":""},null,{"$f":"IF('Vendor List'!$A609=\"\",\"\",'Vendor List'!$A609)","v":"CEDAR COMPUTER CENTER INC"}]
[{"$f":"\"\"","v":""},null,{"$f":"IF('Vendor List'!$A610=\"\",\"\",'Vendor List'!$A610)","v":"CELLULAR ONE"}]
[{"$f":"\"\"","v":""},null,{"$f":"IF('Vendor List'!$A611=\"\",\"\",'Vendor List'!$A611)","v":"CENEX FARMERS UNION COOP"}]
[{"$f":"\"\"","v":""},null,{"$f":"IF('Vendor List'!$A612=\"\",\"\",'Vendor List'!$A612)","v":"CENTENT"}]
[{"$f":"\"\"","v":""},null,{"$f":"IF('Vendor List'!$A613=\"\",\"\",'Vendor List'!$A613)","v":"CENTER FOR QUICK RESPONSE MFG"}]
[{"$f":"\"\"","v":""},null,{"$f":"IF('Vendor List'!$A614=\"\",\"\",'Vendor List'!$A614)","v":"CENTER FOR X-RAY LITHOGRAPHY"}]
[{"$f":"\"\"","v":""},null,{"$f":"IF('Vendor List'!$A615=\"\",\"\",'Vendor List'!$A615)","v":"CENTORR ASSOCIATES INC"}]
[{"$f":"\"\"","v":""},null,{"$f":"IF('Vendor List'!$A616=\"\",\"\",'Vendor List'!$A616)","v":"CENTRAL MINE EQUIPMENT CO"}]
[{"$f":"\"\"","v":""},null,{"$f":"IF('Vendor List'!$A617=\"\",\"\",'Vendor List'!$A617)","v":"CENTURY FENCE CO"}]
[{"$f":"\"\"","v":""},null,{"$f":"IF('Vendor List'!$A618=\"\",\"\",'Vendor List'!$A618)","v":"CENTURY SPRING"}]
[{"$f":"\"\"","v":""},null,{"$f":"IF('Vendor List'!$A619=\"\",\"\",'Vendor List'!$A619)","v":"CERAC INC"}]
[{"$f":"\"\"","v":""},null,{"$f":"IF('Vendor List'!$A620=\"\",\"\",'Vendor List'!$A620)","v":"CERAMIC PRODUCTS INC"}]
[{"$f":"\"\"","v":""},null,{"$f":"IF('Vendor List'!$A621=\"\",\"\",'Vendor List'!$A621)","v":"CERAMOPTIC INDUSTRIES INC"}]
[{"$f":"\"\"","v":""},null,{"$f":"IF('Vendor List'!$A622=\"\",\"\",'Vendor List'!$A622)","v":"CERAMTEC"}]
[{"$f":"\"\"","v":""},null,{"$f":"IF('Vendor List'!$A623=\"\",\"\",'Vendor List'!$A623)","v":"CERTIFIED PRODUCTS"}]
[{"$f":"\"\"","v":""},null,{"$f":"IF('Vendor List'!$A624=\"\",\"\",'Vendor List'!$A624)","v":"CHALET TRAVEL AGENCY"}]
[{"$f":"\"\"","v":""},null,{"$f":"IF('Vendor List'!$A625=\"\",\"\",'Vendor List'!$A625)","v":"CHAMBERLAIN HALL"}]
[{"$f":"\"\"","v":""},null,{"$f":"IF('Vendor List'!$A626=\"\",\"\",'Vendor List'!$A626)","v":"CHAMBERLAIN RESEARCH"}]
[{"$f":"\"\"","v":""},null,{"$f":"IF('Vendor List'!$A627=\"\",\"\",'Vendor List'!$A627)","v":"CHAMPLAIN CABLE"}]
[{"$f":"\"\"","v":""},null,{"$f":"IF('Vendor List'!$A628=\"\",\"\",'Vendor List'!$A628)","v":"CHANGCHUN INST. OF OPTICS"}]
[{"$f":"\"\"","v":""},null,{"$f":"IF('Vendor List'!$A629=\"\",\"\",'Vendor List'!$A629)","v":"CHARTER"}]
[{"$f":"\"\"","v":""},null,{"$f":"IF('Vendor List'!$A630=\"\",\"\",'Vendor List'!$A630)","v":"CHARTER BUSINESS NETWORKS"}]
[{"$f":"\"\"","v":""},null,{"$f":"IF('Vendor List'!$A631=\"\",\"\",'Vendor List'!$A631)","v":"CHARTER COMMUNICATIONS"}]
[{"$f":"\"\"","v":""},null,{"$f":"IF('Vendor List'!$A632=\"\",\"\",'Vendor List'!$A632)","v":"CHASE LUMBER"}]
[{"$f":"\"\"","v":""},null,{"$f":"IF('Vendor List'!$A633=\"\",\"\",'Vendor List'!$A633)","v":"CHAUTARA RESTAURANT"}]
[{"$f":"\"\"","v":""},null,{"$f":"IF('Vendor List'!$A634=\"\",\"\",'Vendor List'!$A634)","v":"CHECK ALL VALVE MFG CO"}]
[{"$f":"\"\"","v":""},null,{"$f":"IF('Vendor List'!$A635=\"\",\"\",'Vendor List'!$A635)","v":"CHEESERS"}]
[{"$f":"\"\"","v":""},null,{"$f":"IF('Vendor List'!$A636=\"\",\"\",'Vendor List'!$A636)","v":"CHEMETALL OAKITE"}]
[{"$f":"\"\"","v":""},null,{"$f":"IF('Vendor List'!$A637=\"\",\"\",'Vendor List'!$A637)","v":"CHEMIR ANALYTICAL SERVICES"}]
[{"$f":"\"\"","v":""},null,{"$f":"IF('Vendor List'!$A638=\"\",\"\",'Vendor List'!$A638)","v":"CHEZ VOUS"}]
[{"$f":"\"\"","v":""},null,{"$f":"IF('Vendor List'!$A639=\"\",\"\",'Vendor List'!$A639)","v":"CHICAGO CONDENSER"}]
[{"$f":"\"\"","v":""},null,{"$f":"IF('Vendor List'!$A640=\"\",\"\",'Vendor List'!$A640)","v":"CHICAGO MARRIOTT SUITES O'HARE"}]
[{"$f":"\"\"","v":""},null,{"$f":"IF('Vendor List'!$A641=\"\",\"\",'Vendor List'!$A641)","v":"CHICAGO TUBE & IRON"}]
[{"$f":"\"\"","v":""},null,{"$f":"IF('Vendor List'!$A642=\"\",\"\",'Vendor List'!$A642)","v":"CHICAGO TUBE & IRON"}]
[{"$f":"\"\"","v":""},null,{"$f":"IF('Vendor List'!$A643=\"\",\"\",'Vendor List'!$A643)","v":"CHICAGO TUBE & IRON COMPANY"}]
[{"$f":"\"\"","v":""},null,{"$f":"IF('Vendor List'!$A644=\"\",\"\",'Vendor List'!$A644)","v":"CHILLER CITY"}]
[{"$f":"\"\"","v":""},null,{"$f":"IF('Vendor List'!$A645=\"\",\"\",'Vendor List'!$A645)","v":"CHIP MERCHANT"}]
[{"$f":"\"\"","v":""},null,{"$f":"IF('Vendor List'!$A646=\"\",\"\",'Vendor List'!$A646)","v":"CHIP SHIP"}]
[{"$f":"\"\"","v":""},null,{"$f":"IF('Vendor List'!$A647=\"\",\"\",'Vendor List'!$A647)","v":"CHOSE FAMILY INN"}]
[{"$f":"\"\"","v":""},null,{"$f":"IF('Vendor List'!$A648=\"\",\"\",'Vendor List'!$A648)","v":"CHROMA TECHNOLOGY CORP"}]
[{"$f":"\"\"","v":""},null,{"$f":"IF('Vendor List'!$A649=\"\",\"\",'Vendor List'!$A649)","v":"CHROMIUM, INC"}]
[{"$f":"\"\"","v":""},null,{"$f":"IF('Vendor List'!$A650=\"\",\"\",'Vendor List'!$A650)","v":"CHRONICLE OF HIGHER EDUCATION"}]
[{"$f":"\"\"","v":""},null,{"$f":"IF('Vendor List'!$A651=\"\",\"\",'Vendor List'!$A651)","v":"CHULA VISA RESORT"}]
[{"$f":"\"\"","v":""},null,{"$f":"IF('Vendor List'!$A652=\"\",\"\",'Vendor List'!$A652)","v":"CHURCH METAL SPINNING"}]
[{"$f":"\"\"","v":""},null,{"$f":"IF('Vendor List'!$A653=\"\",\"\",'Vendor List'!$A653)","v":"CINCOM SYSTEMS INC"}]
[{"$f":"\"\"","v":""},null,{"$f":"IF('Vendor List'!$A654=\"\",\"\",'Vendor List'!$A654)","v":"CINGULAR WIRELESS"}]
[{"$f":"\"\"","v":""},null,{"$f":"IF('Vendor List'!$A655=\"\",\"\",'Vendor List'!$A655)","v":"CIRCLE BORING & MACHINE CO"}]
[{"$f":"\"\"","v":""},null,{"$f":"IF('Vendor List'!$A656=\"\",\"\",'Vendor List'!$A656)","v":"CIRCLE COMPUTER, INC"}]
[{"$f":"\"\"","v":""},null,{"$f":"IF('Vendor List'!$A657=\"\",\"\",'Vendor List'!$A657)","v":"CIRCUIT CITY"}]
[{"$f":"\"\"","v":""},null,{"$f":"IF('Vendor List'!$A658=\"\",\"\",'Vendor List'!$A658)","v":"CIRCUIT CITY"}]
[{"$f":"\"\"","v":""},null,{"$f":"IF('Vendor List'!$A659=\"\",\"\",'Vendor List'!$A659)","v":"CIRCUIT EXPRESS"}]
[{"$f":"\"\"","v":""},null,{"$f":"IF('Vendor List'!$A660=\"\",\"\",'Vendor List'!$A660)","v":"CIRCUIT SPECIALISTS INC"}]
[{"$f":"\"\"","v":""},null,{"$f":"IF('Vendor List'!$A661=\"\",\"\",'Vendor List'!$A661)","v":"CIRRIS SYSTEMS CORP"}]
[{"$f":"\"\"","v":""},null,{"$f":"IF('Vendor List'!$A662=\"\",\"\",'Vendor List'!$A662)","v":"CISCO-EAGLE INC"}]
[{"$f":"\"\"","v":""},null,{"$f":"IF('Vendor List'!$A663=\"\",\"\",'Vendor List'!$A663)","v":"CITY SUPPLY CORP"}]
[{"$f":"\"\"","v":""},null,{"$f":"IF('Vendor List'!$A664=\"\",\"\",'Vendor List'!$A664)","v":"CLARIANT CORP"}]
[{"$f":"\"\"","v":""},null,{"$f":"IF('Vendor List'!$A665=\"\",\"\",'Vendor List'!$A665)","v":"CLARK SOLUTIONS"}]
[{"$f":"\"\"","v":""},null,{"$f":"IF('Vendor List'!$A666=\"\",\"\",'Vendor List'!$A666)","v":"CLASSBOOK.COM"}]
[{"$f":"\"\"","v":""},null,{"$f":"IF('Vendor List'!$A667=\"\",\"\",'Vendor List'!$A667)","v":"CLASSIFIED PERSONNEL OFFICE"}]
[{"$f":"\"\"","v":""},null,{"$f":"IF('Vendor List'!$A668=\"\",\"\",'Vendor List'!$A668)","v":"CLEAN AIR PRODUCTS"}]
[{"$f":"\"\"","v":""},null,{"$f":"IF('Vendor List'!$A669=\"\",\"\",'Vendor List'!$A669)","v":"CLEAN ROOM PRODUCTS"}]
[{"$f":"\"\"","v":""},null,{"$f":"IF('Vendor List'!$A670=\"\",\"\",'Vendor List'!$A670)","v":"CLEAN ROOM SOLUTIONS"}]
[{"$f":"\"\"","v":""},null,{"$f":"IF('Vendor List'!$A671=\"\",\"\",'Vendor List'!$A671)","v":"CLEAN SEAL INC"}]
[{"$f":"\"\"","v":""},null,{"$f":"IF('Vendor List'!$A672=\"\",\"\",'Vendor List'!$A672)","v":"CLEANOSONIC"}]
[{"$f":"\"\"","v":""},null,{"$f":"IF('Vendor List'!$A673=\"\",\"\",'Vendor List'!$A673)","v":"CLEAR CHOICE GLYCOLS"}]
[{"$f":"\"\"","v":""},null,{"$f":"IF('Vendor List'!$A674=\"\",\"\",'Vendor List'!$A674)","v":"CLEAR SOFTWARE INC"}]
[{"$f":"\"\"","v":""},null,{"$f":"IF('Vendor List'!$A675=\"\",\"\",'Vendor List'!$A675)","v":"CLEVELAND PARTS SPECIALISTS"}]
[{"$f":"\"\"","v":""},null,{"$f":"IF('Vendor List'!$A676=\"\",\"\",'Vendor List'!$A676)","v":"CLIFT INDUSTRIES"}]
[{"$f":"\"\"","v":""},null,{"$f":"IF('Vendor List'!$A677=\"\",\"\",'Vendor List'!$A677)","v":"CML ENGINEERING SALES"}]
[{"$f":"\"\"","v":""},null,{"$f":"IF('Vendor List'!$A678=\"\",\"\",'Vendor List'!$A678)","v":"CMP DIRECT MARKETING SERVICES"}]
[{"$f":"\"\"","v":""},null,{"$f":"IF('Vendor List'!$A679=\"\",\"\",'Vendor List'!$A679)","v":"CNA CONSULTING ENGINEERS"}]
[{"$f":"\"\"","v":""},null,{"$f":"IF('Vendor List'!$A680=\"\",\"\",'Vendor List'!$A680)","v":"CNC TEKNOWLEGEE"}]
[{"$f":"\"\"","v":""},null,{"$f":"IF('Vendor List'!$A681=\"\",\"\",'Vendor List'!$A681)","v":"CNET"}]
[{"$f":"\"\"","v":""},null,{"$f":"IF('Vendor List'!$A682=\"\",\"\",'Vendor List'!$A682)","v":"COAST AIR INC"}]
[{"$f":"\"\"","v":""},null,{"$f":"IF('Vendor List'!$A683=\"\",\"\",'Vendor List'!$A683)","v":"COASTAL MICRO SUPPLY"}]
[{"$f":"\"\"","v":""},null,{"$f":"IF('Vendor List'!$A684=\"\",\"\",'Vendor List'!$A684)","v":"COAXIAL DYNAMICS"}]
[{"$f":"\"\"","v":""},null,{"$f":"IF('Vendor List'!$A685=\"\",\"\",'Vendor List'!$A685)","v":"CODE COMPLETE SOFTWARE INC"}]
[{"$f":"\"\"","v":""},null,{"$f":"IF('Vendor List'!$A686=\"\",\"\",'Vendor List'!$A686)","v":"COETANIAN SYSTEMS"}]
[{"$f":"\"\"","v":""},null,{"$f":"IF('Vendor List'!$A687=\"\",\"\",'Vendor List'!$A687)","v":"COHORT SOFTWARE"}]
[{"$f":"\"\"","v":""},null,{"$f":"IF('Vendor List'!$A688=\"\",\"\",'Vendor List'!$A688)","v":"COLE PARMER INSTRUMENT"}]
[{"$f":"\"\"","v":""},null,{"$f":"IF('Vendor List'!$A689=\"\",\"\",'Vendor List'!$A689)","v":"COLLEGE OF ENGINEERING"}]
[{"$f":"\"\"","v":""},null,{"$f":"IF('Vendor List'!$A690=\"\",\"\",'Vendor List'!$A690)","v":"COLORGRAPHICS COMMUNICATION"}]
[{"$f":"\"\"","v":""},null,{"$f":"IF('Vendor List'!$A691=\"\",\"\",'Vendor List'!$A691)","v":"COLUMBIA PARCAR"}]
[{"$f":"\"\"","v":""},null,{"$f":"IF('Vendor List'!$A692=\"\",\"\",'Vendor List'!$A692)","v":"COMET FABRICATION & WELDING"}]
[{"$f":"\"\"","v":""},null,{"$f":"IF('Vendor List'!$A693=\"\",\"\",'Vendor List'!$A693)","v":"COMFORT INN"}]
[{"$f":"\"\"","v":""},null,{"$f":"IF('Vendor List'!$A694=\"\",\"\",'Vendor List'!$A694)","v":"COMFORT INN"}]
[{"$f":"\"\"","v":""},null,{"$f":"IF('Vendor List'!$A695=\"\",\"\",'Vendor List'!$A695)","v":"COMFORT INN"}]
[{"$f":"\"\"","v":""},null,{"$f":"IF('Vendor List'!$A696=\"\",\"\",'Vendor List'!$A696)","v":"COMM CON CONNECTORS INC"}]
[{"$f":"\"\"","v":""},null,{"$f":"IF('Vendor List'!$A697=\"\",\"\",'Vendor List'!$A697)","v":"COMMERCIAL AIR"}]
[{"$f":"\"\"","v":""},null,{"$f":"IF('Vendor List'!$A698=\"\",\"\",'Vendor List'!$A698)","v":"COMMERCIAL GRINDING SERVICE"}]
[{"$f":"\"\"","v":""},null,{"$f":"IF('Vendor List'!$A699=\"\",\"\",'Vendor List'!$A699)","v":"COMMERCIAL METAL FORMING"}]
[{"$f":"\"\"","v":""},null,{"$f":"IF('Vendor List'!$A700=\"\",\"\",'Vendor List'!$A700)","v":"COMMUNICATIONS SERVICE INC"}]
[{"$f":"\"\"","v":""},null,{"$f":"IF('Vendor List'!$A701=\"\",\"\",'Vendor List'!$A701)","v":"COMMUNITY NEWSPAPERS"}]
[{"$f":"\"\"","v":""},null,{"$f":"IF('Vendor List'!$A702=\"\",\"\",'Vendor List'!$A702)","v":"COMMVAULT"}]
[{"$f":"\"\"","v":""},null,{"$f":"IF('Vendor List'!$A703=\"\",\"\",'Vendor List'!$A703)","v":"COMO PHOTO SERVICE"}]
[{"$f":"\"\"","v":""},null,{"$f":"IF('Vendor List'!$A704=\"\",\"\",'Vendor List'!$A704)","v":"COMP USA"}]
[{"$f":"\"\"","v":""},null,{"$f":"IF('Vendor List'!$A705=\"\",\"\",'Vendor List'!$A705)","v":"COMP USA-MADISON"}]
[{"$f":"\"\"","v":""},null,{"$f":"IF('Vendor List'!$A706=\"\",\"\",'Vendor List'!$A706)","v":"COMPAC"}]
[{"$f":"\"\"","v":""},null,{"$f":"IF('Vendor List'!$A707=\"\",\"\",'Vendor List'!$A707)","v":"COMPAR, INC"}]
[{"$f":"\"\"","v":""},null,{"$f":"IF('Vendor List'!$A708=\"\",\"\",'Vendor List'!$A708)","v":"COMPLETE SYSTEMS-N-MORE"}]
[{"$f":"\"\"","v":""},null,{"$f":"IF('Vendor List'!$A709=\"\",\"\",'Vendor List'!$A709)","v":"COMPLETE TEXTILE MFG"}]
[{"$f":"\"\"","v":""},null,{"$f":"IF('Vendor List'!$A710=\"\",\"\",'Vendor List'!$A710)","v":"COMPONENTONE"}]
[{"$f":"\"\"","v":""},null,{"$f":"IF('Vendor List'!$A711=\"\",\"\",'Vendor List'!$A711)","v":"COMPRESSED AIR TECHNOLOGY, INC"}]
[{"$f":"\"\"","v":""},null,{"$f":"IF('Vendor List'!$A712=\"\",\"\",'Vendor List'!$A712)","v":"COMPUMASTER"}]
[{"$f":"\"\"","v":""},null,{"$f":"IF('Vendor List'!$A713=\"\",\"\",'Vendor List'!$A713)","v":"COMPUMOTOR DIVISION"}]
[{"$f":"\"\"","v":""},null,{"$f":"IF('Vendor List'!$A714=\"\",\"\",'Vendor List'!$A714)","v":"COMPUSERVE INFORMATION SERVICE"}]
[{"$f":"\"\"","v":""},null,{"$f":"IF('Vendor List'!$A715=\"\",\"\",'Vendor List'!$A715)","v":"COMPUSOURCE"}]
[{"$f":"\"\"","v":""},null,{"$f":"IF('Vendor List'!$A716=\"\",\"\",'Vendor List'!$A716)","v":"COMPUTABILITY"}]
[{"$f":"\"\"","v":""},null,{"$f":"IF('Vendor List'!$A717=\"\",\"\",'Vendor List'!$A717)","v":"COMPUTER AIDED TECHNOLOGY INC"}]
[{"$f":"\"\"","v":""},null,{"$f":"IF('Vendor List'!$A718=\"\",\"\",'Vendor List'!$A718)","v":"COMPUTER ASSOCIATES"}]
[{"$f":"\"\"","v":""},null,{"$f":"IF('Vendor List'!$A719=\"\",\"\",'Vendor List'!$A719)","v":"COMPUTER ASSOCIATES INTERNATIO"}]
[{"$f":"\"\"","v":""},null,{"$f":"IF('Vendor List'!$A720=\"\",\"\",'Vendor List'!$A720)","v":"COMPUTER CABLE MAKERS INC"}]
[{"$f":"\"\"","v":""},null,{"$f":"IF('Vendor List'!$A721=\"\",\"\",'Vendor List'!$A721)","v":"COMPUTER DISCOUNT WAREHOUSE"}]
[{"$f":"\"\"","v":""},null,{"$f":"IF('Vendor List'!$A722=\"\",\"\",'Vendor List'!$A722)","v":"COMPUTER PLUS"}]
[{"$f":"\"\"","v":""},null,{"$f":"IF('Vendor List'!$A723=\"\",\"\",'Vendor List'!$A723)","v":"COMPUTER SHOPPER"}]
[{"$f":"\"\"","v":""},null,{"$f":"IF('Vendor List'!$A724=\"\",\"\",'Vendor List'!$A724)","v":"COMPUTER WAREHOUSE CLUB"}]
[{"$f":"\"\"","v":""},null,{"$f":"IF('Vendor List'!$A725=\"\",\"\",'Vendor List'!$A725)","v":"COMPUTERBOARDS INC"}]
[{"$f":"\"\"","v":""},null,{"$f":"IF('Vendor List'!$A726=\"\",\"\",'Vendor List'!$A726)","v":"COMPUTERGIANTS.COM"}]
[{"$f":"\"\"","v":""},null,{"$f":"IF('Vendor List'!$A727=\"\",\"\",'Vendor List'!$A727)","v":"COMPUVEST-IGOR"}]
[{"$f":"\"\"","v":""},null,{"$f":"IF('Vendor List'!$A728=\"\",\"\",'Vendor List'!$A728)","v":"COMTECH AHA CORP"}]
[{"$f":"\"\"","v":""},null,{"$f":"IF('Vendor List'!$A729=\"\",\"\",'Vendor List'!$A729)","v":"COMTEL EDA CO."}]
[{"$f":"\"\"","v":""},null,{"$f":"IF('Vendor List'!$A730=\"\",\"\",'Vendor List'!$A730)","v":"COMTEL MIDWEST"}]
[{"$f":"\"\"","v":""},null,{"$f":"IF('Vendor List'!$A731=\"\",\"\",'Vendor List'!$A731)","v":"CONCAD TECHNOLOGIES"}]
[{"$f":"\"\"","v":""},null,{"$f":"IF('Vendor List'!$A732=\"\",\"\",'Vendor List'!$A732)","v":"CONCEPT MACHINE TOOL SALES"}]
[{"$f":"\"\"","v":""},null,{"$f":"IF('Vendor List'!$A733=\"\",\"\",'Vendor List'!$A733)","v":"CONCOURSE HOTEL"}]
[{"$f":"\"\"","v":""},null,{"$f":"IF('Vendor List'!$A734=\"\",\"\",'Vendor List'!$A734)","v":"CONDENSOR PRODUCTS CORP"}]
[{"$f":"\"\"","v":""},null,{"$f":"IF('Vendor List'!$A735=\"\",\"\",'Vendor List'!$A735)","v":"CONDUSIV TECHNOLOGIES"}]
[{"$f":"\"\"","v":""},null,{"$f":"IF('Vendor List'!$A736=\"\",\"\",'Vendor List'!$A736)","v":"CONE DRIVE OPERATIONS  INC"}]
[{"$f":"\"\"","v":""},null,{"$f":"IF('Vendor List'!$A737=\"\",\"\",'Vendor List'!$A737)","v":"CONNECTICUT CLEAN ROOM"}]
[{"$f":"\"\"","v":""},null,{"$f":"IF('Vendor List'!$A738=\"\",\"\",'Vendor List'!$A738)","v":"CONNEY SAFETY PRODUCTS"}]
[{"$f":"\"\"","v":""},null,{"$f":"IF('Vendor List'!$A739=\"\",\"\",'Vendor List'!$A739)","v":"CONNORS, DOUGLAS"}]
[{"$f":"\"\"","v":""},null,{"$f":"IF('Vendor List'!$A740=\"\",\"\",'Vendor List'!$A740)","v":"CONSOLIDATED PLASTICS"}]
[{"$f":"\"\"","v":""},null,{"$f":"IF('Vendor List'!$A741=\"\",\"\",'Vendor List'!$A741)","v":"CONTACT EAST"}]
[{"$f":"\"\"","v":""},null,{"$f":"IF('Vendor List'!$A742=\"\",\"\",'Vendor List'!$A742)","v":"CONTINENTAL AIRLINES"}]
[{"$f":"\"\"","v":""},null,{"$f":"IF('Vendor List'!$A743=\"\",\"\",'Vendor List'!$A743)","v":"CONTINENTAL CABLE CO"}]
[{"$f":"\"\"","v":""},null,{"$f":"IF('Vendor List'!$A744=\"\",\"\",'Vendor List'!$A744)","v":"CONTINENTAL CARBONIC"}]
[{"$f":"\"\"","v":""},null,{"$f":"IF('Vendor List'!$A745=\"\",\"\",'Vendor List'!$A745)","v":"CONTINENTAL OPTICAL"}]
[{"$f":"\"\"","v":""},null,{"$f":"IF('Vendor List'!$A746=\"\",\"\",'Vendor List'!$A746)","v":"CONTINENTAL STEEL & TUBE CO"}]
[{"$f":"\"\"","v":""},null,{"$f":"IF('Vendor List'!$A747=\"\",\"\",'Vendor List'!$A747)","v":"CONTINUUM"}]
[{"$f":"\"\"","v":""},null,{"$f":"IF('Vendor List'!$A748=\"\",\"\",'Vendor List'!$A748)","v":"CONTMEPORARY SVCS CORP"}]
[{"$f":"\"\"","v":""},null,{"$f":"IF('Vendor List'!$A749=\"\",\"\",'Vendor List'!$A749)","v":"CONTRACTORS DEPOT"}]
[{"$f":"\"\"","v":""},null,{"$f":"IF('Vendor List'!$A750=\"\",\"\",'Vendor List'!$A750)","v":"CONTROL SOLUTIONS INC"}]
[{"$f":"\"\"","v":""},null,{"$f":"IF('Vendor List'!$A751=\"\",\"\",'Vendor List'!$A751)","v":"CONTROL SWITCHES INTERNATIONAL"}]
[{"$f":"\"\"","v":""},null,{"$f":"IF('Vendor List'!$A752=\"\",\"\",'Vendor List'!$A752)","v":"CONTROLLED MAGNETICS, INC"}]
[{"$f":"\"\"","v":""},null,{"$f":"IF('Vendor List'!$A753=\"\",\"\",'Vendor List'!$A753)","v":"CONTROLLED POWER CO."}]
[{"$f":"\"\"","v":""},null,{"$f":"IF('Vendor List'!$A754=\"\",\"\",'Vendor List'!$A754)","v":"CONTROLS PLUS INC"}]
[{"$f":"\"\"","v":""},null,{"$f":"IF('Vendor List'!$A755=\"\",\"\",'Vendor List'!$A755)","v":"CONVAL INC"}]
[{"$f":"\"\"","v":""},null,{"$f":"IF('Vendor List'!$A756=\"\",\"\",'Vendor List'!$A756)","v":"CONVERSE INDUSTRIES"}]
[{"$f":"\"\"","v":""},null,{"$f":"IF('Vendor List'!$A757=\"\",\"\",'Vendor List'!$A757)","v":"COOLING TECHNOLOGY INC"}]
[{"$f":"\"\"","v":""},null,{"$f":"IF('Vendor List'!$A758=\"\",\"\",'Vendor List'!$A758)","v":"COOPER INTERCONNECT GARDENA"}]
[{"$f":"\"\"","v":""},null,{"$f":"IF('Vendor List'!$A759=\"\",\"\",'Vendor List'!$A759)","v":"COPPER & BRASS SALES"}]
[{"$f":"\"\"","v":""},null,{"$f":"IF('Vendor List'!$A760=\"\",\"\",'Vendor List'!$A760)","v":"COPPS FOOD CENTER #8178"}]
[{"$f":"\"\"","v":""},null,{"$f":"IF('Vendor List'!$A761=\"\",\"\",'Vendor List'!$A761)","v":"COPYRIGHT CLEARANCE CENTER"}]
[{"$f":"\"\"","v":""},null,{"$f":"IF('Vendor List'!$A762=\"\",\"\",'Vendor List'!$A762)","v":"CORES BTS INC"}]
[{"$f":"\"\"","v":""},null,{"$f":"IF('Vendor List'!$A763=\"\",\"\",'Vendor List'!$A763)","v":"CORETEC"}]
[{"$f":"\"\"","v":""},null,{"$f":"IF('Vendor List'!$A764=\"\",\"\",'Vendor List'!$A764)","v":"CORETEC DENVER, INC"}]
[{"$f":"\"\"","v":""},null,{"$f":"IF('Vendor List'!$A765=\"\",\"\",'Vendor List'!$A765)","v":"CORETEC INC"}]
[{"$f":"\"\"","v":""},null,{"$f":"IF('Vendor List'!$A766=\"\",\"\",'Vendor List'!$A766)","v":"CORETEC, INC"}]
[{"$f":"\"\"","v":""},null,{"$f":"IF('Vendor List'!$A767=\"\",\"\",'Vendor List'!$A767)","v":"CORNELL DUBILIER"}]
[{"$f":"\"\"","v":""},null,{"$f":"IF('Vendor List'!$A768=\"\",\"\",'Vendor List'!$A768)","v":"CORNELL NANOFABRICATION FACILI"}]
[{"$f":"\"\"","v":""},null,{"$f":"IF('Vendor List'!$A769=\"\",\"\",'Vendor List'!$A769)","v":"CORNELL NANOFABRICATION FACILI"}]
[{"$f":"\"\"","v":""},null,{"$f":"IF('Vendor List'!$A770=\"\",\"\",'Vendor List'!$A770)","v":"CORNING INC., SPECIALTY MATERI"}]
[{"$f":"\"\"","v":""},null,{"$f":"IF('Vendor List'!$A771=\"\",\"\",'Vendor List'!$A771)","v":"CORPORATE BUSINESS SYSTEMS"}]
[{"$f":"\"\"","v":""},null,{"$f":"IF('Vendor List'!$A772=\"\",\"\",'Vendor List'!$A772)","v":"CORTLAND CABLE CO"}]
[{"$f":"\"\"","v":""},null,{"$f":"IF('Vendor List'!$A773=\"\",\"\",'Vendor List'!$A773)","v":"COTRONICS CORPORATION"}]
[{"$f":"\"\"","v":""},null,{"$f":"IF('Vendor List'!$A774=\"\",\"\",'Vendor List'!$A774)","v":"COUNTRYSIDE APARTMENTS"}]
[{"$f":"\"\"","v":""},null,{"$f":"IF('Vendor List'!$A775=\"\",\"\",'Vendor List'!$A775)","v":"CPD CASES"}]
[{"$f":"\"\"","v":""},null,{"$f":"IF('Vendor List'!$A776=\"\",\"\",'Vendor List'!$A776)","v":"CPI"}]
[{"$f":"\"\"","v":""},null,{"$f":"IF('Vendor List'!$A777=\"\",\"\",'Vendor List'!$A777)","v":"CRAMER, INC"}]
[{"$f":"\"\"","v":""},null,{"$f":"IF('Vendor List'!$A778=\"\",\"\",'Vendor List'!$A778)","v":"CRANDALLS CARRYOUT CATERERS"}]
[{"$f":"\"\"","v":""},null,{"$f":"IF('Vendor List'!$A779=\"\",\"\",'Vendor List'!$A779)","v":"CRC PRESS INC"}]
[{"$f":"\"\"","v":""},null,{"$f":"IF('Vendor List'!$A780=\"\",\"\",'Vendor List'!$A780)","v":"CREATIVE BUSINESS INTERIORS"}]
[{"$f":"\"\"","v":""},null,{"$f":"IF('Vendor List'!$A781=\"\",\"\",'Vendor List'!$A781)","v":"CREATIVE ENERGY PRODUCTS INC"}]
[{"$f":"\"\"","v":""},null,{"$f":"IF('Vendor List'!$A782=\"\",\"\",'Vendor List'!$A782)","v":"CREATIVE EXPRESSIONS"}]
[{"$f":"\"\"","v":""},null,{"$f":"IF('Vendor List'!$A783=\"\",\"\",'Vendor List'!$A783)","v":"CREATIVE LAMINATING"}]
[{"$f":"\"\"","v":""},null,{"$f":"IF('Vendor List'!$A784=\"\",\"\",'Vendor List'!$A784)","v":"CREATIVE SERVICES"}]
[{"$f":"\"\"","v":""},null,{"$f":"IF('Vendor List'!$A785=\"\",\"\",'Vendor List'!$A785)","v":"CREATIVE VIDEO EDITING"}]
[{"$f":"\"\"","v":""},null,{"$f":"IF('Vendor List'!$A786=\"\",\"\",'Vendor List'!$A786)","v":"CRENLO INC EMCOR"}]
[{"$f":"\"\"","v":""},null,{"$f":"IF('Vendor List'!$A787=\"\",\"\",'Vendor List'!$A787)","v":"CRESCENT ELECTRIC SUPPLY"}]
[{"$f":"\"\"","v":""},null,{"$f":"IF('Vendor List'!$A788=\"\",\"\",'Vendor List'!$A788)","v":"CRIBA"}]
[{"$f":"\"\"","v":""},null,{"$f":"IF('Vendor List'!$A789=\"\",\"\",'Vendor List'!$A789)","v":"CRONATRON WELDING SYSTEMS"}]
[{"$f":"\"\"","v":""},null,{"$f":"IF('Vendor List'!$A790=\"\",\"\",'Vendor List'!$A790)","v":"CROSS INSTRUMENTATION"}]
[{"$f":"\"\"","v":""},null,{"$f":"IF('Vendor List'!$A791=\"\",\"\",'Vendor List'!$A791)","v":"CROWN METALS"}]
[{"$f":"\"\"","v":""},null,{"$f":"IF('Vendor List'!$A792=\"\",\"\",'Vendor List'!$A792)","v":"CRUCIAL TECHNOLOGY"}]
[{"$f":"\"\"","v":""},null,{"$f":"IF('Vendor List'!$A793=\"\",\"\",'Vendor List'!$A793)","v":"CRYOFAB"}]
[{"$f":"\"\"","v":""},null,{"$f":"IF('Vendor List'!$A794=\"\",\"\",'Vendor List'!$A794)","v":"CRYOMECH INC"}]
[{"$f":"\"\"","v":""},null,{"$f":"IF('Vendor List'!$A795=\"\",\"\",'Vendor List'!$A795)","v":"CRYSTECO"}]
[{"$f":"\"\"","v":""},null,{"$f":"IF('Vendor List'!$A796=\"\",\"\",'Vendor List'!$A796)","v":"CRYTUR LTD"}]
[{"$f":"\"\"","v":""},null,{"$f":"IF('Vendor List'!$A797=\"\",\"\",'Vendor List'!$A797)","v":"CSHEMA"}]
[{"$f":"\"\"","v":""},null,{"$f":"IF('Vendor List'!$A798=\"\",\"\",'Vendor List'!$A798)","v":"CST OF AMERICA, INC"}]
[{"$f":"\"\"","v":""},null,{"$f":"IF('Vendor List'!$A799=\"\",\"\",'Vendor List'!$A799)","v":"CTI AUTHORITY"}]
[{"$f":"\"\"","v":""},null,{"$f":"IF('Vendor List'!$A800=\"\",\"\",'Vendor List'!$A800)","v":"CTI CRYOGENICS"}]
[{"$f":"\"\"","v":""},null,{"$f":"IF('Vendor List'!$A801=\"\",\"\",'Vendor List'!$A801)","v":"CTS"}]
[{"$f":"\"\"","v":""},null,{"$f":"IF('Vendor List'!$A802=\"\",\"\",'Vendor List'!$A802)","v":"CUBIC PRECISION INC"}]
[{"$f":"\"\"","v":""},null,{"$f":"IF('Vendor List'!$A803=\"\",\"\",'Vendor List'!$A803)","v":"CULLIGAN TOTAL WATER TREATMENT"}]
[{"$f":"\"\"","v":""},null,{"$f":"IF('Vendor List'!$A804=\"\",\"\",'Vendor List'!$A804)","v":"CURRENT COMMUNICATIONS"}]
[{"$f":"\"\"","v":""},null,{"$f":"IF('Vendor List'!$A805=\"\",\"\",'Vendor List'!$A805)","v":"CURT'S MOBILE HOME REPAIR  LLC"}]
[{"$f":"\"\"","v":""},null,{"$f":"IF('Vendor List'!$A806=\"\",\"\",'Vendor List'!$A806)","v":"CURTIS INDUSTRIES"}]
[{"$f":"\"\"","v":""},null,{"$f":"IF('Vendor List'!$A807=\"\",\"\",'Vendor List'!$A807)","v":"CUSACO"}]
[{"$f":"\"\"","v":""},null,{"$f":"IF('Vendor List'!$A808=\"\",\"\",'Vendor List'!$A808)","v":"CUSTOM HEAT, LLC (WAS REHEAT)"}]
[{"$f":"\"\"","v":""},null,{"$f":"IF('Vendor List'!$A809=\"\",\"\",'Vendor List'!$A809)","v":"CUSTOM HOSE"}]
[{"$f":"\"\"","v":""},null,{"$f":"IF('Vendor List'!$A810=\"\",\"\",'Vendor List'!$A810)","v":"CUSTOM PRODUCTION GRINDING INC"}]
[{"$f":"\"\"","v":""},null,{"$f":"IF('Vendor List'!$A811=\"\",\"\",'Vendor List'!$A811)","v":"CUTTER PRECISION METALS INC."}]
[{"$f":"\"\"","v":""},null,{"$f":"IF('Vendor List'!$A812=\"\",\"\",'Vendor List'!$A812)","v":"CVC CHELMER VALVE COMPANY"}]
[{"$f":"\"\"","v":""},null,{"$f":"IF('Vendor List'!$A813=\"\",\"\",'Vendor List'!$A813)","v":"CVI LASER,  INC"}]
[{"$f":"\"\"","v":""},null,{"$f":"IF('Vendor List'!$A814=\"\",\"\",'Vendor List'!$A814)","v":"CYANTEK CORP"}]
[{"$f":"\"\"","v":""},null,{"$f":"IF('Vendor List'!$A815=\"\",\"\",'Vendor List'!$A815)","v":"CYBER ADVISORS INC"}]
[{"$f":"\"\"","v":""},null,{"$f":"IF('Vendor List'!$A816=\"\",\"\",'Vendor List'!$A816)","v":"CYBER RESEARCH INC"}]
[{"$f":"\"\"","v":""},null,{"$f":"IF('Vendor List'!$A817=\"\",\"\",'Vendor List'!$A817)","v":"CYBERGUYS (SEE 111165)"}]
[{"$f":"\"\"","v":""},null,{"$f":"IF('Vendor List'!$A818=\"\",\"\",'Vendor List'!$A818)","v":"CYBERZONICS"}]
[{"$f":"\"\"","v":""},null,{"$f":"IF('Vendor List'!$A819=\"\",\"\",'Vendor List'!$A819)","v":"D & C ELECTRONICS"}]
[{"$f":"\"\"","v":""},null,{"$f":"IF('Vendor List'!$A820=\"\",\"\",'Vendor List'!$A820)","v":"D MACHINE INC"}]
[{"$f":"\"\"","v":""},null,{"$f":"IF('Vendor List'!$A821=\"\",\"\",'Vendor List'!$A821)","v":"DAEDAL INC"}]
[{"$f":"\"\"","v":""},null,{"$f":"IF('Vendor List'!$A822=\"\",\"\",'Vendor List'!$A822)","v":"DAK EQUIPMENT & ENGINEERING"}]
[{"$f":"\"\"","v":""},null,{"$f":"IF('Vendor List'!$A823=\"\",\"\",'Vendor List'!$A823)","v":"DALCO ELECTRONICS"}]
[{"$f":"\"\"","v":""},null,{"$f":"IF('Vendor List'!$A824=\"\",\"\",'Vendor List'!$A824)","v":"DALE STEVENS ENTERPRISES"}]
[{"$f":"\"\"","v":""},null,{"$f":"IF('Vendor List'!$A825=\"\",\"\",'Vendor List'!$A825)","v":"DAMARK INTERNATIONAL INC"}]
[{"$f":"\"\"","v":""},null,{"$f":"IF('Vendor List'!$A826=\"\",\"\",'Vendor List'!$A826)","v":"DANAHER PRECISION SYSTEMS"}]
[{"$f":"\"\"","v":""},null,{"$f":"IF('Vendor List'!$A827=\"\",\"\",'Vendor List'!$A827)","v":"DANAHER TOOL GROUP"}]
[{"$f":"\"\"","v":""},null,{"$f":"IF('Vendor List'!$A828=\"\",\"\",'Vendor List'!$A828)","v":"DANBAR SALES CO"}]
[{"$f":"\"\"","v":""},null,{"$f":"IF('Vendor List'!$A829=\"\",\"\",'Vendor List'!$A829)","v":"DANFYSIK A/S"}]
[{"$f":"\"\"","v":""},null,{"$f":"IF('Vendor List'!$A830=\"\",\"\",'Vendor List'!$A830)","v":"DANIELS MANUFACTURING CORPORAT"}]
[{"$f":"\"\"","v":""},null,{"$f":"IF('Vendor List'!$A831=\"\",\"\",'Vendor List'!$A831)","v":"DANIELSON ASSOCIATES INC"}]
[{"$f":"\"\"","v":""},null,{"$f":"IF('Vendor List'!$A832=\"\",\"\",'Vendor List'!$A832)","v":"DANTZ DEVELOPMENT CORPORATION"}]
[{"$f":"\"\"","v":""},null,{"$f":"IF('Vendor List'!$A833=\"\",\"\",'Vendor List'!$A833)","v":"DANTZ DEVELOPMENT CORPORATION"}]
[{"$f":"\"\"","v":""},null,{"$f":"IF('Vendor List'!$A834=\"\",\"\",'Vendor List'!$A834)","v":"DAPRA CORPORATION"}]
[{"$f":"\"\"","v":""},null,{"$f":"IF('Vendor List'!$A835=\"\",\"\",'Vendor List'!$A835)","v":"DARCOID NOR CAL SEAL CO"}]
[{"$f":"\"\"","v":""},null,{"$f":"IF('Vendor List'!$A836=\"\",\"\",'Vendor List'!$A836)","v":"DAT TECHNOLOGIES"}]
[{"$f":"\"\"","v":""},null,{"$f":"IF('Vendor List'!$A837=\"\",\"\",'Vendor List'!$A837)","v":"DATA COMM WAREHOUSE"}]
[{"$f":"\"\"","v":""},null,{"$f":"IF('Vendor List'!$A838=\"\",\"\",'Vendor List'!$A838)","v":"DATA COMM WAREHOUSE"}]
[{"$f":"\"\"","v":""},null,{"$f":"IF('Vendor List'!$A839=\"\",\"\",'Vendor List'!$A839)","v":"DATA LINK ASSOCIATES"}]
[{"$f":"\"\"","v":""},null,{"$f":"IF('Vendor List'!$A840=\"\",\"\",'Vendor List'!$A840)","v":"DATA TECH INSTITUTE"}]
[{"$f":"\"\"","v":""},null,{"$f":"IF('Vendor List'!$A841=\"\",\"\",'Vendor List'!$A841)","v":"DATACHEM SOFTWARE, INC."}]
[{"$f":"\"\"","v":""},null,{"$f":"IF('Vendor List'!$A842=\"\",\"\",'Vendor List'!$A842)","v":"DATAFORTH CORP"}]
[{"$f":"\"\"","v":""},null,{"$f":"IF('Vendor List'!$A843=\"\",\"\",'Vendor List'!$A843)","v":"DATAGRAM"}]
[{"$f":"\"\"","v":""},null,{"$f":"IF('Vendor List'!$A844=\"\",\"\",'Vendor List'!$A844)","v":"DATALINK"}]
[{"$f":"\"\"","v":""},null,{"$f":"IF('Vendor List'!$A845=\"\",\"\",'Vendor List'!$A845)","v":"DATAPROBE INC"}]
[{"$f":"\"\"","v":""},null,{"$f":"IF('Vendor List'!$A846=\"\",\"\",'Vendor List'!$A846)","v":"DATAQ INSTRUMENTS"}]
[{"$f":"\"\"","v":""},null,{"$f":"IF('Vendor List'!$A847=\"\",\"\",'Vendor List'!$A847)","v":"DATAVIZ INC"}]
[{"$f":"\"\"","v":""},null,{"$f":"IF('Vendor List'!$A848=\"\",\"\",'Vendor List'!$A848)","v":"DATEL INTERSIL"}]
[{"$f":"\"\"","v":""},null,{"$f":"IF('Vendor List'!$A849=\"\",\"\",'Vendor List'!$A849)","v":"DAVE JONES PLUMBING"}]
[{"$f":"\"\"","v":""},null,{"$f":"IF('Vendor List'!$A850=\"\",\"\",'Vendor List'!$A850)","v":"DAVIS INSTRUMENTS MANUFACTURIN"}]
[{"$f":"\"\"","v":""},null,{"$f":"IF('Vendor List'!$A851=\"\",\"\",'Vendor List'!$A851)","v":"DAVLYN MANUFACTURING CO, INC"}]
[{"$f":"\"\"","v":""},null,{"$f":"IF('Vendor List'!$A852=\"\",\"\",'Vendor List'!$A852)","v":"DAY'S INN"}]
[{"$f":"\"\"","v":""},null,{"$f":"IF('Vendor List'!$A853=\"\",\"\",'Vendor List'!$A853)","v":"DAYS INN"}]
[{"$f":"\"\"","v":""},null,{"$f":"IF('Vendor List'!$A854=\"\",\"\",'Vendor List'!$A854)","v":"DB ENGINEERING INC"}]
[{"$f":"\"\"","v":""},null,{"$f":"IF('Vendor List'!$A855=\"\",\"\",'Vendor List'!$A855)","v":"DBSYSTEMS INC"}]
[{"$f":"\"\"","v":""},null,{"$f":"IF('Vendor List'!$A856=\"\",\"\",'Vendor List'!$A856)","v":"DC DRIVES"}]
[{"$f":"\"\"","v":""},null,{"$f":"IF('Vendor List'!$A857=\"\",\"\",'Vendor List'!$A857)","v":"DD SLING & SUPPLY, INC."}]
[{"$f":"\"\"","v":""},null,{"$f":"IF('Vendor List'!$A858=\"\",\"\",'Vendor List'!$A858)","v":"DEAN BENNETT SUPPLY"}]
[{"$f":"\"\"","v":""},null,{"$f":"IF('Vendor List'!$A859=\"\",\"\",'Vendor List'!$A859)","v":"DEAN MEDICAL"}]
[{"$f":"\"\"","v":""},null,{"$f":"IF('Vendor List'!$A860=\"\",\"\",'Vendor List'!$A860)","v":"DECANIO BUILDERS SUPPLY"}]
[{"$f":"\"\"","v":""},null,{"$f":"IF('Vendor List'!$A861=\"\",\"\",'Vendor List'!$A861)","v":"DECISION ONE CORPORATION"}]
[{"$f":"\"\"","v":""},null,{"$f":"IF('Vendor List'!$A862=\"\",\"\",'Vendor List'!$A862)","v":"DECKER SUPPLY"}]
[{"$f":"\"\"","v":""},null,{"$f":"IF('Vendor List'!$A863=\"\",\"\",'Vendor List'!$A863)","v":"DECORATIVE INDUSTRIAL PLATING"}]
[{"$f":"\"\"","v":""},null,{"$f":"IF('Vendor List'!$A864=\"\",\"\",'Vendor List'!$A864)","v":"DEEP HOLE SPECIALISTS OF ILLIN"}]
[{"$f":"\"\"","v":""},null,{"$f":"IF('Vendor List'!$A865=\"\",\"\",'Vendor List'!$A865)","v":"DEL TRON PRECISION INC"}]
[{"$f":"\"\"","v":""},null,{"$f":"IF('Vendor List'!$A866=\"\",\"\",'Vendor List'!$A866)","v":"DELCO WIRE & CABLE INC"}]
[{"$f":"\"\"","v":""},null,{"$f":"IF('Vendor List'!$A867=\"\",\"\",'Vendor List'!$A867)","v":"DELL COMPUTER CORP."}]
[{"$f":"\"\"","v":""},null,{"$f":"IF('Vendor List'!$A868=\"\",\"\",'Vendor List'!$A868)","v":"DELL MARKETING"}]
[{"$f":"\"\"","v":""},null,{"$f":"IF('Vendor List'!$A869=\"\",\"\",'Vendor List'!$A869)","v":"DELL MARKETING CORP"}]
[{"$f":"\"\"","v":""},null,{"$f":"IF('Vendor List'!$A870=\"\",\"\",'Vendor List'!$A870)","v":"DELORME MAPPING CO"}]
[{"$f":"\"\"","v":""},null,{"$f":"IF('Vendor List'!$A871=\"\",\"\",'Vendor List'!$A871)","v":"DELTA AIRLINES INC"}]
[{"$f":"\"\"","v":""},null,{"$f":"IF('Vendor List'!$A872=\"\",\"\",'Vendor List'!$A872)","v":"DELTA FLO MANUFACTURING CO INC"}]
[{"$f":"\"\"","v":""},null,{"$f":"IF('Vendor List'!$A873=\"\",\"\",'Vendor List'!$A873)","v":"DELTA MEDICAL SYSTEMS INC"}]
[{"$f":"\"\"","v":""},null,{"$f":"IF('Vendor List'!$A874=\"\",\"\",'Vendor List'!$A874)","v":"DELTAPOINT INC"}]
[{"$f":"\"\"","v":""},null,{"$f":"IF('Vendor List'!$A875=\"\",\"\",'Vendor List'!$A875)","v":"DELTEK INC"}]
[{"$f":"\"\"","v":""},null,{"$f":"IF('Vendor List'!$A876=\"\",\"\",'Vendor List'!$A876)","v":"DELTEK SYSTEMS, INC"}]
[{"$f":"\"\"","v":""},null,{"$f":"IF('Vendor List'!$A877=\"\",\"\",'Vendor List'!$A877)","v":"DELTRON INC"}]
[{"$f":"\"\"","v":""},null,{"$f":"IF('Vendor List'!$A878=\"\",\"\",'Vendor List'!$A878)","v":"DELTRONIX ENTERPRISES"}]
[{"$f":"\"\"","v":""},null,{"$f":"IF('Vendor List'!$A879=\"\",\"\",'Vendor List'!$A879)","v":"DEMCO INC"}]
[{"$f":"\"\"","v":""},null,{"$f":"IF('Vendor List'!$A880=\"\",\"\",'Vendor List'!$A880)","v":"DENNIS BAHCALL RUBBER CO INC"}]
[{"$f":"\"\"","v":""},null,{"$f":"IF('Vendor List'!$A881=\"\",\"\",'Vendor List'!$A881)","v":"DENNY'S SHELL"}]
[{"$f":"\"\"","v":""},null,{"$f":"IF('Vendor List'!$A882=\"\",\"\",'Vendor List'!$A882)","v":"DEPRECIATIONWORKS"}]
[{"$f":"\"\"","v":""},null,{"$f":"IF('Vendor List'!$A883=\"\",\"\",'Vendor List'!$A883)","v":"DEPT OF BIOCHEMISTRY"}]
[{"$f":"\"\"","v":""},null,{"$f":"IF('Vendor List'!$A884=\"\",\"\",'Vendor List'!$A884)","v":"DEQ TECHNICAL SALES  LLC"}]
[{"$f":"\"\"","v":""},null,{"$f":"IF('Vendor List'!$A885=\"\",\"\",'Vendor List'!$A885)","v":"DESIGN COMPUTATION INC"}]
[{"$f":"\"\"","v":""},null,{"$f":"IF('Vendor List'!$A886=\"\",\"\",'Vendor List'!$A886)","v":"DESIGN SCIENCE"}]
[{"$f":"\"\"","v":""},null,{"$f":"IF('Vendor List'!$A887=\"\",\"\",'Vendor List'!$A887)","v":"DETROIT INDUSTRIAL TOOLS"}]
[{"$f":"\"\"","v":""},null,{"$f":"IF('Vendor List'!$A888=\"\",\"\",'Vendor List'!$A888)","v":"DEVAR INC"}]
[{"$f":"\"\"","v":""},null,{"$f":"IF('Vendor List'!$A889=\"\",\"\",'Vendor List'!$A889)","v":"DGH"}]
[{"$f":"\"\"","v":""},null,{"$f":"IF('Vendor List'!$A890=\"\",\"\",'Vendor List'!$A890)","v":"DGI SUPPLY (FORMERLY DOALL)"}]
[{"$f":"\"\"","v":""},null,{"$f":"IF('Vendor List'!$A891=\"\",\"\",'Vendor List'!$A891)","v":"DHL AIRWAYS, INC."}]
[{"$f":"\"\"","v":""},null,{"$f":"IF('Vendor List'!$A892=\"\",\"\",'Vendor List'!$A892)","v":"DHL WORLDWIDE EXPRESS"}]
[{"$f":"\"\"","v":""},null,{"$f":"IF('Vendor List'!$A893=\"\",\"\",'Vendor List'!$A893)","v":"DI & ASSOCIATES"}]
[{"$f":"\"\"","v":""},null,{"$f":"IF('Vendor List'!$A894=\"\",\"\",'Vendor List'!$A894)","v":"DIAMETERS INC"}]
[{"$f":"\"\"","v":""},null,{"$f":"IF('Vendor List'!$A895=\"\",\"\",'Vendor List'!$A895)","v":"DIANE HOWARD"}]
[{"$f":"\"\"","v":""},null,{"$f":"IF('Vendor List'!$A896=\"\",\"\",'Vendor List'!$A896)","v":"DICK BLICK ART MATERIALS"}]
[{"$f":"\"\"","v":""},null,{"$f":"IF('Vendor List'!$A897=\"\",\"\",'Vendor List'!$A897)","v":"DICKSON COMPANY"}]
[{"$f":"\"\"","v":""},null,{"$f":"IF('Vendor List'!$A898=\"\",\"\",'Vendor List'!$A898)","v":"DICTAPHONE CORPORATION"}]
[{"$f":"\"\"","v":""},null,{"$f":"IF('Vendor List'!$A899=\"\",\"\",'Vendor List'!$A899)","v":"DIEBOLT & COMPANY"}]
[{"$f":"\"\"","v":""},null,{"$f":"IF('Vendor List'!$A900=\"\",\"\",'Vendor List'!$A900)","v":"DIELECTRIC CORPORATION"}]
[{"$f":"\"\"","v":""},null,{"$f":"IF('Vendor List'!$A901=\"\",\"\",'Vendor List'!$A901)","v":"DIESEL INJECTION SERVICE, INC"}]
[{"$f":"\"\"","v":""},null,{"$f":"IF('Vendor List'!$A902=\"\",\"\",'Vendor List'!$A902)","v":"DIETZ SUPPLY"}]
[{"$f":"\"\"","v":""},null,{"$f":"IF('Vendor List'!$A903=\"\",\"\",'Vendor List'!$A903)","v":"DIFFRACTION PRODUCTS INC"}]
[{"$f":"\"\"","v":""},null,{"$f":"IF('Vendor List'!$A904=\"\",\"\",'Vendor List'!$A904)","v":"DIGI INTERNATIONAL"}]
[{"$f":"\"\"","v":""},null,{"$f":"IF('Vendor List'!$A905=\"\",\"\",'Vendor List'!$A905)","v":"DIGI KEY CORP"}]
[{"$f":"\"\"","v":""},null,{"$f":"IF('Vendor List'!$A906=\"\",\"\",'Vendor List'!$A906)","v":"DIGIBUY"}]
[{"$f":"\"\"","v":""},null,{"$f":"IF('Vendor List'!$A907=\"\",\"\",'Vendor List'!$A907)","v":"DIGITAL BASICS"}]
[{"$f":"\"\"","v":""},null,{"$f":"IF('Vendor List'!$A908=\"\",\"\",'Vendor List'!$A908)","v":"DIGITAL EQUIPMENT"}]
[{"$f":"\"\"","v":""},null,{"$f":"IF('Vendor List'!$A909=\"\",\"\",'Vendor List'!$A909)","v":"DIGITAL EQUIPMENT CORP"}]
[{"$f":"\"\"","v":""},null,{"$f":"IF('Vendor List'!$A910=\"\",\"\",'Vendor List'!$A910)","v":"DIGITAL EQUIPMENT CORP"}]
[{"$f":"\"\"","v":""},null,{"$f":"IF('Vendor List'!$A911=\"\",\"\",'Vendor List'!$A911)","v":"DIGITAL EQUIPMENT CORP"}]
[{"$f":"\"\"","v":""},null,{"$f":"IF('Vendor List'!$A912=\"\",\"\",'Vendor List'!$A912)","v":"DIGITAL EQUIPMENT CORP"}]
[{"$f":"\"\"","v":""},null,{"$f":"IF('Vendor List'!$A913=\"\",\"\",'Vendor List'!$A913)","v":"DIGITAL EQUIPMENT CORP"}]
[{"$f":"\"\"","v":""},null,{"$f":"IF('Vendor List'!$A914=\"\",\"\",'Vendor List'!$A914)","v":"DIGITAL EQUIPMENT CORPORATION"}]
[{"$f":"\"\"","v":""},null,{"$f":"IF('Vendor List'!$A915=\"\",\"\",'Vendor List'!$A915)","v":"DIGITAL EQUIPMENT CORPORATION"}]
[{"$f":"\"\"","v":""},null,{"$f":"IF('Vendor List'!$A916=\"\",\"\",'Vendor List'!$A916)","v":"DIGITAL EQUIPMENT CORPORATION"}]
[{"$f":"\"\"","v":""},null,{"$f":"IF('Vendor List'!$A917=\"\",\"\",'Vendor List'!$A917)","v":"DIGITAL INSTRUMENTS"}]
[{"$f":"\"\"","v":""},null,{"$f":"IF('Vendor List'!$A918=\"\",\"\",'Vendor List'!$A918)","v":"DIGITAL OPTICAL INC"}]
[{"$f":"\"\"","v":""},null,{"$f":"IF('Vendor List'!$A919=\"\",\"\",'Vendor List'!$A919)","v":"DIGITALLY UNIQUE CORP"}]
[{"$f":"\"\"","v":""},null,{"$f":"IF('Vendor List'!$A920=\"\",\"\",'Vendor List'!$A920)","v":"DIRECT TV"}]
[{"$f":"\"\"","v":""},null,{"$f":"IF('Vendor List'!$A921=\"\",\"\",'Vendor List'!$A921)","v":"DIRECTRON.COM"}]
[{"$f":"\"\"","v":""},null,{"$f":"IF('Vendor List'!$A922=\"\",\"\",'Vendor List'!$A922)","v":"DIRON TECHNOLOGIES"}]
[{"$f":"\"\"","v":""},null,{"$f":"IF('Vendor List'!$A923=\"\",\"\",'Vendor List'!$A923)","v":"DISCOVERY DESIGN"}]
[{"$f":"\"\"","v":""},null,{"$f":"IF('Vendor List'!$A924=\"\",\"\",'Vendor List'!$A924)","v":"DISH NETWORK"}]
[{"$f":"\"\"","v":""},null,{"$f":"IF('Vendor List'!$A925=\"\",\"\",'Vendor List'!$A925)","v":"DISPLAYS TO GO"}]
[{"$f":"\"\"","v":""},null,{"$f":"IF('Vendor List'!$A926=\"\",\"\",'Vendor List'!$A926)","v":"DIST TRON"}]
[{"$f":"\"\"","v":""},null,{"$f":"IF('Vendor List'!$A927=\"\",\"\",'Vendor List'!$A927)","v":"DIST TRON ENTEST LLC"}]
[{"$f":"\"\"","v":""},null,{"$f":"IF('Vendor List'!$A928=\"\",\"\",'Vendor List'!$A928)","v":"DISYS"}]
[{"$f":"\"\"","v":""},null,{"$f":"IF('Vendor List'!$A929=\"\",\"\",'Vendor List'!$A929)","v":"DIVERSIFIED PLASTICS"}]
[{"$f":"\"\"","v":""},null,{"$f":"IF('Vendor List'!$A930=\"\",\"\",'Vendor List'!$A930)","v":"DIVERSIFIED SYSTEMS"}]
[{"$f":"\"\"","v":""},null,{"$f":"IF('Vendor List'!$A931=\"\",\"\",'Vendor List'!$A931)","v":"DIX METALS"}]
[{"$f":"\"\"","v":""},null,{"$f":"IF('Vendor List'!$A932=\"\",\"\",'Vendor List'!$A932)","v":"DIXON VALVE & COUPLING"}]
[{"$f":"\"\"","v":""},null,{"$f":"IF('Vendor List'!$A933=\"\",\"\",'Vendor List'!$A933)","v":"DLS ELECTRONIC SYSTEMS INC"}]
[{"$f":"\"\"","v":""},null,{"$f":"IF('Vendor List'!$A934=\"\",\"\",'Vendor List'!$A934)","v":"DLT SOLUTIONS INC"}]
[{"$f":"\"\"","v":""},null,{"$f":"IF('Vendor List'!$A935=\"\",\"\",'Vendor List'!$A935)","v":"DOA"}]
[{"$f":"\"\"","v":""},null,{"$f":"IF('Vendor List'!$A936=\"\",\"\",'Vendor List'!$A936)","v":"DOCUMENT SOLUTIONS"}]
[{"$f":"\"\"","v":""},null,{"$f":"IF('Vendor List'!$A937=\"\",\"\",'Vendor List'!$A937)","v":"DOIG FLUID CONTROLS"}]
[{"$f":"\"\"","v":""},null,{"$f":"IF('Vendor List'!$A938=\"\",\"\",'Vendor List'!$A938)","v":"DOIT (MACC)"}]
[{"$f":"\"\"","v":""},null,{"$f":"IF('Vendor List'!$A939=\"\",\"\",'Vendor List'!$A939)","v":"DOIT/AMERITECH"}]
[{"$f":"\"\"","v":""},null,{"$f":"IF('Vendor List'!$A940=\"\",\"\",'Vendor List'!$A940)","v":"DOIT/GTE TELECOMMUNICATIONS"}]
[{"$f":"\"\"","v":""},null,{"$f":"IF('Vendor List'!$A941=\"\",\"\",'Vendor List'!$A941)","v":"DORLEN PRODUCTS  INC"}]
[{"$f":"\"\"","v":""},null,{"$f":"IF('Vendor List'!$A942=\"\",\"\",'Vendor List'!$A942)","v":"DORN HARDWARE"}]
[{"$f":"\"\"","v":""},null,{"$f":"IF('Vendor List'!$A943=\"\",\"\",'Vendor List'!$A943)","v":"DORN TRUE VALUE"}]
[{"$f":"\"\"","v":""},null,{"$f":"IF('Vendor List'!$A944=\"\",\"\",'Vendor List'!$A944)","v":"DOUBLE TREE HOTEL(H JOHNSON)"}]
[{"$f":"\"\"","v":""},null,{"$f":"IF('Vendor List'!$A945=\"\",\"\",'Vendor List'!$A945)","v":"DOUGLAS ELECTRONICS"}]
[{"$f":"\"\"","v":""},null,{"$f":"IF('Vendor List'!$A946=\"\",\"\",'Vendor List'!$A946)","v":"DOUGLAS STEWART CO"}]
[{"$f":"\"\"","v":""},null,{"$f":"IF('Vendor List'!$A947=\"\",\"\",'Vendor List'!$A947)","v":"DOVE EQUIPMENT"}]
[{"$f":"\"\"","v":""},null,{"$f":"IF('Vendor List'!$A948=\"\",\"\",'Vendor List'!$A948)","v":"DOW CORNING CORPORATION"}]
[{"$f":"\"\"","v":""},null,{"$f":"IF('Vendor List'!$A949=\"\",\"\",'Vendor List'!$A949)","v":"DOWNING DISPLAYS"}]
[{"$f":"\"\"","v":""},null,{"$f":"IF('Vendor List'!$A950=\"\",\"\",'Vendor List'!$A950)","v":"DR JUHAO WU"}]
[{"$f":"\"\"","v":""},null,{"$f":"IF('Vendor List'!$A951=\"\",\"\",'Vendor List'!$A951)","v":"DR. DAVID E. MONCTON"}]
[{"$f":"\"\"","v":""},null,{"$f":"IF('Vendor List'!$A952=\"\",\"\",'Vendor List'!$A952)","v":"DR. MARK BOWEN"}]
[{"$f":"\"\"","v":""},null,{"$f":"IF('Vendor List'!$A953=\"\",\"\",'Vendor List'!$A953)","v":"DR. S I SHKURATOV"}]
[{"$f":"\"\"","v":""},null,{"$f":"IF('Vendor List'!$A954=\"\",\"\",'Vendor List'!$A954)","v":"DR. TAI CHIANG"}]
[{"$f":"\"\"","v":""},null,{"$f":"IF('Vendor List'!$A955=\"\",\"\",'Vendor List'!$A955)","v":"DRAWING BOARD"}]
[{"$f":"\"\"","v":""},null,{"$f":"IF('Vendor List'!$A956=\"\",\"\",'Vendor List'!$A956)","v":"DREMEL ACCESSORIES"}]
[{"$f":"\"\"","v":""},null,{"$f":"IF('Vendor List'!$A957=\"\",\"\",'Vendor List'!$A957)","v":"DREXEL INTERIORS"}]
[{"$f":"\"\"","v":""},null,{"$f":"IF('Vendor List'!$A958=\"\",\"\",'Vendor List'!$A958)","v":"DRYDEN ENGINEERING COMPANY INC"}]
[{"$f":"\"\"","v":""},null,{"$f":"IF('Vendor List'!$A959=\"\",\"\",'Vendor List'!$A959)","v":"DT SOFTWARE, INC."}]
[{"$f":"\"\"","v":""},null,{"$f":"IF('Vendor List'!$A960=\"\",\"\",'Vendor List'!$A960)","v":"DUECO, INC"}]
[{"$f":"\"\"","v":""},null,{"$f":"IF('Vendor List'!$A961=\"\",\"\",'Vendor List'!$A961)","v":"DUET RESOURCE GROUP"}]
[{"$f":"\"\"","v":""},null,{"$f":"IF('Vendor List'!$A962=\"\",\"\",'Vendor List'!$A962)","v":"DUFF NORTON CO"}]
[{"$f":"\"\"","v":""},null,{"$f":"IF('Vendor List'!$A963=\"\",\"\",'Vendor List'!$A963)","v":"DUKE SCIENTIFIC CORP"}]
[{"$f":"\"\"","v":""},null,{"$f":"IF('Vendor List'!$A964=\"\",\"\",'Vendor List'!$A964)","v":"DUMORE CORP"}]
[{"$f":"\"\"","v":""},null,{"$f":"IF('Vendor List'!$A965=\"\",\"\",'Vendor List'!$A965)","v":"DUNIWAY STOCKROOM"}]
[{"$f":"\"\"","v":""},null,{"$f":"IF('Vendor List'!$A966=\"\",\"\",'Vendor List'!$A966)","v":"DUNN & BRADSTREET"}]
[{"$f":"\"\"","v":""},null,{"$f":"IF('Vendor List'!$A967=\"\",\"\",'Vendor List'!$A967)","v":"DUPLICATING SERVICES"}]
[{"$f":"\"\"","v":""},null,{"$f":"IF('Vendor List'!$A968=\"\",\"\",'Vendor List'!$A968)","v":"DURABLE CONTROLS INC"}]
[{"$f":"\"\"","v":""},null,{"$f":"IF('Vendor List'!$A969=\"\",\"\",'Vendor List'!$A969)","v":"DURAQUEST, INC"}]
[{"$f":"\"\"","v":""},null,{"$f":"IF('Vendor List'!$A970=\"\",\"\",'Vendor List'!$A970)","v":"DWYER INSTRUMENTS INC"}]
[{"$f":"\"\"","v":""},null,{"$f":"IF('Vendor List'!$A971=\"\",\"\",'Vendor List'!$A971)","v":"DWYER INSTRUMENTS INC"}]
[{"$f":"\"\"","v":""},null,{"$f":"IF('Vendor List'!$A972=\"\",\"\",'Vendor List'!$A972)","v":"DYER PACKAGING INC"}]
[{"$f":"\"\"","v":""},null,{"$f":"IF('Vendor List'!$A973=\"\",\"\",'Vendor List'!$A973)","v":"DYER TECHNOLOGY"}]
[{"$f":"\"\"","v":""},null,{"$f":"IF('Vendor List'!$A974=\"\",\"\",'Vendor List'!$A974)","v":"DYNABRADE INC"}]
[{"$f":"\"\"","v":""},null,{"$f":"IF('Vendor List'!$A975=\"\",\"\",'Vendor List'!$A975)","v":"DYNAK INC"}]
[{"$f":"\"\"","v":""},null,{"$f":"IF('Vendor List'!$A976=\"\",\"\",'Vendor List'!$A976)","v":"DYNALENE HEAT TRANSFER"}]
[{"$f":"\"\"","v":""},null,{"$f":"IF('Vendor List'!$A977=\"\",\"\",'Vendor List'!$A977)","v":"DYNALOY LLC"}]
[{"$f":"\"\"","v":""},null,{"$f":"IF('Vendor List'!$A978=\"\",\"\",'Vendor List'!$A978)","v":"DYNAMIC COMPUTER PRODUCTS"}]
[{"$f":"\"\"","v":""},null,{"$f":"IF('Vendor List'!$A979=\"\",\"\",'Vendor List'!$A979)","v":"DYNAOPTIC-MOTION CORP."}]
[{"$f":"\"\"","v":""},null,{"$f":"IF('Vendor List'!$A980=\"\",\"\",'Vendor List'!$A980)","v":"DYNAPOWER"}]
[{"$f":"\"\"","v":""},null,{"$f":"IF('Vendor List'!$A981=\"\",\"\",'Vendor List'!$A981)","v":"E M FACILITY"}]
[{"$f":"\"\"","v":""},null,{"$f":"IF('Vendor List'!$A982=\"\",\"\",'Vendor List'!$A982)","v":"E-FILLIATE (CYBERGUYS)"}]
[{"$f":"\"\"","v":""},null,{"$f":"IF('Vendor List'!$A983=\"\",\"\",'Vendor List'!$A983)","v":"EAGLE INSTRUMENT SERVICES"}]
[{"$f":"\"\"","v":""},null,{"$f":"IF('Vendor List'!$A984=\"\",\"\",'Vendor List'!$A984)","v":"EAGLE STAINLESS"}]
[{"$f":"\"\"","v":""},null,{"$f":"IF('Vendor List'!$A985=\"\",\"\",'Vendor List'!$A985)","v":"EARL COTTER COMPANY"}]
[{"$f":"\"\"","v":""},null,{"$f":"IF('Vendor List'!$A986=\"\",\"\",'Vendor List'!$A986)","v":"EARLE M JORGENSEN CO"}]
[{"$f":"\"\"","v":""},null,{"$f":"IF('Vendor List'!$A987=\"\",\"\",'Vendor List'!$A987)","v":"EARTHWORKS"}]
[{"$f":"\"\"","v":""},null,{"$f":"IF('Vendor List'!$A988=\"\",\"\",'Vendor List'!$A988)","v":"EASTERN AIR DEVICES"}]
[{"$f":"\"\"","v":""},null,{"$f":"IF('Vendor List'!$A989=\"\",\"\",'Vendor List'!$A989)","v":"EBTEC CORPORATION"}]
[{"$f":"\"\"","v":""},null,{"$f":"IF('Vendor List'!$A990=\"\",\"\",'Vendor List'!$A990)","v":"ECD"}]
[{"$f":"\"\"","v":""},null,{"$f":"IF('Vendor List'!$A991=\"\",\"\",'Vendor List'!$A991)","v":"ECHINAUSA CORP"}]
[{"$f":"\"\"","v":""},null,{"$f":"IF('Vendor List'!$A992=\"\",\"\",'Vendor List'!$A992)","v":"ECHIP INC"}]
[{"$f":"\"\"","v":""},null,{"$f":"IF('Vendor List'!$A993=\"\",\"\",'Vendor List'!$A993)","v":"ECI ELECTROMAGNETIC COMPONENTS"}]
[{"$f":"\"\"","v":""},null,{"$f":"IF('Vendor List'!$A994=\"\",\"\",'Vendor List'!$A994)","v":"ECONCO BROADCAST SERVICE"}]
[{"$f":"\"\"","v":""},null,{"$f":"IF('Vendor List'!$A995=\"\",\"\",'Vendor List'!$A995)","v":"ECONOMICS PRESS INC"}]
[{"$f":"\"\"","v":""},null,{"$f":"IF('Vendor List'!$A996=\"\",\"\",'Vendor List'!$A996)","v":"ECOST.COM"}]
[{"$f":"\"\"","v":""},null,{"$f":"IF('Vendor List'!$A997=\"\",\"\",'Vendor List'!$A997)","v":"EDAL INDUSTRIES"}]
[{"$f":"\"\"","v":""},null,{"$f":"IF('Vendor List'!$A998=\"\",\"\",'Vendor List'!$A998)","v":"EDER FLAG MFG CO"}]
[{"$f":"\"\"","v":""},null,{"$f":"IF('Vendor List'!$A999=\"\",\"\",'Vendor List'!$A999)","v":"EDGEWOOD COLLEGE"}]
[{"$f":"\"\"","v":""},null,{"$f":"IF('Vendor List'!$A1000=\"\",\"\",'Vendor List'!$A1000)","v":"EDMUND INDUSTRIAL OPTICS"}]
[{"$f":"\"\"","v":""},null,{"$f":"IF('Vendor List'!$A1001=\"\",\"\",'Vendor List'!$A1001)","v":"EDMUND SCIENTIFIC CORP"}]
[{"$f":"\"\"","v":""},null,{"$f":"IF('Vendor List'!$A1002=\"\",\"\",'Vendor List'!$A1002)","v":"EDO WESTERN"}]
[{"$f":"\"\"","v":""},null,{"$f":"IF('Vendor List'!$A1003=\"\",\"\",'Vendor List'!$A1003)","v":"EDP/TRI-OPTIC"}]
[{"$f":"\"\"","v":""},null,{"$f":"IF('Vendor List'!$A1004=\"\",\"\",'Vendor List'!$A1004)","v":"EDS MANUFACTURING"}]
[{"$f":"\"\"","v":""},null,{"$f":"IF('Vendor List'!$A1005=\"\",\"\",'Vendor List'!$A1005)","v":"EDUCATIONAL CREDENTIAL EVALUAT"}]
[{"$f":"\"\"","v":""},null,{"$f":"IF('Vendor List'!$A1006=\"\",\"\",'Vendor List'!$A1006)","v":"EDUCATIONAL INNOVATIONS"}]
[{"$f":"\"\"","v":""},null,{"$f":"IF('Vendor List'!$A1007=\"\",\"\",'Vendor List'!$A1007)","v":"EDWARDS HIGH VACUUM CO"}]
[{"$f":"\"\"","v":""},null,{"$f":"IF('Vendor List'!$A1008=\"\",\"\",'Vendor List'!$A1008)","v":"EDWARDS VACUUM INC"}]
[{"$f":"\"\"","v":""},null,{"$f":"IF('Vendor List'!$A1009=\"\",\"\",'Vendor List'!$A1009)","v":"EECS/MICROFABRICATION LAB"}]
[{"$f":"\"\"","v":""},null,{"$f":"IF('Vendor List'!$A1010=\"\",\"\",'Vendor List'!$A1010)","v":"EESCO COMMUNICATION SYSTEMS"}]
[{"$f":"\"\"","v":""},null,{"$f":"IF('Vendor List'!$A1011=\"\",\"\",'Vendor List'!$A1011)","v":"EEYE DIGITAL SECURITY"}]
[{"$f":"\"\"","v":""},null,{"$f":"IF('Vendor List'!$A1012=\"\",\"\",'Vendor List'!$A1012)","v":"EF FULLAM INC"}]
[{"$f":"\"\"","v":""},null,{"$f":"IF('Vendor List'!$A1013=\"\",\"\",'Vendor List'!$A1013)","v":"EG&G ELECTRO OPTICS"}]
[{"$f":"\"\"","v":""},null,{"$f":"IF('Vendor List'!$A1014=\"\",\"\",'Vendor List'!$A1014)","v":"EG&G PARC"}]
[{"$f":"\"\"","v":""},null,{"$f":"IF('Vendor List'!$A1015=\"\",\"\",'Vendor List'!$A1015)","v":"EGGIMAN MOTOR & EQUIPMENT"}]
[{"$f":"\"\"","v":""},null,{"$f":"IF('Vendor List'!$A1016=\"\",\"\",'Vendor List'!$A1016)","v":"EIPB96"}]
[{"$f":"\"\"","v":""},null,{"$f":"IF('Vendor List'!$A1017=\"\",\"\",'Vendor List'!$A1017)","v":"EIS"}]
[{"$f":"\"\"","v":""},null,{"$f":"IF('Vendor List'!$A1018=\"\",\"\",'Vendor List'!$A1018)","v":"EIS INC"}]
[{"$f":"\"\"","v":""},null,{"$f":"IF('Vendor List'!$A1019=\"\",\"\",'Vendor List'!$A1019)","v":"EKF DESIGN & DEVELOPMENT CORP"}]
[{"$f":"\"\"","v":""},null,{"$f":"IF('Vendor List'!$A1020=\"\",\"\",'Vendor List'!$A1020)","v":"EL ESSLEY MACHINING"}]
[{"$f":"\"\"","v":""},null,{"$f":"IF('Vendor List'!$A1021=\"\",\"\",'Vendor List'!$A1021)","v":"ELEC MOTOR REPAIR INC"}]
[{"$f":"\"\"","v":""},null,{"$f":"IF('Vendor List'!$A1022=\"\",\"\",'Vendor List'!$A1022)","v":"ELECTRIC CONSTRUCTION, INC"}]
[{"$f":"\"\"","v":""},null,{"$f":"IF('Vendor List'!$A1023=\"\",\"\",'Vendor List'!$A1023)","v":"ELECTRIC MOTOR SERVICE CO"}]
[{"$f":"\"\"","v":""},null,{"$f":"IF('Vendor List'!$A1024=\"\",\"\",'Vendor List'!$A1024)","v":"ELECTRIC MOTOR WAREHOUSE"}]
[{"$f":"\"\"","v":""},null,{"$f":"IF('Vendor List'!$A1025=\"\",\"\",'Vendor List'!$A1025)","v":"ELECTRIC MOTORS UNLIMITED"}]
[{"$f":"\"\"","v":""},null,{"$f":"IF('Vendor List'!$A1026=\"\",\"\",'Vendor List'!$A1026)","v":"ELECTRICAL INSULATION SUPPLIER"}]
[{"$f":"\"\"","v":""},null,{"$f":"IF('Vendor List'!$A1027=\"\",\"\",'Vendor List'!$A1027)","v":"ELECTRICAL TESTING LAB"}]
[{"$f":"\"\"","v":""},null,{"$f":"IF('Vendor List'!$A1028=\"\",\"\",'Vendor List'!$A1028)","v":"ELECTRICAL WORLD INDUSTRIAL"}]
[{"$f":"\"\"","v":""},null,{"$f":"IF('Vendor List'!$A1029=\"\",\"\",'Vendor List'!$A1029)","v":"ELECTRO INDUSTRIES"}]
[{"$f":"\"\"","v":""},null,{"$f":"IF('Vendor List'!$A1030=\"\",\"\",'Vendor List'!$A1030)","v":"ELECTRO INSULATION"}]
[{"$f":"\"\"","v":""},null,{"$f":"IF('Vendor List'!$A1031=\"\",\"\",'Vendor List'!$A1031)","v":"ELECTRO POWER LLC"}]
[{"$f":"\"\"","v":""},null,{"$f":"IF('Vendor List'!$A1032=\"\",\"\",'Vendor List'!$A1032)","v":"ELECTRO RENT CORP"}]
[{"$f":"\"\"","v":""},null,{"$f":"IF('Vendor List'!$A1033=\"\",\"\",'Vendor List'!$A1033)","v":"ELECTRO SWITCH"}]
[{"$f":"\"\"","v":""},null,{"$f":"IF('Vendor List'!$A1034=\"\",\"\",'Vendor List'!$A1034)","v":"ELECTRO-OPTICAL PRODUCTS"}]
[{"$f":"\"\"","v":""},null,{"$f":"IF('Vendor List'!$A1035=\"\",\"\",'Vendor List'!$A1035)","v":"ELECTROMATIC EQUIPMNET CO, INC"}]
[{"$f":"\"\"","v":""},null,{"$f":"IF('Vendor List'!$A1036=\"\",\"\",'Vendor List'!$A1036)","v":"ELECTRON MICROSCOPY SCIENCES"}]
[{"$f":"\"\"","v":""},null,{"$f":"IF('Vendor List'!$A1037=\"\",\"\",'Vendor List'!$A1037)","v":"ELECTRONIC CONNECTOR CORP"}]
[{"$f":"\"\"","v":""},null,{"$f":"IF('Vendor List'!$A1038=\"\",\"\",'Vendor List'!$A1038)","v":"ELECTRONIC EXPEDITORS INC"}]
[{"$f":"\"\"","v":""},null,{"$f":"IF('Vendor List'!$A1039=\"\",\"\",'Vendor List'!$A1039)","v":"ELECTRONIC MEASUREMENTS INC"}]
[{"$f":"\"\"","v":""},null,{"$f":"IF('Vendor List'!$A1040=\"\",\"\",'Vendor List'!$A1040)","v":"ELECTRONIC NEWS"}]
[{"$f":"\"\"","v":""},null,{"$f":"IF('Vendor List'!$A1041=\"\",\"\",'Vendor List'!$A1041)","v":"ELECTRONIC SOLUTIONS"}]
[{"$f":"\"\"","v":""},null,{"$f":"IF('Vendor List'!$A1042=\"\",\"\",'Vendor List'!$A1042)","v":"ELECTRONICS RESEARCH INC (ERI)"}]
[{"$f":"\"\"","v":""},null,{"$f":"IF('Vendor List'!$A1043=\"\",\"\",'Vendor List'!$A1043)","v":"ELECTROSHIELD INC"}]
[{"$f":"\"\"","v":""},null,{"$f":"IF('Vendor List'!$A1044=\"\",\"\",'Vendor List'!$A1044)","v":"ELECTROSONIC"}]
[{"$f":"\"\"","v":""},null,{"$f":"IF('Vendor List'!$A1045=\"\",\"\",'Vendor List'!$A1045)","v":"ELEGANT EDIBLES CATERING"}]
[{"$f":"\"\"","v":""},null,{"$f":"IF('Vendor List'!$A1046=\"\",\"\",'Vendor List'!$A1046)","v":"ELLIOT CO OF INDIANAPOLIS"}]
[{"$f":"\"\"","v":""},null,{"$f":"IF('Vendor List'!$A1047=\"\",\"\",'Vendor List'!$A1047)","v":"ELLIS WHOLESALE"}]
[{"$f":"\"\"","v":""},null,{"$f":"IF('Vendor List'!$A1048=\"\",\"\",'Vendor List'!$A1048)","v":"ELLSWORTH CORP"}]
[{"$f":"\"\"","v":""},null,{"$f":"IF('Vendor List'!$A1049=\"\",\"\",'Vendor List'!$A1049)","v":"ELLSWORTH WELDING"}]
[{"$f":"\"\"","v":""},null,{"$f":"IF('Vendor List'!$A1050=\"\",\"\",'Vendor List'!$A1050)","v":"ELMA ENGINEERING"}]
[{"$f":"\"\"","v":""},null,{"$f":"IF('Vendor List'!$A1051=\"\",\"\",'Vendor List'!$A1051)","v":"ELMITEC"}]
[{"$f":"\"\"","v":""},null,{"$f":"IF('Vendor List'!$A1052=\"\",\"\",'Vendor List'!$A1052)","v":"ELSEVIER BIOMEDICAL PRESS"}]
[{"$f":"\"\"","v":""},null,{"$f":"IF('Vendor List'!$A1053=\"\",\"\",'Vendor List'!$A1053)","v":"ELSEVIER SCIENCE"}]
[{"$f":"\"\"","v":""},null,{"$f":"IF('Vendor List'!$A1054=\"\",\"\",'Vendor List'!$A1054)","v":"ELSEVIER SCIENCE LTD."}]
[{"$f":"\"\"","v":""},null,{"$f":"IF('Vendor List'!$A1055=\"\",\"\",'Vendor List'!$A1055)","v":"ELSEVIER SCIENCE PUBLISHING CO"}]
[{"$f":"\"\"","v":""},null,{"$f":"IF('Vendor List'!$A1056=\"\",\"\",'Vendor List'!$A1056)","v":"ELSEVIER/ASTROPARTICLE PHYSICS"}]
[{"$f":"\"\"","v":""},null,{"$f":"IF('Vendor List'!$A1057=\"\",\"\",'Vendor List'!$A1057)","v":"EM COATING SERVICES"}]
[{"$f":"\"\"","v":""},null,{"$f":"IF('Vendor List'!$A1058=\"\",\"\",'Vendor List'!$A1058)","v":"EM INSTRUMENTS"}]
[{"$f":"\"\"","v":""},null,{"$f":"IF('Vendor List'!$A1059=\"\",\"\",'Vendor List'!$A1059)","v":"EMA DESIGN AUTOMATION"}]
[{"$f":"\"\"","v":""},null,{"$f":"IF('Vendor List'!$A1060=\"\",\"\",'Vendor List'!$A1060)","v":"EMBASSY SUITES"}]
[{"$f":"\"\"","v":""},null,{"$f":"IF('Vendor List'!$A1061=\"\",\"\",'Vendor List'!$A1061)","v":"EMCO HIGH VOLTAGE CO"}]
[{"$f":"\"\"","v":""},null,{"$f":"IF('Vendor List'!$A1062=\"\",\"\",'Vendor List'!$A1062)","v":"EMCO INDUSTRIAL PLASTICS, INC"}]
[{"$f":"\"\"","v":""},null,{"$f":"IF('Vendor List'!$A1063=\"\",\"\",'Vendor List'!$A1063)","v":"EMMONS BUSINESS INTERIORS"}]
[{"$f":"\"\"","v":""},null,{"$f":"IF('Vendor List'!$A1064=\"\",\"\",'Vendor List'!$A1064)","v":"EMMONS STATIONERY & OFFICE SUP"}]
[{"$f":"\"\"","v":""},null,{"$f":"IF('Vendor List'!$A1065=\"\",\"\",'Vendor List'!$A1065)","v":"EMOTORSTORE.COM"}]
[{"$f":"\"\"","v":""},null,{"$f":"IF('Vendor List'!$A1066=\"\",\"\",'Vendor List'!$A1066)","v":"EMPIRE CLEANING & LAWN SERVICE"}]
[{"$f":"\"\"","v":""},null,{"$f":"IF('Vendor List'!$A1067=\"\",\"\",'Vendor List'!$A1067)","v":"EMPIRE INSTRUMENT CO"}]
[{"$f":"\"\"","v":""},null,{"$f":"IF('Vendor List'!$A1068=\"\",\"\",'Vendor List'!$A1068)","v":"ENCO MANUFACTURING COMPANY"}]
[{"$f":"\"\"","v":""},null,{"$f":"IF('Vendor List'!$A1069=\"\",\"\",'Vendor List'!$A1069)","v":"ENERQUIP ELECTRO-POLISH"}]
[{"$f":"\"\"","v":""},null,{"$f":"IF('Vendor List'!$A1070=\"\",\"\",'Vendor List'!$A1070)","v":"ENGELHART SPORTS CENTER"}]
[{"$f":"\"\"","v":""},null,{"$f":"IF('Vendor List'!$A1071=\"\",\"\",'Vendor List'!$A1071)","v":"ENGINE SPECIALTIES"}]
[{"$f":"\"\"","v":""},null,{"$f":"IF('Vendor List'!$A1072=\"\",\"\",'Vendor List'!$A1072)","v":"ENGINEERED PACKAGING SOLUTIONS"}]
[{"$f":"\"\"","v":""},null,{"$f":"IF('Vendor List'!$A1073=\"\",\"\",'Vendor List'!$A1073)","v":"ENGINEERING AUDIOVISUAL SERV."}]
[{"$f":"\"\"","v":""},null,{"$f":"IF('Vendor List'!$A1074=\"\",\"\",'Vendor List'!$A1074)","v":"ENGINEERING BOOKSTORE.COM"}]
[{"$f":"\"\"","v":""},null,{"$f":"IF('Vendor List'!$A1075=\"\",\"\",'Vendor List'!$A1075)","v":"ENGINEERING GEAR SYSTEMS CORP"}]
[{"$f":"\"\"","v":""},null,{"$f":"IF('Vendor List'!$A1076=\"\",\"\",'Vendor List'!$A1076)","v":"ENGINEERING OUTREACH"}]
[{"$f":"\"\"","v":""},null,{"$f":"IF('Vendor List'!$A1077=\"\",\"\",'Vendor List'!$A1077)","v":"ENGINEERING REGISTRATION"}]
[{"$f":"\"\"","v":""},null,{"$f":"IF('Vendor List'!$A1078=\"\",\"\",'Vendor List'!$A1078)","v":"ENGMAN TAYLOR CO INC"}]
[{"$f":"\"\"","v":""},null,{"$f":"IF('Vendor List'!$A1079=\"\",\"\",'Vendor List'!$A1079)","v":"ENGRAVING & TROPHY SPECIALISTS"}]
[{"$f":"\"\"","v":""},null,{"$f":"IF('Vendor List'!$A1080=\"\",\"\",'Vendor List'!$A1080)","v":"ENPRO INC"}]
[{"$f":"\"\"","v":""},null,{"$f":"IF('Vendor List'!$A1081=\"\",\"\",'Vendor List'!$A1081)","v":"ENTEGRIS"}]
[{"$f":"\"\"","v":""},null,{"$f":"IF('Vendor List'!$A1082=\"\",\"\",'Vendor List'!$A1082)","v":"ENTERPRISE RENT A CAR"}]
[{"$f":"\"\"","v":""},null,{"$f":"IF('Vendor List'!$A1083=\"\",\"\",'Vendor List'!$A1083)","v":"ENTERPRISE STEELFAB"}]
[{"$f":"\"\"","v":""},null,{"$f":"IF('Vendor List'!$A1084=\"\",\"\",'Vendor List'!$A1084)","v":"ENTHONE"}]
[{"$f":"\"\"","v":""},null,{"$f":"IF('Vendor List'!$A1085=\"\",\"\",'Vendor List'!$A1085)","v":"ENTHONE"}]
[{"$f":"\"\"","v":""},null,{"$f":"IF('Vendor List'!$A1086=\"\",\"\",'Vendor List'!$A1086)","v":"ENTHONE INC"}]
[{"$f":"\"\"","v":""},null,{"$f":"IF('Vendor List'!$A1087=\"\",\"\",'Vendor List'!$A1087)","v":"ENTRAN DEVICES INC"}]
[{"$f":"\"\"","v":""},null,{"$f":"IF('Vendor List'!$A1088=\"\",\"\",'Vendor List'!$A1088)","v":"ENTRE COMPUTER CENTER"}]
[{"$f":"\"\"","v":""},null,{"$f":"IF('Vendor List'!$A1089=\"\",\"\",'Vendor List'!$A1089)","v":"ENTRE COMPUTER CENTER"}]
[{"$f":"\"\"","v":""},null,{"$f":"IF('Vendor List'!$A1090=\"\",\"\",'Vendor List'!$A1090)","v":"ENTRUST TOOL AND DESIGN"}]
[{"$f":"\"\"","v":""},null,{"$f":"IF('Vendor List'!$A1091=\"\",\"\",'Vendor List'!$A1091)","v":"ENTWISTLE METAL FABRICATING"}]
[{"$f":"\"\"","v":""},null,{"$f":"IF('Vendor List'!$A1092=\"\",\"\",'Vendor List'!$A1092)","v":"ENVIRO-TECH SERVICES"}]
[{"$f":"\"\"","v":""},null,{"$f":"IF('Vendor List'!$A1093=\"\",\"\",'Vendor List'!$A1093)","v":"ENVIRON LABORATORIES LLC"}]
[{"$f":"\"\"","v":""},null,{"$f":"IF('Vendor List'!$A1094=\"\",\"\",'Vendor List'!$A1094)","v":"ENVIRONMENTAL PROTECTION & SAF"}]
[{"$f":"\"\"","v":""},null,{"$f":"IF('Vendor List'!$A1095=\"\",\"\",'Vendor List'!$A1095)","v":"EO JOHNSON"}]
[{"$f":"\"\"","v":""},null,{"$f":"IF('Vendor List'!$A1096=\"\",\"\",'Vendor List'!$A1096)","v":"EO JOHNSON"}]
[{"$f":"\"\"","v":""},null,{"$f":"IF('Vendor List'!$A1097=\"\",\"\",'Vendor List'!$A1097)","v":"EQUIP FOR TECH & SCIENCE"}]
[{"$f":"\"\"","v":""},null,{"$f":"IF('Vendor List'!$A1098=\"\",\"\",'Vendor List'!$A1098)","v":"EQUIPMENT MANAGEMENT & CO"}]
[{"$f":"\"\"","v":""},null,{"$f":"IF('Vendor List'!$A1099=\"\",\"\",'Vendor List'!$A1099)","v":"EQUIS INTERNATIONAL INC"}]
[{"$f":"\"\"","v":""},null,{"$f":"IF('Vendor List'!$A1100=\"\",\"\",'Vendor List'!$A1100)","v":"ERA REFRIGERATION"}]
[{"$f":"\"\"","v":""},null,{"$f":"IF('Vendor List'!$A1101=\"\",\"\",'Vendor List'!$A1101)","v":"ERGO IN DEMAND, INC"}]
[{"$f":"\"\"","v":""},null,{"$f":"IF('Vendor List'!$A1102=\"\",\"\",'Vendor List'!$A1102)","v":"ERICSSON NETWORK TECHNOLOGIES"}]
[{"$f":"\"\"","v":""},null,{"$f":"IF('Vendor List'!$A1103=\"\",\"\",'Vendor List'!$A1103)","v":"ERICSSON NETWORK TECHNOLOGIES"}]
[{"$f":"\"\"","v":""},null,{"$f":"IF('Vendor List'!$A1104=\"\",\"\",'Vendor List'!$A1104)","v":"ESCO PRODUCTS"}]
[{"$f":"\"\"","v":""},null,{"$f":"IF('Vendor List'!$A1105=\"\",\"\",'Vendor List'!$A1105)","v":"ESCO PRODUCTS"}]
[{"$f":"\"\"","v":""},null,{"$f":"IF('Vendor List'!$A1106=\"\",\"\",'Vendor List'!$A1106)","v":"ESMENA USA"}]
[{"$f":"\"\"","v":""},null,{"$f":"IF('Vendor List'!$A1107=\"\",\"\",'Vendor List'!$A1107)","v":"ESSEN HAUS"}]
[{"$f":"\"\"","v":""},null,{"$f":"IF('Vendor List'!$A1108=\"\",\"\",'Vendor List'!$A1108)","v":"ETG INC"}]
[{"$f":"\"\"","v":""},null,{"$f":"IF('Vendor List'!$A1109=\"\",\"\",'Vendor List'!$A1109)","v":"ETOMIC STEEL STRUCTURES INC"}]
[{"$f":"\"\"","v":""},null,{"$f":"IF('Vendor List'!$A1110=\"\",\"\",'Vendor List'!$A1110)","v":"EURO MACHINERY SPECIALISTS"}]
[{"$f":"\"\"","v":""},null,{"$f":"IF('Vendor List'!$A1111=\"\",\"\",'Vendor List'!$A1111)","v":"EUROCONGRES CONFERENCE MGMT"}]
[{"$f":"\"\"","v":""},null,{"$f":"IF('Vendor List'!$A1112=\"\",\"\",'Vendor List'!$A1112)","v":"EUROTHERM PROCESS AUTOMATION"}]
[{"$f":"\"\"","v":""},null,{"$f":"IF('Vendor List'!$A1113=\"\",\"\",'Vendor List'!$A1113)","v":"EVGA"}]
[{"$f":"\"\"","v":""},null,{"$f":"IF('Vendor List'!$A1114=\"\",\"\",'Vendor List'!$A1114)","v":"EVOLUENT"}]
[{"$f":"\"\"","v":""},null,{"$f":"IF('Vendor List'!$A1115=\"\",\"\",'Vendor List'!$A1115)","v":"EXACT SOFTWARE"}]
[{"$f":"\"\"","v":""},null,{"$f":"IF('Vendor List'!$A1116=\"\",\"\",'Vendor List'!$A1116)","v":"EXACT SOFTWARE"}]
[{"$f":"\"\"","v":""},null,{"$f":"IF('Vendor List'!$A1117=\"\",\"\",'Vendor List'!$A1117)","v":"EXCEL PRECISION"}]
[{"$f":"\"\"","v":""},null,{"$f":"IF('Vendor List'!$A1118=\"\",\"\",'Vendor List'!$A1118)","v":"EXEL GRAND HOTEL"}]
[{"$f":"\"\"","v":""},null,{"$f":"IF('Vendor List'!$A1119=\"\",\"\",'Vendor List'!$A1119)","v":"EXPOCON MGMT ASSOC INC"}]
[{"$f":"\"\"","v":""},null,{"$f":"IF('Vendor List'!$A1120=\"\",\"\",'Vendor List'!$A1120)","v":"EXPRESS SYSTEMS & PERIPHERALS"}]
[{"$f":"\"\"","v":""},null,{"$f":"IF('Vendor List'!$A1121=\"\",\"\",'Vendor List'!$A1121)","v":"EXTRUTECH PLASTICS INC"}]
[{"$f":"\"\"","v":""},null,{"$f":"IF('Vendor List'!$A1122=\"\",\"\",'Vendor List'!$A1122)","v":"EZ HOOK"}]
[{"$f":"\"\"","v":""},null,{"$f":"IF('Vendor List'!$A1123=\"\",\"\",'Vendor List'!$A1123)","v":"F CHART SOFTWARE"}]
[{"$f":"\"\"","v":""},null,{"$f":"IF('Vendor List'!$A1124=\"\",\"\",'Vendor List'!$A1124)","v":"FABCO EQUIPMENT"}]
[{"$f":"\"\"","v":""},null,{"$f":"IF('Vendor List'!$A1125=\"\",\"\",'Vendor List'!$A1125)","v":"FABCO RENTS"}]
[{"$f":"\"\"","v":""},null,{"$f":"IF('Vendor List'!$A1126=\"\",\"\",'Vendor List'!$A1126)","v":"FABRICATION SERVICES"}]
[{"$f":"\"\"","v":""},null,{"$f":"IF('Vendor List'!$A1127=\"\",\"\",'Vendor List'!$A1127)","v":"FACILITIES PLANNING & MANAGEME"}]
[{"$f":"\"\"","v":""},null,{"$f":"IF('Vendor List'!$A1128=\"\",\"\",'Vendor List'!$A1128)","v":"FACSS XXII"}]
[{"$f":"\"\"","v":""},null,{"$f":"IF('Vendor List'!$A1129=\"\",\"\",'Vendor List'!$A1129)","v":"FACTORY SUPPLIES COMPANY"}]
[{"$f":"\"\"","v":""},null,{"$f":"IF('Vendor List'!$A1130=\"\",\"\",'Vendor List'!$A1130)","v":"FADAL"}]
[{"$f":"\"\"","v":""},null,{"$f":"IF('Vendor List'!$A1131=\"\",\"\",'Vendor List'!$A1131)","v":"FALMAT"}]
[{"$f":"\"\"","v":""},null,{"$f":"IF('Vendor List'!$A1132=\"\",\"\",'Vendor List'!$A1132)","v":"FAR WEST TECHNOLOGY INC"}]
[{"$f":"\"\"","v":""},null,{"$f":"IF('Vendor List'!$A1133=\"\",\"\",'Vendor List'!$A1133)","v":"FARGO ELECTRONICS INCORP."}]
[{"$f":"\"\"","v":""},null,{"$f":"IF('Vendor List'!$A1134=\"\",\"\",'Vendor List'!$A1134)","v":"FARGO TANK & STEEL CO"}]
[{"$f":"\"\"","v":""},null,{"$f":"IF('Vendor List'!$A1135=\"\",\"\",'Vendor List'!$A1135)","v":"FARMERS COPPER LTD"}]
[{"$f":"\"\"","v":""},null,{"$f":"IF('Vendor List'!$A1136=\"\",\"\",'Vendor List'!$A1136)","v":"FARO TECHNOLOGIES INC"}]
[{"$f":"\"\"","v":""},null,{"$f":"IF('Vendor List'!$A1137=\"\",\"\",'Vendor List'!$A1137)","v":"FAST TRACK LOGISTICS"}]
[{"$f":"\"\"","v":""},null,{"$f":"IF('Vendor List'!$A1138=\"\",\"\",'Vendor List'!$A1138)","v":"FASTENAL"}]
[{"$f":"\"\"","v":""},null,{"$f":"IF('Vendor List'!$A1139=\"\",\"\",'Vendor List'!$A1139)","v":"FASTENAL CO"}]
[{"$f":"\"\"","v":""},null,{"$f":"IF('Vendor List'!$A1140=\"\",\"\",'Vendor List'!$A1140)","v":"FASTENATION INC"}]
[{"$f":"\"\"","v":""},null,{"$f":"IF('Vendor List'!$A1141=\"\",\"\",'Vendor List'!$A1141)","v":"FASTENER-EXPRESS.COM"}]
[{"$f":"\"\"","v":""},null,{"$f":"IF('Vendor List'!$A1142=\"\",\"\",'Vendor List'!$A1142)","v":"FASTLINE TRAILER MFG"}]
[{"$f":"\"\"","v":""},null,{"$f":"IF('Vendor List'!$A1143=\"\",\"\",'Vendor List'!$A1143)","v":"FAT JACKS"}]
[{"$f":"\"\"","v":""},null,{"$f":"IF('Vendor List'!$A1144=\"\",\"\",'Vendor List'!$A1144)","v":"FED OF ENVIRONMENTAL TECH"}]
[{"$f":"\"\"","v":""},null,{"$f":"IF('Vendor List'!$A1145=\"\",\"\",'Vendor List'!$A1145)","v":"FED TECH IN"}]
[{"$f":"\"\"","v":""},null,{"$f":"IF('Vendor List'!$A1146=\"\",\"\",'Vendor List'!$A1146)","v":"FEDERAL EXPRESS"}]
[{"$f":"\"\"","v":""},null,{"$f":"IF('Vendor List'!$A1147=\"\",\"\",'Vendor List'!$A1147)","v":"FEDERAL EXPRESS CORP"}]
[{"$f":"\"\"","v":""},null,{"$f":"IF('Vendor List'!$A1148=\"\",\"\",'Vendor List'!$A1148)","v":"FEDERAL FOAM"}]
[{"$f":"\"\"","v":""},null,{"$f":"IF('Vendor List'!$A1149=\"\",\"\",'Vendor List'!$A1149)","v":"FEDERAL PROCESS CORPORATION"}]
[{"$f":"\"\"","v":""},null,{"$f":"IF('Vendor List'!$A1150=\"\",\"\",'Vendor List'!$A1150)","v":"FEHRMAN CONSTRUCTION"}]
[{"$f":"\"\"","v":""},null,{"$f":"IF('Vendor List'!$A1151=\"\",\"\",'Vendor List'!$A1151)","v":"FEICO"}]
[{"$f":"\"\"","v":""},null,{"$f":"IF('Vendor List'!$A1152=\"\",\"\",'Vendor List'!$A1152)","v":"FERGUSON ENTERPRISES, INC."}]
[{"$f":"\"\"","v":""},null,{"$f":"IF('Vendor List'!$A1153=\"\",\"\",'Vendor List'!$A1153)","v":"FERGUSON-THRALL"}]
[{"$f":"\"\"","v":""},null,{"$f":"IF('Vendor List'!$A1154=\"\",\"\",'Vendor List'!$A1154)","v":"FERRULES DIRECT"}]
[{"$f":"\"\"","v":""},null,{"$f":"IF('Vendor List'!$A1155=\"\",\"\",'Vendor List'!$A1155)","v":"FEYZI, KEVAN"}]
[{"$f":"\"\"","v":""},null,{"$f":"IF('Vendor List'!$A1156=\"\",\"\",'Vendor List'!$A1156)","v":"FIBEROPTIC SYSTEMS INC"}]
[{"$f":"\"\"","v":""},null,{"$f":"IF('Vendor List'!$A1157=\"\",\"\",'Vendor List'!$A1157)","v":"FIBERTECH OPTICA"}]
[{"$f":"\"\"","v":""},null,{"$f":"IF('Vendor List'!$A1158=\"\",\"\",'Vendor List'!$A1158)","v":"FIL TECH INC"}]
[{"$f":"\"\"","v":""},null,{"$f":"IF('Vendor List'!$A1159=\"\",\"\",'Vendor List'!$A1159)","v":"FILMETRICS INC"}]
[{"$f":"\"\"","v":""},null,{"$f":"IF('Vendor List'!$A1160=\"\",\"\",'Vendor List'!$A1160)","v":"FILTER CONCEPTS"}]
[{"$f":"\"\"","v":""},null,{"$f":"IF('Vendor List'!$A1161=\"\",\"\",'Vendor List'!$A1161)","v":"FINLE TECHNOLOGIES"}]
[{"$f":"\"\"","v":""},null,{"$f":"IF('Vendor List'!$A1162=\"\",\"\",'Vendor List'!$A1162)","v":"FIORE COMPANIES"}]
[{"$f":"\"\"","v":""},null,{"$f":"IF('Vendor List'!$A1163=\"\",\"\",'Vendor List'!$A1163)","v":"FIRST RESPONDER PRODUCTS, INC."}]
[{"$f":"\"\"","v":""},null,{"$f":"IF('Vendor List'!$A1164=\"\",\"\",'Vendor List'!$A1164)","v":"FIRST SOURCE INTL"}]
[{"$f":"\"\"","v":""},null,{"$f":"IF('Vendor List'!$A1165=\"\",\"\",'Vendor List'!$A1165)","v":"FIRST SUPPLY"}]
[{"$f":"\"\"","v":""},null,{"$f":"IF('Vendor List'!$A1166=\"\",\"\",'Vendor List'!$A1166)","v":"FIRST TECH COMPUTER"}]
[{"$f":"\"\"","v":""},null,{"$f":"IF('Vendor List'!$A1167=\"\",\"\",'Vendor List'!$A1167)","v":"FIRST TECHNOLOGIES"}]
[{"$f":"\"\"","v":""},null,{"$f":"IF('Vendor List'!$A1168=\"\",\"\",'Vendor List'!$A1168)","v":"FISH LUMBER COMPANY"}]
[{"$f":"\"\"","v":""},null,{"$f":"IF('Vendor List'!$A1169=\"\",\"\",'Vendor List'!$A1169)","v":"FISHER SCIENTIFIC CO"}]
[{"$f":"\"\"","v":""},null,{"$f":"IF('Vendor List'!$A1170=\"\",\"\",'Vendor List'!$A1170)","v":"FIVE STAR TOOL WELDING CORP"}]
[{"$f":"\"\"","v":""},null,{"$f":"IF('Vendor List'!$A1171=\"\",\"\",'Vendor List'!$A1171)","v":"FJ KUBICHEK CO INC"}]
[{"$f":"\"\"","v":""},null,{"$f":"IF('Vendor List'!$A1172=\"\",\"\",'Vendor List'!$A1172)","v":"FJW OPTICAL SYSTEMS"}]
[{"$f":"\"\"","v":""},null,{"$f":"IF('Vendor List'!$A1173=\"\",\"\",'Vendor List'!$A1173)","v":"FLAMBEAU PLASTICS"}]
[{"$f":"\"\"","v":""},null,{"$f":"IF('Vendor List'!$A1174=\"\",\"\",'Vendor List'!$A1174)","v":"FLATWORK TECHNOLOGIES"}]
[{"$f":"\"\"","v":""},null,{"$f":"IF('Vendor List'!$A1175=\"\",\"\",'Vendor List'!$A1175)","v":"FLECKENSTEIN, EUSTES & ASSC"}]
[{"$f":"\"\"","v":""},null,{"$f":"IF('Vendor List'!$A1176=\"\",\"\",'Vendor List'!$A1176)","v":"FLEX-A-SEAL, INC"}]
[{"$f":"\"\"","v":""},null,{"$f":"IF('Vendor List'!$A1177=\"\",\"\",'Vendor List'!$A1177)","v":"FLO-CHEM VALVE CORP"}]
[{"$f":"\"\"","v":""},null,{"$f":"IF('Vendor List'!$A1178=\"\",\"\",'Vendor List'!$A1178)","v":"FLOWLINE COMPONENTS"}]
[{"$f":"\"\"","v":""},null,{"$f":"IF('Vendor List'!$A1179=\"\",\"\",'Vendor List'!$A1179)","v":"FLUID HANDLING INC"}]
[{"$f":"\"\"","v":""},null,{"$f":"IF('Vendor List'!$A1180=\"\",\"\",'Vendor List'!$A1180)","v":"FLUID HOSE & COUPLING"}]
[{"$f":"\"\"","v":""},null,{"$f":"IF('Vendor List'!$A1181=\"\",\"\",'Vendor List'!$A1181)","v":"FLUID SYSTEMS COMPONENTS INC"}]
[{"$f":"\"\"","v":""},null,{"$f":"IF('Vendor List'!$A1182=\"\",\"\",'Vendor List'!$A1182)","v":"FLUKE"}]
[{"$f":"\"\"","v":""},null,{"$f":"IF('Vendor List'!$A1183=\"\",\"\",'Vendor List'!$A1183)","v":"FLUKE ELECT. CORP."}]
[{"$f":"\"\"","v":""},null,{"$f":"IF('Vendor List'!$A1184=\"\",\"\",'Vendor List'!$A1184)","v":"FLUNO CENTER"}]
[{"$f":"\"\"","v":""},null,{"$f":"IF('Vendor List'!$A1185=\"\",\"\",'Vendor List'!$A1185)","v":"FLUOR GLAS"}]
[{"$f":"\"\"","v":""},null,{"$f":"IF('Vendor List'!$A1186=\"\",\"\",'Vendor List'!$A1186)","v":"FLUOROWARE, INC."}]
[{"$f":"\"\"","v":""},null,{"$f":"IF('Vendor List'!$A1187=\"\",\"\",'Vendor List'!$A1187)","v":"FLUORTUBING USA"}]
[{"$f":"\"\"","v":""},null,{"$f":"IF('Vendor List'!$A1188=\"\",\"\",'Vendor List'!$A1188)","v":"FLYING FISH GRAPHICS"}]
[{"$f":"\"\"","v":""},null,{"$f":"IF('Vendor List'!$A1189=\"\",\"\",'Vendor List'!$A1189)","v":"FORD TOOL & MACHINING INC"}]
[{"$f":"\"\"","v":""},null,{"$f":"IF('Vendor List'!$A1190=\"\",\"\",'Vendor List'!$A1190)","v":"FORESTRY SUPPLIERS INC"}]
[{"$f":"\"\"","v":""},null,{"$f":"IF('Vendor List'!$A1191=\"\",\"\",'Vendor List'!$A1191)","v":"FORT ATKINSON HOSPITAL"}]
[{"$f":"\"\"","v":""},null,{"$f":"IF('Vendor List'!$A1192=\"\",\"\",'Vendor List'!$A1192)","v":"FOSDAL HOME BAKERY"}]
[{"$f":"\"\"","v":""},null,{"$f":"IF('Vendor List'!$A1193=\"\",\"\",'Vendor List'!$A1193)","v":"FOTRONIC CORP"}]
[{"$f":"\"\"","v":""},null,{"$f":"IF('Vendor List'!$A1194=\"\",\"\",'Vendor List'!$A1194)","v":"FOULKE RUBBER PRODUCTS, INC"}]
[{"$f":"\"\"","v":""},null,{"$f":"IF('Vendor List'!$A1195=\"\",\"\",'Vendor List'!$A1195)","v":"FOX AIR SPECIALISTS LTD"}]
[{"$f":"\"\"","v":""},null,{"$f":"IF('Vendor List'!$A1196=\"\",\"\",'Vendor List'!$A1196)","v":"FOX RIVER GRAPHICS"}]
[{"$f":"\"\"","v":""},null,{"$f":"IF('Vendor List'!$A1197=\"\",\"\",'Vendor List'!$A1197)","v":"FOX STAMP"}]
[{"$f":"\"\"","v":""},null,{"$f":"IF('Vendor List'!$A1198=\"\",\"\",'Vendor List'!$A1198)","v":"FOX VALLEY SPRING COMPANY"}]
[{"$f":"\"\"","v":""},null,{"$f":"IF('Vendor List'!$A1199=\"\",\"\",'Vendor List'!$A1199)","v":"FOX WELDING"}]
[{"$f":"\"\"","v":""},null,{"$f":"IF('Vendor List'!$A1200=\"\",\"\",'Vendor List'!$A1200)","v":"FOX WORLD TRAVEL"}]
[{"$f":"\"\"","v":""},null,{"$f":"IF('Vendor List'!$A1201=\"\",\"\",'Vendor List'!$A1201)","v":"FRANKLIN INTERNATIONAL INSTITU"}]
[{"$f":"\"\"","v":""},null,{"$f":"IF('Vendor List'!$A1202=\"\",\"\",'Vendor List'!$A1202)","v":"FRAUNHOFER INST FOR WERKSTOFF"}]
[{"$f":"\"\"","v":""},null,{"$f":"IF('Vendor List'!$A1203=\"\",\"\",'Vendor List'!$A1203)","v":"FRED MIDDLETON"}]
[{"$f":"\"\"","v":""},null,{"$f":"IF('Vendor List'!$A1204=\"\",\"\",'Vendor List'!$A1204)","v":"FRED PRYOR SEMINARS"}]
[{"$f":"\"\"","v":""},null,{"$f":"IF('Vendor List'!$A1205=\"\",\"\",'Vendor List'!$A1205)","v":"FRED PRYOR SEMINARS"}]
[{"$f":"\"\"","v":""},null,{"$f":"IF('Vendor List'!$A1206=\"\",\"\",'Vendor List'!$A1206)","v":"FREDERICK,JASMINE"}]
[{"$f":"\"\"","v":""},null,{"$f":"IF('Vendor List'!$A1207=\"\",\"\",'Vendor List'!$A1207)","v":"FREELAND PRODUCTS"}]
[{"$f":"\"\"","v":""},null,{"$f":"IF('Vendor List'!$A1208=\"\",\"\",'Vendor List'!$A1208)","v":"FREMONT INDUSTRIES"}]
[{"$f":"\"\"","v":""},null,{"$f":"IF('Vendor List'!$A1209=\"\",\"\",'Vendor List'!$A1209)","v":"FRESH TRACKS MAP STORE"}]
[{"$f":"\"\"","v":""},null,{"$f":"IF('Vendor List'!$A1210=\"\",\"\",'Vendor List'!$A1210)","v":"FRONTIER FS"}]
[{"$f":"\"\"","v":""},null,{"$f":"IF('Vendor List'!$A1211=\"\",\"\",'Vendor List'!$A1211)","v":"FRY STEEL COMPANY"}]
[{"$f":"\"\"","v":""},null,{"$f":"IF('Vendor List'!$A1212=\"\",\"\",'Vendor List'!$A1212)","v":"FRYER CO"}]
[{"$f":"\"\"","v":""},null,{"$f":"IF('Vendor List'!$A1213=\"\",\"\",'Vendor List'!$A1213)","v":"FRYER MACHINE SYSTEMS"}]
[{"$f":"\"\"","v":""},null,{"$f":"IF('Vendor List'!$A1214=\"\",\"\",'Vendor List'!$A1214)","v":"FS INDUSTRIES"}]
[{"$f":"\"\"","v":""},null,{"$f":"IF('Vendor List'!$A1215=\"\",\"\",'Vendor List'!$A1215)","v":"FULL COMPASS SYSTEMS"}]
[{"$f":"\"\"","v":""},null,{"$f":"IF('Vendor List'!$A1216=\"\",\"\",'Vendor List'!$A1216)","v":"FUREY FILTER & PUMP"}]
[{"$f":"\"\"","v":""},null,{"$f":"IF('Vendor List'!$A1217=\"\",\"\",'Vendor List'!$A1217)","v":"FURLONG INDUSTRIAL SYSTEMS INC"}]
[{"$f":"\"\"","v":""},null,{"$f":"IF('Vendor List'!$A1218=\"\",\"\",'Vendor List'!$A1218)","v":"FUTABA CORP"}]
[{"$f":"\"\"","v":""},null,{"$f":"IF('Vendor List'!$A1219=\"\",\"\",'Vendor List'!$A1219)","v":"FUTURE DIGITAL SCIENTIFIC"}]
[{"$f":"\"\"","v":""},null,{"$f":"IF('Vendor List'!$A1220=\"\",\"\",'Vendor List'!$A1220)","v":"FUTURE ELECTRONICS"}]
[{"$f":"\"\"","v":""},null,{"$f":"IF('Vendor List'!$A1221=\"\",\"\",'Vendor List'!$A1221)","v":"FWB,INC"}]
[{"$f":"\"\"","v":""},null,{"$f":"IF('Vendor List'!$A1222=\"\",\"\",'Vendor List'!$A1222)","v":"G & B MAG / SRN"}]
[{"$f":"\"\"","v":""},null,{"$f":"IF('Vendor List'!$A1223=\"\",\"\",'Vendor List'!$A1223)","v":"G E RENTAL & LEASE"}]
[{"$f":"\"\"","v":""},null,{"$f":"IF('Vendor List'!$A1224=\"\",\"\",'Vendor List'!$A1224)","v":"G3 VISA & PASSPORTS, INC"}]
[{"$f":"\"\"","v":""},null,{"$f":"IF('Vendor List'!$A1225=\"\",\"\",'Vendor List'!$A1225)","v":"G3 VISAS & PASSPORTS"}]
[{"$f":"\"\"","v":""},null,{"$f":"IF('Vendor List'!$A1226=\"\",\"\",'Vendor List'!$A1226)","v":"GALCO INDUSTRIAL ELECTRONICS"}]
[{"$f":"\"\"","v":""},null,{"$f":"IF('Vendor List'!$A1227=\"\",\"\",'Vendor List'!$A1227)","v":"GALIL"}]
[{"$f":"\"\"","v":""},null,{"$f":"IF('Vendor List'!$A1228=\"\",\"\",'Vendor List'!$A1228)","v":"GALIL MOTION CONTROL"}]
[{"$f":"\"\"","v":""},null,{"$f":"IF('Vendor List'!$A1229=\"\",\"\",'Vendor List'!$A1229)","v":"GALILEO ELECTRO OPTICS CORP"}]
[{"$f":"\"\"","v":""},null,{"$f":"IF('Vendor List'!$A1230=\"\",\"\",'Vendor List'!$A1230)","v":"GAMMA VACUUM"}]
[{"$f":"\"\"","v":""},null,{"$f":"IF('Vendor List'!$A1231=\"\",\"\",'Vendor List'!$A1231)","v":"GANDER MOUNTAIN"}]
[{"$f":"\"\"","v":""},null,{"$f":"IF('Vendor List'!$A1232=\"\",\"\",'Vendor List'!$A1232)","v":"GANTOIS INDUSTRIES"}]
[{"$f":"\"\"","v":""},null,{"$f":"IF('Vendor List'!$A1233=\"\",\"\",'Vendor List'!$A1233)","v":"GARD SPECIALIST CO"}]
[{"$f":"\"\"","v":""},null,{"$f":"IF('Vendor List'!$A1234=\"\",\"\",'Vendor List'!$A1234)","v":"GARDNER SPRING  INC"}]
[{"$f":"\"\"","v":""},null,{"$f":"IF('Vendor List'!$A1235=\"\",\"\",'Vendor List'!$A1235)","v":"GARDTEC  INC"}]
[{"$f":"\"\"","v":""},null,{"$f":"IF('Vendor List'!$A1236=\"\",\"\",'Vendor List'!$A1236)","v":"GARDTEC INC"}]
[{"$f":"\"\"","v":""},null,{"$f":"IF('Vendor List'!$A1237=\"\",\"\",'Vendor List'!$A1237)","v":"GARLOCK HELICOFLEX"}]
[{"$f":"\"\"","v":""},null,{"$f":"IF('Vendor List'!$A1238=\"\",\"\",'Vendor List'!$A1238)","v":"GARY PLASTIC PACKAGING CORP"}]
[{"$f":"\"\"","v":""},null,{"$f":"IF('Vendor List'!$A1239=\"\",\"\",'Vendor List'!$A1239)","v":"GARY STEEL"}]
[{"$f":"\"\"","v":""},null,{"$f":"IF('Vendor List'!$A1240=\"\",\"\",'Vendor List'!$A1240)","v":"GASCOIGNE"}]
[{"$f":"\"\"","v":""},null,{"$f":"IF('Vendor List'!$A1241=\"\",\"\",'Vendor List'!$A1241)","v":"GATEWAY 2000"}]
[{"$f":"\"\"","v":""},null,{"$f":"IF('Vendor List'!$A1242=\"\",\"\",'Vendor List'!$A1242)","v":"GATEWAY 2000"}]
[{"$f":"\"\"","v":""},null,{"$f":"IF('Vendor List'!$A1243=\"\",\"\",'Vendor List'!$A1243)","v":"GAUMER COMPANY"}]
[{"$f":"\"\"","v":""},null,{"$f":"IF('Vendor List'!$A1244=\"\",\"\",'Vendor List'!$A1244)","v":"GAYLORD CATERING"}]
[{"$f":"\"\"","v":""},null,{"$f":"IF('Vendor List'!$A1245=\"\",\"\",'Vendor List'!$A1245)","v":"GE DRUCK"}]
[{"$f":"\"\"","v":""},null,{"$f":"IF('Vendor List'!$A1246=\"\",\"\",'Vendor List'!$A1246)","v":"GE SUPERABRASIVES"}]
[{"$f":"\"\"","v":""},null,{"$f":"IF('Vendor List'!$A1247=\"\",\"\",'Vendor List'!$A1247)","v":"GELEST"}]
[{"$f":"\"\"","v":""},null,{"$f":"IF('Vendor List'!$A1248=\"\",\"\",'Vendor List'!$A1248)","v":"GEMINI PLASTICS INC"}]
[{"$f":"\"\"","v":""},null,{"$f":"IF('Vendor List'!$A1249=\"\",\"\",'Vendor List'!$A1249)","v":"GEMS SENSORS INC"}]
[{"$f":"\"\"","v":""},null,{"$f":"IF('Vendor List'!$A1250=\"\",\"\",'Vendor List'!$A1250)","v":"GENERAL BINDING CORPORATION"}]
[{"$f":"\"\"","v":""},null,{"$f":"IF('Vendor List'!$A1251=\"\",\"\",'Vendor List'!$A1251)","v":"GENERAL COMMUNICATIONS INC"}]
[{"$f":"\"\"","v":""},null,{"$f":"IF('Vendor List'!$A1252=\"\",\"\",'Vendor List'!$A1252)","v":"GENERAL DEVICES"}]
[{"$f":"\"\"","v":""},null,{"$f":"IF('Vendor List'!$A1253=\"\",\"\",'Vendor List'!$A1253)","v":"GENERAL INDUSTRIAL SUPPLY"}]
[{"$f":"\"\"","v":""},null,{"$f":"IF('Vendor List'!$A1254=\"\",\"\",'Vendor List'!$A1254)","v":"GENESIS AUTOMATION"}]
[{"$f":"\"\"","v":""},null,{"$f":"IF('Vendor List'!$A1255=\"\",\"\",'Vendor List'!$A1255)","v":"GENEVA UPHOLSTERING CORPORATIO"}]
[{"$f":"\"\"","v":""},null,{"$f":"IF('Vendor List'!$A1256=\"\",\"\",'Vendor List'!$A1256)","v":"GERBER STORE"}]
[{"$f":"\"\"","v":""},null,{"$f":"IF('Vendor List'!$A1257=\"\",\"\",'Vendor List'!$A1257)","v":"GETZS INC"}]
[{"$f":"\"\"","v":""},null,{"$f":"IF('Vendor List'!$A1258=\"\",\"\",'Vendor List'!$A1258)","v":"GEXPRO"}]
[{"$f":"\"\"","v":""},null,{"$f":"IF('Vendor List'!$A1259=\"\",\"\",'Vendor List'!$A1259)","v":"GI SUPPLY"}]
[{"$f":"\"\"","v":""},null,{"$f":"IF('Vendor List'!$A1260=\"\",\"\",'Vendor List'!$A1260)","v":"GIBBS WIRE & STEEL"}]
[{"$f":"\"\"","v":""},null,{"$f":"IF('Vendor List'!$A1261=\"\",\"\",'Vendor List'!$A1261)","v":"GIBSON RESEARCH CORP"}]
[{"$f":"\"\"","v":""},null,{"$f":"IF('Vendor List'!$A1262=\"\",\"\",'Vendor List'!$A1262)","v":"GIDDINGS & LEWIS"}]
[{"$f":"\"\"","v":""},null,{"$f":"IF('Vendor List'!$A1263=\"\",\"\",'Vendor List'!$A1263)","v":"GIGAHERTZ-OPTIK INC"}]
[{"$f":"\"\"","v":""},null,{"$f":"IF('Vendor List'!$A1264=\"\",\"\",'Vendor List'!$A1264)","v":"GILLWARE INC."}]
[{"$f":"\"\"","v":""},null,{"$f":"IF('Vendor List'!$A1265=\"\",\"\",'Vendor List'!$A1265)","v":"GISCO"}]
[{"$f":"\"\"","v":""},null,{"$f":"IF('Vendor List'!$A1266=\"\",\"\",'Vendor List'!$A1266)","v":"GLACIER LANDSCAPE CONTRACTORS"}]
[{"$f":"\"\"","v":""},null,{"$f":"IF('Vendor List'!$A1267=\"\",\"\",'Vendor List'!$A1267)","v":"GLAS-COL"}]
[{"$f":"\"\"","v":""},null,{"$f":"IF('Vendor List'!$A1268=\"\",\"\",'Vendor List'!$A1268)","v":"GLASS NICKEL PIZZA"}]
[{"$f":"\"\"","v":""},null,{"$f":"IF('Vendor List'!$A1269=\"\",\"\",'Vendor List'!$A1269)","v":"GLASSMAN HIGH VOLTAGE INC"}]
[{"$f":"\"\"","v":""},null,{"$f":"IF('Vendor List'!$A1270=\"\",\"\",'Vendor List'!$A1270)","v":"GLEASON REEL CORP."}]
[{"$f":"\"\"","v":""},null,{"$f":"IF('Vendor List'!$A1271=\"\",\"\",'Vendor List'!$A1271)","v":"GLENAIR INC"}]
[{"$f":"\"\"","v":""},null,{"$f":"IF('Vendor List'!$A1272=\"\",\"\",'Vendor List'!$A1272)","v":"GLOBAL COMPUTER SUPPLIES"}]
[{"$f":"\"\"","v":""},null,{"$f":"IF('Vendor List'!$A1273=\"\",\"\",'Vendor List'!$A1273)","v":"GLOBAL COMPUTER SUPPLIES"}]
[{"$f":"\"\"","v":""},null,{"$f":"IF('Vendor List'!$A1274=\"\",\"\",'Vendor List'!$A1274)","v":"GLOBAL ENGINEERING DOCUMENTS"}]
[{"$f":"\"\"","v":""},null,{"$f":"IF('Vendor List'!$A1275=\"\",\"\",'Vendor List'!$A1275)","v":"GLOBAL EQUIPMENT CO"}]
[{"$f":"\"\"","v":""},null,{"$f":"IF('Vendor List'!$A1276=\"\",\"\",'Vendor List'!$A1276)","v":"GLOBAL MICRO X PERTS"}]
[{"$f":"\"\"","v":""},null,{"$f":"IF('Vendor List'!$A1277=\"\",\"\",'Vendor List'!$A1277)","v":"GLOBAL VILLAGE"}]
[{"$f":"\"\"","v":""},null,{"$f":"IF('Vendor List'!$A1278=\"\",\"\",'Vendor List'!$A1278)","v":"GLOBAL WATER INSTRUMENTATION"}]
[{"$f":"\"\"","v":""},null,{"$f":"IF('Vendor List'!$A1279=\"\",\"\",'Vendor List'!$A1279)","v":"GLOBALNET SERVICES INC"}]
[{"$f":"\"\"","v":""},null,{"$f":"IF('Vendor List'!$A1280=\"\",\"\",'Vendor List'!$A1280)","v":"GLOBALONE TECHNOLOGY"}]
[{"$f":"\"\"","v":""},null,{"$f":"IF('Vendor List'!$A1281=\"\",\"\",'Vendor List'!$A1281)","v":"GLOBE MANUFACTURING SALES INC"}]
[{"$f":"\"\"","v":""},null,{"$f":"IF('Vendor List'!$A1282=\"\",\"\",'Vendor List'!$A1282)","v":"GMW ASSOCIATES"}]
[{"$f":"\"\"","v":""},null,{"$f":"IF('Vendor List'!$A1283=\"\",\"\",'Vendor List'!$A1283)","v":"GO DSP"}]
[{"$f":"\"\"","v":""},null,{"$f":"IF('Vendor List'!$A1284=\"\",\"\",'Vendor List'!$A1284)","v":"GOODFELLOW CORP"}]
[{"$f":"\"\"","v":""},null,{"$f":"IF('Vendor List'!$A1285=\"\",\"\",'Vendor List'!$A1285)","v":"GOOGLE"}]
[{"$f":"\"\"","v":""},null,{"$f":"IF('Vendor List'!$A1286=\"\",\"\",'Vendor List'!$A1286)","v":"GOOGLEGEAR.COM"}]
[{"$f":"\"\"","v":""},null,{"$f":"IF('Vendor List'!$A1287=\"\",\"\",'Vendor List'!$A1287)","v":"GORDON ENGINEERING INC"}]
[{"$f":"\"\"","v":""},null,{"$f":"IF('Vendor List'!$A1288=\"\",\"\",'Vendor List'!$A1288)","v":"GORDON FLESCH CO INC"}]
[{"$f":"\"\"","v":""},null,{"$f":"IF('Vendor List'!$A1289=\"\",\"\",'Vendor List'!$A1289)","v":"GORDON HATCH CO"}]
[{"$f":"\"\"","v":""},null,{"$f":"IF('Vendor List'!$A1290=\"\",\"\",'Vendor List'!$A1290)","v":"GOUGHS INSTITUTE OF TRAINING"}]
[{"$f":"\"\"","v":""},null,{"$f":"IF('Vendor List'!$A1291=\"\",\"\",'Vendor List'!$A1291)","v":"GOVERNMENT LIQUIDATION, LLC"}]
[{"$f":"\"\"","v":""},null,{"$f":"IF('Vendor List'!$A1292=\"\",\"\",'Vendor List'!$A1292)","v":"GP50 NEW YORK LIMITED"}]
[{"$f":"\"\"","v":""},null,{"$f":"IF('Vendor List'!$A1293=\"\",\"\",'Vendor List'!$A1293)","v":"GRABBER PERFORMANCE GROUP"}]
[{"$f":"\"\"","v":""},null,{"$f":"IF('Vendor List'!$A1294=\"\",\"\",'Vendor List'!$A1294)","v":"GRAINGER"}]
[{"$f":"\"\"","v":""},null,{"$f":"IF('Vendor List'!$A1295=\"\",\"\",'Vendor List'!$A1295)","v":"GRAINGER CUSTOM SOLUTIONS"}]
[{"$f":"\"\"","v":""},null,{"$f":"IF('Vendor List'!$A1296=\"\",\"\",'Vendor List'!$A1296)","v":"GRAND GENEVA RESORT"}]
[{"$f":"\"\"","v":""},null,{"$f":"IF('Vendor List'!$A1297=\"\",\"\",'Vendor List'!$A1297)","v":"GRANITE DIGITAL"}]
[{"$f":"\"\"","v":""},null,{"$f":"IF('Vendor List'!$A1298=\"\",\"\",'Vendor List'!$A1298)","v":"GRANT ELECTRONICS"}]
[{"$f":"\"\"","v":""},null,{"$f":"IF('Vendor List'!$A1299=\"\",\"\",'Vendor List'!$A1299)","v":"GRANVILLE PHILLIPS CO"}]
[{"$f":"\"\"","v":""},null,{"$f":"IF('Vendor List'!$A1300=\"\",\"\",'Vendor List'!$A1300)","v":"GRAPHIC CONTROLS"}]
[{"$f":"\"\"","v":""},null,{"$f":"IF('Vendor List'!$A1301=\"\",\"\",'Vendor List'!$A1301)","v":"GRAPHICS SYSTEMS CORP"}]
[{"$f":"\"\"","v":""},null,{"$f":"IF('Vendor List'!$A1302=\"\",\"\",'Vendor List'!$A1302)","v":"GRAPHICS TECHNOLOGIES INC"}]
[{"$f":"\"\"","v":""},null,{"$f":"IF('Vendor List'!$A1303=\"\",\"\",'Vendor List'!$A1303)","v":"GRASEBY ANDERSON"}]
[{"$f":"\"\"","v":""},null,{"$f":"IF('Vendor List'!$A1304=\"\",\"\",'Vendor List'!$A1304)","v":"GRAVOGRAPH - NEW HERMES"}]
[{"$f":"\"\"","v":""},null,{"$f":"IF('Vendor List'!$A1305=\"\",\"\",'Vendor List'!$A1305)","v":"GRAYBAR"}]
[{"$f":"\"\"","v":""},null,{"$f":"IF('Vendor List'!$A1306=\"\",\"\",'Vendor List'!$A1306)","v":"GRAYBAR ELECTRIC CO INC"}]
[{"$f":"\"\"","v":""},null,{"$f":"IF('Vendor List'!$A1307=\"\",\"\",'Vendor List'!$A1307)","v":"GRAYBAR ELECTRIC COMPANY"}]
[{"$f":"\"\"","v":""},null,{"$f":"IF('Vendor List'!$A1308=\"\",\"\",'Vendor List'!$A1308)","v":"GRAYHILL"}]
[{"$f":"\"\"","v":""},null,{"$f":"IF('Vendor List'!$A1309=\"\",\"\",'Vendor List'!$A1309)","v":"GRAYTEX PAPER"}]
[{"$f":"\"\"","v":""},null,{"$f":"IF('Vendor List'!$A1310=\"\",\"\",'Vendor List'!$A1310)","v":"GREAT BIG PICTURES"}]
[{"$f":"\"\"","v":""},null,{"$f":"IF('Vendor List'!$A1311=\"\",\"\",'Vendor List'!$A1311)","v":"GREAT LAKES COMPUTER SOURCE IN"}]
[{"$f":"\"\"","v":""},null,{"$f":"IF('Vendor List'!$A1312=\"\",\"\",'Vendor List'!$A1312)","v":"GREAT LAKES RUBBER & SUPPLY"}]
[{"$f":"\"\"","v":""},null,{"$f":"IF('Vendor List'!$A1313=\"\",\"\",'Vendor List'!$A1313)","v":"GREAT LAKES UNDERGROUND EQUIP"}]
[{"$f":"\"\"","v":""},null,{"$f":"IF('Vendor List'!$A1314=\"\",\"\",'Vendor List'!$A1314)","v":"GREEN SPRING COMPUTING"}]
[{"$f":"\"\"","v":""},null,{"$f":"IF('Vendor List'!$A1315=\"\",\"\",'Vendor List'!$A1315)","v":"GREENBRIER & RUSSEL, INC."}]
[{"$f":"\"\"","v":""},null,{"$f":"IF('Vendor List'!$A1316=\"\",\"\",'Vendor List'!$A1316)","v":"GREENE TWEED MED & BIOTECH"}]
[{"$f":"\"\"","v":""},null,{"$f":"IF('Vendor List'!$A1317=\"\",\"\",'Vendor List'!$A1317)","v":"GREG ANDERSON PHOTOGRAPHY"}]
[{"$f":"\"\"","v":""},null,{"$f":"IF('Vendor List'!$A1318=\"\",\"\",'Vendor List'!$A1318)","v":"GREG VLASAK"}]
[{"$f":"\"\"","v":""},null,{"$f":"IF('Vendor List'!$A1319=\"\",\"\",'Vendor List'!$A1319)","v":"GRIMM BOOK BINDERY"}]
[{"$f":"\"\"","v":""},null,{"$f":"IF('Vendor List'!$A1320=\"\",\"\",'Vendor List'!$A1320)","v":"GRIMM BOOK BINDERY"}]
[{"$f":"\"\"","v":""},null,{"$f":"IF('Vendor List'!$A1321=\"\",\"\",'Vendor List'!$A1321)","v":"GRIZZLY INDUSTRIAL  INC"}]
[{"$f":"\"\"","v":""},null,{"$f":"IF('Vendor List'!$A1322=\"\",\"\",'Vendor List'!$A1322)","v":"GROSS AUTOMATION"}]
[{"$f":"\"\"","v":""},null,{"$f":"IF('Vendor List'!$A1323=\"\",\"\",'Vendor List'!$A1323)","v":"GSI LUMONICS"}]
[{"$f":"\"\"","v":""},null,{"$f":"IF('Vendor List'!$A1324=\"\",\"\",'Vendor List'!$A1324)","v":"GSI MICRO E SYSTEMS"}]
[{"$f":"\"\"","v":""},null,{"$f":"IF('Vendor List'!$A1325=\"\",\"\",'Vendor List'!$A1325)","v":"GTC AUTO PARTS"}]
[{"$f":"\"\"","v":""},null,{"$f":"IF('Vendor List'!$A1326=\"\",\"\",'Vendor List'!$A1326)","v":"GTD INC OF ILLINOIS"}]
[{"$f":"\"\"","v":""},null,{"$f":"IF('Vendor List'!$A1327=\"\",\"\",'Vendor List'!$A1327)","v":"GTD INC OF ILLINOIS"}]
[{"$f":"\"\"","v":""},null,{"$f":"IF('Vendor List'!$A1328=\"\",\"\",'Vendor List'!$A1328)","v":"GURLEY PRECISION"}]
[{"$f":"\"\"","v":""},null,{"$f":"IF('Vendor List'!$A1329=\"\",\"\",'Vendor List'!$A1329)","v":"GUSTAVE A LARSON CO"}]
[{"$f":"\"\"","v":""},null,{"$f":"IF('Vendor List'!$A1330=\"\",\"\",'Vendor List'!$A1330)","v":"GWEN'S FRAME SHOP"}]
[{"$f":"\"\"","v":""},null,{"$f":"IF('Vendor List'!$A1331=\"\",\"\",'Vendor List'!$A1331)","v":"GWS SUPPLY INC"}]
[{"$f":"\"\"","v":""},null,{"$f":"IF('Vendor List'!$A1332=\"\",\"\",'Vendor List'!$A1332)","v":"GYPSUM SUPPLY CO"}]
[{"$f":"\"\"","v":""},null,{"$f":"IF('Vendor List'!$A1333=\"\",\"\",'Vendor List'!$A1333)","v":"H & H INDUSTRIES"}]
[{"$f":"\"\"","v":""},null,{"$f":"IF('Vendor List'!$A1334=\"\",\"\",'Vendor List'!$A1334)","v":"H & H INDUSTRIES"}]
[{"$f":"\"\"","v":""},null,{"$f":"IF('Vendor List'!$A1335=\"\",\"\",'Vendor List'!$A1335)","v":"H B FULLER COMPANY"}]
[{"$f":"\"\"","v":""},null,{"$f":"IF('Vendor List'!$A1336=\"\",\"\",'Vendor List'!$A1336)","v":"H DERKSEN"}]
[{"$f":"\"\"","v":""},null,{"$f":"IF('Vendor List'!$A1337=\"\",\"\",'Vendor List'!$A1337)","v":"HACH COMPANY"}]
[{"$f":"\"\"","v":""},null,{"$f":"IF('Vendor List'!$A1338=\"\",\"\",'Vendor List'!$A1338)","v":"HAGEMEYER"}]
[{"$f":"\"\"","v":""},null,{"$f":"IF('Vendor List'!$A1339=\"\",\"\",'Vendor List'!$A1339)","v":"HAL SHARPE ASSOCIATES, INC"}]
[{"$f":"\"\"","v":""},null,{"$f":"IF('Vendor List'!$A1340=\"\",\"\",'Vendor List'!$A1340)","v":"HALLMAN LINDSAY PAINTS"}]
[{"$f":"\"\"","v":""},null,{"$f":"IF('Vendor List'!$A1341=\"\",\"\",'Vendor List'!$A1341)","v":"HALRON OIL CO INC"}]
[{"$f":"\"\"","v":""},null,{"$f":"IF('Vendor List'!$A1342=\"\",\"\",'Vendor List'!$A1342)","v":"HALVERSON'S RESTAURANT"}]
[{"$f":"\"\"","v":""},null,{"$f":"IF('Vendor List'!$A1343=\"\",\"\",'Vendor List'!$A1343)","v":"HALVERSON'S RESTAURANT"}]
[{"$f":"\"\"","v":""},null,{"$f":"IF('Vendor List'!$A1344=\"\",\"\",'Vendor List'!$A1344)","v":"HAM RADIO OUTLET"}]
[{"$f":"\"\"","v":""},null,{"$f":"IF('Vendor List'!$A1345=\"\",\"\",'Vendor List'!$A1345)","v":"HAMAMATSU CORP"}]
[{"$f":"\"\"","v":""},null,{"$f":"IF('Vendor List'!$A1346=\"\",\"\",'Vendor List'!$A1346)","v":"HAMAMATSU CORP"}]
[{"$f":"\"\"","v":""},null,{"$f":"IF('Vendor List'!$A1347=\"\",\"\",'Vendor List'!$A1347)","v":"HAMAMATSU CORP"}]
[{"$f":"\"\"","v":""},null,{"$f":"IF('Vendor List'!$A1348=\"\",\"\",'Vendor List'!$A1348)","v":"HAMILTON AVNET ELECTRONICS"}]
[{"$f":"\"\"","v":""},null,{"$f":"IF('Vendor List'!$A1349=\"\",\"\",'Vendor List'!$A1349)","v":"HAMMOND MFG CO INC"}]
[{"$f":"\"\"","v":""},null,{"$f":"IF('Vendor List'!$A1350=\"\",\"\",'Vendor List'!$A1350)","v":"HANDISHOP INDUSTRIES INC"}]
[{"$f":"\"\"","v":""},null,{"$f":"IF('Vendor List'!$A1351=\"\",\"\",'Vendor List'!$A1351)","v":"HARBOR FREIGHT - MADISON"}]
[{"$f":"\"\"","v":""},null,{"$f":"IF('Vendor List'!$A1352=\"\",\"\",'Vendor List'!$A1352)","v":"HARBOR FREIGHT TOOLS"}]
[{"$f":"\"\"","v":""},null,{"$f":"IF('Vendor List'!$A1353=\"\",\"\",'Vendor List'!$A1353)","v":"HARBOR HOUSE CORP APT"}]
[{"$f":"\"\"","v":""},null,{"$f":"IF('Vendor List'!$A1354=\"\",\"\",'Vendor List'!$A1354)","v":"HARDCAT PTY LTD"}]
[{"$f":"\"\"","v":""},null,{"$f":"IF('Vendor List'!$A1355=\"\",\"\",'Vendor List'!$A1355)","v":"HARDER INC"}]
[{"$f":"\"\"","v":""},null,{"$f":"IF('Vendor List'!$A1356=\"\",\"\",'Vendor List'!$A1356)","v":"HARDINGE BROS INC"}]
[{"$f":"\"\"","v":""},null,{"$f":"IF('Vendor List'!$A1357=\"\",\"\",'Vendor List'!$A1357)","v":"HARMONIC DRIVE LLC"}]
[{"$f":"\"\"","v":""},null,{"$f":"IF('Vendor List'!$A1358=\"\",\"\",'Vendor List'!$A1358)","v":"HAROLD JOHNSON OPTICAL LABORAT"}]
[{"$f":"\"\"","v":""},null,{"$f":"IF('Vendor List'!$A1359=\"\",\"\",'Vendor List'!$A1359)","v":"HARRINGTON INDUSTRIAL PLASTICS"}]
[{"$f":"\"\"","v":""},null,{"$f":"IF('Vendor List'!$A1360=\"\",\"\",'Vendor List'!$A1360)","v":"HARRIS BROADCAST CORPORATION"}]
[{"$f":"\"\"","v":""},null,{"$f":"IF('Vendor List'!$A1361=\"\",\"\",'Vendor List'!$A1361)","v":"HARRIS DIAMOND CORP (DOUBLEDEE"}]
[{"$f":"\"\"","v":""},null,{"$f":"IF('Vendor List'!$A1362=\"\",\"\",'Vendor List'!$A1362)","v":"HART INDUSTRIES"}]
[{"$f":"\"\"","v":""},null,{"$f":"IF('Vendor List'!$A1363=\"\",\"\",'Vendor List'!$A1363)","v":"HARTWIGS SHADE SHOP"}]
[{"$f":"\"\"","v":""},null,{"$f":"IF('Vendor List'!$A1364=\"\",\"\",'Vendor List'!$A1364)","v":"HARVARD UNIVERSITY"}]
[{"$f":"\"\"","v":""},null,{"$f":"IF('Vendor List'!$A1365=\"\",\"\",'Vendor List'!$A1365)","v":"HARVARD UNIVERSITY"}]
[{"$f":"\"\"","v":""},null,{"$f":"IF('Vendor List'!$A1366=\"\",\"\",'Vendor List'!$A1366)","v":"HARVEY TOOL"}]
[{"$f":"\"\"","v":""},null,{"$f":"IF('Vendor List'!$A1367=\"\",\"\",'Vendor List'!$A1367)","v":"HARWIN INC"}]
[{"$f":"\"\"","v":""},null,{"$f":"IF('Vendor List'!$A1368=\"\",\"\",'Vendor List'!$A1368)","v":"HASTINGS AIR ENERGY CONTROL"}]
[{"$f":"\"\"","v":""},null,{"$f":"IF('Vendor List'!$A1369=\"\",\"\",'Vendor List'!$A1369)","v":"HATCH BUILDING SUPPLY"}]
[{"$f":"\"\"","v":""},null,{"$f":"IF('Vendor List'!$A1370=\"\",\"\",'Vendor List'!$A1370)","v":"HAVE PIG WILL TRAVEL"}]
[{"$f":"\"\"","v":""},null,{"$f":"IF('Vendor List'!$A1371=\"\",\"\",'Vendor List'!$A1371)","v":"HAWAII AIR CARGO"}]
[{"$f":"\"\"","v":""},null,{"$f":"IF('Vendor List'!$A1372=\"\",\"\",'Vendor List'!$A1372)","v":"HC POWER INC"}]
[{"$f":"\"\"","v":""},null,{"$f":"IF('Vendor List'!$A1373=\"\",\"\",'Vendor List'!$A1373)","v":"HCO COMPUTER PRODUCT"}]
[{"$f":"\"\"","v":""},null,{"$f":"IF('Vendor List'!$A1374=\"\",\"\",'Vendor List'!$A1374)","v":"HD SYSTEMS"}]
[{"$f":"\"\"","v":""},null,{"$f":"IF('Vendor List'!$A1375=\"\",\"\",'Vendor List'!$A1375)","v":"HEADSOKZ INC"}]
[{"$f":"\"\"","v":""},null,{"$f":"IF('Vendor List'!$A1376=\"\",\"\",'Vendor List'!$A1376)","v":"HEALTH SCIENCES PRINTING SERV."}]
[{"$f":"\"\"","v":""},null,{"$f":"IF('Vendor List'!$A1377=\"\",\"\",'Vendor List'!$A1377)","v":"HEARST BUSINESS PUBLISHING"}]
[{"$f":"\"\"","v":""},null,{"$f":"IF('Vendor List'!$A1378=\"\",\"\",'Vendor List'!$A1378)","v":"HEAT WAVE LABS INC"}]
[{"$f":"\"\"","v":""},null,{"$f":"IF('Vendor List'!$A1379=\"\",\"\",'Vendor List'!$A1379)","v":"HEGMAN"}]
[{"$f":"\"\"","v":""},null,{"$f":"IF('Vendor List'!$A1380=\"\",\"\",'Vendor List'!$A1380)","v":"HEIDEN INC."}]
[{"$f":"\"\"","v":""},null,{"$f":"IF('Vendor List'!$A1381=\"\",\"\",'Vendor List'!$A1381)","v":"HEIDENHAIN CORPORATION"}]
[{"$f":"\"\"","v":""},null,{"$f":"IF('Vendor List'!$A1382=\"\",\"\",'Vendor List'!$A1382)","v":"HEINZEN METALS INC"}]
[{"$f":"\"\"","v":""},null,{"$f":"IF('Vendor List'!$A1383=\"\",\"\",'Vendor List'!$A1383)","v":"HELANDER METAL SPINNING"}]
[{"$f":"\"\"","v":""},null,{"$f":"IF('Vendor List'!$A1384=\"\",\"\",'Vendor List'!$A1384)","v":"HELIX TECHNOLOGY"}]
[{"$f":"\"\"","v":""},null,{"$f":"IF('Vendor List'!$A1385=\"\",\"\",'Vendor List'!$A1385)","v":"HELIX TECHNOLOGY CORPORATION"}]
[{"$f":"\"\"","v":""},null,{"$f":"IF('Vendor List'!$A1386=\"\",\"\",'Vendor List'!$A1386)","v":"HELLENBRAND WATER CONDITIONERS"}]
[{"$f":"\"\"","v":""},null,{"$f":"IF('Vendor List'!$A1387=\"\",\"\",'Vendor List'!$A1387)","v":"HELLENBRAND, INC"}]
[{"$f":"\"\"","v":""},null,{"$f":"IF('Vendor List'!$A1388=\"\",\"\",'Vendor List'!$A1388)","v":"HELLO DIRECT"}]
[{"$f":"\"\"","v":""},null,{"$f":"IF('Vendor List'!$A1389=\"\",\"\",'Vendor List'!$A1389)","v":"HENKEL TECHNOLOGIES"}]
[{"$f":"\"\"","v":""},null,{"$f":"IF('Vendor List'!$A1390=\"\",\"\",'Vendor List'!$A1390)","v":"HENSLEY TECHNOLOGIES, INC"}]
[{"$f":"\"\"","v":""},null,{"$f":"IF('Vendor List'!$A1391=\"\",\"\",'Vendor List'!$A1391)","v":"HEO,HANNA"}]
[{"$f":"\"\"","v":""},null,{"$f":"IF('Vendor List'!$A1392=\"\",\"\",'Vendor List'!$A1392)","v":"HERGO ERGONOMIC SUPPORT SYSTEM"}]
[{"$f":"\"\"","v":""},null,{"$f":"IF('Vendor List'!$A1393=\"\",\"\",'Vendor List'!$A1393)","v":"HERLACHE INDUSTRIAL"}]
[{"$f":"\"\"","v":""},null,{"$f":"IF('Vendor List'!$A1394=\"\",\"\",'Vendor List'!$A1394)","v":"HERMLE USA"}]
[{"$f":"\"\"","v":""},null,{"$f":"IF('Vendor List'!$A1395=\"\",\"\",'Vendor List'!$A1395)","v":"HERTZ EQUIPMENT RENTAL"}]
[{"$f":"\"\"","v":""},null,{"$f":"IF('Vendor List'!$A1396=\"\",\"\",'Vendor List'!$A1396)","v":"HEWLETT PACKARD"}]
[{"$f":"\"\"","v":""},null,{"$f":"IF('Vendor List'!$A1397=\"\",\"\",'Vendor List'!$A1397)","v":"HEWLETT PACKARD"}]
[{"$f":"\"\"","v":""},null,{"$f":"IF('Vendor List'!$A1398=\"\",\"\",'Vendor List'!$A1398)","v":"HEWLETT PACKARD"}]
[{"$f":"\"\"","v":""},null,{"$f":"IF('Vendor List'!$A1399=\"\",\"\",'Vendor List'!$A1399)","v":"HEWLETT PACKARD"}]
[{"$f":"\"\"","v":""},null,{"$f":"IF('Vendor List'!$A1400=\"\",\"\",'Vendor List'!$A1400)","v":"HEWLETT PACKARD"}]
[{"$f":"\"\"","v":""},null,{"$f":"IF('Vendor List'!$A1401=\"\",\"\",'Vendor List'!$A1401)","v":"HEWLETT PACKARD"}]
[{"$f":"\"\"","v":""},null,{"$f":"IF('Vendor List'!$A1402=\"\",\"\",'Vendor List'!$A1402)","v":"HEWLETT PACKARD CO.EXPRESS"}]
[{"$f":"\"\"","v":""},null,{"$f":"IF('Vendor List'!$A1403=\"\",\"\",'Vendor List'!$A1403)","v":"HEWLETT-PACKARD"}]
[{"$f":"\"\"","v":""},null,{"$f":"IF('Vendor List'!$A1404=\"\",\"\",'Vendor List'!$A1404)","v":"HEWLETT-PACKARD"}]
[{"$f":"\"\"","v":""},null,{"$f":"IF('Vendor List'!$A1405=\"\",\"\",'Vendor List'!$A1405)","v":"HF WILSON ENGINEERING CO"}]
[{"$f":"\"\"","v":""},null,{"$f":"IF('Vendor List'!$A1406=\"\",\"\",'Vendor List'!$A1406)","v":"HI LINE UTILITY SUPPLY"}]
[{"$f":"\"\"","v":""},null,{"$f":"IF('Vendor List'!$A1407=\"\",\"\",'Vendor List'!$A1407)","v":"HI-TECH OPTICAL INC"}]
[{"$f":"\"\"","v":""},null,{"$f":"IF('Vendor List'!$A1408=\"\",\"\",'Vendor List'!$A1408)","v":"HIGH ENERGY METALS"}]
[{"$f":"\"\"","v":""},null,{"$f":"IF('Vendor List'!$A1409=\"\",\"\",'Vendor List'!$A1409)","v":"HIGH TECH TOOLING"}]
[{"$f":"\"\"","v":""},null,{"$f":"IF('Vendor List'!$A1410=\"\",\"\",'Vendor List'!$A1410)","v":"HIGH TECH WELDING"}]
[{"$f":"\"\"","v":""},null,{"$f":"IF('Vendor List'!$A1411=\"\",\"\",'Vendor List'!$A1411)","v":"HIGH TEXT PUBLICATIONS"}]
[{"$f":"\"\"","v":""},null,{"$f":"IF('Vendor List'!$A1412=\"\",\"\",'Vendor List'!$A1412)","v":"HIGH VACUUM APPARATUS"}]
[{"$f":"\"\"","v":""},null,{"$f":"IF('Vendor List'!$A1413=\"\",\"\",'Vendor List'!$A1413)","v":"HIGHER EDUCATION PUBL INC"}]
[{"$f":"\"\"","v":""},null,{"$f":"IF('Vendor List'!$A1414=\"\",\"\",'Vendor List'!$A1414)","v":"HIGHLAND TECHNOLOGY"}]
[{"$f":"\"\"","v":""},null,{"$f":"IF('Vendor List'!$A1415=\"\",\"\",'Vendor List'!$A1415)","v":"HILLSIDE INN AND SUITES"}]
[{"$f":"\"\"","v":""},null,{"$f":"IF('Vendor List'!$A1416=\"\",\"\",'Vendor List'!$A1416)","v":"HILTON ARLINGTON"}]
[{"$f":"\"\"","v":""},null,{"$f":"IF('Vendor List'!$A1417=\"\",\"\",'Vendor List'!$A1417)","v":"HISCO INC"}]
[{"$f":"\"\"","v":""},null,{"$f":"IF('Vendor List'!$A1418=\"\",\"\",'Vendor List'!$A1418)","v":"HITACHI SCIENTIFIC INSTRUMENTS"}]
[{"$f":"\"\"","v":""},null,{"$f":"IF('Vendor List'!$A1419=\"\",\"\",'Vendor List'!$A1419)","v":"HIWIN CORP"}]
[{"$f":"\"\"","v":""},null,{"$f":"IF('Vendor List'!$A1420=\"\",\"\",'Vendor List'!$A1420)","v":"HJ ROBERTS ASSOCIATES"}]
[{"$f":"\"\"","v":""},null,{"$f":"IF('Vendor List'!$A1421=\"\",\"\",'Vendor List'!$A1421)","v":"HMC ELECTRONICS"}]
[{"$f":"\"\"","v":""},null,{"$f":"IF('Vendor List'!$A1422=\"\",\"\",'Vendor List'!$A1422)","v":"HOBBY LOBBY"}]
[{"$f":"\"\"","v":""},null,{"$f":"IF('Vendor List'!$A1423=\"\",\"\",'Vendor List'!$A1423)","v":"HOH CHEMICALS OF WISCONSIN INC"}]
[{"$f":"\"\"","v":""},null,{"$f":"IF('Vendor List'!$A1424=\"\",\"\",'Vendor List'!$A1424)","v":"HOIST DIRECT"}]
[{"$f":"\"\"","v":""},null,{"$f":"IF('Vendor List'!$A1425=\"\",\"\",'Vendor List'!$A1425)","v":"HOLIDAY INN SELECT"}]
[{"$f":"\"\"","v":""},null,{"$f":"IF('Vendor List'!$A1426=\"\",\"\",'Vendor List'!$A1426)","v":"HOLLAENDER MFG CO"}]
[{"$f":"\"\"","v":""},null,{"$f":"IF('Vendor List'!$A1427=\"\",\"\",'Vendor List'!$A1427)","v":"HOLOGRAMS AND LASERS INTL"}]
[{"$f":"\"\"","v":""},null,{"$f":"IF('Vendor List'!$A1428=\"\",\"\",'Vendor List'!$A1428)","v":"HOME AUTOMATION SYSTEMS INC"}]
[{"$f":"\"\"","v":""},null,{"$f":"IF('Vendor List'!$A1429=\"\",\"\",'Vendor List'!$A1429)","v":"HOME DECORATORS"}]
[{"$f":"\"\"","v":""},null,{"$f":"IF('Vendor List'!$A1430=\"\",\"\",'Vendor List'!$A1430)","v":"HOME DEPOT"}]
[{"$f":"\"\"","v":""},null,{"$f":"IF('Vendor List'!$A1431=\"\",\"\",'Vendor List'!$A1431)","v":"HOMETOWN INC"}]
[{"$f":"\"\"","v":""},null,{"$f":"IF('Vendor List'!$A1432=\"\",\"\",'Vendor List'!$A1432)","v":"HONEY WAGON SEPTIC SERVICES"}]
[{"$f":"\"\"","v":""},null,{"$f":"IF('Vendor List'!$A1433=\"\",\"\",'Vendor List'!$A1433)","v":"HONEYWELL"}]
[{"$f":"\"\"","v":""},null,{"$f":"IF('Vendor List'!$A1434=\"\",\"\",'Vendor List'!$A1434)","v":"HONEYWELL SENSOTEC"}]
[{"$f":"\"\"","v":""},null,{"$f":"IF('Vendor List'!$A1435=\"\",\"\",'Vendor List'!$A1435)","v":"HONEYWELL SENSOTEC"}]
[{"$f":"\"\"","v":""},null,{"$f":"IF('Vendor List'!$A1436=\"\",\"\",'Vendor List'!$A1436)","v":"HORIBA JOBIN YVON INC"}]
[{"$f":"\"\"","v":""},null,{"$f":"IF('Vendor List'!$A1437=\"\",\"\",'Vendor List'!$A1437)","v":"HOSPITAL & CLINICS"}]
[{"$f":"\"\"","v":""},null,{"$f":"IF('Vendor List'!$A1438=\"\",\"\",'Vendor List'!$A1438)","v":"HOTWOOD'S DISTRIBUTING"}]
[{"$f":"\"\"","v":""},null,{"$f":"IF('Vendor List'!$A1439=\"\",\"\",'Vendor List'!$A1439)","v":"HOWARD ACADEMY"}]
[{"$f":"\"\"","v":""},null,{"$f":"IF('Vendor List'!$A1440=\"\",\"\",'Vendor List'!$A1440)","v":"HOWARD ELECTRONIC INSTRUMENTS"}]
[{"$f":"\"\"","v":""},null,{"$f":"IF('Vendor List'!$A1441=\"\",\"\",'Vendor List'!$A1441)","v":"HOYA ELECTRONICS"}]
[{"$f":"\"\"","v":""},null,{"$f":"IF('Vendor List'!$A1442=\"\",\"\",'Vendor List'!$A1442)","v":"HPS CORP"}]
[{"$f":"\"\"","v":""},null,{"$f":"IF('Vendor List'!$A1443=\"\",\"\",'Vendor List'!$A1443)","v":"HPS VACUUM COMPONENTS"}]
[{"$f":"\"\"","v":""},null,{"$f":"IF('Vendor List'!$A1444=\"\",\"\",'Vendor List'!$A1444)","v":"HSC ELECTRONIC SUPPLY"}]
[{"$f":"\"\"","v":""},null,{"$f":"IF('Vendor List'!$A1445=\"\",\"\",'Vendor List'!$A1445)","v":"HSD ENGINEERING INC"}]
[{"$f":"\"\"","v":""},null,{"$f":"IF('Vendor List'!$A1446=\"\",\"\",'Vendor List'!$A1446)","v":"HUBBARD-HALL INC."}]
[{"$f":"\"\"","v":""},null,{"$f":"IF('Vendor List'!$A1447=\"\",\"\",'Vendor List'!$A1447)","v":"HUBER-SUHNER"}]
[{"$f":"\"\"","v":""},null,{"$f":"IF('Vendor List'!$A1448=\"\",\"\",'Vendor List'!$A1448)","v":"HUGHES CIRCUITS, INC"}]
[{"$f":"\"\"","v":""},null,{"$f":"IF('Vendor List'!$A1449=\"\",\"\",'Vendor List'!$A1449)","v":"HUGHES NETWORK SYSTEMS LLC"}]
[{"$f":"\"\"","v":""},null,{"$f":"IF('Vendor List'!$A1450=\"\",\"\",'Vendor List'!$A1450)","v":"HULS AMERICA"}]
[{"$f":"\"\"","v":""},null,{"$f":"IF('Vendor List'!$A1451=\"\",\"\",'Vendor List'!$A1451)","v":"HUMAN CONCEPTS"}]
[{"$f":"\"\"","v":""},null,{"$f":"IF('Vendor List'!$A1452=\"\",\"\",'Vendor List'!$A1452)","v":"HUMMINGBIRD COMMUNICATIONS"}]
[{"$f":"\"\"","v":""},null,{"$f":"IF('Vendor List'!$A1453=\"\",\"\",'Vendor List'!$A1453)","v":"HUMMINGBIRD COMMUNICATIONS LTD"}]
[{"$f":"\"\"","v":""},null,{"$f":"IF('Vendor List'!$A1454=\"\",\"\",'Vendor List'!$A1454)","v":"HUNT ENGINEERING"}]
[{"$f":"\"\"","v":""},null,{"$f":"IF('Vendor List'!$A1455=\"\",\"\",'Vendor List'!$A1455)","v":"HUNTINGTON MECHANICAL LABS"}]
[{"$f":"\"\"","v":""},null,{"$f":"IF('Vendor List'!$A1456=\"\",\"\",'Vendor List'!$A1456)","v":"HUNZICKER RILEY INC"}]
[{"$f":"\"\"","v":""},null,{"$f":"IF('Vendor List'!$A1457=\"\",\"\",'Vendor List'!$A1457)","v":"HURON MACHINE PRODUCTS"}]
[{"$f":"\"\"","v":""},null,{"$f":"IF('Vendor List'!$A1458=\"\",\"\",'Vendor List'!$A1458)","v":"HYDRITE CHEMICAL CO"}]
[{"$f":"\"\"","v":""},null,{"$f":"IF('Vendor List'!$A1459=\"\",\"\",'Vendor List'!$A1459)","v":"HYDRO FLO PRODUCTS INC"}]
[{"$f":"\"\"","v":""},null,{"$f":"IF('Vendor List'!$A1460=\"\",\"\",'Vendor List'!$A1460)","v":"HYDROSEAL VALVE"}]
[{"$f":"\"\"","v":""},null,{"$f":"IF('Vendor List'!$A1461=\"\",\"\",'Vendor List'!$A1461)","v":"HYKON MFG CO"}]
[{"$f":"\"\"","v":""},null,{"$f":"IF('Vendor List'!$A1462=\"\",\"\",'Vendor List'!$A1462)","v":"HYQUIP INC"}]
[{"$f":"\"\"","v":""},null,{"$f":"IF('Vendor List'!$A1463=\"\",\"\",'Vendor List'!$A1463)","v":"HYSPAN PRECISION PRODUCTS"}]
[{"$f":"\"\"","v":""},null,{"$f":"IF('Vendor List'!$A1464=\"\",\"\",'Vendor List'!$A1464)","v":"IATA"}]
[{"$f":"\"\"","v":""},null,{"$f":"IF('Vendor List'!$A1465=\"\",\"\",'Vendor List'!$A1465)","v":"IBASE,USA"}]
[{"$f":"\"\"","v":""},null,{"$f":"IF('Vendor List'!$A1466=\"\",\"\",'Vendor List'!$A1466)","v":"IBM"}]
[{"$f":"\"\"","v":""},null,{"$f":"IF('Vendor List'!$A1467=\"\",\"\",'Vendor List'!$A1467)","v":"IBM CORP"}]
[{"$f":"\"\"","v":""},null,{"$f":"IF('Vendor List'!$A1468=\"\",\"\",'Vendor List'!$A1468)","v":"IBM DIRECT"}]
[{"$f":"\"\"","v":""},null,{"$f":"IF('Vendor List'!$A1469=\"\",\"\",'Vendor List'!$A1469)","v":"IBUTTONLINK"}]
[{"$f":"\"\"","v":""},null,{"$f":"IF('Vendor List'!$A1470=\"\",\"\",'Vendor List'!$A1470)","v":"IC EDITORS, INC."}]
[{"$f":"\"\"","v":""},null,{"$f":"IF('Vendor List'!$A1471=\"\",\"\",'Vendor List'!$A1471)","v":"ICC INC."}]
[{"$f":"\"\"","v":""},null,{"$f":"IF('Vendor List'!$A1472=\"\",\"\",'Vendor List'!$A1472)","v":"ICM CORP"}]
[{"$f":"\"\"","v":""},null,{"$f":"IF('Vendor List'!$A1473=\"\",\"\",'Vendor List'!$A1473)","v":"ICP"}]
[{"$f":"\"\"","v":""},null,{"$f":"IF('Vendor List'!$A1474=\"\",\"\",'Vendor List'!$A1474)","v":"ICS ELECTRONICS"}]
[{"$f":"\"\"","v":""},null,{"$f":"IF('Vendor List'!$A1475=\"\",\"\",'Vendor List'!$A1475)","v":"IDEAL TOOL& MFC CO"}]
[{"$f":"\"\"","v":""},null,{"$f":"IF('Vendor List'!$A1476=\"\",\"\",'Vendor List'!$A1476)","v":"IDEAL VACUUM PROD(PCHEM LABS)"}]
[{"$f":"\"\"","v":""},null,{"$f":"IF('Vendor List'!$A1477=\"\",\"\",'Vendor List'!$A1477)","v":"IDER"}]
[{"$f":"\"\"","v":""},null,{"$f":"IF('Vendor List'!$A1478=\"\",\"\",'Vendor List'!$A1478)","v":"IEC CORPORATION"}]
[{"$f":"\"\"","v":""},null,{"$f":"IF('Vendor List'!$A1479=\"\",\"\",'Vendor List'!$A1479)","v":"IEEE COMPUTER SOCIETY"}]
[{"$f":"\"\"","v":""},null,{"$f":"IF('Vendor List'!$A1480=\"\",\"\",'Vendor List'!$A1480)","v":"IEEE LITHOGRAPHY WORKSHOP"}]
[{"$f":"\"\"","v":""},null,{"$f":"IF('Vendor List'!$A1481=\"\",\"\",'Vendor List'!$A1481)","v":"IEEE SERVICE CENTER"}]
[{"$f":"\"\"","v":""},null,{"$f":"IF('Vendor List'!$A1482=\"\",\"\",'Vendor List'!$A1482)","v":"IEEE TRANSACTIONS ON PLASMA SC"}]
[{"$f":"\"\"","v":""},null,{"$f":"IF('Vendor List'!$A1483=\"\",\"\",'Vendor List'!$A1483)","v":"IEI TECHNOLOGY USA CORP"}]
[{"$f":"\"\"","v":""},null,{"$f":"IF('Vendor List'!$A1484=\"\",\"\",'Vendor List'!$A1484)","v":"IESS"}]
[{"$f":"\"\"","v":""},null,{"$f":"IF('Vendor List'!$A1485=\"\",\"\",'Vendor List'!$A1485)","v":"IHMM"}]
[{"$f":"\"\"","v":""},null,{"$f":"IF('Vendor List'!$A1486=\"\",\"\",'Vendor List'!$A1486)","v":"IHS INC"}]
[{"$f":"\"\"","v":""},null,{"$f":"IF('Vendor List'!$A1487=\"\",\"\",'Vendor List'!$A1487)","v":"II-VI INC"}]
[{"$f":"\"\"","v":""},null,{"$f":"IF('Vendor List'!$A1488=\"\",\"\",'Vendor List'!$A1488)","v":"II-VI INC"}]
[{"$f":"\"\"","v":""},null,{"$f":"IF('Vendor List'!$A1489=\"\",\"\",'Vendor List'!$A1489)","v":"IKO INTERNATIONAL INC"}]
[{"$f":"\"\"","v":""},null,{"$f":"IF('Vendor List'!$A1490=\"\",\"\",'Vendor List'!$A1490)","v":"IKON OFFICE SOLUTIONS"}]
[{"$f":"\"\"","v":""},null,{"$f":"IF('Vendor List'!$A1491=\"\",\"\",'Vendor List'!$A1491)","v":"IKON OFFICE SOLUTIONS"}]
[{"$f":"\"\"","v":""},null,{"$f":"IF('Vendor List'!$A1492=\"\",\"\",'Vendor List'!$A1492)","v":"IKON OFFICE SOLUTIONS"}]
[{"$f":"\"\"","v":""},null,{"$f":"IF('Vendor List'!$A1493=\"\",\"\",'Vendor List'!$A1493)","v":"IKON OFFICE SOLUTIONS"}]
[{"$f":"\"\"","v":""},null,{"$f":"IF('Vendor List'!$A1494=\"\",\"\",'Vendor List'!$A1494)","v":"ILLINOIS PACKAGING & CRATING"}]
[{"$f":"\"\"","v":""},null,{"$f":"IF('Vendor List'!$A1495=\"\",\"\",'Vendor List'!$A1495)","v":"ILLINOIS PKG & CRATING"}]
[{"$f":"\"\"","v":""},null,{"$f":"IF('Vendor List'!$A1496=\"\",\"\",'Vendor List'!$A1496)","v":"ILLINOIS PROCESS EQUIPMENT"}]
[{"$f":"\"\"","v":""},null,{"$f":"IF('Vendor List'!$A1497=\"\",\"\",'Vendor List'!$A1497)","v":"ILLINOIS TOLLWAY"}]
[{"$f":"\"\"","v":""},null,{"$f":"IF('Vendor List'!$A1498=\"\",\"\",'Vendor List'!$A1498)","v":"ILLUMA DISPLAY"}]
[{"$f":"\"\"","v":""},null,{"$f":"IF('Vendor List'!$A1499=\"\",\"\",'Vendor List'!$A1499)","v":"IMAGINEERING, INC"}]
[{"$f":"\"\"","v":""},null,{"$f":"IF('Vendor List'!$A1500=\"\",\"\",'Vendor List'!$A1500)","v":"IMC, INC"}]
[{"$f":"\"\"","v":""},null,{"$f":"IF('Vendor List'!$A1501=\"\",\"\",'Vendor List'!$A1501)","v":"IMDC"}]
[{"$f":"\"\"","v":""},null,{"$f":"IF('Vendor List'!$A1502=\"\",\"\",'Vendor List'!$A1502)","v":"IMPACT BEARING"}]
[{"$f":"\"\"","v":""},null,{"$f":"IF('Vendor List'!$A1503=\"\",\"\",'Vendor List'!$A1503)","v":"IMS COMPANY"}]
[{"$f":"\"\"","v":""},null,{"$f":"IF('Vendor List'!$A1504=\"\",\"\",'Vendor List'!$A1504)","v":"IMSI INC"}]
[{"$f":"\"\"","v":""},null,{"$f":"IF('Vendor List'!$A1505=\"\",\"\",'Vendor List'!$A1505)","v":"IMTRON CORPORATION"}]
[{"$f":"\"\"","v":""},null,{"$f":"IF('Vendor List'!$A1506=\"\",\"\",'Vendor List'!$A1506)","v":"IMTS REGISTRATION"}]
[{"$f":"\"\"","v":""},null,{"$f":"IF('Vendor List'!$A1507=\"\",\"\",'Vendor List'!$A1507)","v":"INACOM"}]
[{"$f":"\"\"","v":""},null,{"$f":"IF('Vendor List'!$A1508=\"\",\"\",'Vendor List'!$A1508)","v":"INACOM INFORMATION SYSTEMS"}]
[{"$f":"\"\"","v":""},null,{"$f":"IF('Vendor List'!$A1509=\"\",\"\",'Vendor List'!$A1509)","v":"INDIUM CORPORATION OF AMERICA"}]
[{"$f":"\"\"","v":""},null,{"$f":"IF('Vendor List'!$A1510=\"\",\"\",'Vendor List'!$A1510)","v":"INDUSTRIAL AUTOMATION"}]
[{"$f":"\"\"","v":""},null,{"$f":"IF('Vendor List'!$A1511=\"\",\"\",'Vendor List'!$A1511)","v":"INDUSTRIAL BEARING SERVICE"}]
[{"$f":"\"\"","v":""},null,{"$f":"IF('Vendor List'!$A1512=\"\",\"\",'Vendor List'!$A1512)","v":"INDUSTRIAL ELECTRIC WIRE & CAB"}]
[{"$f":"\"\"","v":""},null,{"$f":"IF('Vendor List'!$A1513=\"\",\"\",'Vendor List'!$A1513)","v":"INDUSTRIAL NETWORKING SOLUTION"}]
[{"$f":"\"\"","v":""},null,{"$f":"IF('Vendor List'!$A1514=\"\",\"\",'Vendor List'!$A1514)","v":"INDUSTRIAL PLATING"}]
[{"$f":"\"\"","v":""},null,{"$f":"IF('Vendor List'!$A1515=\"\",\"\",'Vendor List'!$A1515)","v":"INDUSTRIAL SUPPLY CO, INC"}]
[{"$f":"\"\"","v":""},null,{"$f":"IF('Vendor List'!$A1516=\"\",\"\",'Vendor List'!$A1516)","v":"INDUSTRIAL TAPE & SUPPLY"}]
[{"$f":"\"\"","v":""},null,{"$f":"IF('Vendor List'!$A1517=\"\",\"\",'Vendor List'!$A1517)","v":"INDUSTRIAL TECTONICS  INC"}]
[{"$f":"\"\"","v":""},null,{"$f":"IF('Vendor List'!$A1518=\"\",\"\",'Vendor List'!$A1518)","v":"INFICON"}]
[{"$f":"\"\"","v":""},null,{"$f":"IF('Vendor List'!$A1519=\"\",\"\",'Vendor List'!$A1519)","v":"INFINEON TECHNOLOGIES"}]
[{"$f":"\"\"","v":""},null,{"$f":"IF('Vendor List'!$A1520=\"\",\"\",'Vendor List'!$A1520)","v":"INFO-TECH RESEARCH GROUP"}]
[{"$f":"\"\"","v":""},null,{"$f":"IF('Vendor List'!$A1521=\"\",\"\",'Vendor List'!$A1521)","v":"INFOR GLOBAL SOLUTIONS"}]
[{"$f":"\"\"","v":""},null,{"$f":"IF('Vendor List'!$A1522=\"\",\"\",'Vendor List'!$A1522)","v":"INFOSAT COMMUNICATIONS"}]
[{"$f":"\"\"","v":""},null,{"$f":"IF('Vendor List'!$A1523=\"\",\"\",'Vendor List'!$A1523)","v":"INFRARED LABORATORIES INC"}]
[{"$f":"\"\"","v":""},null,{"$f":"IF('Vendor List'!$A1524=\"\",\"\",'Vendor List'!$A1524)","v":"INGERSOLL RAND"}]
[{"$f":"\"\"","v":""},null,{"$f":"IF('Vendor List'!$A1525=\"\",\"\",'Vendor List'!$A1525)","v":"INGERSOLL-RAND INC"}]
[{"$f":"\"\"","v":""},null,{"$f":"IF('Vendor List'!$A1526=\"\",\"\",'Vendor List'!$A1526)","v":"INJECTORALL ELECTRONICS"}]
[{"$f":"\"\"","v":""},null,{"$f":"IF('Vendor List'!$A1527=\"\",\"\",'Vendor List'!$A1527)","v":"INK4LESS.COM"}]
[{"$f":"\"\"","v":""},null,{"$f":"IF('Vendor List'!$A1528=\"\",\"\",'Vendor List'!$A1528)","v":"INMAC"}]
[{"$f":"\"\"","v":""},null,{"$f":"IF('Vendor List'!$A1529=\"\",\"\",'Vendor List'!$A1529)","v":"INN ON THE PARK"}]
[{"$f":"\"\"","v":""},null,{"$f":"IF('Vendor List'!$A1530=\"\",\"\",'Vendor List'!$A1530)","v":"INNOTEK"}]
[{"$f":"\"\"","v":""},null,{"$f":"IF('Vendor List'!$A1531=\"\",\"\",'Vendor List'!$A1531)","v":"INNOVATION FIRST, INC."}]
[{"$f":"\"\"","v":""},null,{"$f":"IF('Vendor List'!$A1532=\"\",\"\",'Vendor List'!$A1532)","v":"INNOVATIVE SECURITY PRODUCTS"}]
[{"$f":"\"\"","v":""},null,{"$f":"IF('Vendor List'!$A1533=\"\",\"\",'Vendor List'!$A1533)","v":"INOC, LLC"}]
[{"$f":"\"\"","v":""},null,{"$f":"IF('Vendor List'!$A1534=\"\",\"\",'Vendor List'!$A1534)","v":"INSIGHT COMPUTERS"}]
[{"$f":"\"\"","v":""},null,{"$f":"IF('Vendor List'!$A1535=\"\",\"\",'Vendor List'!$A1535)","v":"INSIGHT ELECTRONICS"}]
[{"$f":"\"\"","v":""},null,{"$f":"IF('Vendor List'!$A1536=\"\",\"\",'Vendor List'!$A1536)","v":"INSIGHT PUBLIC SECTOR"}]
[{"$f":"\"\"","v":""},null,{"$f":"IF('Vendor List'!$A1537=\"\",\"\",'Vendor List'!$A1537)","v":"INSPECTOR TOOLS"}]
[{"$f":"\"\"","v":""},null,{"$f":"IF('Vendor List'!$A1538=\"\",\"\",'Vendor List'!$A1538)","v":"INSPIRATION SOFTWARE INC"}]
[{"$f":"\"\"","v":""},null,{"$f":"IF('Vendor List'!$A1539=\"\",\"\",'Vendor List'!$A1539)","v":"INST FOR CHEM EDUC"}]
[{"$f":"\"\"","v":""},null,{"$f":"IF('Vendor List'!$A1540=\"\",\"\",'Vendor List'!$A1540)","v":"INST THEORETICAL & EXP PHYSICS"}]
[{"$f":"\"\"","v":""},null,{"$f":"IF('Vendor List'!$A1541=\"\",\"\",'Vendor List'!$A1541)","v":"INSTANT PHOTOGRAPHIC REPAIR"}]
[{"$f":"\"\"","v":""},null,{"$f":"IF('Vendor List'!$A1542=\"\",\"\",'Vendor List'!$A1542)","v":"INSTITUTE FOR SCIENTIFIC INFOR"}]
[{"$f":"\"\"","v":""},null,{"$f":"IF('Vendor List'!$A1543=\"\",\"\",'Vendor List'!$A1543)","v":"INSTITUTE OF PHYSICS PUBLISHIN"}]
[{"$f":"\"\"","v":""},null,{"$f":"IF('Vendor List'!$A1544=\"\",\"\",'Vendor List'!$A1544)","v":"INSTRUCTIONAL COMM SYSTEM"}]
[{"$f":"\"\"","v":""},null,{"$f":"IF('Vendor List'!$A1545=\"\",\"\",'Vendor List'!$A1545)","v":"INSTRUCTIONAL COMMUNICATION SY"}]
[{"$f":"\"\"","v":""},null,{"$f":"IF('Vendor List'!$A1546=\"\",\"\",'Vendor List'!$A1546)","v":"INSULATOR SEAL INC"}]
[{"$f":"\"\"","v":""},null,{"$f":"IF('Vendor List'!$A1547=\"\",\"\",'Vendor List'!$A1547)","v":"INSYNC, INC"}]
[{"$f":"\"\"","v":""},null,{"$f":"IF('Vendor List'!$A1548=\"\",\"\",'Vendor List'!$A1548)","v":"INTEGRA MACHINE TOOL  LLC"}]
[{"$f":"\"\"","v":""},null,{"$f":"IF('Vendor List'!$A1549=\"\",\"\",'Vendor List'!$A1549)","v":"INTEGRATED CIRCUIT ENGINEERING"}]
[{"$f":"\"\"","v":""},null,{"$f":"IF('Vendor List'!$A1550=\"\",\"\",'Vendor List'!$A1550)","v":"INTEGRATED SOLUTIONS INC."}]
[{"$f":"\"\"","v":""},null,{"$f":"IF('Vendor List'!$A1551=\"\",\"\",'Vendor List'!$A1551)","v":"INTEGRIS METALS"}]
[{"$f":"\"\"","v":""},null,{"$f":"IF('Vendor List'!$A1552=\"\",\"\",'Vendor List'!$A1552)","v":"INTEL"}]
[{"$f":"\"\"","v":""},null,{"$f":"IF('Vendor List'!$A1553=\"\",\"\",'Vendor List'!$A1553)","v":"INTELLIGENCE WARE, INC."}]
[{"$f":"\"\"","v":""},null,{"$f":"IF('Vendor List'!$A1554=\"\",\"\",'Vendor List'!$A1554)","v":"INTELLIGENT MOTION SYSTEMS INC"}]
[{"$f":"\"\"","v":""},null,{"$f":"IF('Vendor List'!$A1555=\"\",\"\",'Vendor List'!$A1555)","v":"INTERACTIVE IMAGE TECHNOLOGIES"}]
[{"$f":"\"\"","v":""},null,{"$f":"IF('Vendor List'!$A1556=\"\",\"\",'Vendor List'!$A1556)","v":"INTERBIZ"}]
[{"$f":"\"\"","v":""},null,{"$f":"IF('Vendor List'!$A1557=\"\",\"\",'Vendor List'!$A1557)","v":"INTERIOR INVESTMENTS"}]
[{"$f":"\"\"","v":""},null,{"$f":"IF('Vendor List'!$A1558=\"\",\"\",'Vendor List'!$A1558)","v":"INTERMARK (USA) INC"}]
[{"$f":"\"\"","v":""},null,{"$f":"IF('Vendor List'!$A1559=\"\",\"\",'Vendor List'!$A1559)","v":"INTERNATIONAL PUBLISHER' DIST"}]
[{"$f":"\"\"","v":""},null,{"$f":"IF('Vendor List'!$A1560=\"\",\"\",'Vendor List'!$A1560)","v":"INTERNATIONAL RADIATION DETECT"}]
[{"$f":"\"\"","v":""},null,{"$f":"IF('Vendor List'!$A1561=\"\",\"\",'Vendor List'!$A1561)","v":"INTERNET INC"}]
[{"$f":"\"\"","v":""},null,{"$f":"IF('Vendor List'!$A1562=\"\",\"\",'Vendor List'!$A1562)","v":"INTERPLEX TECHNOLOGIES"}]
[{"$f":"\"\"","v":""},null,{"$f":"IF('Vendor List'!$A1563=\"\",\"\",'Vendor List'!$A1563)","v":"INTERSTATE BATTERIES"}]
[{"$f":"\"\"","v":""},null,{"$f":"IF('Vendor List'!$A1564=\"\",\"\",'Vendor List'!$A1564)","v":"INTERSTATE PUMP & TANK"}]
[{"$f":"\"\"","v":""},null,{"$f":"IF('Vendor List'!$A1565=\"\",\"\",'Vendor List'!$A1565)","v":"INTERWEB"}]
[{"$f":"\"\"","v":""},null,{"$f":"IF('Vendor List'!$A1566=\"\",\"\",'Vendor List'!$A1566)","v":"INTUSOFT"}]
[{"$f":"\"\"","v":""},null,{"$f":"IF('Vendor List'!$A1567=\"\",\"\",'Vendor List'!$A1567)","v":"INVENSYS"}]
[{"$f":"\"\"","v":""},null,{"$f":"IF('Vendor List'!$A1568=\"\",\"\",'Vendor List'!$A1568)","v":"INXS INC"}]
[{"$f":"\"\"","v":""},null,{"$f":"IF('Vendor List'!$A1569=\"\",\"\",'Vendor List'!$A1569)","v":"IO TECH"}]
[{"$f":"\"\"","v":""},null,{"$f":"IF('Vendor List'!$A1570=\"\",\"\",'Vendor List'!$A1570)","v":"IOMEGA CORPORATION"}]
[{"$f":"\"\"","v":""},null,{"$f":"IF('Vendor List'!$A1571=\"\",\"\",'Vendor List'!$A1571)","v":"ION SOURCE SOFTWARE"}]
[{"$f":"\"\"","v":""},null,{"$f":"IF('Vendor List'!$A1572=\"\",\"\",'Vendor List'!$A1572)","v":"IPSWITCH INC"}]
[{"$f":"\"\"","v":""},null,{"$f":"IF('Vendor List'!$A1573=\"\",\"\",'Vendor List'!$A1573)","v":"IRCAMERAS INC"}]
[{"$f":"\"\"","v":""},null,{"$f":"IF('Vendor List'!$A1574=\"\",\"\",'Vendor List'!$A1574)","v":"ISI INSULATOR SEAL INC"}]
[{"$f":"\"\"","v":""},null,{"$f":"IF('Vendor List'!$A1575=\"\",\"\",'Vendor List'!$A1575)","v":"ISLIP FLOW CONTROLS"}]
[{"$f":"\"\"","v":""},null,{"$f":"IF('Vendor List'!$A1576=\"\",\"\",'Vendor List'!$A1576)","v":"ISOTEK CORP"}]
[{"$f":"\"\"","v":""},null,{"$f":"IF('Vendor List'!$A1577=\"\",\"\",'Vendor List'!$A1577)","v":"ISP  (INTERNATIONAL SCIENTIFIC"}]
[{"$f":"\"\"","v":""},null,{"$f":"IF('Vendor List'!$A1578=\"\",\"\",'Vendor List'!$A1578)","v":"IT WATCHDOGS"}]
[{"$f":"\"\"","v":""},null,{"$f":"IF('Vendor List'!$A1579=\"\",\"\",'Vendor List'!$A1579)","v":"IVERSON & CO"}]
[{"$f":"\"\"","v":""},null,{"$f":"IF('Vendor List'!$A1580=\"\",\"\",'Vendor List'!$A1580)","v":"IVG COLBACHINI S.P.A."}]
[{"$f":"\"\"","v":""},null,{"$f":"IF('Vendor List'!$A1581=\"\",\"\",'Vendor List'!$A1581)","v":"IVG INDUSTRIAL HOSE INC"}]
[{"$f":"\"\"","v":""},null,{"$f":"IF('Vendor List'!$A1582=\"\",\"\",'Vendor List'!$A1582)","v":"J & C MANUFACTURING CO  INC"}]
[{"$f":"\"\"","v":""},null,{"$f":"IF('Vendor List'!$A1583=\"\",\"\",'Vendor List'!$A1583)","v":"J & K CONNECTORS"}]
[{"$f":"\"\"","v":""},null,{"$f":"IF('Vendor List'!$A1584=\"\",\"\",'Vendor List'!$A1584)","v":"J & K SECURITY SOLUTIONS"}]
[{"$f":"\"\"","v":""},null,{"$f":"IF('Vendor List'!$A1585=\"\",\"\",'Vendor List'!$A1585)","v":"J & L INDUSTRIAL SUPPLY"}]
[{"$f":"\"\"","v":""},null,{"$f":"IF('Vendor List'!$A1586=\"\",\"\",'Vendor List'!$A1586)","v":"J P PATTERN"}]
[{"$f":"\"\"","v":""},null,{"$f":"IF('Vendor List'!$A1587=\"\",\"\",'Vendor List'!$A1587)","v":"J&H MACHINE TOOL SPECIALTY"}]
[{"$f":"\"\"","v":""},null,{"$f":"IF('Vendor List'!$A1588=\"\",\"\",'Vendor List'!$A1588)","v":"JAMECO ELECTRONICS"}]
[{"$f":"\"\"","v":""},null,{"$f":"IF('Vendor List'!$A1589=\"\",\"\",'Vendor List'!$A1589)","v":"JAMES J URBANCIC"}]
[{"$f":"\"\"","v":""},null,{"$f":"IF('Vendor List'!$A1590=\"\",\"\",'Vendor List'!$A1590)","v":"JAMES RIVER TECHNICAL"}]
[{"$f":"\"\"","v":""},null,{"$f":"IF('Vendor List'!$A1591=\"\",\"\",'Vendor List'!$A1591)","v":"JAMPRO ANTENNAS  INC"}]
[{"$f":"\"\"","v":""},null,{"$f":"IF('Vendor List'!$A1592=\"\",\"\",'Vendor List'!$A1592)","v":"JANDEL SCIENTIFIC SOFTWARE"}]
[{"$f":"\"\"","v":""},null,{"$f":"IF('Vendor List'!$A1593=\"\",\"\",'Vendor List'!$A1593)","v":"JANIS RESEARCH COMPANY"}]
[{"$f":"\"\"","v":""},null,{"$f":"IF('Vendor List'!$A1594=\"\",\"\",'Vendor List'!$A1594)","v":"JANOS OPTICAL CORP"}]
[{"$f":"\"\"","v":""},null,{"$f":"IF('Vendor List'!$A1595=\"\",\"\",'Vendor List'!$A1595)","v":"JAPAN PUBLICATIONS TRADING COM"}]
[{"$f":"\"\"","v":""},null,{"$f":"IF('Vendor List'!$A1596=\"\",\"\",'Vendor List'!$A1596)","v":"JAPANESE JOURNAL OF APPLIED PH"}]
[{"$f":"\"\"","v":""},null,{"$f":"IF('Vendor List'!$A1597=\"\",\"\",'Vendor List'!$A1597)","v":"JAPANESE PRODUCTS CORP"}]
[{"$f":"\"\"","v":""},null,{"$f":"IF('Vendor List'!$A1598=\"\",\"\",'Vendor List'!$A1598)","v":"JARP INDUSTRIES INC"}]
[{"$f":"\"\"","v":""},null,{"$f":"IF('Vendor List'!$A1599=\"\",\"\",'Vendor List'!$A1599)","v":"JASTA"}]
[{"$f":"\"\"","v":""},null,{"$f":"IF('Vendor List'!$A1600=\"\",\"\",'Vendor List'!$A1600)","v":"JC PENNEY"}]
[{"$f":"\"\"","v":""},null,{"$f":"IF('Vendor List'!$A1601=\"\",\"\",'Vendor List'!$A1601)","v":"JC WHITNEY"}]
[{"$f":"\"\"","v":""},null,{"$f":"IF('Vendor List'!$A1602=\"\",\"\",'Vendor List'!$A1602)","v":"JDR CABLE SYSTEMS BV"}]
[{"$f":"\"\"","v":""},null,{"$f":"IF('Vendor List'!$A1603=\"\",\"\",'Vendor List'!$A1603)","v":"JDR CABLE SYSTEMS INC"}]
[{"$f":"\"\"","v":""},null,{"$f":"IF('Vendor List'!$A1604=\"\",\"\",'Vendor List'!$A1604)","v":"JDR MICRODEVICES INC"}]
[{"$f":"\"\"","v":""},null,{"$f":"IF('Vendor List'!$A1605=\"\",\"\",'Vendor List'!$A1605)","v":"JEAMAR WINCHES INC"}]
[{"$f":"\"\"","v":""},null,{"$f":"IF('Vendor List'!$A1606=\"\",\"\",'Vendor List'!$A1606)","v":"JEAMAR WINCHES, INC."}]
[{"$f":"\"\"","v":""},null,{"$f":"IF('Vendor List'!$A1607=\"\",\"\",'Vendor List'!$A1607)","v":"JEFFERSON FIRE AND SAFETY"}]
[{"$f":"\"\"","v":""},null,{"$f":"IF('Vendor List'!$A1608=\"\",\"\",'Vendor List'!$A1608)","v":"JEFFERSON LABORATORY"}]
[{"$f":"\"\"","v":""},null,{"$f":"IF('Vendor List'!$A1609=\"\",\"\",'Vendor List'!$A1609)","v":"JEFFERSON SCIENCES ASSC"}]
[{"$f":"\"\"","v":""},null,{"$f":"IF('Vendor List'!$A1610=\"\",\"\",'Vendor List'!$A1610)","v":"JEFFERSON SOLENOID VALVES"}]
[{"$f":"\"\"","v":""},null,{"$f":"IF('Vendor List'!$A1611=\"\",\"\",'Vendor List'!$A1611)","v":"JELIGHT COMPANY INC"}]
[{"$f":"\"\"","v":""},null,{"$f":"IF('Vendor List'!$A1612=\"\",\"\",'Vendor List'!$A1612)","v":"JEM"}]
[{"$f":"\"\"","v":""},null,{"$f":"IF('Vendor List'!$A1613=\"\",\"\",'Vendor List'!$A1613)","v":"JEM ENGINEERING"}]
[{"$f":"\"\"","v":""},null,{"$f":"IF('Vendor List'!$A1614=\"\",\"\",'Vendor List'!$A1614)","v":"JENKINS ELECTRIC"}]
[{"$f":"\"\"","v":""},null,{"$f":"IF('Vendor List'!$A1615=\"\",\"\",'Vendor List'!$A1615)","v":"JENSEN EQUIPMENT"}]
[{"$f":"\"\"","v":""},null,{"$f":"IF('Vendor List'!$A1616=\"\",\"\",'Vendor List'!$A1616)","v":"JENSEN EQUIPMENT CO"}]
[{"$f":"\"\"","v":""},null,{"$f":"IF('Vendor List'!$A1617=\"\",\"\",'Vendor List'!$A1617)","v":"JENSEN TOOLS INC"}]
[{"$f":"\"\"","v":""},null,{"$f":"IF('Vendor List'!$A1618=\"\",\"\",'Vendor List'!$A1618)","v":"JEOL USA INC"}]
[{"$f":"\"\"","v":""},null,{"$f":"IF('Vendor List'!$A1619=\"\",\"\",'Vendor List'!$A1619)","v":"JEPA CONSTRUCTION"}]
[{"$f":"\"\"","v":""},null,{"$f":"IF('Vendor List'!$A1620=\"\",\"\",'Vendor List'!$A1620)","v":"JEROME TECHNOLOGY"}]
[{"$f":"\"\"","v":""},null,{"$f":"IF('Vendor List'!$A1621=\"\",\"\",'Vendor List'!$A1621)","v":"JERRY ROWE"}]
[{"$f":"\"\"","v":""},null,{"$f":"IF('Vendor List'!$A1622=\"\",\"\",'Vendor List'!$A1622)","v":"JET TECHNOLOGIES"}]
[{"$f":"\"\"","v":""},null,{"$f":"IF('Vendor List'!$A1623=\"\",\"\",'Vendor List'!$A1623)","v":"JETPCB"}]
[{"$f":"\"\"","v":""},null,{"$f":"IF('Vendor List'!$A1624=\"\",\"\",'Vendor List'!$A1624)","v":"JIFFY MACHINE"}]
[{"$f":"\"\"","v":""},null,{"$f":"IF('Vendor List'!$A1625=\"\",\"\",'Vendor List'!$A1625)","v":"JIM CONANT CONSTRUCTION LLC"}]
[{"$f":"\"\"","v":""},null,{"$f":"IF('Vendor List'!$A1626=\"\",\"\",'Vendor List'!$A1626)","v":"JJ KELLER & ASSOC INC"}]
[{"$f":"\"\"","v":""},null,{"$f":"IF('Vendor List'!$A1627=\"\",\"\",'Vendor List'!$A1627)","v":"JL RICHARDS"}]
[{"$f":"\"\"","v":""},null,{"$f":"IF('Vendor List'!$A1628=\"\",\"\",'Vendor List'!$A1628)","v":"JM GRIMSTAD"}]
[{"$f":"\"\"","v":""},null,{"$f":"IF('Vendor List'!$A1629=\"\",\"\",'Vendor List'!$A1629)","v":"JML OPTICAL INDUSTRIES"}]
[{"$f":"\"\"","v":""},null,{"$f":"IF('Vendor List'!$A1630=\"\",\"\",'Vendor List'!$A1630)","v":"JOBIN YVON INC"}]
[{"$f":"\"\"","v":""},null,{"$f":"IF('Vendor List'!$A1631=\"\",\"\",'Vendor List'!$A1631)","v":"JOBIN YVON INC"}]
[{"$f":"\"\"","v":""},null,{"$f":"IF('Vendor List'!$A1632=\"\",\"\",'Vendor List'!$A1632)","v":"JOE DANIELS CONSTRUCTION"}]
[{"$f":"\"\"","v":""},null,{"$f":"IF('Vendor List'!$A1633=\"\",\"\",'Vendor List'!$A1633)","v":"JOHN FLUKE MFG CO"}]
[{"$f":"\"\"","v":""},null,{"$f":"IF('Vendor List'!$A1634=\"\",\"\",'Vendor List'!$A1634)","v":"JOHN GALLAGHER CO INC"}]
[{"$f":"\"\"","v":""},null,{"$f":"IF('Vendor List'!$A1635=\"\",\"\",'Vendor List'!$A1635)","v":"JOHN MAYE CO INC"}]
[{"$f":"\"\"","v":""},null,{"$f":"IF('Vendor List'!$A1636=\"\",\"\",'Vendor List'!$A1636)","v":"JOHN S NELSON CONSULTANT, LLC"}]
[{"$f":"\"\"","v":""},null,{"$f":"IF('Vendor List'!$A1637=\"\",\"\",'Vendor List'!$A1637)","v":"JOHN WILEY & SONS"}]
[{"$f":"\"\"","v":""},null,{"$f":"IF('Vendor List'!$A1638=\"\",\"\",'Vendor List'!$A1638)","v":"JOHN WILEY & SONS INC"}]
[{"$f":"\"\"","v":""},null,{"$f":"IF('Vendor List'!$A1639=\"\",\"\",'Vendor List'!$A1639)","v":"JOHNSON CONTROLS INC"}]
[{"$f":"\"\"","v":""},null,{"$f":"IF('Vendor List'!$A1640=\"\",\"\",'Vendor List'!$A1640)","v":"JOHNSON INSULATING CO"}]
[{"$f":"\"\"","v":""},null,{"$f":"IF('Vendor List'!$A1641=\"\",\"\",'Vendor List'!$A1641)","v":"JOHNSON SALES INC"}]
[{"$f":"\"\"","v":""},null,{"$f":"IF('Vendor List'!$A1642=\"\",\"\",'Vendor List'!$A1642)","v":"JOHNSON SCREENS"}]
[{"$f":"\"\"","v":""},null,{"$f":"IF('Vendor List'!$A1643=\"\",\"\",'Vendor List'!$A1643)","v":"JOHNSTON FARGO CULVERT INC"}]
[{"$f":"\"\"","v":""},null,{"$f":"IF('Vendor List'!$A1644=\"\",\"\",'Vendor List'!$A1644)","v":"JOHNSTONE SUPPLY"}]
[{"$f":"\"\"","v":""},null,{"$f":"IF('Vendor List'!$A1645=\"\",\"\",'Vendor List'!$A1645)","v":"JT RYERSON CO"}]
[{"$f":"\"\"","v":""},null,{"$f":"IF('Vendor List'!$A1646=\"\",\"\",'Vendor List'!$A1646)","v":"JUDAH CASTER COMPANY"}]
[{"$f":"\"\"","v":""},null,{"$f":"IF('Vendor List'!$A1647=\"\",\"\",'Vendor List'!$A1647)","v":"JUDDS RADIATOR"}]
[{"$f":"\"\"","v":""},null,{"$f":"IF('Vendor List'!$A1648=\"\",\"\",'Vendor List'!$A1648)","v":"JUSTROPES.COM"}]
[{"$f":"\"\"","v":""},null,{"$f":"IF('Vendor List'!$A1649=\"\",\"\",'Vendor List'!$A1649)","v":"JW WINCO"}]
[{"$f":"\"\"","v":""},null,{"$f":"IF('Vendor List'!$A1650=\"\",\"\",'Vendor List'!$A1650)","v":"K-SPACE"}]
[{"$f":"\"\"","v":""},null,{"$f":"IF('Vendor List'!$A1651=\"\",\"\",'Vendor List'!$A1651)","v":"K-TEK INTERNATIONAL"}]
[{"$f":"\"\"","v":""},null,{"$f":"IF('Vendor List'!$A1652=\"\",\"\",'Vendor List'!$A1652)","v":"KADEL ENGINEERING CORP"}]
[{"$f":"\"\"","v":""},null,{"$f":"IF('Vendor List'!$A1653=\"\",\"\",'Vendor List'!$A1653)","v":"KAESTNERBODWAY INC"}]
[{"$f":"\"\"","v":""},null,{"$f":"IF('Vendor List'!$A1654=\"\",\"\",'Vendor List'!$A1654)","v":"KAGI SHAREWARE"}]
[{"$f":"\"\"","v":""},null,{"$f":"IF('Vendor List'!$A1655=\"\",\"\",'Vendor List'!$A1655)","v":"KAHLON, INC"}]
[{"$f":"\"\"","v":""},null,{"$f":"IF('Vendor List'!$A1656=\"\",\"\",'Vendor List'!$A1656)","v":"KAISER TOOL CO"}]
[{"$f":"\"\"","v":""},null,{"$f":"IF('Vendor List'!$A1657=\"\",\"\",'Vendor List'!$A1657)","v":"KALSCHEUR IMPLEMENT"}]
[{"$f":"\"\"","v":""},null,{"$f":"IF('Vendor List'!$A1658=\"\",\"\",'Vendor List'!$A1658)","v":"KAMAN INDUSTRIAL TECHNOLOGIES"}]
[{"$f":"\"\"","v":""},null,{"$f":"IF('Vendor List'!$A1659=\"\",\"\",'Vendor List'!$A1659)","v":"KARA COMPANY"}]
[{"$f":"\"\"","v":""},null,{"$f":"IF('Vendor List'!$A1660=\"\",\"\",'Vendor List'!$A1660)","v":"KARL LAMBRECHT CORP"}]
[{"$f":"\"\"","v":""},null,{"$f":"IF('Vendor List'!$A1661=\"\",\"\",'Vendor List'!$A1661)","v":"KARST SPORTS"}]
[{"$f":"\"\"","v":""},null,{"$f":"IF('Vendor List'!$A1662=\"\",\"\",'Vendor List'!$A1662)","v":"KAVANAUGHS RESTAURANT SUPPLY"}]
[{"$f":"\"\"","v":""},null,{"$f":"IF('Vendor List'!$A1663=\"\",\"\",'Vendor List'!$A1663)","v":"KAYSER AUTOMOTIVE GROUP"}]
[{"$f":"\"\"","v":""},null,{"$f":"IF('Vendor List'!$A1664=\"\",\"\",'Vendor List'!$A1664)","v":"KAYSER FORD INC"}]
[{"$f":"\"\"","v":""},null,{"$f":"IF('Vendor List'!$A1665=\"\",\"\",'Vendor List'!$A1665)","v":"KD FASTENERS"}]
[{"$f":"\"\"","v":""},null,{"$f":"IF('Vendor List'!$A1666=\"\",\"\",'Vendor List'!$A1666)","v":"KDS INC"}]
[{"$f":"\"\"","v":""},null,{"$f":"IF('Vendor List'!$A1667=\"\",\"\",'Vendor List'!$A1667)","v":"KEEP-FILL"}]
[{"$f":"\"\"","v":""},null,{"$f":"IF('Vendor List'!$A1668=\"\",\"\",'Vendor List'!$A1668)","v":"KEITHLEY"}]
[{"$f":"\"\"","v":""},null,{"$f":"IF('Vendor List'!$A1669=\"\",\"\",'Vendor List'!$A1669)","v":"KEITHLEY INSTRUMENTS INC"}]
[{"$f":"\"\"","v":""},null,{"$f":"IF('Vendor List'!$A1670=\"\",\"\",'Vendor List'!$A1670)","v":"KELLER AMERICA  INC"}]
[{"$f":"\"\"","v":""},null,{"$f":"IF('Vendor List'!$A1671=\"\",\"\",'Vendor List'!$A1671)","v":"KELLER PRODUCTS INC"}]
[{"$f":"\"\"","v":""},null,{"$f":"IF('Vendor List'!$A1672=\"\",\"\",'Vendor List'!$A1672)","v":"KELLEY WILLIAMSON"}]
[{"$f":"\"\"","v":""},null,{"$f":"IF('Vendor List'!$A1673=\"\",\"\",'Vendor List'!$A1673)","v":"KELLY CAMPBELL"}]
[{"$f":"\"\"","v":""},null,{"$f":"IF('Vendor List'!$A1674=\"\",\"\",'Vendor List'!$A1674)","v":"KEN LAUFFER & ASSOCIATES INC"}]
[{"$f":"\"\"","v":""},null,{"$f":"IF('Vendor List'!$A1675=\"\",\"\",'Vendor List'!$A1675)","v":"KENMORE LABELS"}]
[{"$f":"\"\"","v":""},null,{"$f":"IF('Vendor List'!$A1676=\"\",\"\",'Vendor List'!$A1676)","v":"KENNAMETAL INC"}]
[{"$f":"\"\"","v":""},null,{"$f":"IF('Vendor List'!$A1677=\"\",\"\",'Vendor List'!$A1677)","v":"KENNETH CROSBY CO."}]
[{"$f":"\"\"","v":""},null,{"$f":"IF('Vendor List'!$A1678=\"\",\"\",'Vendor List'!$A1678)","v":"KENOSHA COMPUTER CENTER"}]
[{"$f":"\"\"","v":""},null,{"$f":"IF('Vendor List'!$A1679=\"\",\"\",'Vendor List'!$A1679)","v":"KENRICH/EMS, INC"}]
[{"$f":"\"\"","v":""},null,{"$f":"IF('Vendor List'!$A1680=\"\",\"\",'Vendor List'!$A1680)","v":"KENTEK CORPORATION"}]
[{"$f":"\"\"","v":""},null,{"$f":"IF('Vendor List'!$A1681=\"\",\"\",'Vendor List'!$A1681)","v":"KEPCO"}]
[{"$f":"\"\"","v":""},null,{"$f":"IF('Vendor List'!$A1682=\"\",\"\",'Vendor List'!$A1682)","v":"KEPCO"}]
[{"$f":"\"\"","v":""},null,{"$f":"IF('Vendor List'!$A1683=\"\",\"\",'Vendor List'!$A1683)","v":"KEPCO INC"}]
[{"$f":"\"\"","v":""},null,{"$f":"IF('Vendor List'!$A1684=\"\",\"\",'Vendor List'!$A1684)","v":"KERN ENGINEERING & MFG CORP"}]
[{"$f":"\"\"","v":""},null,{"$f":"IF('Vendor List'!$A1685=\"\",\"\",'Vendor List'!$A1685)","v":"KESSENICHS LTD"}]
[{"$f":"\"\"","v":""},null,{"$f":"IF('Vendor List'!$A1686=\"\",\"\",'Vendor List'!$A1686)","v":"KEY BELLEVILLES  INC"}]
[{"$f":"\"\"","v":""},null,{"$f":"IF('Vendor List'!$A1687=\"\",\"\",'Vendor List'!$A1687)","v":"KEY HIGH VACUUM PRODUCTS INC"}]
[{"$f":"\"\"","v":""},null,{"$f":"IF('Vendor List'!$A1688=\"\",\"\",'Vendor List'!$A1688)","v":"KEY INDUSTRIES"}]
[{"$f":"\"\"","v":""},null,{"$f":"IF('Vendor List'!$A1689=\"\",\"\",'Vendor List'!$A1689)","v":"KEYE PRODUCTIVITY CENTER"}]
[{"$f":"\"\"","v":""},null,{"$f":"IF('Vendor List'!$A1690=\"\",\"\",'Vendor List'!$A1690)","v":"KEYSTONE FILTER DIVISION"}]
[{"$f":"\"\"","v":""},null,{"$f":"IF('Vendor List'!$A1691=\"\",\"\",'Vendor List'!$A1691)","v":"KIDASA SOFTWARE"}]
[{"$f":"\"\"","v":""},null,{"$f":"IF('Vendor List'!$A1692=\"\",\"\",'Vendor List'!$A1692)","v":"KILSBY ROBERTS"}]
[{"$f":"\"\"","v":""},null,{"$f":"IF('Vendor List'!$A1693=\"\",\"\",'Vendor List'!$A1693)","v":"KIMBALL PHYSICS INC"}]
[{"$f":"\"\"","v":""},null,{"$f":"IF('Vendor List'!$A1694=\"\",\"\",'Vendor List'!$A1694)","v":"KINESIS CORP"}]
[{"$f":"\"\"","v":""},null,{"$f":"IF('Vendor List'!$A1695=\"\",\"\",'Vendor List'!$A1695)","v":"KINETIC SYSTEMS CORPORATION"}]
[{"$f":"\"\"","v":""},null,{"$f":"IF('Vendor List'!$A1696=\"\",\"\",'Vendor List'!$A1696)","v":"KINGBRIGHT CORP"}]
[{"$f":"\"\"","v":""},null,{"$f":"IF('Vendor List'!$A1697=\"\",\"\",'Vendor List'!$A1697)","v":"KINGSTON TECHNOLOGY CORP"}]
[{"$f":"\"\"","v":""},null,{"$f":"IF('Vendor List'!$A1698=\"\",\"\",'Vendor List'!$A1698)","v":"KISTLER INSTRUMENT GROUP"}]
[{"$f":"\"\"","v":""},null,{"$f":"IF('Vendor List'!$A1699=\"\",\"\",'Vendor List'!$A1699)","v":"KITCHEN HEARTH"}]
[{"$f":"\"\"","v":""},null,{"$f":"IF('Vendor List'!$A1700=\"\",\"\",'Vendor List'!$A1700)","v":"KIYOTA CO INC"}]
[{"$f":"\"\"","v":""},null,{"$f":"IF('Vendor List'!$A1701=\"\",\"\",'Vendor List'!$A1701)","v":"KL GROUP"}]
[{"$f":"\"\"","v":""},null,{"$f":"IF('Vendor List'!$A1702=\"\",\"\",'Vendor List'!$A1702)","v":"KLA TENCOR, INC"}]
[{"$f":"\"\"","v":""},null,{"$f":"IF('Vendor List'!$A1703=\"\",\"\",'Vendor List'!$A1703)","v":"KLA-TENCOR"}]
[{"$f":"\"\"","v":""},null,{"$f":"IF('Vendor List'!$A1704=\"\",\"\",'Vendor List'!$A1704)","v":"KLAUS RADIO"}]
[{"$f":"\"\"","v":""},null,{"$f":"IF('Vendor List'!$A1705=\"\",\"\",'Vendor List'!$A1705)","v":"KLAUS RADIO INC"}]
[{"$f":"\"\"","v":""},null,{"$f":"IF('Vendor List'!$A1706=\"\",\"\",'Vendor List'!$A1706)","v":"KLEEN SWEEP"}]
[{"$f":"\"\"","v":""},null,{"$f":"IF('Vendor List'!$A1707=\"\",\"\",'Vendor List'!$A1707)","v":"KLEENMARK DISTRIBUTION"}]
[{"$f":"\"\"","v":""},null,{"$f":"IF('Vendor List'!$A1708=\"\",\"\",'Vendor List'!$A1708)","v":"KLEIN DICKERT"}]
[{"$f":"\"\"","v":""},null,{"$f":"IF('Vendor List'!$A1709=\"\",\"\",'Vendor List'!$A1709)","v":"KLEIN DICKERT CO"}]
[{"$f":"\"\"","v":""},null,{"$f":"IF('Vendor List'!$A1710=\"\",\"\",'Vendor List'!$A1710)","v":"KLEIN DICKERT GLASS"}]
[{"$f":"\"\"","v":""},null,{"$f":"IF('Vendor List'!$A1711=\"\",\"\",'Vendor List'!$A1711)","v":"KLINKE CLEANERS"}]
[{"$f":"\"\"","v":""},null,{"$f":"IF('Vendor List'!$A1712=\"\",\"\",'Vendor List'!$A1712)","v":"KLINKE CLEANERS"}]
[{"$f":"\"\"","v":""},null,{"$f":"IF('Vendor List'!$A1713=\"\",\"\",'Vendor List'!$A1713)","v":"KM TOOL SUPPLY"}]
[{"$f":"\"\"","v":""},null,{"$f":"IF('Vendor List'!$A1714=\"\",\"\",'Vendor List'!$A1714)","v":"KNIVES & BLADES"}]
[{"$f":"\"\"","v":""},null,{"$f":"IF('Vendor List'!$A1715=\"\",\"\",'Vendor List'!$A1715)","v":"KNOX COMPANY"}]
[{"$f":"\"\"","v":""},null,{"$f":"IF('Vendor List'!$A1716=\"\",\"\",'Vendor List'!$A1716)","v":"KOBOLD INSTRUMENTS INC"}]
[{"$f":"\"\"","v":""},null,{"$f":"IF('Vendor List'!$A1717=\"\",\"\",'Vendor List'!$A1717)","v":"KOCH CRYSTAL FINISHING"}]
[{"$f":"\"\"","v":""},null,{"$f":"IF('Vendor List'!$A1718=\"\",\"\",'Vendor List'!$A1718)","v":"KOHLS"}]
[{"$f":"\"\"","v":""},null,{"$f":"IF('Vendor List'!$A1719=\"\",\"\",'Vendor List'!$A1719)","v":"KOHLS"}]
[{"$f":"\"\"","v":""},null,{"$f":"IF('Vendor List'!$A1720=\"\",\"\",'Vendor List'!$A1720)","v":"KONECRANES"}]
[{"$f":"\"\"","v":""},null,{"$f":"IF('Vendor List'!$A1721=\"\",\"\",'Vendor List'!$A1721)","v":"KONICA BUSINESS MACHINES"}]
[{"$f":"\"\"","v":""},null,{"$f":"IF('Vendor List'!$A1722=\"\",\"\",'Vendor List'!$A1722)","v":"KOOL VIEW CO INC"}]
[{"$f":"\"\"","v":""},null,{"$f":"IF('Vendor List'!$A1723=\"\",\"\",'Vendor List'!$A1723)","v":"KOOP,EMILY"}]
[{"$f":"\"\"","v":""},null,{"$f":"IF('Vendor List'!$A1724=\"\",\"\",'Vendor List'!$A1724)","v":"KORAL LABS"}]
[{"$f":"\"\"","v":""},null,{"$f":"IF('Vendor List'!$A1725=\"\",\"\",'Vendor List'!$A1725)","v":"KR MACHINE INC"}]
[{"$f":"\"\"","v":""},null,{"$f":"IF('Vendor List'!$A1726=\"\",\"\",'Vendor List'!$A1726)","v":"KRAFT INC"}]
[{"$f":"\"\"","v":""},null,{"$f":"IF('Vendor List'!$A1727=\"\",\"\",'Vendor List'!$A1727)","v":"KRANZ INC"}]
[{"$f":"\"\"","v":""},null,{"$f":"IF('Vendor List'!$A1728=\"\",\"\",'Vendor List'!$A1728)","v":"KRAYDEN INC"}]
[{"$f":"\"\"","v":""},null,{"$f":"IF('Vendor List'!$A1729=\"\",\"\",'Vendor List'!$A1729)","v":"KREGER"}]
[{"$f":"\"\"","v":""},null,{"$f":"IF('Vendor List'!$A1730=\"\",\"\",'Vendor List'!$A1730)","v":"KREL LABS"}]
[{"$f":"\"\"","v":""},null,{"$f":"IF('Vendor List'!$A1731=\"\",\"\",'Vendor List'!$A1731)","v":"KREX COMPUTERS"}]
[{"$f":"\"\"","v":""},null,{"$f":"IF('Vendor List'!$A1732=\"\",\"\",'Vendor List'!$A1732)","v":"KROHN HITE CORP"}]
[{"$f":"\"\"","v":""},null,{"$f":"IF('Vendor List'!$A1733=\"\",\"\",'Vendor List'!$A1733)","v":"KUGLER OF AMERICA LTD"}]
[{"$f":"\"\"","v":""},null,{"$f":"IF('Vendor List'!$A1734=\"\",\"\",'Vendor List'!$A1734)","v":"KULITE TUNGSTEN"}]
[{"$f":"\"\"","v":""},null,{"$f":"IF('Vendor List'!$A1735=\"\",\"\",'Vendor List'!$A1735)","v":"KURT LESKER CO"}]
[{"$f":"\"\"","v":""},null,{"$f":"IF('Vendor List'!$A1736=\"\",\"\",'Vendor List'!$A1736)","v":"KURT WORKHOLDING MFG"}]
[{"$f":"\"\"","v":""},null,{"$f":"IF('Vendor List'!$A1737=\"\",\"\",'Vendor List'!$A1737)","v":"L & L FOODS"}]
[{"$f":"\"\"","v":""},null,{"$f":"IF('Vendor List'!$A1738=\"\",\"\",'Vendor List'!$A1738)","v":"L & L HEATING"}]
[{"$f":"\"\"","v":""},null,{"$f":"IF('Vendor List'!$A1739=\"\",\"\",'Vendor List'!$A1739)","v":"L COM DATA PRODUCTS"}]
[{"$f":"\"\"","v":""},null,{"$f":"IF('Vendor List'!$A1740=\"\",\"\",'Vendor List'!$A1740)","v":"L&L FOODS"}]
[{"$f":"\"\"","v":""},null,{"$f":"IF('Vendor List'!$A1741=\"\",\"\",'Vendor List'!$A1741)","v":"LA CIE LTD"}]
[{"$f":"\"\"","v":""},null,{"$f":"IF('Vendor List'!$A1742=\"\",\"\",'Vendor List'!$A1742)","v":"LAB LINE INSTRUMENT CO"}]
[{"$f":"\"\"","v":""},null,{"$f":"IF('Vendor List'!$A1743=\"\",\"\",'Vendor List'!$A1743)","v":"LAB SAFETY SUPPLY CO"}]
[{"$f":"\"\"","v":""},null,{"$f":"IF('Vendor List'!$A1744=\"\",\"\",'Vendor List'!$A1744)","v":"LABARGE INC"}]
[{"$f":"\"\"","v":""},null,{"$f":"IF('Vendor List'!$A1745=\"\",\"\",'Vendor List'!$A1745)","v":"LACO TECHNOLOGIES"}]
[{"$f":"\"\"","v":""},null,{"$f":"IF('Vendor List'!$A1746=\"\",\"\",'Vendor List'!$A1746)","v":"LADYBUG TECHNOLOGIES"}]
[{"$f":"\"\"","v":""},null,{"$f":"IF('Vendor List'!$A1747=\"\",\"\",'Vendor List'!$A1747)","v":"LAHEY COMPUTER SYSTEMS INC"}]
[{"$f":"\"\"","v":""},null,{"$f":"IF('Vendor List'!$A1748=\"\",\"\",'Vendor List'!$A1748)","v":"LAIPAC TECHNOLOGY, INC"}]
[{"$f":"\"\"","v":""},null,{"$f":"IF('Vendor List'!$A1749=\"\",\"\",'Vendor List'!$A1749)","v":"LAIRD PLASTICS"}]
[{"$f":"\"\"","v":""},null,{"$f":"IF('Vendor List'!$A1750=\"\",\"\",'Vendor List'!$A1750)","v":"LAKE CITY GLASS INC"}]
[{"$f":"\"\"","v":""},null,{"$f":"IF('Vendor List'!$A1751=\"\",\"\",'Vendor List'!$A1751)","v":"LAKE LAWN RESORT"}]
[{"$f":"\"\"","v":""},null,{"$f":"IF('Vendor List'!$A1752=\"\",\"\",'Vendor List'!$A1752)","v":"LAKESHORE CRYOTRONICS"}]
[{"$f":"\"\"","v":""},null,{"$f":"IF('Vendor List'!$A1753=\"\",\"\",'Vendor List'!$A1753)","v":"LAMBDA AMERICAS INC"}]
[{"$f":"\"\"","v":""},null,{"$f":"IF('Vendor List'!$A1754=\"\",\"\",'Vendor List'!$A1754)","v":"LAMBDA ELECTRONICS CORP"}]
[{"$f":"\"\"","v":""},null,{"$f":"IF('Vendor List'!$A1755=\"\",\"\",'Vendor List'!$A1755)","v":"LANCAST"}]
[{"$f":"\"\"","v":""},null,{"$f":"IF('Vendor List'!$A1756=\"\",\"\",'Vendor List'!$A1756)","v":"LAND INFRARED"}]
[{"$f":"\"\"","v":""},null,{"$f":"IF('Vendor List'!$A1757=\"\",\"\",'Vendor List'!$A1757)","v":"LANDA CLEARY TRAVEL"}]
[{"$f":"\"\"","v":""},null,{"$f":"IF('Vendor List'!$A1758=\"\",\"\",'Vendor List'!$A1758)","v":"LANDMARK COOPERATIVE"}]
[{"$f":"\"\"","v":""},null,{"$f":"IF('Vendor List'!$A1759=\"\",\"\",'Vendor List'!$A1759)","v":"LANDSTAR LOGISTICS"}]
[{"$f":"\"\"","v":""},null,{"$f":"IF('Vendor List'!$A1760=\"\",\"\",'Vendor List'!$A1760)","v":"LANE'S BAKERY"}]
[{"$f":"\"\"","v":""},null,{"$f":"IF('Vendor List'!$A1761=\"\",\"\",'Vendor List'!$A1761)","v":"LANGUAGE SYSTEMS CORP"}]
[{"$f":"\"\"","v":""},null,{"$f":"IF('Vendor List'!$A1762=\"\",\"\",'Vendor List'!$A1762)","v":"LANIER WORLDWIDE"}]
[{"$f":"\"\"","v":""},null,{"$f":"IF('Vendor List'!$A1763=\"\",\"\",'Vendor List'!$A1763)","v":"LANSMONT CORPORATION"}]
[{"$f":"\"\"","v":""},null,{"$f":"IF('Vendor List'!$A1764=\"\",\"\",'Vendor List'!$A1764)","v":"LAPEYRE STAIR, INC"}]
[{"$f":"\"\"","v":""},null,{"$f":"IF('Vendor List'!$A1765=\"\",\"\",'Vendor List'!$A1765)","v":"LAPMASTER LLC"}]
[{"$f":"\"\"","v":""},null,{"$f":"IF('Vendor List'!$A1766=\"\",\"\",'Vendor List'!$A1766)","v":"LAPPIN ELECTRIC"}]
[{"$f":"\"\"","v":""},null,{"$f":"IF('Vendor List'!$A1767=\"\",\"\",'Vendor List'!$A1767)","v":"LAPPIN ELECTRIC"}]
[{"$f":"\"\"","v":""},null,{"$f":"IF('Vendor List'!$A1768=\"\",\"\",'Vendor List'!$A1768)","v":"LAPTOPS FOR LESS"}]
[{"$f":"\"\"","v":""},null,{"$f":"IF('Vendor List'!$A1769=\"\",\"\",'Vendor List'!$A1769)","v":"LARK ENGINEERING COMPANY"}]
[{"$f":"\"\"","v":""},null,{"$f":"IF('Vendor List'!$A1770=\"\",\"\",'Vendor List'!$A1770)","v":"LARSEN ASSOCIATES"}]
[{"$f":"\"\"","v":""},null,{"$f":"IF('Vendor List'!$A1771=\"\",\"\",'Vendor List'!$A1771)","v":"LARSEN ELECTRONIC GLASS"}]
[{"$f":"\"\"","v":""},null,{"$f":"IF('Vendor List'!$A1772=\"\",\"\",'Vendor List'!$A1772)","v":"LASCAR ELECTRONICS"}]
[{"$f":"\"\"","v":""},null,{"$f":"IF('Vendor List'!$A1773=\"\",\"\",'Vendor List'!$A1773)","v":"LASER INSTITUTE OF AMERICA"}]
[{"$f":"\"\"","v":""},null,{"$f":"IF('Vendor List'!$A1774=\"\",\"\",'Vendor List'!$A1774)","v":"LASER MACHINE INC"}]
[{"$f":"\"\"","v":""},null,{"$f":"IF('Vendor List'!$A1775=\"\",\"\",'Vendor List'!$A1775)","v":"LASER RESEARCH OPTICS"}]
[{"$f":"\"\"","v":""},null,{"$f":"IF('Vendor List'!$A1776=\"\",\"\",'Vendor List'!$A1776)","v":"LASER WEST"}]
[{"$f":"\"\"","v":""},null,{"$f":"IF('Vendor List'!$A1777=\"\",\"\",'Vendor List'!$A1777)","v":"LASERSHARP INC"}]
[{"$f":"\"\"","v":""},null,{"$f":"IF('Vendor List'!$A1778=\"\",\"\",'Vendor List'!$A1778)","v":"LASHEN ELECTRONICS INC"}]
[{"$f":"\"\"","v":""},null,{"$f":"IF('Vendor List'!$A1779=\"\",\"\",'Vendor List'!$A1779)","v":"LATITUDE"}]
[{"$f":"\"\"","v":""},null,{"$f":"IF('Vendor List'!$A1780=\"\",\"\",'Vendor List'!$A1780)","v":"LATTICE PRESS"}]
[{"$f":"\"\"","v":""},null,{"$f":"IF('Vendor List'!$A1781=\"\",\"\",'Vendor List'!$A1781)","v":"LAUREL ELECTRONICS   INC"}]
[{"$f":"\"\"","v":""},null,{"$f":"IF('Vendor List'!$A1782=\"\",\"\",'Vendor List'!$A1782)","v":"LAUREN PUBLISHING CO"}]
[{"$f":"\"\"","v":""},null,{"$f":"IF('Vendor List'!$A1783=\"\",\"\",'Vendor List'!$A1783)","v":"LAURUS TECHNOLOGIES"}]
[{"$f":"\"\"","v":""},null,{"$f":"IF('Vendor List'!$A1784=\"\",\"\",'Vendor List'!$A1784)","v":"LAWRENCE BERKELEY LAB"}]
[{"$f":"\"\"","v":""},null,{"$f":"IF('Vendor List'!$A1785=\"\",\"\",'Vendor List'!$A1785)","v":"LAWRENCE LIVERMORE NATL LAB"}]
[{"$f":"\"\"","v":""},null,{"$f":"IF('Vendor List'!$A1786=\"\",\"\",'Vendor List'!$A1786)","v":"LAYCO INC"}]
[{"$f":"\"\"","v":""},null,{"$f":"IF('Vendor List'!$A1787=\"\",\"\",'Vendor List'!$A1787)","v":"LEADER TECH"}]
[{"$f":"\"\"","v":""},null,{"$f":"IF('Vendor List'!$A1788=\"\",\"\",'Vendor List'!$A1788)","v":"LEAK DETECTION SYSTEMS"}]
[{"$f":"\"\"","v":""},null,{"$f":"IF('Vendor List'!$A1789=\"\",\"\",'Vendor List'!$A1789)","v":"LEARNING TECHNOLOGIES INC"}]
[{"$f":"\"\"","v":""},null,{"$f":"IF('Vendor List'!$A1790=\"\",\"\",'Vendor List'!$A1790)","v":"LEBOW COMPANY"}]
[{"$f":"\"\"","v":""},null,{"$f":"IF('Vendor List'!$A1791=\"\",\"\",'Vendor List'!$A1791)","v":"LECLANCHE CAPACITORS"}]
[{"$f":"\"\"","v":""},null,{"$f":"IF('Vendor List'!$A1792=\"\",\"\",'Vendor List'!$A1792)","v":"LEE COMPANY"}]
[{"$f":"\"\"","v":""},null,{"$f":"IF('Vendor List'!$A1793=\"\",\"\",'Vendor List'!$A1793)","v":"LEE SPRING COMPANY"}]
[{"$f":"\"\"","v":""},null,{"$f":"IF('Vendor List'!$A1794=\"\",\"\",'Vendor List'!$A1794)","v":"LEE VALLEY TOOLS LTD"}]
[{"$f":"\"\"","v":""},null,{"$f":"IF('Vendor List'!$A1795=\"\",\"\",'Vendor List'!$A1795)","v":"LEEDS PRECISION INSTRUMENTS"}]
[{"$f":"\"\"","v":""},null,{"$f":"IF('Vendor List'!$A1796=\"\",\"\",'Vendor List'!$A1796)","v":"LEHMAN SCIENTIFIC"}]
[{"$f":"\"\"","v":""},null,{"$f":"IF('Vendor List'!$A1797=\"\",\"\",'Vendor List'!$A1797)","v":"LEICA CAMBRIDGE LTD"}]
[{"$f":"\"\"","v":""},null,{"$f":"IF('Vendor List'!$A1798=\"\",\"\",'Vendor List'!$A1798)","v":"LEICA GEOSYSTEMS"}]
[{"$f":"\"\"","v":""},null,{"$f":"IF('Vendor List'!$A1799=\"\",\"\",'Vendor List'!$A1799)","v":"LEICA INC"}]
[{"$f":"\"\"","v":""},null,{"$f":"IF('Vendor List'!$A1800=\"\",\"\",'Vendor List'!$A1800)","v":"LENOVA GROUP LIMITED"}]
[{"$f":"\"\"","v":""},null,{"$f":"IF('Vendor List'!$A1801=\"\",\"\",'Vendor List'!$A1801)","v":"LENOVA GROUP LIMITED"}]
[{"$f":"\"\"","v":""},null,{"$f":"IF('Vendor List'!$A1802=\"\",\"\",'Vendor List'!$A1802)","v":"LENOVO DIRECT"}]
[{"$f":"\"\"","v":""},null,{"$f":"IF('Vendor List'!$A1803=\"\",\"\",'Vendor List'!$A1803)","v":"LENZKES CLAMPING TOOLS  INC"}]
[{"$f":"\"\"","v":""},null,{"$f":"IF('Vendor List'!$A1804=\"\",\"\",'Vendor List'!$A1804)","v":"LERDAHL ASSOCIATES"}]
[{"$f":"\"\"","v":""},null,{"$f":"IF('Vendor List'!$A1805=\"\",\"\",'Vendor List'!$A1805)","v":"LESMAN INSTRUMENT CO"}]
[{"$f":"\"\"","v":""},null,{"$f":"IF('Vendor List'!$A1806=\"\",\"\",'Vendor List'!$A1806)","v":"LESMAN INSTRUMENTS"}]
[{"$f":"\"\"","v":""},null,{"$f":"IF('Vendor List'!$A1807=\"\",\"\",'Vendor List'!$A1807)","v":"LETTERCRAFT PRESS INC"}]
[{"$f":"\"\"","v":""},null,{"$f":"IF('Vendor List'!$A1808=\"\",\"\",'Vendor List'!$A1808)","v":"LEVEL-13 INC."}]
[{"$f":"\"\"","v":""},null,{"$f":"IF('Vendor List'!$A1809=\"\",\"\",'Vendor List'!$A1809)","v":"LEXINGTON HEATH BOOKS"}]
[{"$f":"\"\"","v":""},null,{"$f":"IF('Vendor List'!$A1810=\"\",\"\",'Vendor List'!$A1810)","v":"LEXMARK INTERNATIONAL INC."}]
[{"$f":"\"\"","v":""},null,{"$f":"IF('Vendor List'!$A1811=\"\",\"\",'Vendor List'!$A1811)","v":"LEYBOLD INC"}]
[{"$f":"\"\"","v":""},null,{"$f":"IF('Vendor List'!$A1812=\"\",\"\",'Vendor List'!$A1812)","v":"LEYBOLD INFICON"}]
[{"$f":"\"\"","v":""},null,{"$f":"IF('Vendor List'!$A1813=\"\",\"\",'Vendor List'!$A1813)","v":"LIBRARY TECHNOLOGY GROUP"}]
[{"$f":"\"\"","v":""},null,{"$f":"IF('Vendor List'!$A1814=\"\",\"\",'Vendor List'!$A1814)","v":"LICONIX"}]
[{"$f":"\"\"","v":""},null,{"$f":"IF('Vendor List'!$A1815=\"\",\"\",'Vendor List'!$A1815)","v":"LIEBOVICH BROTHERS"}]
[{"$f":"\"\"","v":""},null,{"$f":"IF('Vendor List'!$A1816=\"\",\"\",'Vendor List'!$A1816)","v":"LIGHTHOUSE FIBER"}]
[{"$f":"\"\"","v":""},null,{"$f":"IF('Vendor List'!$A1817=\"\",\"\",'Vendor List'!$A1817)","v":"LIGHTING SPECIALISTS"}]
[{"$f":"\"\"","v":""},null,{"$f":"IF('Vendor List'!$A1818=\"\",\"\",'Vendor List'!$A1818)","v":"LIN ENGINEERING"}]
[{"$f":"\"\"","v":""},null,{"$f":"IF('Vendor List'!$A1819=\"\",\"\",'Vendor List'!$A1819)","v":"LINC SYSTEMS"}]
[{"$f":"\"\"","v":""},null,{"$f":"IF('Vendor List'!$A1820=\"\",\"\",'Vendor List'!$A1820)","v":"LINCOLN FABRICATION & WELDING"}]
[{"$f":"\"\"","v":""},null,{"$f":"IF('Vendor List'!$A1821=\"\",\"\",'Vendor List'!$A1821)","v":"LINDE LLC"}]
[{"$f":"\"\"","v":""},null,{"$f":"IF('Vendor List'!$A1822=\"\",\"\",'Vendor List'!$A1822)","v":"LINDE/AGA GAS"}]
[{"$f":"\"\"","v":""},null,{"$f":"IF('Vendor List'!$A1823=\"\",\"\",'Vendor List'!$A1823)","v":"LINEAR TECHNOLOGY"}]
[{"$f":"\"\"","v":""},null,{"$f":"IF('Vendor List'!$A1824=\"\",\"\",'Vendor List'!$A1824)","v":"LINK INSTRUMENTS"}]
[{"$f":"\"\"","v":""},null,{"$f":"IF('Vendor List'!$A1825=\"\",\"\",'Vendor List'!$A1825)","v":"LINUX SHOPPING MALL"}]
[{"$f":"\"\"","v":""},null,{"$f":"IF('Vendor List'!$A1826=\"\",\"\",'Vendor List'!$A1826)","v":"LIQUID AIR CORP"}]
[{"$f":"\"\"","v":""},null,{"$f":"IF('Vendor List'!$A1827=\"\",\"\",'Vendor List'!$A1827)","v":"LIQUID CARBONIC SPEC GAS CORP"}]
[{"$f":"\"\"","v":""},null,{"$f":"IF('Vendor List'!$A1828=\"\",\"\",'Vendor List'!$A1828)","v":"LIQUID HELIUM & NITROGEN FAC."}]
[{"$f":"\"\"","v":""},null,{"$f":"IF('Vendor List'!$A1829=\"\",\"\",'Vendor List'!$A1829)","v":"LITTLE BEAVER INC"}]
[{"$f":"\"\"","v":""},null,{"$f":"IF('Vendor List'!$A1830=\"\",\"\",'Vendor List'!$A1830)","v":"LITTLE FALLS ALLOY  INC"}]
[{"$f":"\"\"","v":""},null,{"$f":"IF('Vendor List'!$A1831=\"\",\"\",'Vendor List'!$A1831)","v":"LITTON POLY SCIENTIFIC"}]
[{"$f":"\"\"","v":""},null,{"$f":"IF('Vendor List'!$A1832=\"\",\"\",'Vendor List'!$A1832)","v":"LOBECCA CATERING"}]
[{"$f":"\"\"","v":""},null,{"$f":"IF('Vendor List'!$A1833=\"\",\"\",'Vendor List'!$A1833)","v":"LOCKER GROUP"}]
[{"$f":"\"\"","v":""},null,{"$f":"IF('Vendor List'!$A1834=\"\",\"\",'Vendor List'!$A1834)","v":"LOGIC SYSTEMS"}]
[{"$f":"\"\"","v":""},null,{"$f":"IF('Vendor List'!$A1835=\"\",\"\",'Vendor List'!$A1835)","v":"LONN MANUFACTURING"}]
[{"$f":"\"\"","v":""},null,{"$f":"IF('Vendor List'!$A1836=\"\",\"\",'Vendor List'!$A1836)","v":"LOTUS DEVELOPMENT"}]
[{"$f":"\"\"","v":""},null,{"$f":"IF('Vendor List'!$A1837=\"\",\"\",'Vendor List'!$A1837)","v":"LOTUS DEVELOPMENT CORP"}]
[{"$f":"\"\"","v":""},null,{"$f":"IF('Vendor List'!$A1838=\"\",\"\",'Vendor List'!$A1838)","v":"LOTUS DEVELOPMENT CORP."}]
[{"$f":"\"\"","v":""},null,{"$f":"IF('Vendor List'!$A1839=\"\",\"\",'Vendor List'!$A1839)","v":"LOUISIANA LEADERSHIP INSTITUTE"}]
[{"$f":"\"\"","v":""},null,{"$f":"IF('Vendor List'!$A1840=\"\",\"\",'Vendor List'!$A1840)","v":"LOUISIANA STATE UNIVERSITY"}]
[{"$f":"\"\"","v":""},null,{"$f":"IF('Vendor List'!$A1841=\"\",\"\",'Vendor List'!$A1841)","v":"LOWELL HALL GUEST CENTER"}]
[{"$f":"\"\"","v":""},null,{"$f":"IF('Vendor List'!$A1842=\"\",\"\",'Vendor List'!$A1842)","v":"LSI CONSULTING"}]
[{"$f":"\"\"","v":""},null,{"$f":"IF('Vendor List'!$A1843=\"\",\"\",'Vendor List'!$A1843)","v":"LSU UNION ART GALLERY"}]
[{"$f":"\"\"","v":""},null,{"$f":"IF('Vendor List'!$A1844=\"\",\"\",'Vendor List'!$A1844)","v":"LUCAS LEDEX INC"}]
[{"$f":"\"\"","v":""},null,{"$f":"IF('Vendor List'!$A1845=\"\",\"\",'Vendor List'!$A1845)","v":"LUCAS MILHAUPT INC"}]
[{"$f":"\"\"","v":""},null,{"$f":"IF('Vendor List'!$A1846=\"\",\"\",'Vendor List'!$A1846)","v":"LUCAS PRECISION"}]
[{"$f":"\"\"","v":""},null,{"$f":"IF('Vendor List'!$A1847=\"\",\"\",'Vendor List'!$A1847)","v":"LUCAS SCHAEVITZ"}]
[{"$f":"\"\"","v":""},null,{"$f":"IF('Vendor List'!$A1848=\"\",\"\",'Vendor List'!$A1848)","v":"LUDLUM MEASUREMENTS  INC"}]
[{"$f":"\"\"","v":""},null,{"$f":"IF('Vendor List'!$A1849=\"\",\"\",'Vendor List'!$A1849)","v":"LUGARU SOFTWARE LTD"}]
[{"$f":"\"\"","v":""},null,{"$f":"IF('Vendor List'!$A1850=\"\",\"\",'Vendor List'!$A1850)","v":"LUXEL CORP"}]
[{"$f":"\"\"","v":""},null,{"$f":"IF('Vendor List'!$A1851=\"\",\"\",'Vendor List'!$A1851)","v":"LYCO COMPUTER"}]
[{"$f":"\"\"","v":""},null,{"$f":"IF('Vendor List'!$A1852=\"\",\"\",'Vendor List'!$A1852)","v":"LYTRON"}]
[{"$f":"\"\"","v":""},null,{"$f":"IF('Vendor List'!$A1853=\"\",\"\",'Vendor List'!$A1853)","v":"M/A-COM GAAS MATERIALS"}]
[{"$f":"\"\"","v":""},null,{"$f":"IF('Vendor List'!$A1854=\"\",\"\",'Vendor List'!$A1854)","v":"MAC XTRA"}]
[{"$f":"\"\"","v":""},null,{"$f":"IF('Vendor List'!$A1855=\"\",\"\",'Vendor List'!$A1855)","v":"MAC ZONE"}]
[{"$f":"\"\"","v":""},null,{"$f":"IF('Vendor List'!$A1856=\"\",\"\",'Vendor List'!$A1856)","v":"MACGALAXY"}]
[{"$f":"\"\"","v":""},null,{"$f":"IF('Vendor List'!$A1857=\"\",\"\",'Vendor List'!$A1857)","v":"MACHINE TOOL BEARINGS & ACCS"}]
[{"$f":"\"\"","v":""},null,{"$f":"IF('Vendor List'!$A1858=\"\",\"\",'Vendor List'!$A1858)","v":"MACHINE TOOL ENGINEERING"}]
[{"$f":"\"\"","v":""},null,{"$f":"IF('Vendor List'!$A1859=\"\",\"\",'Vendor List'!$A1859)","v":"MACHINE TOOL SERVICE"}]
[{"$f":"\"\"","v":""},null,{"$f":"IF('Vendor List'!$A1860=\"\",\"\",'Vendor List'!$A1860)","v":"MACHINERY & FACTORY IND SUPPLY"}]
[{"$f":"\"\"","v":""},null,{"$f":"IF('Vendor List'!$A1861=\"\",\"\",'Vendor List'!$A1861)","v":"MACMALL"}]
[{"$f":"\"\"","v":""},null,{"$f":"IF('Vendor List'!$A1862=\"\",\"\",'Vendor List'!$A1862)","v":"MACROMEDIA"}]
[{"$f":"\"\"","v":""},null,{"$f":"IF('Vendor List'!$A1863=\"\",\"\",'Vendor List'!$A1863)","v":"MACROMEDIA ORDER CENTER"}]
[{"$f":"\"\"","v":""},null,{"$f":"IF('Vendor List'!$A1864=\"\",\"\",'Vendor List'!$A1864)","v":"MACWAREHOUSE"}]
[{"$f":"\"\"","v":""},null,{"$f":"IF('Vendor List'!$A1865=\"\",\"\",'Vendor List'!$A1865)","v":"MADISON AREA SAFETY COUNCIL"}]
[{"$f":"\"\"","v":""},null,{"$f":"IF('Vendor List'!$A1866=\"\",\"\",'Vendor List'!$A1866)","v":"MADISON AREA TECHNICAL COLLEGE"}]
[{"$f":"\"\"","v":""},null,{"$f":"IF('Vendor List'!$A1867=\"\",\"\",'Vendor List'!$A1867)","v":"MADISON BLOCK & STONE"}]
[{"$f":"\"\"","v":""},null,{"$f":"IF('Vendor List'!$A1868=\"\",\"\",'Vendor List'!$A1868)","v":"MADISON GAS & ELECTRIC"}]
[{"$f":"\"\"","v":""},null,{"$f":"IF('Vendor List'!$A1869=\"\",\"\",'Vendor List'!$A1869)","v":"MADISON LEASING CO INC"}]
[{"$f":"\"\"","v":""},null,{"$f":"IF('Vendor List'!$A1870=\"\",\"\",'Vendor List'!$A1870)","v":"MADISON METROPOLITAN SCHOOL DI"}]
[{"$f":"\"\"","v":""},null,{"$f":"IF('Vendor List'!$A1871=\"\",\"\",'Vendor List'!$A1871)","v":"MADISON MOTORSPORTS LLC"}]
[{"$f":"\"\"","v":""},null,{"$f":"IF('Vendor List'!$A1872=\"\",\"\",'Vendor List'!$A1872)","v":"MADISON OFFICE MACHINES"}]
[{"$f":"\"\"","v":""},null,{"$f":"IF('Vendor List'!$A1873=\"\",\"\",'Vendor List'!$A1873)","v":"MADISON PC USERS GROUP"}]
[{"$f":"\"\"","v":""},null,{"$f":"IF('Vendor List'!$A1874=\"\",\"\",'Vendor List'!$A1874)","v":"MADISON TAXI"}]
[{"$f":"\"\"","v":""},null,{"$f":"IF('Vendor List'!$A1875=\"\",\"\",'Vendor List'!$A1875)","v":"MADISON TIMES WEEKLY NEWSPAPER"}]
[{"$f":"\"\"","v":""},null,{"$f":"IF('Vendor List'!$A1876=\"\",\"\",'Vendor List'!$A1876)","v":"MAGELLAN INDUSTRIAL TRADING"}]
[{"$f":"\"\"","v":""},null,{"$f":"IF('Vendor List'!$A1877=\"\",\"\",'Vendor List'!$A1877)","v":"MAGNETIC SHIELD DIVISON"}]
[{"$f":"\"\"","v":""},null,{"$f":"IF('Vendor List'!$A1878=\"\",\"\",'Vendor List'!$A1878)","v":"MAGNETICS INC"}]
[{"$f":"\"\"","v":""},null,{"$f":"IF('Vendor List'!$A1879=\"\",\"\",'Vendor List'!$A1879)","v":"MAGTROL  INC"}]
[{"$f":"\"\"","v":""},null,{"$f":"IF('Vendor List'!$A1880=\"\",\"\",'Vendor List'!$A1880)","v":"MAI/PRIME PARTS"}]
[{"$f":"\"\"","v":""},null,{"$f":"IF('Vendor List'!$A1881=\"\",\"\",'Vendor List'!$A1881)","v":"MAIN STREET KITCHEN"}]
[{"$f":"\"\"","v":""},null,{"$f":"IF('Vendor List'!$A1882=\"\",\"\",'Vendor List'!$A1882)","v":"MAJOR SURPLUS & SURVIVAL"}]
[{"$f":"\"\"","v":""},null,{"$f":"IF('Vendor List'!$A1883=\"\",\"\",'Vendor List'!$A1883)","v":"MAKEPEACE,ANDREW"}]
[{"$f":"\"\"","v":""},null,{"$f":"IF('Vendor List'!$A1884=\"\",\"\",'Vendor List'!$A1884)","v":"MALLINCKRODT BAKER INC"}]
[{"$f":"\"\"","v":""},null,{"$f":"IF('Vendor List'!$A1885=\"\",\"\",'Vendor List'!$A1885)","v":"MALLINCKRODT CHEMICAL"}]
[{"$f":"\"\"","v":""},null,{"$f":"IF('Vendor List'!$A1886=\"\",\"\",'Vendor List'!$A1886)","v":"MANDEL METALS"}]
[{"$f":"\"\"","v":""},null,{"$f":"IF('Vendor List'!$A1887=\"\",\"\",'Vendor List'!$A1887)","v":"MANDT SANDFILL"}]
[{"$f":"\"\"","v":""},null,{"$f":"IF('Vendor List'!$A1888=\"\",\"\",'Vendor List'!$A1888)","v":"MANEY PUBLISHING"}]
[{"$f":"\"\"","v":""},null,{"$f":"IF('Vendor List'!$A1889=\"\",\"\",'Vendor List'!$A1889)","v":"MANTECH INTERNATIONAL CORP"}]
[{"$f":"\"\"","v":""},null,{"$f":"IF('Vendor List'!$A1890=\"\",\"\",'Vendor List'!$A1890)","v":"MANUFACTURERS NEWS INC"}]
[{"$f":"\"\"","v":""},null,{"$f":"IF('Vendor List'!$A1891=\"\",\"\",'Vendor List'!$A1891)","v":"MAR FRE MFG"}]
[{"$f":"\"\"","v":""},null,{"$f":"IF('Vendor List'!$A1892=\"\",\"\",'Vendor List'!$A1892)","v":"MARCEL DEKKER INC"}]
[{"$f":"\"\"","v":""},null,{"$f":"IF('Vendor List'!$A1893=\"\",\"\",'Vendor List'!$A1893)","v":"MARCO PROMOTIONAL PRODUCTS"}]
[{"$f":"\"\"","v":""},null,{"$f":"IF('Vendor List'!$A1894=\"\",\"\",'Vendor List'!$A1894)","v":"MARCO RUBBER"}]
[{"$f":"\"\"","v":""},null,{"$f":"IF('Vendor List'!$A1895=\"\",\"\",'Vendor List'!$A1895)","v":"MARCONI APPLIED TECHNOLOGY"}]
[{"$f":"\"\"","v":""},null,{"$f":"IF('Vendor List'!$A1896=\"\",\"\",'Vendor List'!$A1896)","v":"MARKING METHODS INC"}]
[{"$f":"\"\"","v":""},null,{"$f":"IF('Vendor List'!$A1897=\"\",\"\",'Vendor List'!$A1897)","v":"MARLIN P JONES & ASSOC INC"}]
[{"$f":"\"\"","v":""},null,{"$f":"IF('Vendor List'!$A1898=\"\",\"\",'Vendor List'!$A1898)","v":"MARLING LUMBER COMPANY"}]
[{"$f":"\"\"","v":""},null,{"$f":"IF('Vendor List'!$A1899=\"\",\"\",'Vendor List'!$A1899)","v":"MARSH ELECTRONICS"}]
[{"$f":"\"\"","v":""},null,{"$f":"IF('Vendor List'!$A1900=\"\",\"\",'Vendor List'!$A1900)","v":"MARSH ELECTRONICS"}]
[{"$f":"\"\"","v":""},null,{"$f":"IF('Vendor List'!$A1901=\"\",\"\",'Vendor List'!$A1901)","v":"MARTEK POWER"}]
[{"$f":"\"\"","v":""},null,{"$f":"IF('Vendor List'!$A1902=\"\",\"\",'Vendor List'!$A1902)","v":"MARTEN MACHINING"}]
[{"$f":"\"\"","v":""},null,{"$f":"IF('Vendor List'!$A1903=\"\",\"\",'Vendor List'!$A1903)","v":"MARTIN GLASS"}]
[{"$f":"\"\"","v":""},null,{"$f":"IF('Vendor List'!$A1904=\"\",\"\",'Vendor List'!$A1904)","v":"MASSACHUSETTS INSTITUTE OF TEN"}]
[{"$f":"\"\"","v":""},null,{"$f":"IF('Vendor List'!$A1905=\"\",\"\",'Vendor List'!$A1905)","v":"MASSLOAD TECHNOLOGIES"}]
[{"$f":"\"\"","v":""},null,{"$f":"IF('Vendor List'!$A1906=\"\",\"\",'Vendor List'!$A1906)","v":"MASTER DISTRIBUTORS"}]
[{"$f":"\"\"","v":""},null,{"$f":"IF('Vendor List'!$A1907=\"\",\"\",'Vendor List'!$A1907)","v":"MASTER DISTRIBUTORS"}]
[{"$f":"\"\"","v":""},null,{"$f":"IF('Vendor List'!$A1908=\"\",\"\",'Vendor List'!$A1908)","v":"MASTER GRAPHICS"}]
[{"$f":"\"\"","v":""},null,{"$f":"IF('Vendor List'!$A1909=\"\",\"\",'Vendor List'!$A1909)","v":"MASTERGRAPHICS, INC"}]
[{"$f":"\"\"","v":""},null,{"$f":"IF('Vendor List'!$A1910=\"\",\"\",'Vendor List'!$A1910)","v":"MATECK GMBH"}]
[{"$f":"\"\"","v":""},null,{"$f":"IF('Vendor List'!$A1911=\"\",\"\",'Vendor List'!$A1911)","v":"MATERIAL AND TECHNOLOGIES CORP"}]
[{"$f":"\"\"","v":""},null,{"$f":"IF('Vendor List'!$A1912=\"\",\"\",'Vendor List'!$A1912)","v":"MATERIALS RESEARCH SOCIETY"}]
[{"$f":"\"\"","v":""},null,{"$f":"IF('Vendor List'!$A1913=\"\",\"\",'Vendor List'!$A1913)","v":"MATERIALS SCIENCE CENTER"}]
[{"$f":"\"\"","v":""},null,{"$f":"IF('Vendor List'!$A1914=\"\",\"\",'Vendor List'!$A1914)","v":"MATHEMATICA JOURNAL"}]
[{"$f":"\"\"","v":""},null,{"$f":"IF('Vendor List'!$A1915=\"\",\"\",'Vendor List'!$A1915)","v":"MATHESON GAS PRODUCTS INC"}]
[{"$f":"\"\"","v":""},null,{"$f":"IF('Vendor List'!$A1916=\"\",\"\",'Vendor List'!$A1916)","v":"MATHESON TRI-GAS"}]
[{"$f":"\"\"","v":""},null,{"$f":"IF('Vendor List'!$A1917=\"\",\"\",'Vendor List'!$A1917)","v":"MATHISON METALFAB INC"}]
[{"$f":"\"\"","v":""},null,{"$f":"IF('Vendor List'!$A1918=\"\",\"\",'Vendor List'!$A1918)","v":"MATHSOFT"}]
[{"$f":"\"\"","v":""},null,{"$f":"IF('Vendor List'!$A1919=\"\",\"\",'Vendor List'!$A1919)","v":"MATHSOFT"}]
[{"$f":"\"\"","v":""},null,{"$f":"IF('Vendor List'!$A1920=\"\",\"\",'Vendor List'!$A1920)","v":"MATHSOFT INC"}]
[{"$f":"\"\"","v":""},null,{"$f":"IF('Vendor List'!$A1921=\"\",\"\",'Vendor List'!$A1921)","v":"MATHWORKS INC"}]
[{"$f":"\"\"","v":""},null,{"$f":"IF('Vendor List'!$A1922=\"\",\"\",'Vendor List'!$A1922)","v":"MAUTZ PAINT"}]
[{"$f":"\"\"","v":""},null,{"$f":"IF('Vendor List'!$A1923=\"\",\"\",'Vendor List'!$A1923)","v":"MAUTZ PAINT CO"}]
[{"$f":"\"\"","v":""},null,{"$f":"IF('Vendor List'!$A1924=\"\",\"\",'Vendor List'!$A1924)","v":"MAX TOOL"}]
[{"$f":"\"\"","v":""},null,{"$f":"IF('Vendor List'!$A1925=\"\",\"\",'Vendor List'!$A1925)","v":"MAX-GAIN SYSTEMS"}]
[{"$f":"\"\"","v":""},null,{"$f":"IF('Vendor List'!$A1926=\"\",\"\",'Vendor List'!$A1926)","v":"MAXIM INTEGRATED PRODUCTS"}]
[{"$f":"\"\"","v":""},null,{"$f":"IF('Vendor List'!$A1927=\"\",\"\",'Vendor List'!$A1927)","v":"MAXWELL LABORATORIES BROBECK"}]
[{"$f":"\"\"","v":""},null,{"$f":"IF('Vendor List'!$A1928=\"\",\"\",'Vendor List'!$A1928)","v":"MAYCO INDUSTRIES"}]
[{"$f":"\"\"","v":""},null,{"$f":"IF('Vendor List'!$A1929=\"\",\"\",'Vendor List'!$A1929)","v":"MC SALES INC"}]
[{"$f":"\"\"","v":""},null,{"$f":"IF('Vendor List'!$A1930=\"\",\"\",'Vendor List'!$A1930)","v":"MCALLISTER TECHNICAL SERVICES"}]
[{"$f":"\"\"","v":""},null,{"$f":"IF('Vendor List'!$A1931=\"\",\"\",'Vendor List'!$A1931)","v":"MCDONOUGH MFG CO"}]
[{"$f":"\"\"","v":""},null,{"$f":"IF('Vendor List'!$A1932=\"\",\"\",'Vendor List'!$A1932)","v":"MCFARLAND METALS INC"}]
[{"$f":"\"\"","v":""},null,{"$f":"IF('Vendor List'!$A1933=\"\",\"\",'Vendor List'!$A1933)","v":"MCGINNIS TOOL"}]
[{"$f":"\"\"","v":""},null,{"$f":"IF('Vendor List'!$A1934=\"\",\"\",'Vendor List'!$A1934)","v":"MCGRAW HILL BOOK COMPANY"}]
[{"$f":"\"\"","v":""},null,{"$f":"IF('Vendor List'!$A1935=\"\",\"\",'Vendor List'!$A1935)","v":"MCI"}]
[{"$f":"\"\"","v":""},null,{"$f":"IF('Vendor List'!$A1936=\"\",\"\",'Vendor List'!$A1936)","v":"MCJUNKIN RED MAN"}]
[{"$f":"\"\"","v":""},null,{"$f":"IF('Vendor List'!$A1937=\"\",\"\",'Vendor List'!$A1937)","v":"MCM ELECTRONIC PARTS"}]
[{"$f":"\"\"","v":""},null,{"$f":"IF('Vendor List'!$A1938=\"\",\"\",'Vendor List'!$A1938)","v":"MCM ELECTRONICS"}]
[{"$f":"\"\"","v":""},null,{"$f":"IF('Vendor List'!$A1939=\"\",\"\",'Vendor List'!$A1939)","v":"MCMAHON SALES INC"}]
[{"$f":"\"\"","v":""},null,{"$f":"IF('Vendor List'!$A1940=\"\",\"\",'Vendor List'!$A1940)","v":"MCMASTER CARR"}]
[{"$f":"\"\"","v":""},null,{"$f":"IF('Vendor List'!$A1941=\"\",\"\",'Vendor List'!$A1941)","v":"MCMASTER UNIVERSITY"}]
[{"$f":"\"\"","v":""},null,{"$f":"IF('Vendor List'!$A1942=\"\",\"\",'Vendor List'!$A1942)","v":"MCNICHOLS COMPANY"}]
[{"$f":"\"\"","v":""},null,{"$f":"IF('Vendor List'!$A1943=\"\",\"\",'Vendor List'!$A1943)","v":"MCQUAY SERVICE"}]
[{"$f":"\"\"","v":""},null,{"$f":"IF('Vendor List'!$A1944=\"\",\"\",'Vendor List'!$A1944)","v":"MDC"}]
[{"$f":"\"\"","v":""},null,{"$f":"IF('Vendor List'!$A1945=\"\",\"\",'Vendor List'!$A1945)","v":"MDC VACUUM PRODUCTS"}]
[{"$f":"\"\"","v":""},null,{"$f":"IF('Vendor List'!$A1946=\"\",\"\",'Vendor List'!$A1946)","v":"MDS"}]
[{"$f":"\"\"","v":""},null,{"$f":"IF('Vendor List'!$A1947=\"\",\"\",'Vendor List'!$A1947)","v":"MEADOWLARK OPTICS"}]
[{"$f":"\"\"","v":""},null,{"$f":"IF('Vendor List'!$A1948=\"\",\"\",'Vendor List'!$A1948)","v":"MEASUREMENT COMPUTING"}]
[{"$f":"\"\"","v":""},null,{"$f":"IF('Vendor List'!$A1949=\"\",\"\",'Vendor List'!$A1949)","v":"MEASUREMENT SPECIALTIES INC"}]
[{"$f":"\"\"","v":""},null,{"$f":"IF('Vendor List'!$A1950=\"\",\"\",'Vendor List'!$A1950)","v":"MECHANICAL TECHNOLOGY INC"}]
[{"$f":"\"\"","v":""},null,{"$f":"IF('Vendor List'!$A1951=\"\",\"\",'Vendor List'!$A1951)","v":"MECHTRONICS NUCLEAR"}]
[{"$f":"\"\"","v":""},null,{"$f":"IF('Vendor List'!$A1952=\"\",\"\",'Vendor List'!$A1952)","v":"MEDCO"}]
[{"$f":"\"\"","v":""},null,{"$f":"IF('Vendor List'!$A1953=\"\",\"\",'Vendor List'!$A1953)","v":"MEDICAL ILLUSTRATION/PHOTOGRAP"}]
[{"$f":"\"\"","v":""},null,{"$f":"IF('Vendor List'!$A1954=\"\",\"\",'Vendor List'!$A1954)","v":"MEDICAL SCHOOL"}]
[{"$f":"\"\"","v":""},null,{"$f":"IF('Vendor List'!$A1955=\"\",\"\",'Vendor List'!$A1955)","v":"MEDICAL SCHOOL, EM FACILITY"}]
[{"$f":"\"\"","v":""},null,{"$f":"IF('Vendor List'!$A1956=\"\",\"\",'Vendor List'!$A1956)","v":"MEDICAL SCIENCES"}]
[{"$f":"\"\"","v":""},null,{"$f":"IF('Vendor List'!$A1957=\"\",\"\",'Vendor List'!$A1957)","v":"MEFAS, INC"}]
[{"$f":"\"\"","v":""},null,{"$f":"IF('Vendor List'!$A1958=\"\",\"\",'Vendor List'!$A1958)","v":"MEGA HAUS"}]
[{"$f":"\"\"","v":""},null,{"$f":"IF('Vendor List'!$A1959=\"\",\"\",'Vendor List'!$A1959)","v":"MEGAHAUS"}]
[{"$f":"\"\"","v":""},null,{"$f":"IF('Vendor List'!$A1960=\"\",\"\",'Vendor List'!$A1960)","v":"MEGATRENDS TECHNOLOGIES"}]
[{"$f":"\"\"","v":""},null,{"$f":"IF('Vendor List'!$A1961=\"\",\"\",'Vendor List'!$A1961)","v":"MEI RESEARCH CORPORATION"}]
[{"$f":"\"\"","v":""},null,{"$f":"IF('Vendor List'!$A1962=\"\",\"\",'Vendor List'!$A1962)","v":"MELCO BOP INC"}]
[{"$f":"\"\"","v":""},null,{"$f":"IF('Vendor List'!$A1963=\"\",\"\",'Vendor List'!$A1963)","v":"MELLER OPTICS INC"}]
[{"$f":"\"\"","v":""},null,{"$f":"IF('Vendor List'!$A1964=\"\",\"\",'Vendor List'!$A1964)","v":"MELLES GRIOT"}]
[{"$f":"\"\"","v":""},null,{"$f":"IF('Vendor List'!$A1965=\"\",\"\",'Vendor List'!$A1965)","v":"MEMORIAL LIBRARY"}]
[{"$f":"\"\"","v":""},null,{"$f":"IF('Vendor List'!$A1966=\"\",\"\",'Vendor List'!$A1966)","v":"MEMORY & CPU WAREHOUSE"}]
[{"$f":"\"\"","v":""},null,{"$f":"IF('Vendor List'!$A1967=\"\",\"\",'Vendor List'!$A1967)","v":"MEMORY 4 LESS"}]
[{"$f":"\"\"","v":""},null,{"$f":"IF('Vendor List'!$A1968=\"\",\"\",'Vendor List'!$A1968)","v":"MEMORY EXPO"}]
[{"$f":"\"\"","v":""},null,{"$f":"IF('Vendor List'!$A1969=\"\",\"\",'Vendor List'!$A1969)","v":"MEMORY EXPRESS"}]
[{"$f":"\"\"","v":""},null,{"$f":"IF('Vendor List'!$A1970=\"\",\"\",'Vendor List'!$A1970)","v":"MEMORY WORLD"}]
[{"$f":"\"\"","v":""},null,{"$f":"IF('Vendor List'!$A1971=\"\",\"\",'Vendor List'!$A1971)","v":"MENARDS LUMBER"}]
[{"$f":"\"\"","v":""},null,{"$f":"IF('Vendor List'!$A1972=\"\",\"\",'Vendor List'!$A1972)","v":"MENTOR GRAPHICS"}]
[{"$f":"\"\"","v":""},null,{"$f":"IF('Vendor List'!$A1973=\"\",\"\",'Vendor List'!$A1973)","v":"MENTOR GRAPHICS"}]
[{"$f":"\"\"","v":""},null,{"$f":"IF('Vendor List'!$A1974=\"\",\"\",'Vendor List'!$A1974)","v":"MERCOTAC INC"}]
[{"$f":"\"\"","v":""},null,{"$f":"IF('Vendor List'!$A1975=\"\",\"\",'Vendor List'!$A1975)","v":"MERIT PUMP & EQUIPMENT CO"}]
[{"$f":"\"\"","v":""},null,{"$f":"IF('Vendor List'!$A1976=\"\",\"\",'Vendor List'!$A1976)","v":"MERITLINE.COM"}]
[{"$f":"\"\"","v":""},null,{"$f":"IF('Vendor List'!$A1977=\"\",\"\",'Vendor List'!$A1977)","v":"MESSNER INC"}]
[{"$f":"\"\"","v":""},null,{"$f":"IF('Vendor List'!$A1978=\"\",\"\",'Vendor List'!$A1978)","v":"MESUR MATIC ELECTRONICS"}]
[{"$f":"\"\"","v":""},null,{"$f":"IF('Vendor List'!$A1979=\"\",\"\",'Vendor List'!$A1979)","v":"MET ONE"}]
[{"$f":"\"\"","v":""},null,{"$f":"IF('Vendor List'!$A1980=\"\",\"\",'Vendor List'!$A1980)","v":"META CREATIONS CORP"}]
[{"$f":"\"\"","v":""},null,{"$f":"IF('Vendor List'!$A1981=\"\",\"\",'Vendor List'!$A1981)","v":"META SOFTWARE"}]
[{"$f":"\"\"","v":""},null,{"$f":"IF('Vendor List'!$A1982=\"\",\"\",'Vendor List'!$A1982)","v":"METAL EXPRESS"}]
[{"$f":"\"\"","v":""},null,{"$f":"IF('Vendor List'!$A1983=\"\",\"\",'Vendor List'!$A1983)","v":"METAL FINISHING SUPPLY CO"}]
[{"$f":"\"\"","v":""},null,{"$f":"IF('Vendor List'!$A1984=\"\",\"\",'Vendor List'!$A1984)","v":"METAL FLEX WELDED BELLOWS INC"}]
[{"$f":"\"\"","v":""},null,{"$f":"IF('Vendor List'!$A1985=\"\",\"\",'Vendor List'!$A1985)","v":"METAL SKILLS PLUS, LLC"}]
[{"$f":"\"\"","v":""},null,{"$f":"IF('Vendor List'!$A1986=\"\",\"\",'Vendor List'!$A1986)","v":"METAL SUPERMARKETS"}]
[{"$f":"\"\"","v":""},null,{"$f":"IF('Vendor List'!$A1987=\"\",\"\",'Vendor List'!$A1987)","v":"METAL TREATERS, INC"}]
[{"$f":"\"\"","v":""},null,{"$f":"IF('Vendor List'!$A1988=\"\",\"\",'Vendor List'!$A1988)","v":"METALS & SERVICES CO."}]
[{"$f":"\"\"","v":""},null,{"$f":"IF('Vendor List'!$A1989=\"\",\"\",'Vendor List'!$A1989)","v":"METKO, KARISSA"}]
[{"$f":"\"\"","v":""},null,{"$f":"IF('Vendor List'!$A1990=\"\",\"\",'Vendor List'!$A1990)","v":"METRIC & MULTISTANDARD"}]
[{"$f":"\"\"","v":""},null,{"$f":"IF('Vendor List'!$A1991=\"\",\"\",'Vendor List'!$A1991)","v":"METRO"}]
[{"$f":"\"\"","v":""},null,{"$f":"IF('Vendor List'!$A1992=\"\",\"\",'Vendor List'!$A1992)","v":"METROPOLITAN CRANE & HOIST CO"}]
[{"$f":"\"\"","v":""},null,{"$f":"IF('Vendor List'!$A1993=\"\",\"\",'Vendor List'!$A1993)","v":"METROTEK"}]
[{"$f":"\"\"","v":""},null,{"$f":"IF('Vendor List'!$A1994=\"\",\"\",'Vendor List'!$A1994)","v":"METUCHEN CAPACITORS INC"}]
[{"$f":"\"\"","v":""},null,{"$f":"IF('Vendor List'!$A1995=\"\",\"\",'Vendor List'!$A1995)","v":"MEYER INSTRUMENTS"}]
[{"$f":"\"\"","v":""},null,{"$f":"IF('Vendor List'!$A1996=\"\",\"\",'Vendor List'!$A1996)","v":"MH&W INTERNATIONAL CORP"}]
[{"$f":"\"\"","v":""},null,{"$f":"IF('Vendor List'!$A1997=\"\",\"\",'Vendor List'!$A1997)","v":"MI TECH METALS INC"}]
[{"$f":"\"\"","v":""},null,{"$f":"IF('Vendor List'!$A1998=\"\",\"\",'Vendor List'!$A1998)","v":"MICRO AGE COMPUTERS"}]
[{"$f":"\"\"","v":""},null,{"$f":"IF('Vendor List'!$A1999=\"\",\"\",'Vendor List'!$A1999)","v":"MICRO EDGE"}]
[{"$f":"\"\"","v":""},null,{"$f":"IF('Vendor List'!$A2000=\"\",\"\",'Vendor List'!$A2000)","v":"MICRO FASTENERS"}]
[{"$f":"\"\"","v":""},null,{"$f":"IF('Vendor List'!$A2001=\"\",\"\",'Vendor List'!$A2001)","v":"MICRO FIRMWARE"}]
[{"$f":"\"\"","v":""},null,{"$f":"IF('Vendor List'!$A2002=\"\",\"\",'Vendor List'!$A2002)","v":"MICRO GLASS INC"}]
[{"$f":"\"\"","v":""},null,{"$f":"IF('Vendor List'!$A2003=\"\",\"\",'Vendor List'!$A2003)","v":"MICRO HELP INC"}]
[{"$f":"\"\"","v":""},null,{"$f":"IF('Vendor List'!$A2004=\"\",\"\",'Vendor List'!$A2004)","v":"MICRO LOGIC CORP"}]
[{"$f":"\"\"","v":""},null,{"$f":"IF('Vendor List'!$A2005=\"\",\"\",'Vendor List'!$A2005)","v":"MICRO PHOTONICS"}]
[{"$f":"\"\"","v":""},null,{"$f":"IF('Vendor List'!$A2006=\"\",\"\",'Vendor List'!$A2006)","v":"MICRO SYSTEMS WARETHOUSE"}]
[{"$f":"\"\"","v":""},null,{"$f":"IF('Vendor List'!$A2007=\"\",\"\",'Vendor List'!$A2007)","v":"MICROCAL INC"}]
[{"$f":"\"\"","v":""},null,{"$f":"IF('Vendor List'!$A2008=\"\",\"\",'Vendor List'!$A2008)","v":"MICROCHEM CORP"}]
[{"$f":"\"\"","v":""},null,{"$f":"IF('Vendor List'!$A2009=\"\",\"\",'Vendor List'!$A2009)","v":"MICROFLEX"}]
[{"$f":"\"\"","v":""},null,{"$f":"IF('Vendor List'!$A2010=\"\",\"\",'Vendor List'!$A2010)","v":"MICROFLEX MEDICAL CORP"}]
[{"$f":"\"\"","v":""},null,{"$f":"IF('Vendor List'!$A2011=\"\",\"\",'Vendor List'!$A2011)","v":"MICROGRAFX, INC."}]
[{"$f":"\"\"","v":""},null,{"$f":"IF('Vendor List'!$A2012=\"\",\"\",'Vendor List'!$A2012)","v":"MICROHELP, INC."}]
[{"$f":"\"\"","v":""},null,{"$f":"IF('Vendor List'!$A2013=\"\",\"\",'Vendor List'!$A2013)","v":"MICROLITHOGRAPHY WORLD PUB."}]
[{"$f":"\"\"","v":""},null,{"$f":"IF('Vendor List'!$A2014=\"\",\"\",'Vendor List'!$A2014)","v":"MICRON ELECTRONICS"}]
[{"$f":"\"\"","v":""},null,{"$f":"IF('Vendor List'!$A2015=\"\",\"\",'Vendor List'!$A2015)","v":"MICROSOFT"}]
[{"$f":"\"\"","v":""},null,{"$f":"IF('Vendor List'!$A2016=\"\",\"\",'Vendor List'!$A2016)","v":"MICROSOFT CORPORATION"}]
[{"$f":"\"\"","v":""},null,{"$f":"IF('Vendor List'!$A2017=\"\",\"\",'Vendor List'!$A2017)","v":"MICROSOFT DEVELOPER NETWORK"}]
[{"$f":"\"\"","v":""},null,{"$f":"IF('Vendor List'!$A2018=\"\",\"\",'Vendor List'!$A2018)","v":"MICROSOFT EXCEL OFFER"}]
[{"$f":"\"\"","v":""},null,{"$f":"IF('Vendor List'!$A2019=\"\",\"\",'Vendor List'!$A2019)","v":"MICROSOFT HOME"}]
[{"$f":"\"\"","v":""},null,{"$f":"IF('Vendor List'!$A2020=\"\",\"\",'Vendor List'!$A2020)","v":"MICROSOFT OFFICE"}]
[{"$f":"\"\"","v":""},null,{"$f":"IF('Vendor List'!$A2021=\"\",\"\",'Vendor List'!$A2021)","v":"MICROSOFT PRESS"}]
[{"$f":"\"\"","v":""},null,{"$f":"IF('Vendor List'!$A2022=\"\",\"\",'Vendor List'!$A2022)","v":"MICROSOFT SYSTEMS JOURNAL"}]
[{"$f":"\"\"","v":""},null,{"$f":"IF('Vendor List'!$A2023=\"\",\"\",'Vendor List'!$A2023)","v":"MICROSOFT TECHNET"}]
[{"$f":"\"\"","v":""},null,{"$f":"IF('Vendor List'!$A2024=\"\",\"\",'Vendor List'!$A2024)","v":"MICROSOFT WORD FOR WINDOWS"}]
[{"$f":"\"\"","v":""},null,{"$f":"IF('Vendor List'!$A2025=\"\",\"\",'Vendor List'!$A2025)","v":"MICROSURFACE CORP"}]
[{"$f":"\"\"","v":""},null,{"$f":"IF('Vendor List'!$A2026=\"\",\"\",'Vendor List'!$A2026)","v":"MICROTECH"}]
[{"$f":"\"\"","v":""},null,{"$f":"IF('Vendor List'!$A2027=\"\",\"\",'Vendor List'!$A2027)","v":"MICROWAREHOUSE"}]
[{"$f":"\"\"","v":""},null,{"$f":"IF('Vendor List'!$A2028=\"\",\"\",'Vendor List'!$A2028)","v":"MICROWAVE COMPONENTS INC"}]
[{"$f":"\"\"","v":""},null,{"$f":"IF('Vendor List'!$A2029=\"\",\"\",'Vendor List'!$A2029)","v":"MICROWAVE DEVELOPMENT LAB"}]
[{"$f":"\"\"","v":""},null,{"$f":"IF('Vendor List'!$A2030=\"\",\"\",'Vendor List'!$A2030)","v":"MICROWAVE DISTRIBUTORS"}]
[{"$f":"\"\"","v":""},null,{"$f":"IF('Vendor List'!$A2031=\"\",\"\",'Vendor List'!$A2031)","v":"MICROWAY"}]
[{"$f":"\"\"","v":""},null,{"$f":"IF('Vendor List'!$A2032=\"\",\"\",'Vendor List'!$A2032)","v":"MID VALLEY INDUSTRIES"}]
[{"$f":"\"\"","v":""},null,{"$f":"IF('Vendor List'!$A2033=\"\",\"\",'Vendor List'!$A2033)","v":"MID WISCONSIN GLASS & MIRROR"}]
[{"$f":"\"\"","v":""},null,{"$f":"IF('Vendor List'!$A2034=\"\",\"\",'Vendor List'!$A2034)","v":"MID-ATLANTIC ENGINE SUPPLY"}]
[{"$f":"\"\"","v":""},null,{"$f":"IF('Vendor List'!$A2035=\"\",\"\",'Vendor List'!$A2035)","v":"MID-STATE INSTRUMENTS"}]
[{"$f":"\"\"","v":""},null,{"$f":"IF('Vendor List'!$A2036=\"\",\"\",'Vendor List'!$A2036)","v":"MID-STATES PARTS"}]
[{"$f":"\"\"","v":""},null,{"$f":"IF('Vendor List'!$A2037=\"\",\"\",'Vendor List'!$A2037)","v":"MIDAMERCO INC"}]
[{"$f":"\"\"","v":""},null,{"$f":"IF('Vendor List'!$A2038=\"\",\"\",'Vendor List'!$A2038)","v":"MIDDLE WEST MFG CORP"}]
[{"$f":"\"\"","v":""},null,{"$f":"IF('Vendor List'!$A2039=\"\",\"\",'Vendor List'!$A2039)","v":"MIDDLETON MACHINING"}]
[{"$f":"\"\"","v":""},null,{"$f":"IF('Vendor List'!$A2040=\"\",\"\",'Vendor List'!$A2040)","v":"MIDDLETON POWER CENTER"}]
[{"$f":"\"\"","v":""},null,{"$f":"IF('Vendor List'!$A2041=\"\",\"\",'Vendor List'!$A2041)","v":"MIDDLETON TRAVEL"}]
[{"$f":"\"\"","v":""},null,{"$f":"IF('Vendor List'!$A2042=\"\",\"\",'Vendor List'!$A2042)","v":"MIDLAND PLASTICS"}]
[{"$f":"\"\"","v":""},null,{"$f":"IF('Vendor List'!$A2043=\"\",\"\",'Vendor List'!$A2043)","v":"MIDNIGHT SOFTWARE INC"}]
[{"$f":"\"\"","v":""},null,{"$f":"IF('Vendor List'!$A2044=\"\",\"\",'Vendor List'!$A2044)","v":"MIDNIGHT SOFTWARE, INC"}]
[{"$f":"\"\"","v":""},null,{"$f":"IF('Vendor List'!$A2045=\"\",\"\",'Vendor List'!$A2045)","v":"MIDORI KAGAKU CO., LTE."}]
[{"$f":"\"\"","v":""},null,{"$f":"IF('Vendor List'!$A2046=\"\",\"\",'Vendor List'!$A2046)","v":"MIDWEST AIR"}]
[{"$f":"\"\"","v":""},null,{"$f":"IF('Vendor List'!$A2047=\"\",\"\",'Vendor List'!$A2047)","v":"MIDWEST ASSOCIATED INC"}]
[{"$f":"\"\"","v":""},null,{"$f":"IF('Vendor List'!$A2048=\"\",\"\",'Vendor List'!$A2048)","v":"MIDWEST ASSOCIATES"}]
[{"$f":"\"\"","v":""},null,{"$f":"IF('Vendor List'!$A2049=\"\",\"\",'Vendor List'!$A2049)","v":"MIDWEST COMPUTER WORKS"}]
[{"$f":"\"\"","v":""},null,{"$f":"IF('Vendor List'!$A2050=\"\",\"\",'Vendor List'!$A2050)","v":"MIDWEST EXPRESS"}]
[{"$f":"\"\"","v":""},null,{"$f":"IF('Vendor List'!$A2051=\"\",\"\",'Vendor List'!$A2051)","v":"MIDWEST FILTER"}]
[{"$f":"\"\"","v":""},null,{"$f":"IF('Vendor List'!$A2052=\"\",\"\",'Vendor List'!$A2052)","v":"MIDWEST FLEXIBLE HOSE INC"}]
[{"$f":"\"\"","v":""},null,{"$f":"IF('Vendor List'!$A2053=\"\",\"\",'Vendor List'!$A2053)","v":"MIDWEST GRINDING"}]
[{"$f":"\"\"","v":""},null,{"$f":"IF('Vendor List'!$A2054=\"\",\"\",'Vendor List'!$A2054)","v":"MIDWEST HOSE & SPECIALTY"}]
[{"$f":"\"\"","v":""},null,{"$f":"IF('Vendor List'!$A2055=\"\",\"\",'Vendor List'!$A2055)","v":"MIDWEST MEMORY"}]
[{"$f":"\"\"","v":""},null,{"$f":"IF('Vendor List'!$A2056=\"\",\"\",'Vendor List'!$A2056)","v":"MIDWEST METAL PRODUCTS"}]
[{"$f":"\"\"","v":""},null,{"$f":"IF('Vendor List'!$A2057=\"\",\"\",'Vendor List'!$A2057)","v":"MIDWEST MICRO PERIPHIALS"}]
[{"$f":"\"\"","v":""},null,{"$f":"IF('Vendor List'!$A2058=\"\",\"\",'Vendor List'!$A2058)","v":"MIDWEST PUMP & EQUIPMENT"}]
[{"$f":"\"\"","v":""},null,{"$f":"IF('Vendor List'!$A2059=\"\",\"\",'Vendor List'!$A2059)","v":"MIDWEST SAFETY SUPPLY"}]
[{"$f":"\"\"","v":""},null,{"$f":"IF('Vendor List'!$A2060=\"\",\"\",'Vendor List'!$A2060)","v":"MIDWEST SERVICE EQUIPMENT"}]
[{"$f":"\"\"","v":""},null,{"$f":"IF('Vendor List'!$A2061=\"\",\"\",'Vendor List'!$A2061)","v":"MIDWEST SPECIALTIES, INC"}]
[{"$f":"\"\"","v":""},null,{"$f":"IF('Vendor List'!$A2062=\"\",\"\",'Vendor List'!$A2062)","v":"MIDWEST STEEL WORKS, INC"}]
[{"$f":"\"\"","v":""},null,{"$f":"IF('Vendor List'!$A2063=\"\",\"\",'Vendor List'!$A2063)","v":"MIDWEST SYSTEMS INC"}]
[{"$f":"\"\"","v":""},null,{"$f":"IF('Vendor List'!$A2064=\"\",\"\",'Vendor List'!$A2064)","v":"MIDWEST TECH SERVICES INC"}]
[{"$f":"\"\"","v":""},null,{"$f":"IF('Vendor List'!$A2065=\"\",\"\",'Vendor List'!$A2065)","v":"MIDWEST TECHNOLOGIES"}]
[{"$f":"\"\"","v":""},null,{"$f":"IF('Vendor List'!$A2066=\"\",\"\",'Vendor List'!$A2066)","v":"MIDWEST TECHNOLOGY SALES"}]
[{"$f":"\"\"","v":""},null,{"$f":"IF('Vendor List'!$A2067=\"\",\"\",'Vendor List'!$A2067)","v":"MIDWEST TUNGSTEN SERVICE"}]
[{"$f":"\"\"","v":""},null,{"$f":"IF('Vendor List'!$A2068=\"\",\"\",'Vendor List'!$A2068)","v":"MIDWEST VACUUM"}]
[{"$f":"\"\"","v":""},null,{"$f":"IF('Vendor List'!$A2069=\"\",\"\",'Vendor List'!$A2069)","v":"MILIO'S SANDWICHES"}]
[{"$f":"\"\"","v":""},null,{"$f":"IF('Vendor List'!$A2070=\"\",\"\",'Vendor List'!$A2070)","v":"MILLARD UTILITY METAL SERVICE"}]
[{"$f":"\"\"","v":""},null,{"$f":"IF('Vendor List'!$A2071=\"\",\"\",'Vendor List'!$A2071)","v":"MILLENNIUM OPTICS"}]
[{"$f":"\"\"","v":""},null,{"$f":"IF('Vendor List'!$A2072=\"\",\"\",'Vendor List'!$A2072)","v":"MILLENNIUM THREE CORP"}]
[{"$f":"\"\"","v":""},null,{"$f":"IF('Vendor List'!$A2073=\"\",\"\",'Vendor List'!$A2073)","v":"MILLER BRADFORD & RISBERG"}]
[{"$f":"\"\"","v":""},null,{"$f":"IF('Vendor List'!$A2074=\"\",\"\",'Vendor List'!$A2074)","v":"MILLIPORE CORP"}]
[{"$f":"\"\"","v":""},null,{"$f":"IF('Vendor List'!$A2075=\"\",\"\",'Vendor List'!$A2075)","v":"MILLIPORE CORP/WATERS HPLC"}]
[{"$f":"\"\"","v":""},null,{"$f":"IF('Vendor List'!$A2076=\"\",\"\",'Vendor List'!$A2076)","v":"MILTON PROPANE"}]
[{"$f":"\"\"","v":""},null,{"$f":"IF('Vendor List'!$A2077=\"\",\"\",'Vendor List'!$A2077)","v":"MILW JRNL & SENTINEL"}]
[{"$f":"\"\"","v":""},null,{"$f":"IF('Vendor List'!$A2078=\"\",\"\",'Vendor List'!$A2078)","v":"MILWAUKEE ELECTRIC TOOL CORPOR"}]
[{"$f":"\"\"","v":""},null,{"$f":"IF('Vendor List'!$A2079=\"\",\"\",'Vendor List'!$A2079)","v":"MILWAUKEE INDUSTRIAL TOOLS INC"}]
[{"$f":"\"\"","v":""},null,{"$f":"IF('Vendor List'!$A2080=\"\",\"\",'Vendor List'!$A2080)","v":"MILWAUKEE INSULATION CO INC"}]
[{"$f":"\"\"","v":""},null,{"$f":"IF('Vendor List'!$A2081=\"\",\"\",'Vendor List'!$A2081)","v":"MILWAUKEE PUBLIC MUSEUM"}]
[{"$f":"\"\"","v":""},null,{"$f":"IF('Vendor List'!$A2082=\"\",\"\",'Vendor List'!$A2082)","v":"MILWAUKEE STOVE & FURNACE SUPP"}]
[{"$f":"\"\"","v":""},null,{"$f":"IF('Vendor List'!$A2083=\"\",\"\",'Vendor List'!$A2083)","v":"MINARIK AUTOMATION & CONTROL"}]
[{"$f":"\"\"","v":""},null,{"$f":"IF('Vendor List'!$A2084=\"\",\"\",'Vendor List'!$A2084)","v":"MINDRUM PRECISION INC"}]
[{"$f":"\"\"","v":""},null,{"$f":"IF('Vendor List'!$A2085=\"\",\"\",'Vendor List'!$A2085)","v":"MINERALOGICAL RESEARCH CO"}]
[{"$f":"\"\"","v":""},null,{"$f":"IF('Vendor List'!$A2086=\"\",\"\",'Vendor List'!$A2086)","v":"MINERALOGICAL RESEARCH CO"}]
[{"$f":"\"\"","v":""},null,{"$f":"IF('Vendor List'!$A2087=\"\",\"\",'Vendor List'!$A2087)","v":"MINERALOGICAL SOCIETY OF AMER"}]
[{"$f":"\"\"","v":""},null,{"$f":"IF('Vendor List'!$A2088=\"\",\"\",'Vendor List'!$A2088)","v":"MINI CIRCUITS"}]
[{"$f":"\"\"","v":""},null,{"$f":"IF('Vendor List'!$A2089=\"\",\"\",'Vendor List'!$A2089)","v":"MINI CIRCUITS LABORATORY"}]
[{"$f":"\"\"","v":""},null,{"$f":"IF('Vendor List'!$A2090=\"\",\"\",'Vendor List'!$A2090)","v":"MINIOPTIC TECHNOLOGY  INC"}]
[{"$f":"\"\"","v":""},null,{"$f":"IF('Vendor List'!$A2091=\"\",\"\",'Vendor List'!$A2091)","v":"MINITEC FRAMING SYSTEMS"}]
[{"$f":"\"\"","v":""},null,{"$f":"IF('Vendor List'!$A2092=\"\",\"\",'Vendor List'!$A2092)","v":"MINNEAPOLIS HILTON & TOWERS"}]
[{"$f":"\"\"","v":""},null,{"$f":"IF('Vendor List'!$A2093=\"\",\"\",'Vendor List'!$A2093)","v":"MINNEAPOLIS STAR & TRIBUNE"}]
[{"$f":"\"\"","v":""},null,{"$f":"IF('Vendor List'!$A2094=\"\",\"\",'Vendor List'!$A2094)","v":"MINNESOTA COMPUTERS CORP"}]
[{"$f":"\"\"","v":""},null,{"$f":"IF('Vendor List'!$A2095=\"\",\"\",'Vendor List'!$A2095)","v":"MINNESOTA WIRE & CABLE"}]
[{"$f":"\"\"","v":""},null,{"$f":"IF('Vendor List'!$A2096=\"\",\"\",'Vendor List'!$A2096)","v":"MISCO INC"}]
[{"$f":"\"\"","v":""},null,{"$f":"IF('Vendor List'!$A2097=\"\",\"\",'Vendor List'!$A2097)","v":"MITCHELL PACE & ASSOCIATES"}]
[{"$f":"\"\"","v":""},null,{"$f":"IF('Vendor List'!$A2098=\"\",\"\",'Vendor List'!$A2098)","v":"MITEQ,INC"}]
[{"$f":"\"\"","v":""},null,{"$f":"IF('Vendor List'!$A2099=\"\",\"\",'Vendor List'!$A2099)","v":"MITSUBISHI ELECTRONICS"}]
[{"$f":"\"\"","v":""},null,{"$f":"IF('Vendor List'!$A2100=\"\",\"\",'Vendor List'!$A2100)","v":"MITUTOYO"}]
[{"$f":"\"\"","v":""},null,{"$f":"IF('Vendor List'!$A2101=\"\",\"\",'Vendor List'!$A2101)","v":"MK DIAMOND PRODUCTS INC"}]
[{"$f":"\"\"","v":""},null,{"$f":"IF('Vendor List'!$A2102=\"\",\"\",'Vendor List'!$A2102)","v":"MKS INSTRUMENTS INC"}]
[{"$f":"\"\"","v":""},null,{"$f":"IF('Vendor List'!$A2103=\"\",\"\",'Vendor List'!$A2103)","v":"MKS SPECTRA PRODUCTS"}]
[{"$f":"\"\"","v":""},null,{"$f":"IF('Vendor List'!$A2104=\"\",\"\",'Vendor List'!$A2104)","v":"MNJ TECHNOLOGIES DIRECT INC"}]
[{"$f":"\"\"","v":""},null,{"$f":"IF('Vendor List'!$A2105=\"\",\"\",'Vendor List'!$A2105)","v":"MODERN PLASTIC DESIGN"}]
[{"$f":"\"\"","v":""},null,{"$f":"IF('Vendor List'!$A2106=\"\",\"\",'Vendor List'!$A2106)","v":"MODULAR PIPING"}]
[{"$f":"\"\"","v":""},null,{"$f":"IF('Vendor List'!$A2107=\"\",\"\",'Vendor List'!$A2107)","v":"MOLECULAR PROBES INC"}]
[{"$f":"\"\"","v":""},null,{"$f":"IF('Vendor List'!$A2108=\"\",\"\",'Vendor List'!$A2108)","v":"MONOCRYSTALS COMPANY"}]
[{"$f":"\"\"","v":""},null,{"$f":"IF('Vendor List'!$A2109=\"\",\"\",'Vendor List'!$A2109)","v":"MONONA TERRACE CONVENTION CTR"}]
[{"$f":"\"\"","v":""},null,{"$f":"IF('Vendor List'!$A2110=\"\",\"\",'Vendor List'!$A2110)","v":"MONOPRICE.COM"}]
[{"$f":"\"\"","v":""},null,{"$f":"IF('Vendor List'!$A2111=\"\",\"\",'Vendor List'!$A2111)","v":"MONTCLAIR FIBER OPTICS"}]
[{"$f":"\"\"","v":""},null,{"$f":"IF('Vendor List'!$A2112=\"\",\"\",'Vendor List'!$A2112)","v":"MONTCO SILICON TECH"}]
[{"$f":"\"\"","v":""},null,{"$f":"IF('Vendor List'!$A2113=\"\",\"\",'Vendor List'!$A2113)","v":"MOONTRAIL"}]
[{"$f":"\"\"","v":""},null,{"$f":"IF('Vendor List'!$A2114=\"\",\"\",'Vendor List'!$A2114)","v":"MOORE OIL"}]
[{"$f":"\"\"","v":""},null,{"$f":"IF('Vendor List'!$A2115=\"\",\"\",'Vendor List'!$A2115)","v":"MORGAN MATROC INC."}]
[{"$f":"\"\"","v":""},null,{"$f":"IF('Vendor List'!$A2116=\"\",\"\",'Vendor List'!$A2116)","v":"MORGRIDGE DISCOVERY CENTER"}]
[{"$f":"\"\"","v":""},null,{"$f":"IF('Vendor List'!$A2117=\"\",\"\",'Vendor List'!$A2117)","v":"MORRIS MATERIAL HANDLING"}]
[{"$f":"\"\"","v":""},null,{"$f":"IF('Vendor List'!$A2118=\"\",\"\",'Vendor List'!$A2118)","v":"MORSE, ROBERT"}]
[{"$f":"\"\"","v":""},null,{"$f":"IF('Vendor List'!$A2119=\"\",\"\",'Vendor List'!$A2119)","v":"MORTICE KERN SYSTEMS, INC."}]
[{"$f":"\"\"","v":""},null,{"$f":"IF('Vendor List'!$A2120=\"\",\"\",'Vendor List'!$A2120)","v":"MOTION INDUSTRIES"}]
[{"$f":"\"\"","v":""},null,{"$f":"IF('Vendor List'!$A2121=\"\",\"\",'Vendor List'!$A2121)","v":"MOTOT SYSTEMS  INC"}]
[{"$f":"\"\"","v":""},null,{"$f":"IF('Vendor List'!$A2122=\"\",\"\",'Vendor List'!$A2122)","v":"MOUSER ELECTRONICS"}]
[{"$f":"\"\"","v":""},null,{"$f":"IF('Vendor List'!$A2123=\"\",\"\",'Vendor List'!$A2123)","v":"MPB"}]
[{"$f":"\"\"","v":""},null,{"$f":"IF('Vendor List'!$A2124=\"\",\"\",'Vendor List'!$A2124)","v":"MPF PRODUCTS, INC"}]
[{"$f":"\"\"","v":""},null,{"$f":"IF('Vendor List'!$A2125=\"\",\"\",'Vendor List'!$A2125)","v":"MSC INDUSTRIAL SUPPLY"}]
[{"$f":"\"\"","v":""},null,{"$f":"IF('Vendor List'!$A2126=\"\",\"\",'Vendor List'!$A2126)","v":"MSC INDUSTRIAL SUPPLY CO"}]
[{"$f":"\"\"","v":""},null,{"$f":"IF('Vendor List'!$A2127=\"\",\"\",'Vendor List'!$A2127)","v":"MTI CORP"}]
[{"$f":"\"\"","v":""},null,{"$f":"IF('Vendor List'!$A2128=\"\",\"\",'Vendor List'!$A2128)","v":"MTI CORPORATION"}]
[{"$f":"\"\"","v":""},null,{"$f":"IF('Vendor List'!$A2129=\"\",\"\",'Vendor List'!$A2129)","v":"MTI INSTRUMENTS"}]
[{"$f":"\"\"","v":""},null,{"$f":"IF('Vendor List'!$A2130=\"\",\"\",'Vendor List'!$A2130)","v":"MTL DISTRUBUTION"}]
[{"$f":"\"\"","v":""},null,{"$f":"IF('Vendor List'!$A2131=\"\",\"\",'Vendor List'!$A2131)","v":"MU SHIELD CO"}]
[{"$f":"\"\"","v":""},null,{"$f":"IF('Vendor List'!$A2132=\"\",\"\",'Vendor List'!$A2132)","v":"MUELLER IMPLEMENT"}]
[{"$f":"\"\"","v":""},null,{"$f":"IF('Vendor List'!$A2133=\"\",\"\",'Vendor List'!$A2133)","v":"MUELLER SALES CORP"}]
[{"$f":"\"\"","v":""},null,{"$f":"IF('Vendor List'!$A2134=\"\",\"\",'Vendor List'!$A2134)","v":"MULLARKEY ASSOCIATES INC"}]
[{"$f":"\"\"","v":""},null,{"$f":"IF('Vendor List'!$A2135=\"\",\"\",'Vendor List'!$A2135)","v":"MULTIWAVE"}]
[{"$f":"\"\"","v":""},null,{"$f":"IF('Vendor List'!$A2136=\"\",\"\",'Vendor List'!$A2136)","v":"MUPAC CORPORATION"}]
[{"$f":"\"\"","v":""},null,{"$f":"IF('Vendor List'!$A2137=\"\",\"\",'Vendor List'!$A2137)","v":"MURRAY CORPORATION"}]
[{"$f":"\"\"","v":""},null,{"$f":"IF('Vendor List'!$A2138=\"\",\"\",'Vendor List'!$A2138)","v":"MWAVE"}]
[{"$f":"\"\"","v":""},null,{"$f":"IF('Vendor List'!$A2139=\"\",\"\",'Vendor List'!$A2139)","v":"MWK INDUSTRIES"}]
[{"$f":"\"\"","v":""},null,{"$f":"IF('Vendor List'!$A2140=\"\",\"\",'Vendor List'!$A2140)","v":"MWS WIRE INDUSTRIES"}]
[{"$f":"\"\"","v":""},null,{"$f":"IF('Vendor List'!$A2141=\"\",\"\",'Vendor List'!$A2141)","v":"NACR"}]
[{"$f":"\"\"","v":""},null,{"$f":"IF('Vendor List'!$A2142=\"\",\"\",'Vendor List'!$A2142)","v":"NAGARAJAN,SATYAKAMAR"}]
[{"$f":"\"\"","v":""},null,{"$f":"IF('Vendor List'!$A2143=\"\",\"\",'Vendor List'!$A2143)","v":"NAGASE CALIFORNIA"}]
[{"$f":"\"\"","v":""},null,{"$f":"IF('Vendor List'!$A2144=\"\",\"\",'Vendor List'!$A2144)","v":"NAL RESEARCH"}]
[{"$f":"\"\"","v":""},null,{"$f":"IF('Vendor List'!$A2145=\"\",\"\",'Vendor List'!$A2145)","v":"NALCO CHEMICAL CO"}]
[{"$f":"\"\"","v":""},null,{"$f":"IF('Vendor List'!$A2146=\"\",\"\",'Vendor List'!$A2146)","v":"NALCO DIVERSIFIED TECHNOLOGIES"}]
[{"$f":"\"\"","v":""},null,{"$f":"IF('Vendor List'!$A2147=\"\",\"\",'Vendor List'!$A2147)","v":"NAME TAG  INC"}]
[{"$f":"\"\"","v":""},null,{"$f":"IF('Vendor List'!$A2148=\"\",\"\",'Vendor List'!$A2148)","v":"NANA TRAINING SYSTEMS"}]
[{"$f":"\"\"","v":""},null,{"$f":"IF('Vendor List'!$A2149=\"\",\"\",'Vendor List'!$A2149)","v":"NANMAC CORPORATION"}]
[{"$f":"\"\"","v":""},null,{"$f":"IF('Vendor List'!$A2150=\"\",\"\",'Vendor List'!$A2150)","v":"NANOFILM"}]
[{"$f":"\"\"","v":""},null,{"$f":"IF('Vendor List'!$A2151=\"\",\"\",'Vendor List'!$A2151)","v":"NANOMETRICS INC"}]
[{"$f":"\"\"","v":""},null,{"$f":"IF('Vendor List'!$A2152=\"\",\"\",'Vendor List'!$A2152)","v":"NANOMOTION  INC"}]
[{"$f":"\"\"","v":""},null,{"$f":"IF('Vendor List'!$A2153=\"\",\"\",'Vendor List'!$A2153)","v":"NANOTECH AMERICA"}]
[{"$f":"\"\"","v":""},null,{"$f":"IF('Vendor List'!$A2154=\"\",\"\",'Vendor List'!$A2154)","v":"NASA GODDARD SPACE FLIGHT"}]
[{"$f":"\"\"","v":""},null,{"$f":"IF('Vendor List'!$A2155=\"\",\"\",'Vendor List'!$A2155)","v":"NASCO"}]
[{"$f":"\"\"","v":""},null,{"$f":"IF('Vendor List'!$A2156=\"\",\"\",'Vendor List'!$A2156)","v":"NASHUA CORP"}]
[{"$f":"\"\"","v":""},null,{"$f":"IF('Vendor List'!$A2157=\"\",\"\",'Vendor List'!$A2157)","v":"NATIONAL BRONZE & METALS, INC."}]
[{"$f":"\"\"","v":""},null,{"$f":"IF('Vendor List'!$A2158=\"\",\"\",'Vendor List'!$A2158)","v":"NATIONAL CONTROLS LLC"}]
[{"$f":"\"\"","v":""},null,{"$f":"IF('Vendor List'!$A2159=\"\",\"\",'Vendor List'!$A2159)","v":"NATIONAL ELECTROSTATICS CORP"}]
[{"$f":"\"\"","v":""},null,{"$f":"IF('Vendor List'!$A2160=\"\",\"\",'Vendor List'!$A2160)","v":"NATIONAL FIRE PROTECTION ASSOC"}]
[{"$f":"\"\"","v":""},null,{"$f":"IF('Vendor List'!$A2161=\"\",\"\",'Vendor List'!$A2161)","v":"NATIONAL FIVE DIGIT ZIP CODE D"}]
[{"$f":"\"\"","v":""},null,{"$f":"IF('Vendor List'!$A2162=\"\",\"\",'Vendor List'!$A2162)","v":"NATIONAL INFORMATION DATA CENT"}]
[{"$f":"\"\"","v":""},null,{"$f":"IF('Vendor List'!$A2163=\"\",\"\",'Vendor List'!$A2163)","v":"NATIONAL INST STANDARDS & TECH"}]
[{"$f":"\"\"","v":""},null,{"$f":"IF('Vendor List'!$A2164=\"\",\"\",'Vendor List'!$A2164)","v":"NATIONAL INSTITUTE OF STANDARD"}]
[{"$f":"\"\"","v":""},null,{"$f":"IF('Vendor List'!$A2165=\"\",\"\",'Vendor List'!$A2165)","v":"NATIONAL INSTRUMENTS"}]
[{"$f":"\"\"","v":""},null,{"$f":"IF('Vendor List'!$A2166=\"\",\"\",'Vendor List'!$A2166)","v":"NATIONAL INSTRUMENTS"}]
[{"$f":"\"\"","v":""},null,{"$f":"IF('Vendor List'!$A2167=\"\",\"\",'Vendor List'!$A2167)","v":"NATIONAL MAGNETICS GROUP"}]
[{"$f":"\"\"","v":""},null,{"$f":"IF('Vendor List'!$A2168=\"\",\"\",'Vendor List'!$A2168)","v":"NATIONAL PARTITIONS"}]
[{"$f":"\"\"","v":""},null,{"$f":"IF('Vendor List'!$A2169=\"\",\"\",'Vendor List'!$A2169)","v":"NATIONAL PRECISION BEARING"}]
[{"$f":"\"\"","v":""},null,{"$f":"IF('Vendor List'!$A2170=\"\",\"\",'Vendor List'!$A2170)","v":"NATIONAL PRESS PUBLICATIONS IN"}]
[{"$f":"\"\"","v":""},null,{"$f":"IF('Vendor List'!$A2171=\"\",\"\",'Vendor List'!$A2171)","v":"NATIONAL SAFETY COUNCIL"}]
[{"$f":"\"\"","v":""},null,{"$f":"IF('Vendor List'!$A2172=\"\",\"\",'Vendor List'!$A2172)","v":"NATIONAL SEMICONDUCTOR"}]
[{"$f":"\"\"","v":""},null,{"$f":"IF('Vendor List'!$A2173=\"\",\"\",'Vendor List'!$A2173)","v":"NATIONAL UTILITIES"}]
[{"$f":"\"\"","v":""},null,{"$f":"IF('Vendor List'!$A2174=\"\",\"\",'Vendor List'!$A2174)","v":"NATIONWIDE PAPERS"}]
[{"$f":"\"\"","v":""},null,{"$f":"IF('Vendor List'!$A2175=\"\",\"\",'Vendor List'!$A2175)","v":"NATL SOC OF BLACK PHYSICISTS"}]
[{"$f":"\"\"","v":""},null,{"$f":"IF('Vendor List'!$A2176=\"\",\"\",'Vendor List'!$A2176)","v":"NAVITAR, INC."}]
[{"$f":"\"\"","v":""},null,{"$f":"IF('Vendor List'!$A2177=\"\",\"\",'Vendor List'!$A2177)","v":"NCURA"}]
[{"$f":"\"\"","v":""},null,{"$f":"IF('Vendor List'!$A2178=\"\",\"\",'Vendor List'!$A2178)","v":"NEC INFORMATION SYSTEMS INC"}]
[{"$f":"\"\"","v":""},null,{"$f":"IF('Vendor List'!$A2179=\"\",\"\",'Vendor List'!$A2179)","v":"NECO CORPORATION"}]
[{"$f":"\"\"","v":""},null,{"$f":"IF('Vendor List'!$A2180=\"\",\"\",'Vendor List'!$A2180)","v":"NEDCO ELECTRONICS"}]
[{"$f":"\"\"","v":""},null,{"$f":"IF('Vendor List'!$A2181=\"\",\"\",'Vendor List'!$A2181)","v":"NEEDHAMS ELECTRONICS"}]
[{"$f":"\"\"","v":""},null,{"$f":"IF('Vendor List'!$A2182=\"\",\"\",'Vendor List'!$A2182)","v":"NEELS TRAILER OUTLET"}]
[{"$f":"\"\"","v":""},null,{"$f":"IF('Vendor List'!$A2183=\"\",\"\",'Vendor List'!$A2183)","v":"NEFF ENGINEERING CO INC"}]
[{"$f":"\"\"","v":""},null,{"$f":"IF('Vendor List'!$A2184=\"\",\"\",'Vendor List'!$A2184)","v":"NEGUS CONTAINER CO"}]
[{"$f":"\"\"","v":""},null,{"$f":"IF('Vendor List'!$A2185=\"\",\"\",'Vendor List'!$A2185)","v":"NEHA"}]
[{"$f":"\"\"","v":""},null,{"$f":"IF('Vendor List'!$A2186=\"\",\"\",'Vendor List'!$A2186)","v":"NEHER ELECTRIC SUPPLY"}]
[{"$f":"\"\"","v":""},null,{"$f":"IF('Vendor List'!$A2187=\"\",\"\",'Vendor List'!$A2187)","v":"NELCO PRODUCTS, INC."}]
[{"$f":"\"\"","v":""},null,{"$f":"IF('Vendor List'!$A2188=\"\",\"\",'Vendor List'!$A2188)","v":"NELSON CONTAINER CORP"}]
[{"$f":"\"\"","v":""},null,{"$f":"IF('Vendor List'!$A2189=\"\",\"\",'Vendor List'!$A2189)","v":"NELSON CONTAINER CORP"}]
[{"$f":"\"\"","v":""},null,{"$f":"IF('Vendor List'!$A2190=\"\",\"\",'Vendor List'!$A2190)","v":"NELSON MUD JACKING"}]
[{"$f":"\"\"","v":""},null,{"$f":"IF('Vendor List'!$A2191=\"\",\"\",'Vendor List'!$A2191)","v":"NEP ELECTRONICS INC"}]
[{"$f":"\"\"","v":""},null,{"$f":"IF('Vendor List'!$A2192=\"\",\"\",'Vendor List'!$A2192)","v":"NERDS"}]
[{"$f":"\"\"","v":""},null,{"$f":"IF('Vendor List'!$A2193=\"\",\"\",'Vendor List'!$A2193)","v":"NERDS NET"}]
[{"$f":"\"\"","v":""},null,{"$f":"IF('Vendor List'!$A2194=\"\",\"\",'Vendor List'!$A2194)","v":"NET EXPRESS"}]
[{"$f":"\"\"","v":""},null,{"$f":"IF('Vendor List'!$A2195=\"\",\"\",'Vendor List'!$A2195)","v":"NET MANAGE"}]
[{"$f":"\"\"","v":""},null,{"$f":"IF('Vendor List'!$A2196=\"\",\"\",'Vendor List'!$A2196)","v":"NET.DREAMS"}]
[{"$f":"\"\"","v":""},null,{"$f":"IF('Vendor List'!$A2197=\"\",\"\",'Vendor List'!$A2197)","v":"NETECH CORPORATION"}]
[{"$f":"\"\"","v":""},null,{"$f":"IF('Vendor List'!$A2198=\"\",\"\",'Vendor List'!$A2198)","v":"NETMOTION, INC."}]
[{"$f":"\"\"","v":""},null,{"$f":"IF('Vendor List'!$A2199=\"\",\"\",'Vendor List'!$A2199)","v":"NETSYS-AMERICA,LLC"}]
[{"$f":"\"\"","v":""},null,{"$f":"IF('Vendor List'!$A2200=\"\",\"\",'Vendor List'!$A2200)","v":"NETWORK ASSOCIATES"}]
[{"$f":"\"\"","v":""},null,{"$f":"IF('Vendor List'!$A2201=\"\",\"\",'Vendor List'!$A2201)","v":"NETWORK INSTRUMENTS"}]
[{"$f":"\"\"","v":""},null,{"$f":"IF('Vendor List'!$A2202=\"\",\"\",'Vendor List'!$A2202)","v":"NETWORK SOLUTIONS"}]
[{"$f":"\"\"","v":""},null,{"$f":"IF('Vendor List'!$A2203=\"\",\"\",'Vendor List'!$A2203)","v":"NEURAL WARE INC"}]
[{"$f":"\"\"","v":""},null,{"$f":"IF('Vendor List'!$A2204=\"\",\"\",'Vendor List'!$A2204)","v":"NEUROVE$T JOURNAL"}]
[{"$f":"\"\"","v":""},null,{"$f":"IF('Vendor List'!$A2205=\"\",\"\",'Vendor List'!$A2205)","v":"NEW AGE INDUSTRIES"}]
[{"$f":"\"\"","v":""},null,{"$f":"IF('Vendor List'!$A2206=\"\",\"\",'Vendor List'!$A2206)","v":"NEW ENGLAND AFFILIATED TECH"}]
[{"$f":"\"\"","v":""},null,{"$f":"IF('Vendor List'!$A2207=\"\",\"\",'Vendor List'!$A2207)","v":"NEW ENGLAND COMPUTER EXCHANGE"}]
[{"$f":"\"\"","v":""},null,{"$f":"IF('Vendor List'!$A2208=\"\",\"\",'Vendor List'!$A2208)","v":"NEW ENGLAND TECHNI-COIL"}]
[{"$f":"\"\"","v":""},null,{"$f":"IF('Vendor List'!$A2209=\"\",\"\",'Vendor List'!$A2209)","v":"NEW FOCUS"}]
[{"$f":"\"\"","v":""},null,{"$f":"IF('Vendor List'!$A2210=\"\",\"\",'Vendor List'!$A2210)","v":"NEW MICROS INC"}]
[{"$f":"\"\"","v":""},null,{"$f":"IF('Vendor List'!$A2211=\"\",\"\",'Vendor List'!$A2211)","v":"NEW PIG CORPORATION"}]
[{"$f":"\"\"","v":""},null,{"$f":"IF('Vendor List'!$A2212=\"\",\"\",'Vendor List'!$A2212)","v":"NEWARK ELECTRONICS"}]
[{"$f":"\"\"","v":""},null,{"$f":"IF('Vendor List'!$A2213=\"\",\"\",'Vendor List'!$A2213)","v":"NEWEGG.COM"}]
[{"$f":"\"\"","v":""},null,{"$f":"IF('Vendor List'!$A2214=\"\",\"\",'Vendor List'!$A2214)","v":"NEWPORT ELECTRONICS"}]
[{"$f":"\"\"","v":""},null,{"$f":"IF('Vendor List'!$A2215=\"\",\"\",'Vendor List'!$A2215)","v":"NEWPORT RICHARDSON INC"}]
[{"$f":"\"\"","v":""},null,{"$f":"IF('Vendor List'!$A2216=\"\",\"\",'Vendor List'!$A2216)","v":"NEWPORT ROCHESTER, INC"}]
[{"$f":"\"\"","v":""},null,{"$f":"IF('Vendor List'!$A2217=\"\",\"\",'Vendor List'!$A2217)","v":"NEWPORT/KLINGER"}]
[{"$f":"\"\"","v":""},null,{"$f":"IF('Vendor List'!$A2218=\"\",\"\",'Vendor List'!$A2218)","v":"NEXTEL COMMUNICATIONS"}]
[{"$f":"\"\"","v":""},null,{"$f":"IF('Vendor List'!$A2219=\"\",\"\",'Vendor List'!$A2219)","v":"NIAGARA PLASTICS"}]
[{"$f":"\"\"","v":""},null,{"$f":"IF('Vendor List'!$A2220=\"\",\"\",'Vendor List'!$A2220)","v":"NIKON INC"}]
[{"$f":"\"\"","v":""},null,{"$f":"IF('Vendor List'!$A2221=\"\",\"\",'Vendor List'!$A2221)","v":"NILES & ASSOCIATES"}]
[{"$f":"\"\"","v":""},null,{"$f":"IF('Vendor List'!$A2222=\"\",\"\",'Vendor List'!$A2222)","v":"NILFISK OF AMERICA"}]
[{"$f":"\"\"","v":""},null,{"$f":"IF('Vendor List'!$A2223=\"\",\"\",'Vendor List'!$A2223)","v":"NIOWAVE INC"}]
[{"$f":"\"\"","v":""},null,{"$f":"IF('Vendor List'!$A2224=\"\",\"\",'Vendor List'!$A2224)","v":"NIST"}]
[{"$f":"\"\"","v":""},null,{"$f":"IF('Vendor List'!$A2225=\"\",\"\",'Vendor List'!$A2225)","v":"NIST"}]
[{"$f":"\"\"","v":""},null,{"$f":"IF('Vendor List'!$A2226=\"\",\"\",'Vendor List'!$A2226)","v":"NISUS WRITER PRINTED MANUAL"}]
[{"$f":"\"\"","v":""},null,{"$f":"IF('Vendor List'!$A2227=\"\",\"\",'Vendor List'!$A2227)","v":"NONFERROUS METALS CORPORATION"}]
[{"$f":"\"\"","v":""},null,{"$f":"IF('Vendor List'!$A2228=\"\",\"\",'Vendor List'!$A2228)","v":"NONN FLOORING"}]
[{"$f":"\"\"","v":""},null,{"$f":"IF('Vendor List'!$A2229=\"\",\"\",'Vendor List'!$A2229)","v":"NOR CAL PRODUCTS"}]
[{"$f":"\"\"","v":""},null,{"$f":"IF('Vendor List'!$A2230=\"\",\"\",'Vendor List'!$A2230)","v":"NOR CAL PRODUCTS INC"}]
[{"$f":"\"\"","v":""},null,{"$f":"IF('Vendor List'!$A2231=\"\",\"\",'Vendor List'!$A2231)","v":"NORMAN EQUIPMENT CO"}]
[{"$f":"\"\"","v":""},null,{"$f":"IF('Vendor List'!$A2232=\"\",\"\",'Vendor List'!$A2232)","v":"NORMAN EQUIPMENT COMPANY"}]
[{"$f":"\"\"","v":""},null,{"$f":"IF('Vendor List'!$A2233=\"\",\"\",'Vendor List'!$A2233)","v":"NORMAN EQUIPMENT COMPANY"}]
[{"$f":"\"\"","v":""},null,{"$f":"IF('Vendor List'!$A2234=\"\",\"\",'Vendor List'!$A2234)","v":"NORMAN FILTER COMPANY"}]
[{"$f":"\"\"","v":""},null,{"$f":"IF('Vendor List'!$A2235=\"\",\"\",'Vendor List'!$A2235)","v":"NORTH AMERICAN HOGANAS"}]
[{"$f":"\"\"","v":""},null,{"$f":"IF('Vendor List'!$A2236=\"\",\"\",'Vendor List'!$A2236)","v":"NORTH SHORE SAFETY LTD"}]
[{"$f":"\"\"","v":""},null,{"$f":"IF('Vendor List'!$A2237=\"\",\"\",'Vendor List'!$A2237)","v":"NORTHERN BATTERY"}]
[{"$f":"\"\"","v":""},null,{"$f":"IF('Vendor List'!$A2238=\"\",\"\",'Vendor List'!$A2238)","v":"NORTHERN BATTERY WAREHOUSE"}]
[{"$f":"\"\"","v":""},null,{"$f":"IF('Vendor List'!$A2239=\"\",\"\",'Vendor List'!$A2239)","v":"NORTHERN PLATING CO"}]
[{"$f":"\"\"","v":""},null,{"$f":"IF('Vendor List'!$A2240=\"\",\"\",'Vendor List'!$A2240)","v":"NORTHERN SLED WORKS"}]
[{"$f":"\"\"","v":""},null,{"$f":"IF('Vendor List'!$A2241=\"\",\"\",'Vendor List'!$A2241)","v":"NORTHERN TOOL & EQUIPMENT"}]
[{"$f":"\"\"","v":""},null,{"$f":"IF('Vendor List'!$A2242=\"\",\"\",'Vendor List'!$A2242)","v":"NORTHROP AWNING CO"}]
[{"$f":"\"\"","v":""},null,{"$f":"IF('Vendor List'!$A2243=\"\",\"\",'Vendor List'!$A2243)","v":"NORTHWEST AIR"}]
[{"$f":"\"\"","v":""},null,{"$f":"IF('Vendor List'!$A2244=\"\",\"\",'Vendor List'!$A2244)","v":"NORTHWEST AIRLINES"}]
[{"$f":"\"\"","v":""},null,{"$f":"IF('Vendor List'!$A2245=\"\",\"\",'Vendor List'!$A2245)","v":"NORTHWEST TECHNICAL"}]
[{"$f":"\"\"","v":""},null,{"$f":"IF('Vendor List'!$A2246=\"\",\"\",'Vendor List'!$A2246)","v":"NORTHWESTERN INDUSTRIAL"}]
[{"$f":"\"\"","v":""},null,{"$f":"IF('Vendor List'!$A2247=\"\",\"\",'Vendor List'!$A2247)","v":"NORTHWOODS LASER"}]
[{"$f":"\"\"","v":""},null,{"$f":"IF('Vendor List'!$A2248=\"\",\"\",'Vendor List'!$A2248)","v":"NORWAY LABS"}]
[{"$f":"\"\"","v":""},null,{"$f":"IF('Vendor List'!$A2249=\"\",\"\",'Vendor List'!$A2249)","v":"NOTARY BOND RENEWAL"}]
[{"$f":"\"\"","v":""},null,{"$f":"IF('Vendor List'!$A2250=\"\",\"\",'Vendor List'!$A2250)","v":"NOTARY RECORDS"}]
[{"$f":"\"\"","v":""},null,{"$f":"IF('Vendor List'!$A2251=\"\",\"\",'Vendor List'!$A2251)","v":"NOTT CO"}]
[{"$f":"\"\"","v":""},null,{"$f":"IF('Vendor List'!$A2252=\"\",\"\",'Vendor List'!$A2252)","v":"NOVAMAX INTERNATIONAL"}]
[{"$f":"\"\"","v":""},null,{"$f":"IF('Vendor List'!$A2253=\"\",\"\",'Vendor List'!$A2253)","v":"NOW SOFTWARE INC."}]
[{"$f":"\"\"","v":""},null,{"$f":"IF('Vendor List'!$A2254=\"\",\"\",'Vendor List'!$A2254)","v":"NPX DESIGNS, INC"}]
[{"$f":"\"\"","v":""},null,{"$f":"IF('Vendor List'!$A2255=\"\",\"\",'Vendor List'!$A2255)","v":"NSK CORPORATION"}]
[{"$f":"\"\"","v":""},null,{"$f":"IF('Vendor List'!$A2256=\"\",\"\",'Vendor List'!$A2256)","v":"NSPE"}]
[{"$f":"\"\"","v":""},null,{"$f":"IF('Vendor List'!$A2257=\"\",\"\",'Vendor List'!$A2257)","v":"NTH GENERATION COMPUTING"}]
[{"$f":"\"\"","v":""},null,{"$f":"IF('Vendor List'!$A2258=\"\",\"\",'Vendor List'!$A2258)","v":"NU HORIZONS ELECTRONICS"}]
[{"$f":"\"\"","v":""},null,{"$f":"IF('Vendor List'!$A2259=\"\",\"\",'Vendor List'!$A2259)","v":"NU-CONCEPT SYSTEMS INC"}]
[{"$f":"\"\"","v":""},null,{"$f":"IF('Vendor List'!$A2260=\"\",\"\",'Vendor List'!$A2260)","v":"NULOGIC"}]
[{"$f":"\"\"","v":""},null,{"$f":"IF('Vendor List'!$A2261=\"\",\"\",'Vendor List'!$A2261)","v":"NUMERICAL RECIPES"}]
[{"$f":"\"\"","v":""},null,{"$f":"IF('Vendor List'!$A2262=\"\",\"\",'Vendor List'!$A2262)","v":"NUMERIDEX"}]
[{"$f":"\"\"","v":""},null,{"$f":"IF('Vendor List'!$A2263=\"\",\"\",'Vendor List'!$A2263)","v":"NUSIL TECHNOLOGY"}]
[{"$f":"\"\"","v":""},null,{"$f":"IF('Vendor List'!$A2264=\"\",\"\",'Vendor List'!$A2264)","v":"NUSPECTRA MULTIMEDIA INC"}]
[{"$f":"\"\"","v":""},null,{"$f":"IF('Vendor List'!$A2265=\"\",\"\",'Vendor List'!$A2265)","v":"O & A TOOLS SPECIALTIES"}]
[{"$f":"\"\"","v":""},null,{"$f":"IF('Vendor List'!$A2266=\"\",\"\",'Vendor List'!$A2266)","v":"O'REILLY & ASSOCIATES"}]
[{"$f":"\"\"","v":""},null,{"$f":"IF('Vendor List'!$A2267=\"\",\"\",'Vendor List'!$A2267)","v":"O-RINGS WEST INC"}]
[{"$f":"\"\"","v":""},null,{"$f":"IF('Vendor List'!$A2268=\"\",\"\",'Vendor List'!$A2268)","v":"OBJECTSPACE, INC."}]
[{"$f":"\"\"","v":""},null,{"$f":"IF('Vendor List'!$A2269=\"\",\"\",'Vendor List'!$A2269)","v":"OC MICRO SUPPLY"}]
[{"$f":"\"\"","v":""},null,{"$f":"IF('Vendor List'!$A2270=\"\",\"\",'Vendor List'!$A2270)","v":"OCEAN OPTICS INC"}]
[{"$f":"\"\"","v":""},null,{"$f":"IF('Vendor List'!$A2271=\"\",\"\",'Vendor List'!$A2271)","v":"OCI VACUUM MICROENGINEERING"}]
[{"$f":"\"\"","v":""},null,{"$f":"IF('Vendor List'!$A2272=\"\",\"\",'Vendor List'!$A2272)","v":"OFFICE DEPOT"}]
[{"$f":"\"\"","v":""},null,{"$f":"IF('Vendor List'!$A2273=\"\",\"\",'Vendor List'!$A2273)","v":"OFFICE DEPOT"}]
[{"$f":"\"\"","v":""},null,{"$f":"IF('Vendor List'!$A2274=\"\",\"\",'Vendor List'!$A2274)","v":"OFFICE DEPOT"}]
[{"$f":"\"\"","v":""},null,{"$f":"IF('Vendor List'!$A2275=\"\",\"\",'Vendor List'!$A2275)","v":"OFFICE FURNITURE RESOURCES"}]
[{"$f":"\"\"","v":""},null,{"$f":"IF('Vendor List'!$A2276=\"\",\"\",'Vendor List'!$A2276)","v":"OFFICE MAX"}]
[{"$f":"\"\"","v":""},null,{"$f":"IF('Vendor List'!$A2277=\"\",\"\",'Vendor List'!$A2277)","v":"OFFICE OF BUDGET PLAN & ANALYS"}]
[{"$f":"\"\"","v":""},null,{"$f":"IF('Vendor List'!$A2278=\"\",\"\",'Vendor List'!$A2278)","v":"OFFICE OF HUMAN RESOURCES"}]
[{"$f":"\"\"","v":""},null,{"$f":"IF('Vendor List'!$A2279=\"\",\"\",'Vendor List'!$A2279)","v":"OFFICE OF STATE EMPLOYMENT REL"}]
[{"$f":"\"\"","v":""},null,{"$f":"IF('Vendor List'!$A2280=\"\",\"\",'Vendor List'!$A2280)","v":"OFFICE OF THE SECRETARY OF STA"}]
[{"$f":"\"\"","v":""},null,{"$f":"IF('Vendor List'!$A2281=\"\",\"\",'Vendor List'!$A2281)","v":"OFFICE TECHNOLOGY"}]
[{"$f":"\"\"","v":""},null,{"$f":"IF('Vendor List'!$A2282=\"\",\"\",'Vendor List'!$A2282)","v":"OIL EQUIPMENT"}]
[{"$f":"\"\"","v":""},null,{"$f":"IF('Vendor List'!$A2283=\"\",\"\",'Vendor List'!$A2283)","v":"OMEGA ENGINEERING INC"}]
[{"$f":"\"\"","v":""},null,{"$f":"IF('Vendor List'!$A2284=\"\",\"\",'Vendor List'!$A2284)","v":"OMNI CONTROLS INC"}]
[{"$f":"\"\"","v":""},null,{"$f":"IF('Vendor List'!$A2285=\"\",\"\",'Vendor List'!$A2285)","v":"OMNI DEVELOPMENT, INC."}]
[{"$f":"\"\"","v":""},null,{"$f":"IF('Vendor List'!$A2286=\"\",\"\",'Vendor List'!$A2286)","v":"OMNI LOS ANGELES HOTEL"}]
[{"$f":"\"\"","v":""},null,{"$f":"IF('Vendor List'!$A2287=\"\",\"\",'Vendor List'!$A2287)","v":"OMNI PRO ELECTRONICS"}]
[{"$f":"\"\"","v":""},null,{"$f":"IF('Vendor List'!$A2288=\"\",\"\",'Vendor List'!$A2288)","v":"ON LINE INSTRUMENT SYSTEMS"}]
[{"$f":"\"\"","v":""},null,{"$f":"IF('Vendor List'!$A2289=\"\",\"\",'Vendor List'!$A2289)","v":"ON-TRAK PHOTONICS"}]
[{"$f":"\"\"","v":""},null,{"$f":"IF('Vendor List'!$A2290=\"\",\"\",'Vendor List'!$A2290)","v":"ONDEO NALCO COMPANY"}]
[{"$f":"\"\"","v":""},null,{"$f":"IF('Vendor List'!$A2291=\"\",\"\",'Vendor List'!$A2291)","v":"ONLINECOMPONENTS.COM"}]
[{"$f":"\"\"","v":""},null,{"$f":"IF('Vendor List'!$A2292=\"\",\"\",'Vendor List'!$A2292)","v":"ONPOINT LASERS, INC."}]
[{"$f":"\"\"","v":""},null,{"$f":"IF('Vendor List'!$A2293=\"\",\"\",'Vendor List'!$A2293)","v":"OPEN VENDOR"}]
[{"$f":"\"\"","v":""},null,{"$f":"IF('Vendor List'!$A2294=\"\",\"\",'Vendor List'!$A2294)","v":"OPHIR OPTRONICS INC"}]
[{"$f":"\"\"","v":""},null,{"$f":"IF('Vendor List'!$A2295=\"\",\"\",'Vendor List'!$A2295)","v":"OPTI-FORMS, INC"}]
[{"$f":"\"\"","v":""},null,{"$f":"IF('Vendor List'!$A2296=\"\",\"\",'Vendor List'!$A2296)","v":"OPTICAL FIBER COMPONENTS INC."}]
[{"$f":"\"\"","v":""},null,{"$f":"IF('Vendor List'!$A2297=\"\",\"\",'Vendor List'!$A2297)","v":"OPTICAL SOCIETY OF AMERICA"}]
[{"$f":"\"\"","v":""},null,{"$f":"IF('Vendor List'!$A2298=\"\",\"\",'Vendor List'!$A2298)","v":"OPTICAL SOCIETY OF AMERICA"}]
[{"$f":"\"\"","v":""},null,{"$f":"IF('Vendor List'!$A2299=\"\",\"\",'Vendor List'!$A2299)","v":"OPTICAL SOCIETY OF AMERICA"}]
[{"$f":"\"\"","v":""},null,{"$f":"IF('Vendor List'!$A2300=\"\",\"\",'Vendor List'!$A2300)","v":"OPTICAL ZONU"}]
[{"$f":"\"\"","v":""},null,{"$f":"IF('Vendor List'!$A2301=\"\",\"\",'Vendor List'!$A2301)","v":"OPTICS PLANET, INC"}]
[{"$f":"\"\"","v":""},null,{"$f":"IF('Vendor List'!$A2302=\"\",\"\",'Vendor List'!$A2302)","v":"OPTIMUM DESIGN"}]
[{"$f":"\"\"","v":""},null,{"$f":"IF('Vendor List'!$A2303=\"\",\"\",'Vendor List'!$A2303)","v":"OPTO SIGMA CORP"}]
[{"$f":"\"\"","v":""},null,{"$f":"IF('Vendor List'!$A2304=\"\",\"\",'Vendor List'!$A2304)","v":"OPTOTECHNIK"}]
[{"$f":"\"\"","v":""},null,{"$f":"IF('Vendor List'!$A2305=\"\",\"\",'Vendor List'!$A2305)","v":"ORANGE RESEARCH"}]
[{"$f":"\"\"","v":""},null,{"$f":"IF('Vendor List'!$A2306=\"\",\"\",'Vendor List'!$A2306)","v":"ORBITAL SCIENCE"}]
[{"$f":"\"\"","v":""},null,{"$f":"IF('Vendor List'!$A2307=\"\",\"\",'Vendor List'!$A2307)","v":"ORBITAL SOFTWARE, INC."}]
[{"$f":"\"\"","v":""},null,{"$f":"IF('Vendor List'!$A2308=\"\",\"\",'Vendor List'!$A2308)","v":"ORIENTAL MOTORS USA"}]
[{"$f":"\"\"","v":""},null,{"$f":"IF('Vendor List'!$A2309=\"\",\"\",'Vendor List'!$A2309)","v":"ORTECH, INC"}]
[{"$f":"\"\"","v":""},null,{"$f":"IF('Vendor List'!$A2310=\"\",\"\",'Vendor List'!$A2310)","v":"OSBORN INTERNATIONAL"}]
[{"$f":"\"\"","v":""},null,{"$f":"IF('Vendor List'!$A2311=\"\",\"\",'Vendor List'!$A2311)","v":"OSI OPTO ELECTRONICS"}]
[{"$f":"\"\"","v":""},null,{"$f":"IF('Vendor List'!$A2312=\"\",\"\",'Vendor List'!$A2312)","v":"OSMIC INC"}]
[{"$f":"\"\"","v":""},null,{"$f":"IF('Vendor List'!$A2313=\"\",\"\",'Vendor List'!$A2313)","v":"OTEK CORPORATION"}]
[{"$f":"\"\"","v":""},null,{"$f":"IF('Vendor List'!$A2314=\"\",\"\",'Vendor List'!$A2314)","v":"OUTOKUMPU AMERICAN BRASS"}]
[{"$f":"\"\"","v":""},null,{"$f":"IF('Vendor List'!$A2315=\"\",\"\",'Vendor List'!$A2315)","v":"OVENS OF BRITTANY CATERING"}]
[{"$f":"\"\"","v":""},null,{"$f":"IF('Vendor List'!$A2316=\"\",\"\",'Vendor List'!$A2316)","v":"OVERHEAD DOOR CO OF MADISON"}]
[{"$f":"\"\"","v":""},null,{"$f":"IF('Vendor List'!$A2317=\"\",\"\",'Vendor List'!$A2317)","v":"OVERHEAD MATERIAL HANDLING"}]
[{"$f":"\"\"","v":""},null,{"$f":"IF('Vendor List'!$A2318=\"\",\"\",'Vendor List'!$A2318)","v":"OWEN WELDING"}]
[{"$f":"\"\"","v":""},null,{"$f":"IF('Vendor List'!$A2319=\"\",\"\",'Vendor List'!$A2319)","v":"OXFORD UNIVERSITY PRESS"}]
[{"$f":"\"\"","v":""},null,{"$f":"IF('Vendor List'!$A2320=\"\",\"\",'Vendor List'!$A2320)","v":"PACATLANTIC LLC"}]
[{"$f":"\"\"","v":""},null,{"$f":"IF('Vendor List'!$A2321=\"\",\"\",'Vendor List'!$A2321)","v":"PACIFIC MICRO"}]
[{"$f":"\"\"","v":""},null,{"$f":"IF('Vendor List'!$A2322=\"\",\"\",'Vendor List'!$A2322)","v":"PACKAGING AIDS CORPORATION"}]
[{"$f":"\"\"","v":""},null,{"$f":"IF('Vendor List'!$A2323=\"\",\"\",'Vendor List'!$A2323)","v":"PACKAGING TAPE INC"}]
[{"$f":"\"\"","v":""},null,{"$f":"IF('Vendor List'!$A2324=\"\",\"\",'Vendor List'!$A2324)","v":"PACTEC SECOND SOURCE"}]
[{"$f":"\"\"","v":""},null,{"$f":"IF('Vendor List'!$A2325=\"\",\"\",'Vendor List'!$A2325)","v":"PADGETT-THOMPSON"}]
[{"$f":"\"\"","v":""},null,{"$f":"IF('Vendor List'!$A2326=\"\",\"\",'Vendor List'!$A2326)","v":"PAGE COMPUTERS"}]
[{"$f":"\"\"","v":""},null,{"$f":"IF('Vendor List'!$A2327=\"\",\"\",'Vendor List'!$A2327)","v":"PALISADE CORP"}]
[{"$f":"\"\"","v":""},null,{"$f":"IF('Vendor List'!$A2328=\"\",\"\",'Vendor List'!$A2328)","v":"PALLETONE OF WI"}]
[{"$f":"\"\"","v":""},null,{"$f":"IF('Vendor List'!$A2329=\"\",\"\",'Vendor List'!$A2329)","v":"PALMONE INC"}]
[{"$f":"\"\"","v":""},null,{"$f":"IF('Vendor List'!$A2330=\"\",\"\",'Vendor List'!$A2330)","v":"PALTECH ENTERPRISES OF IL"}]
[{"$f":"\"\"","v":""},null,{"$f":"IF('Vendor List'!$A2331=\"\",\"\",'Vendor List'!$A2331)","v":"PALTECH ENTERPRISES OF IL (ARR"}]
[{"$f":"\"\"","v":""},null,{"$f":"IF('Vendor List'!$A2332=\"\",\"\",'Vendor List'!$A2332)","v":"PANATEK"}]
[{"$f":"\"\"","v":""},null,{"$f":"IF('Vendor List'!$A2333=\"\",\"\",'Vendor List'!$A2333)","v":"PANERA BREAD"}]
[{"$f":"\"\"","v":""},null,{"$f":"IF('Vendor List'!$A2334=\"\",\"\",'Vendor List'!$A2334)","v":"PAPER DIRECT"}]
[{"$f":"\"\"","v":""},null,{"$f":"IF('Vendor List'!$A2335=\"\",\"\",'Vendor List'!$A2335)","v":"PAR ENTERPRISES"}]
[{"$f":"\"\"","v":""},null,{"$f":"IF('Vendor List'!$A2336=\"\",\"\",'Vendor List'!$A2336)","v":"PARA TECH COATING"}]
[{"$f":"\"\"","v":""},null,{"$f":"IF('Vendor List'!$A2337=\"\",\"\",'Vendor List'!$A2337)","v":"PARADIGM ATTRACTIONS"}]
[{"$f":"\"\"","v":""},null,{"$f":"IF('Vendor List'!$A2338=\"\",\"\",'Vendor List'!$A2338)","v":"PARAGON CORP"}]
[{"$f":"\"\"","v":""},null,{"$f":"IF('Vendor List'!$A2339=\"\",\"\",'Vendor List'!$A2339)","v":"PARAGON DEVELOPMENT SYSTEMS IN"}]
[{"$f":"\"\"","v":""},null,{"$f":"IF('Vendor List'!$A2340=\"\",\"\",'Vendor List'!$A2340)","v":"PARAGON TECHNOLOGY"}]
[{"$f":"\"\"","v":""},null,{"$f":"IF('Vendor List'!$A2341=\"\",\"\",'Vendor List'!$A2341)","v":"PARK PRINTING/BRANDBOXX"}]
[{"$f":"\"\"","v":""},null,{"$f":"IF('Vendor List'!$A2342=\"\",\"\",'Vendor List'!$A2342)","v":"PARKER HANNIFIN"}]
[{"$f":"\"\"","v":""},null,{"$f":"IF('Vendor List'!$A2343=\"\",\"\",'Vendor List'!$A2343)","v":"PARKER HANNIFIN CORP"}]
[{"$f":"\"\"","v":""},null,{"$f":"IF('Vendor List'!$A2344=\"\",\"\",'Vendor List'!$A2344)","v":"PARKER STEEL (ONLINEMETALS.COM"}]
[{"$f":"\"\"","v":""},null,{"$f":"IF('Vendor List'!$A2345=\"\",\"\",'Vendor List'!$A2345)","v":"PARKING & TRANSPORTATION"}]
[{"$f":"\"\"","v":""},null,{"$f":"IF('Vendor List'!$A2346=\"\",\"\",'Vendor List'!$A2346)","v":"PAROSCIENTIFIC INC"}]
[{"$f":"\"\"","v":""},null,{"$f":"IF('Vendor List'!$A2347=\"\",\"\",'Vendor List'!$A2347)","v":"PARTNERS DATA SYSTEMS  INC"}]
[{"$f":"\"\"","v":""},null,{"$f":"IF('Vendor List'!$A2348=\"\",\"\",'Vendor List'!$A2348)","v":"PARTS EXPRESS"}]
[{"$f":"\"\"","v":""},null,{"$f":"IF('Vendor List'!$A2349=\"\",\"\",'Vendor List'!$A2349)","v":"PARTS MART"}]
[{"$f":"\"\"","v":""},null,{"$f":"IF('Vendor List'!$A2350=\"\",\"\",'Vendor List'!$A2350)","v":"PARTS NOW"}]
[{"$f":"\"\"","v":""},null,{"$f":"IF('Vendor List'!$A2351=\"\",\"\",'Vendor List'!$A2351)","v":"PARTSTORE"}]
[{"$f":"\"\"","v":""},null,{"$f":"IF('Vendor List'!$A2352=\"\",\"\",'Vendor List'!$A2352)","v":"PASCO"}]
[{"$f":"\"\"","v":""},null,{"$f":"IF('Vendor List'!$A2353=\"\",\"\",'Vendor List'!$A2353)","v":"PASQUALS/CIRCOLO CATERING"}]
[{"$f":"\"\"","v":""},null,{"$f":"IF('Vendor List'!$A2354=\"\",\"\",'Vendor List'!$A2354)","v":"PASTERNACK ENTERPRISES"}]
[{"$f":"\"\"","v":""},null,{"$f":"IF('Vendor List'!$A2355=\"\",\"\",'Vendor List'!$A2355)","v":"PC CONNECTION"}]
[{"$f":"\"\"","v":""},null,{"$f":"IF('Vendor List'!$A2356=\"\",\"\",'Vendor List'!$A2356)","v":"PC MAGAZINE"}]
[{"$f":"\"\"","v":""},null,{"$f":"IF('Vendor List'!$A2357=\"\",\"\",'Vendor List'!$A2357)","v":"PC MALL"}]
[{"$f":"\"\"","v":""},null,{"$f":"IF('Vendor List'!$A2358=\"\",\"\",'Vendor List'!$A2358)","v":"PC MALL"}]
[{"$f":"\"\"","v":""},null,{"$f":"IF('Vendor List'!$A2359=\"\",\"\",'Vendor List'!$A2359)","v":"PC MARKET"}]
[{"$f":"\"\"","v":""},null,{"$f":"IF('Vendor List'!$A2360=\"\",\"\",'Vendor List'!$A2360)","v":"PC POWER & COOLING INC"}]
[{"$f":"\"\"","v":""},null,{"$f":"IF('Vendor List'!$A2361=\"\",\"\",'Vendor List'!$A2361)","v":"PC SERVICE SOURCE"}]
[{"$f":"\"\"","v":""},null,{"$f":"IF('Vendor List'!$A2362=\"\",\"\",'Vendor List'!$A2362)","v":"PC SOLUTIONS"}]
[{"$f":"\"\"","v":""},null,{"$f":"IF('Vendor List'!$A2363=\"\",\"\",'Vendor List'!$A2363)","v":"PC ZONE"}]
[{"$f":"\"\"","v":""},null,{"$f":"IF('Vendor List'!$A2364=\"\",\"\",'Vendor List'!$A2364)","v":"PCI MICRO"}]
[{"$f":"\"\"","v":""},null,{"$f":"IF('Vendor List'!$A2365=\"\",\"\",'Vendor List'!$A2365)","v":"PCS COMPLEAT, INC."}]
[{"$f":"\"\"","v":""},null,{"$f":"IF('Vendor List'!$A2366=\"\",\"\",'Vendor List'!$A2366)","v":"PDQ STORE #132"}]
[{"$f":"\"\"","v":""},null,{"$f":"IF('Vendor List'!$A2367=\"\",\"\",'Vendor List'!$A2367)","v":"PDQ TOOLING"}]
[{"$f":"\"\"","v":""},null,{"$f":"IF('Vendor List'!$A2368=\"\",\"\",'Vendor List'!$A2368)","v":"PEARSON ELECTRONICS INC"}]
[{"$f":"\"\"","v":""},null,{"$f":"IF('Vendor List'!$A2369=\"\",\"\",'Vendor List'!$A2369)","v":"PECA PRODUCTS"}]
[{"$f":"\"\"","v":""},null,{"$f":"IF('Vendor List'!$A2370=\"\",\"\",'Vendor List'!$A2370)","v":"PEI GENESIS"}]
[{"$f":"\"\"","v":""},null,{"$f":"IF('Vendor List'!$A2371=\"\",\"\",'Vendor List'!$A2371)","v":"PEI GENESIS"}]
[{"$f":"\"\"","v":""},null,{"$f":"IF('Vendor List'!$A2372=\"\",\"\",'Vendor List'!$A2372)","v":"PELLITTERI WASTE SYSTEMS"}]
[{"$f":"\"\"","v":""},null,{"$f":"IF('Vendor List'!$A2373=\"\",\"\",'Vendor List'!$A2373)","v":"PENN STAINLESS PRODUCTS INC"}]
[{"$f":"\"\"","v":""},null,{"$f":"IF('Vendor List'!$A2374=\"\",\"\",'Vendor List'!$A2374)","v":"PENNSYLVANIA STATE UNIVERSITY"}]
[{"$f":"\"\"","v":""},null,{"$f":"IF('Vendor List'!$A2375=\"\",\"\",'Vendor List'!$A2375)","v":"PENSAR ELECTRONIC SOLUTIONS"}]
[{"$f":"\"\"","v":""},null,{"$f":"IF('Vendor List'!$A2376=\"\",\"\",'Vendor List'!$A2376)","v":"PENTA LABS"}]
[{"$f":"\"\"","v":""},null,{"$f":"IF('Vendor List'!$A2377=\"\",\"\",'Vendor List'!$A2377)","v":"PEORIA PUMP INC"}]
[{"$f":"\"\"","v":""},null,{"$f":"IF('Vendor List'!$A2378=\"\",\"\",'Vendor List'!$A2378)","v":"PER MAR SECURITY & RESEARCH CO"}]
[{"$f":"\"\"","v":""},null,{"$f":"IF('Vendor List'!$A2379=\"\",\"\",'Vendor List'!$A2379)","v":"PERKIN ELMER OPTOELECTRONICS"}]
[{"$f":"\"\"","v":""},null,{"$f":"IF('Vendor List'!$A2380=\"\",\"\",'Vendor List'!$A2380)","v":"PERKINS OIL COMPANY INC"}]
[{"$f":"\"\"","v":""},null,{"$f":"IF('Vendor List'!$A2381=\"\",\"\",'Vendor List'!$A2381)","v":"PERRY INTERNATIONAL"}]
[{"$f":"\"\"","v":""},null,{"$f":"IF('Vendor List'!$A2382=\"\",\"\",'Vendor List'!$A2382)","v":"PERRY TECHNOLOGY CORP"}]
[{"$f":"\"\"","v":""},null,{"$f":"IF('Vendor List'!$A2383=\"\",\"\",'Vendor List'!$A2383)","v":"PFEIFFER VACUUM TECHNOLOGY"}]
[{"$f":"\"\"","v":""},null,{"$f":"IF('Vendor List'!$A2384=\"\",\"\",'Vendor List'!$A2384)","v":"PHIL'S TRACTOR SUPPLY"}]
[{"$f":"\"\"","v":""},null,{"$f":"IF('Vendor List'!$A2385=\"\",\"\",'Vendor List'!$A2385)","v":"PHILIPS ELECTRONICS INSTRUMENT"}]
[{"$f":"\"\"","v":""},null,{"$f":"IF('Vendor List'!$A2386=\"\",\"\",'Vendor List'!$A2386)","v":"PHILIPS MEDICAL"}]
[{"$f":"\"\"","v":""},null,{"$f":"IF('Vendor List'!$A2387=\"\",\"\",'Vendor List'!$A2387)","v":"PHILIPS SCIENTIFIC"}]
[{"$f":"\"\"","v":""},null,{"$f":"IF('Vendor List'!$A2388=\"\",\"\",'Vendor List'!$A2388)","v":"PHILLIPS SAFETY"}]
[{"$f":"\"\"","v":""},null,{"$f":"IF('Vendor List'!$A2389=\"\",\"\",'Vendor List'!$A2389)","v":"PHILLIPS SCIENTIFIC"}]
[{"$f":"\"\"","v":""},null,{"$f":"IF('Vendor List'!$A2390=\"\",\"\",'Vendor List'!$A2390)","v":"PHOTO EXPRESS"}]
[{"$f":"\"\"","v":""},null,{"$f":"IF('Vendor List'!$A2391=\"\",\"\",'Vendor List'!$A2391)","v":"PHOTO EXPRESS"}]
[{"$f":"\"\"","v":""},null,{"$f":"IF('Vendor List'!$A2392=\"\",\"\",'Vendor List'!$A2392)","v":"PHOTO MEDIA"}]
[{"$f":"\"\"","v":""},null,{"$f":"IF('Vendor List'!$A2393=\"\",\"\",'Vendor List'!$A2393)","v":"PHOTOART HOUSE"}]
[{"$f":"\"\"","v":""},null,{"$f":"IF('Vendor List'!$A2394=\"\",\"\",'Vendor List'!$A2394)","v":"PHOTON SCIENCES INTERNATIONAL"}]
[{"$f":"\"\"","v":""},null,{"$f":"IF('Vendor List'!$A2395=\"\",\"\",'Vendor List'!$A2395)","v":"PHOTONIS USA, INC"}]
[{"$f":"\"\"","v":""},null,{"$f":"IF('Vendor List'!$A2396=\"\",\"\",'Vendor List'!$A2396)","v":"PHYSICAL OPTICS CORPORATION"}]
[{"$f":"\"\"","v":""},null,{"$f":"IF('Vendor List'!$A2397=\"\",\"\",'Vendor List'!$A2397)","v":"PHYSICAL PLANT"}]
[{"$f":"\"\"","v":""},null,{"$f":"IF('Vendor List'!$A2398=\"\",\"\",'Vendor List'!$A2398)","v":"PHYSICAL SCIENCES LAB"}]
[{"$f":"\"\"","v":""},null,{"$f":"IF('Vendor List'!$A2399=\"\",\"\",'Vendor List'!$A2399)","v":"PHYSICS EQUIPMENT"}]
[{"$f":"\"\"","v":""},null,{"$f":"IF('Vendor List'!$A2400=\"\",\"\",'Vendor List'!$A2400)","v":"PHYSICS SHOP"}]
[{"$f":"\"\"","v":""},null,{"$f":"IF('Vendor List'!$A2401=\"\",\"\",'Vendor List'!$A2401)","v":"PHYSIK INSTRUMENTE, L.P."}]
[{"$f":"\"\"","v":""},null,{"$f":"IF('Vendor List'!$A2402=\"\",\"\",'Vendor List'!$A2402)","v":"PI TAPE"}]
[{"$f":"\"\"","v":""},null,{"$f":"IF('Vendor List'!$A2403=\"\",\"\",'Vendor List'!$A2403)","v":"PIC DESIGN CORP"}]
[{"$f":"\"\"","v":""},null,{"$f":"IF('Vendor List'!$A2404=\"\",\"\",'Vendor List'!$A2404)","v":"PICK N SAVE"}]
[{"$f":"\"\"","v":""},null,{"$f":"IF('Vendor List'!$A2405=\"\",\"\",'Vendor List'!$A2405)","v":"PICK N SAVE"}]
[{"$f":"\"\"","v":""},null,{"$f":"IF('Vendor List'!$A2406=\"\",\"\",'Vendor List'!$A2406)","v":"PICOSECOND PULSE LABS"}]
[{"$f":"\"\"","v":""},null,{"$f":"IF('Vendor List'!$A2407=\"\",\"\",'Vendor List'!$A2407)","v":"PIEPHO MOVING & STORAGE"}]
[{"$f":"\"\"","v":""},null,{"$f":"IF('Vendor List'!$A2408=\"\",\"\",'Vendor List'!$A2408)","v":"PIERSON PRODUCTS, INC"}]
[{"$f":"\"\"","v":""},null,{"$f":"IF('Vendor List'!$A2409=\"\",\"\",'Vendor List'!$A2409)","v":"PIEZO SYSTEMS INC"}]
[{"$f":"\"\"","v":""},null,{"$f":"IF('Vendor List'!$A2410=\"\",\"\",'Vendor List'!$A2410)","v":"PIEZOMAX, INC"}]
[{"$f":"\"\"","v":""},null,{"$f":"IF('Vendor List'!$A2411=\"\",\"\",'Vendor List'!$A2411)","v":"PIEZOSYSTEM JENA INC"}]
[{"$f":"\"\"","v":""},null,{"$f":"IF('Vendor List'!$A2412=\"\",\"\",'Vendor List'!$A2412)","v":"PIKE TECHNOLOGIES"}]
[{"$f":"\"\"","v":""},null,{"$f":"IF('Vendor List'!$A2413=\"\",\"\",'Vendor List'!$A2413)","v":"PILGRIM CLEANERS"}]
[{"$f":"\"\"","v":""},null,{"$f":"IF('Vendor List'!$A2414=\"\",\"\",'Vendor List'!$A2414)","v":"PIONEER ELECTRONICS"}]
[{"$f":"\"\"","v":""},null,{"$f":"IF('Vendor List'!$A2415=\"\",\"\",'Vendor List'!$A2415)","v":"PIONEER METAL FINISHING"}]
[{"$f":"\"\"","v":""},null,{"$f":"IF('Vendor List'!$A2416=\"\",\"\",'Vendor List'!$A2416)","v":"PIONEER PRODUCTS INC"}]
[{"$f":"\"\"","v":""},null,{"$f":"IF('Vendor List'!$A2417=\"\",\"\",'Vendor List'!$A2417)","v":"PITNEY BOWES"}]
[{"$f":"\"\"","v":""},null,{"$f":"IF('Vendor List'!$A2418=\"\",\"\",'Vendor List'!$A2418)","v":"PITNEY BOWES INC"}]
[{"$f":"\"\"","v":""},null,{"$f":"IF('Vendor List'!$A2419=\"\",\"\",'Vendor List'!$A2419)","v":"PITNEY BOWES SUPPLIES"}]
[{"$f":"\"\"","v":""},null,{"$f":"IF('Vendor List'!$A2420=\"\",\"\",'Vendor List'!$A2420)","v":"PITTMAN CORPORATION"}]
[{"$f":"\"\"","v":""},null,{"$f":"IF('Vendor List'!$A2421=\"\",\"\",'Vendor List'!$A2421)","v":"PIZZA HUT"}]
[{"$f":"\"\"","v":""},null,{"$f":"IF('Vendor List'!$A2422=\"\",\"\",'Vendor List'!$A2422)","v":"PIZZA HUT"}]
[{"$f":"\"\"","v":""},null,{"$f":"IF('Vendor List'!$A2423=\"\",\"\",'Vendor List'!$A2423)","v":"PIZZA PIT"}]
[{"$f":"\"\"","v":""},null,{"$f":"IF('Vendor List'!$A2424=\"\",\"\",'Vendor List'!$A2424)","v":"PIZZA PIT"}]
[{"$f":"\"\"","v":""},null,{"$f":"IF('Vendor List'!$A2425=\"\",\"\",'Vendor List'!$A2425)","v":"PIZZA PIT (SWADFOUR LLC)"}]
[{"$f":"\"\"","v":""},null,{"$f":"IF('Vendor List'!$A2426=\"\",\"\",'Vendor List'!$A2426)","v":"PLANET BATTERY"}]
[{"$f":"\"\"","v":""},null,{"$f":"IF('Vendor List'!$A2427=\"\",\"\",'Vendor List'!$A2427)","v":"PLAS-TECH COATING, INC"}]
[{"$f":"\"\"","v":""},null,{"$f":"IF('Vendor List'!$A2428=\"\",\"\",'Vendor List'!$A2428)","v":"PLASCORE"}]
[{"$f":"\"\"","v":""},null,{"$f":"IF('Vendor List'!$A2429=\"\",\"\",'Vendor List'!$A2429)","v":"PLASMA THERM"}]
[{"$f":"\"\"","v":""},null,{"$f":"IF('Vendor List'!$A2430=\"\",\"\",'Vendor List'!$A2430)","v":"PLASTIC CAPACITORS INC"}]
[{"$f":"\"\"","v":""},null,{"$f":"IF('Vendor List'!$A2431=\"\",\"\",'Vendor List'!$A2431)","v":"PLASTINETICS"}]
[{"$f":"\"\"","v":""},null,{"$f":"IF('Vendor List'!$A2432=\"\",\"\",'Vendor List'!$A2432)","v":"PLUMBING SUPPLY.COM"}]
[{"$f":"\"\"","v":""},null,{"$f":"IF('Vendor List'!$A2433=\"\",\"\",'Vendor List'!$A2433)","v":"PLYMOUTH FOAM PRODUCTS"}]
[{"$f":"\"\"","v":""},null,{"$f":"IF('Vendor List'!$A2434=\"\",\"\",'Vendor List'!$A2434)","v":"POLAR WIRE PRODUCTS INC"}]
[{"$f":"\"\"","v":""},null,{"$f":"IF('Vendor List'!$A2435=\"\",\"\",'Vendor List'!$A2435)","v":"POLAR WIRE PRODUCTS, INC"}]
[{"$f":"\"\"","v":""},null,{"$f":"IF('Vendor List'!$A2436=\"\",\"\",'Vendor List'!$A2436)","v":"POLISHING CORPORATION OF AMERI"}]
[{"$f":"\"\"","v":""},null,{"$f":"IF('Vendor List'!$A2437=\"\",\"\",'Vendor List'!$A2437)","v":"POLOLU CORPORATION"}]
[{"$f":"\"\"","v":""},null,{"$f":"IF('Vendor List'!$A2438=\"\",\"\",'Vendor List'!$A2438)","v":"POLY SOFTWARE INTERNATIONAL"}]
[{"$f":"\"\"","v":""},null,{"$f":"IF('Vendor List'!$A2439=\"\",\"\",'Vendor List'!$A2439)","v":"POLYCOM"}]
[{"$f":"\"\"","v":""},null,{"$f":"IF('Vendor List'!$A2440=\"\",\"\",'Vendor List'!$A2440)","v":"POLYFET RF DEVICES"}]
[{"$f":"\"\"","v":""},null,{"$f":"IF('Vendor List'!$A2441=\"\",\"\",'Vendor List'!$A2441)","v":"POLYPHASER CORPORATION"}]
[{"$f":"\"\"","v":""},null,{"$f":"IF('Vendor List'!$A2442=\"\",\"\",'Vendor List'!$A2442)","v":"POLYSCIENCE CORP"}]
[{"$f":"\"\"","v":""},null,{"$f":"IF('Vendor List'!$A2443=\"\",\"\",'Vendor List'!$A2443)","v":"POLYSCIENCES, INC"}]
[{"$f":"\"\"","v":""},null,{"$f":"IF('Vendor List'!$A2444=\"\",\"\",'Vendor List'!$A2444)","v":"POLYSI TECHNOLOGIES,  INC"}]
[{"$f":"\"\"","v":""},null,{"$f":"IF('Vendor List'!$A2445=\"\",\"\",'Vendor List'!$A2445)","v":"POLYTEC OPTRONICS INC"}]
[{"$f":"\"\"","v":""},null,{"$f":"IF('Vendor List'!$A2446=\"\",\"\",'Vendor List'!$A2446)","v":"POLYTRON DEVICES INC"}]
[{"$f":"\"\"","v":""},null,{"$f":"IF('Vendor List'!$A2447=\"\",\"\",'Vendor List'!$A2447)","v":"POMPS TIRE"}]
[{"$f":"\"\"","v":""},null,{"$f":"IF('Vendor List'!$A2448=\"\",\"\",'Vendor List'!$A2448)","v":"POPE SCIENTIFIC INC"}]
[{"$f":"\"\"","v":""},null,{"$f":"IF('Vendor List'!$A2449=\"\",\"\",'Vendor List'!$A2449)","v":"POSITRONIC INDUSTRIES"}]
[{"$f":"\"\"","v":""},null,{"$f":"IF('Vendor List'!$A2450=\"\",\"\",'Vendor List'!$A2450)","v":"POSTAGE BY PHONE SYSTEMS"}]
[{"$f":"\"\"","v":""},null,{"$f":"IF('Vendor List'!$A2451=\"\",\"\",'Vendor List'!$A2451)","v":"POSTMASTER"}]
[{"$f":"\"\"","v":""},null,{"$f":"IF('Vendor List'!$A2452=\"\",\"\",'Vendor List'!$A2452)","v":"POTTER FORM & TIE"}]
[{"$f":"\"\"","v":""},null,{"$f":"IF('Vendor List'!$A2453=\"\",\"\",'Vendor List'!$A2453)","v":"POWELL ELECTRONICS"}]
[{"$f":"\"\"","v":""},null,{"$f":"IF('Vendor List'!$A2454=\"\",\"\",'Vendor List'!$A2454)","v":"POWELL'S SURPLUS"}]
[{"$f":"\"\"","v":""},null,{"$f":"IF('Vendor List'!$A2455=\"\",\"\",'Vendor List'!$A2455)","v":"POWER ELECTRONICS INT'L"}]
[{"$f":"\"\"","v":""},null,{"$f":"IF('Vendor List'!$A2456=\"\",\"\",'Vendor List'!$A2456)","v":"POWER MANAGEMENT SOLUTIONS"}]
[{"$f":"\"\"","v":""},null,{"$f":"IF('Vendor List'!$A2457=\"\",\"\",'Vendor List'!$A2457)","v":"POWER MATION DIV"}]
[{"$f":"\"\"","v":""},null,{"$f":"IF('Vendor List'!$A2458=\"\",\"\",'Vendor List'!$A2458)","v":"POWER ON SOFTWARE"}]
[{"$f":"\"\"","v":""},null,{"$f":"IF('Vendor List'!$A2459=\"\",\"\",'Vendor List'!$A2459)","v":"POWER PROS"}]
[{"$f":"\"\"","v":""},null,{"$f":"IF('Vendor List'!$A2460=\"\",\"\",'Vendor List'!$A2460)","v":"POWER QUALITY INC"}]
[{"$f":"\"\"","v":""},null,{"$f":"IF('Vendor List'!$A2461=\"\",\"\",'Vendor List'!$A2461)","v":"POWER QUALITY INC"}]
[{"$f":"\"\"","v":""},null,{"$f":"IF('Vendor List'!$A2462=\"\",\"\",'Vendor List'!$A2462)","v":"POWER TEN INC"}]
[{"$f":"\"\"","v":""},null,{"$f":"IF('Vendor List'!$A2463=\"\",\"\",'Vendor List'!$A2463)","v":"POWERFUL SIGNAL"}]
[{"$f":"\"\"","v":""},null,{"$f":"IF('Vendor List'!$A2464=\"\",\"\",'Vendor List'!$A2464)","v":"POWERSCAN"}]
[{"$f":"\"\"","v":""},null,{"$f":"IF('Vendor List'!$A2465=\"\",\"\",'Vendor List'!$A2465)","v":"POWERTEC INDUSTRIAL CORP"}]
[{"$f":"\"\"","v":""},null,{"$f":"IF('Vendor List'!$A2466=\"\",\"\",'Vendor List'!$A2466)","v":"POWERWERX INC"}]
[{"$f":"\"\"","v":""},null,{"$f":"IF('Vendor List'!$A2467=\"\",\"\",'Vendor List'!$A2467)","v":"PRAXAIR"}]
[{"$f":"\"\"","v":""},null,{"$f":"IF('Vendor List'!$A2468=\"\",\"\",'Vendor List'!$A2468)","v":"PRAXAIR"}]
[{"$f":"\"\"","v":""},null,{"$f":"IF('Vendor List'!$A2469=\"\",\"\",'Vendor List'!$A2469)","v":"PRAXAIR DISTRIBUTION INC"}]
[{"$f":"\"\"","v":""},null,{"$f":"IF('Vendor List'!$A2470=\"\",\"\",'Vendor List'!$A2470)","v":"PREAMBLE INSTRUMENTS"}]
[{"$f":"\"\"","v":""},null,{"$f":"IF('Vendor List'!$A2471=\"\",\"\",'Vendor List'!$A2471)","v":"PRECISION CONTROL PRODUCTS"}]
[{"$f":"\"\"","v":""},null,{"$f":"IF('Vendor List'!$A2472=\"\",\"\",'Vendor List'!$A2472)","v":"PRECISION DRIVE & CONTROL"}]
[{"$f":"\"\"","v":""},null,{"$f":"IF('Vendor List'!$A2473=\"\",\"\",'Vendor List'!$A2473)","v":"PRECISION EXTRUSIONS"}]
[{"$f":"\"\"","v":""},null,{"$f":"IF('Vendor List'!$A2474=\"\",\"\",'Vendor List'!$A2474)","v":"PRECISION LASER SERVICES INC"}]
[{"$f":"\"\"","v":""},null,{"$f":"IF('Vendor List'!$A2475=\"\",\"\",'Vendor List'!$A2475)","v":"PRECISION MEASUREMENT PRODUCTS"}]
[{"$f":"\"\"","v":""},null,{"$f":"IF('Vendor List'!$A2476=\"\",\"\",'Vendor List'!$A2476)","v":"PRECISION OPTICAL"}]
[{"$f":"\"\"","v":""},null,{"$f":"IF('Vendor List'!$A2477=\"\",\"\",'Vendor List'!$A2477)","v":"PRECISION PLUS VACUUM PARTS IN"}]
[{"$f":"\"\"","v":""},null,{"$f":"IF('Vendor List'!$A2478=\"\",\"\",'Vendor List'!$A2478)","v":"PRECISION STEEL"}]
[{"$f":"\"\"","v":""},null,{"$f":"IF('Vendor List'!$A2479=\"\",\"\",'Vendor List'!$A2479)","v":"PRECISION TECHNOLOGIES INC"}]
[{"$f":"\"\"","v":""},null,{"$f":"IF('Vendor List'!$A2480=\"\",\"\",'Vendor List'!$A2480)","v":"PREFERRED PUMP"}]
[{"$f":"\"\"","v":""},null,{"$f":"IF('Vendor List'!$A2481=\"\",\"\",'Vendor List'!$A2481)","v":"PREMIA CORPORATION"}]
[{"$f":"\"\"","v":""},null,{"$f":"IF('Vendor List'!$A2482=\"\",\"\",'Vendor List'!$A2482)","v":"PREMIER METAL PRODUCTS"}]
[{"$f":"\"\"","v":""},null,{"$f":"IF('Vendor List'!$A2483=\"\",\"\",'Vendor List'!$A2483)","v":"PREMIUM WATERS"}]
[{"$f":"\"\"","v":""},null,{"$f":"IF('Vendor List'!$A2484=\"\",\"\",'Vendor List'!$A2484)","v":"PRESSURE SYSTEMS"}]
[{"$f":"\"\"","v":""},null,{"$f":"IF('Vendor List'!$A2485=\"\",\"\",'Vendor List'!$A2485)","v":"PRICE ENGINEERING CO INC"}]
[{"$f":"\"\"","v":""},null,{"$f":"IF('Vendor List'!$A2486=\"\",\"\",'Vendor List'!$A2486)","v":"PRICE WHEELER CORP"}]
[{"$f":"\"\"","v":""},null,{"$f":"IF('Vendor List'!$A2487=\"\",\"\",'Vendor List'!$A2487)","v":"PRIME QUARTER STEAK HOUSE"}]
[{"$f":"\"\"","v":""},null,{"$f":"IF('Vendor List'!$A2488=\"\",\"\",'Vendor List'!$A2488)","v":"PRIMETOOLS LLC"}]
[{"$f":"\"\"","v":""},null,{"$f":"IF('Vendor List'!$A2489=\"\",\"\",'Vendor List'!$A2489)","v":"PRINCETON DIRECT"}]
[{"$f":"\"\"","v":""},null,{"$f":"IF('Vendor List'!$A2490=\"\",\"\",'Vendor List'!$A2490)","v":"PRINCETON INSTRUMENTS"}]
[{"$f":"\"\"","v":""},null,{"$f":"IF('Vendor List'!$A2491=\"\",\"\",'Vendor List'!$A2491)","v":"PRINTREX"}]
[{"$f":"\"\"","v":""},null,{"$f":"IF('Vendor List'!$A2492=\"\",\"\",'Vendor List'!$A2492)","v":"PRIZE IMPRESSIONS"}]
[{"$f":"\"\"","v":""},null,{"$f":"IF('Vendor List'!$A2493=\"\",\"\",'Vendor List'!$A2493)","v":"PRO CARD OPEN VENDOR"}]
[{"$f":"\"\"","v":""},null,{"$f":"IF('Vendor List'!$A2494=\"\",\"\",'Vendor List'!$A2494)","v":"PROBE TECHNOLOGY"}]
[{"$f":"\"\"","v":""},null,{"$f":"IF('Vendor List'!$A2495=\"\",\"\",'Vendor List'!$A2495)","v":"PROBLEM SOLVING PRODUCTS, INC"}]
[{"$f":"\"\"","v":""},null,{"$f":"IF('Vendor List'!$A2496=\"\",\"\",'Vendor List'!$A2496)","v":"PROCD"}]
[{"$f":"\"\"","v":""},null,{"$f":"IF('Vendor List'!$A2497=\"\",\"\",'Vendor List'!$A2497)","v":"PROCESS & MECHANICAL SYSTEMS"}]
[{"$f":"\"\"","v":""},null,{"$f":"IF('Vendor List'!$A2498=\"\",\"\",'Vendor List'!$A2498)","v":"PROCON PRODUCTS"}]
[{"$f":"\"\"","v":""},null,{"$f":"IF('Vendor List'!$A2499=\"\",\"\",'Vendor List'!$A2499)","v":"PRODUCTION SERVICES INC"}]
[{"$f":"\"\"","v":""},null,{"$f":"IF('Vendor List'!$A2500=\"\",\"\",'Vendor List'!$A2500)","v":"PRODUCTIVITY INC"}]
[{"$f":"\"\"","v":""},null,{"$f":"IF('Vendor List'!$A2501=\"\",\"\",'Vendor List'!$A2501)","v":"PRODUCTIVITY QUALITY"}]
[{"$f":"\"\"","v":""},null,{"$f":"IF('Vendor List'!$A2502=\"\",\"\",'Vendor List'!$A2502)","v":"PROFESSIONAL BINDING PRODUCTS"}]
[{"$f":"\"\"","v":""},null,{"$f":"IF('Vendor List'!$A2503=\"\",\"\",'Vendor List'!$A2503)","v":"PROFESSIONAL EQUIPMENT"}]
[{"$f":"\"\"","v":""},null,{"$f":"IF('Vendor List'!$A2504=\"\",\"\",'Vendor List'!$A2504)","v":"PROFESSIONAL PLASTICS"}]
[{"$f":"\"\"","v":""},null,{"$f":"IF('Vendor List'!$A2505=\"\",\"\",'Vendor List'!$A2505)","v":"PROFESSIONAL PLASTICS,  INC"}]
[{"$f":"\"\"","v":""},null,{"$f":"IF('Vendor List'!$A2506=\"\",\"\",'Vendor List'!$A2506)","v":"PROFESSIONAL SYSTEMS GROUP"}]
[{"$f":"\"\"","v":""},null,{"$f":"IF('Vendor List'!$A2507=\"\",\"\",'Vendor List'!$A2507)","v":"PROFESSIONAL TOOL MFG"}]
[{"$f":"\"\"","v":""},null,{"$f":"IF('Vendor List'!$A2508=\"\",\"\",'Vendor List'!$A2508)","v":"PROGRAMMER'S PARADISE"}]
[{"$f":"\"\"","v":""},null,{"$f":"IF('Vendor List'!$A2509=\"\",\"\",'Vendor List'!$A2509)","v":"PROGRESSIVE IMAGE"}]
[{"$f":"\"\"","v":""},null,{"$f":"IF('Vendor List'!$A2510=\"\",\"\",'Vendor List'!$A2510)","v":"PROGRESSIVE STEEL TREATING INC"}]
[{"$f":"\"\"","v":""},null,{"$f":"IF('Vendor List'!$A2511=\"\",\"\",'Vendor List'!$A2511)","v":"PROHANCE TECHNOLOGIES, INC."}]
[{"$f":"\"\"","v":""},null,{"$f":"IF('Vendor List'!$A2512=\"\",\"\",'Vendor List'!$A2512)","v":"PROSPECT FASTENER CORP"}]
[{"$f":"\"\"","v":""},null,{"$f":"IF('Vendor List'!$A2513=\"\",\"\",'Vendor List'!$A2513)","v":"PROTECTION TECHNOLOGY GROUP"}]
[{"$f":"\"\"","v":""},null,{"$f":"IF('Vendor List'!$A2514=\"\",\"\",'Vendor List'!$A2514)","v":"PROTEL TECHNOLOGY INC"}]
[{"$f":"\"\"","v":""},null,{"$f":"IF('Vendor List'!$A2515=\"\",\"\",'Vendor List'!$A2515)","v":"PROTEUS INDUSTRIES  INC"}]
[{"$f":"\"\"","v":""},null,{"$f":"IF('Vendor List'!$A2516=\"\",\"\",'Vendor List'!$A2516)","v":"PROVANTAGE CORPORATION"}]
[{"$f":"\"\"","v":""},null,{"$f":"IF('Vendor List'!$A2517=\"\",\"\",'Vendor List'!$A2517)","v":"PTB SALES"}]
[{"$f":"\"\"","v":""},null,{"$f":"IF('Vendor List'!$A2518=\"\",\"\",'Vendor List'!$A2518)","v":"PUBLISHERS TOOLBOX"}]
[{"$f":"\"\"","v":""},null,{"$f":"IF('Vendor List'!$A2519=\"\",\"\",'Vendor List'!$A2519)","v":"PUBLISHING PERFECTION"}]
[{"$f":"\"\"","v":""},null,{"$f":"IF('Vendor List'!$A2520=\"\",\"\",'Vendor List'!$A2520)","v":"PULSAR PHYSICS"}]
[{"$f":"\"\"","v":""},null,{"$f":"IF('Vendor List'!$A2521=\"\",\"\",'Vendor List'!$A2521)","v":"PUMP SPECIALTIES INC"}]
[{"$f":"\"\"","v":""},null,{"$f":"IF('Vendor List'!$A2522=\"\",\"\",'Vendor List'!$A2522)","v":"PUMPBIZ INC"}]
[{"$f":"\"\"","v":""},null,{"$f":"IF('Vendor List'!$A2523=\"\",\"\",'Vendor List'!$A2523)","v":"PUMPS & EQUIPMENT"}]
[{"$f":"\"\"","v":""},null,{"$f":"IF('Vendor List'!$A2524=\"\",\"\",'Vendor List'!$A2524)","v":"PURCHASE POWER (PITNEY BOWES)"}]
[{"$f":"\"\"","v":""},null,{"$f":"IF('Vendor List'!$A2525=\"\",\"\",'Vendor List'!$A2525)","v":"PURE TECH INC"}]
[{"$f":"\"\"","v":""},null,{"$f":"IF('Vendor List'!$A2526=\"\",\"\",'Vendor List'!$A2526)","v":"PUREAIRE MONITORING SYSTEMS, I"}]
[{"$f":"\"\"","v":""},null,{"$f":"IF('Vendor List'!$A2527=\"\",\"\",'Vendor List'!$A2527)","v":"QC SUPPLY"}]
[{"$f":"\"\"","v":""},null,{"$f":"IF('Vendor List'!$A2528=\"\",\"\",'Vendor List'!$A2528)","v":"QUADTECH"}]
[{"$f":"\"\"","v":""},null,{"$f":"IF('Vendor List'!$A2529=\"\",\"\",'Vendor List'!$A2529)","v":"QUAL LINE FENCE CORP"}]
[{"$f":"\"\"","v":""},null,{"$f":"IF('Vendor List'!$A2530=\"\",\"\",'Vendor List'!$A2530)","v":"QUALCOMM INC"}]
[{"$f":"\"\"","v":""},null,{"$f":"IF('Vendor List'!$A2531=\"\",\"\",'Vendor List'!$A2531)","v":"QUALITY ACE HARDWARE"}]
[{"$f":"\"\"","v":""},null,{"$f":"IF('Vendor List'!$A2532=\"\",\"\",'Vendor List'!$A2532)","v":"QUALITY BEARINGS"}]
[{"$f":"\"\"","v":""},null,{"$f":"IF('Vendor List'!$A2533=\"\",\"\",'Vendor List'!$A2533)","v":"QUALITY CALIBRATION SERVICE"}]
[{"$f":"\"\"","v":""},null,{"$f":"IF('Vendor List'!$A2534=\"\",\"\",'Vendor List'!$A2534)","v":"QUALITY INN & SUITES"}]
[{"$f":"\"\"","v":""},null,{"$f":"IF('Vendor List'!$A2535=\"\",\"\",'Vendor List'!$A2535)","v":"QUALITY MACHINING"}]
[{"$f":"\"\"","v":""},null,{"$f":"IF('Vendor List'!$A2536=\"\",\"\",'Vendor List'!$A2536)","v":"QUANTAR TECHNOLOGY"}]
[{"$f":"\"\"","v":""},null,{"$f":"IF('Vendor List'!$A2537=\"\",\"\",'Vendor List'!$A2537)","v":"QUANTRAD SENSOR"}]
[{"$f":"\"\"","v":""},null,{"$f":"IF('Vendor List'!$A2538=\"\",\"\",'Vendor List'!$A2538)","v":"QUANTUM MECHANIX INC"}]
[{"$f":"\"\"","v":""},null,{"$f":"IF('Vendor List'!$A2539=\"\",\"\",'Vendor List'!$A2539)","v":"QUANTUM SILICONES, INC"}]
[{"$f":"\"\"","v":""},null,{"$f":"IF('Vendor List'!$A2540=\"\",\"\",'Vendor List'!$A2540)","v":"QUARTERDECK OFFICE SYSTEMS"}]
[{"$f":"\"\"","v":""},null,{"$f":"IF('Vendor List'!$A2541=\"\",\"\",'Vendor List'!$A2541)","v":"QUARTZ SCIENTIFIC INC"}]
[{"$f":"\"\"","v":""},null,{"$f":"IF('Vendor List'!$A2542=\"\",\"\",'Vendor List'!$A2542)","v":"QUEST SOFTWARE"}]
[{"$f":"\"\"","v":""},null,{"$f":"IF('Vendor List'!$A2543=\"\",\"\",'Vendor List'!$A2543)","v":"QUICKPARTS"}]
[{"$f":"\"\"","v":""},null,{"$f":"IF('Vendor List'!$A2544=\"\",\"\",'Vendor List'!$A2544)","v":"QUINTRONIX"}]
[{"$f":"\"\"","v":""},null,{"$f":"IF('Vendor List'!$A2545=\"\",\"\",'Vendor List'!$A2545)","v":"R & B WAGNER"}]
[{"$f":"\"\"","v":""},null,{"$f":"IF('Vendor List'!$A2546=\"\",\"\",'Vendor List'!$A2546)","v":"R E SMITH"}]
[{"$f":"\"\"","v":""},null,{"$f":"IF('Vendor List'!$A2547=\"\",\"\",'Vendor List'!$A2547)","v":"R J HILL LABORATORIES LIMITED"}]
[{"$f":"\"\"","v":""},null,{"$f":"IF('Vendor List'!$A2548=\"\",\"\",'Vendor List'!$A2548)","v":"R W BECKETT CORP"}]
[{"$f":"\"\"","v":""},null,{"$f":"IF('Vendor List'!$A2549=\"\",\"\",'Vendor List'!$A2549)","v":"R.E. MICHEL COMPANY"}]
[{"$f":"\"\"","v":""},null,{"$f":"IF('Vendor List'!$A2550=\"\",\"\",'Vendor List'!$A2550)","v":"RABBIT SEMICONDUCTOR"}]
[{"$f":"\"\"","v":""},null,{"$f":"IF('Vendor List'!$A2551=\"\",\"\",'Vendor List'!$A2551)","v":"RADIABEAM TECHNOLOGIES LLC"}]
[{"$f":"\"\"","v":""},null,{"$f":"IF('Vendor List'!$A2552=\"\",\"\",'Vendor List'!$A2552)","v":"RADIATION SAFETY INFORMATION"}]
[{"$f":"\"\"","v":""},null,{"$f":"IF('Vendor List'!$A2553=\"\",\"\",'Vendor List'!$A2553)","v":"RADIO RESEARCH INSTRUMENT CO I"}]
[{"$f":"\"\"","v":""},null,{"$f":"IF('Vendor List'!$A2554=\"\",\"\",'Vendor List'!$A2554)","v":"RADIO SHACK"}]
[{"$f":"\"\"","v":""},null,{"$f":"IF('Vendor List'!$A2555=\"\",\"\",'Vendor List'!$A2555)","v":"RADIO SHACK-COMMERCIAL"}]
[{"$f":"\"\"","v":""},null,{"$f":"IF('Vendor List'!$A2556=\"\",\"\",'Vendor List'!$A2556)","v":"RAHN GRANITE SURFACE PLATE CO."}]
[{"$f":"\"\"","v":""},null,{"$f":"IF('Vendor List'!$A2557=\"\",\"\",'Vendor List'!$A2557)","v":"RAINBOW SYMPHONY INC"}]
[{"$f":"\"\"","v":""},null,{"$f":"IF('Vendor List'!$A2558=\"\",\"\",'Vendor List'!$A2558)","v":"RAMARKABLE PRODUCTS"}]
[{"$f":"\"\"","v":""},null,{"$f":"IF('Vendor List'!$A2559=\"\",\"\",'Vendor List'!$A2559)","v":"RAMESH MOTORSPORTS"}]
[{"$f":"\"\"","v":""},null,{"$f":"IF('Vendor List'!$A2560=\"\",\"\",'Vendor List'!$A2560)","v":"RAMSEY ELECTRONICS"}]
[{"$f":"\"\"","v":""},null,{"$f":"IF('Vendor List'!$A2561=\"\",\"\",'Vendor List'!$A2561)","v":"RAMTRONICS"}]
[{"$f":"\"\"","v":""},null,{"$f":"IF('Vendor List'!$A2562=\"\",\"\",'Vendor List'!$A2562)","v":"RAND MCNALLY & COMPANY"}]
[{"$f":"\"\"","v":""},null,{"$f":"IF('Vendor List'!$A2563=\"\",\"\",'Vendor List'!$A2563)","v":"RANDALL PRESS INC"}]
[{"$f":"\"\"","v":""},null,{"$f":"IF('Vendor List'!$A2564=\"\",\"\",'Vendor List'!$A2564)","v":"RANDALL SUPPLY"}]
[{"$f":"\"\"","v":""},null,{"$f":"IF('Vendor List'!$A2565=\"\",\"\",'Vendor List'!$A2565)","v":"RANOR INC"}]
[{"$f":"\"\"","v":""},null,{"$f":"IF('Vendor List'!$A2566=\"\",\"\",'Vendor List'!$A2566)","v":"RAY DREAM, INC"}]
[{"$f":"\"\"","v":""},null,{"$f":"IF('Vendor List'!$A2567=\"\",\"\",'Vendor List'!$A2567)","v":"RBD ENTERPRISES"}]
[{"$f":"\"\"","v":""},null,{"$f":"IF('Vendor List'!$A2568=\"\",\"\",'Vendor List'!$A2568)","v":"RBD INSTRUMENTS"}]
[{"$f":"\"\"","v":""},null,{"$f":"IF('Vendor List'!$A2569=\"\",\"\",'Vendor List'!$A2569)","v":"RD MATHIS CO"}]
[{"$f":"\"\"","v":""},null,{"$f":"IF('Vendor List'!$A2570=\"\",\"\",'Vendor List'!$A2570)","v":"RDR ELECTRONICS"}]
[{"$f":"\"\"","v":""},null,{"$f":"IF('Vendor List'!$A2571=\"\",\"\",'Vendor List'!$A2571)","v":"REASON"}]
[{"$f":"\"\"","v":""},null,{"$f":"IF('Vendor List'!$A2572=\"\",\"\",'Vendor List'!$A2572)","v":"REBSTOCK MACHINE TOOL"}]
[{"$f":"\"\"","v":""},null,{"$f":"IF('Vendor List'!$A2573=\"\",\"\",'Vendor List'!$A2573)","v":"RECREATIONAL EQUIPMENT INC"}]
[{"$f":"\"\"","v":""},null,{"$f":"IF('Vendor List'!$A2574=\"\",\"\",'Vendor List'!$A2574)","v":"RED HAT SOFTWARE"}]
[{"$f":"\"\"","v":""},null,{"$f":"IF('Vendor List'!$A2575=\"\",\"\",'Vendor List'!$A2575)","v":"RED HAT SOFTWARE INC"}]
[{"$f":"\"\"","v":""},null,{"$f":"IF('Vendor List'!$A2576=\"\",\"\",'Vendor List'!$A2576)","v":"REDUCT SYSTEMS INC"}]
[{"$f":"\"\"","v":""},null,{"$f":"IF('Vendor List'!$A2577=\"\",\"\",'Vendor List'!$A2577)","v":"REEL-O-MATIC"}]
[{"$f":"\"\"","v":""},null,{"$f":"IF('Vendor List'!$A2578=\"\",\"\",'Vendor List'!$A2578)","v":"REFLEX ANALYTICAL CORP"}]
[{"$f":"\"\"","v":""},null,{"$f":"IF('Vendor List'!$A2579=\"\",\"\",'Vendor List'!$A2579)","v":"REFRIGERATION HARDWARE SUPPLY"}]
[{"$f":"\"\"","v":""},null,{"$f":"IF('Vendor List'!$A2580=\"\",\"\",'Vendor List'!$A2580)","v":"REGAL TECHNOLOGY"}]
[{"$f":"\"\"","v":""},null,{"$f":"IF('Vendor List'!$A2581=\"\",\"\",'Vendor List'!$A2581)","v":"REID TOOL SUPPLY CO"}]
[{"$f":"\"\"","v":""},null,{"$f":"IF('Vendor List'!$A2582=\"\",\"\",'Vendor List'!$A2582)","v":"REINDERS TURF & IRRIGATION"}]
[{"$f":"\"\"","v":""},null,{"$f":"IF('Vendor List'!$A2583=\"\",\"\",'Vendor List'!$A2583)","v":"RELAY SPECIALTIES INC"}]
[{"$f":"\"\"","v":""},null,{"$f":"IF('Vendor List'!$A2584=\"\",\"\",'Vendor List'!$A2584)","v":"RELEX SOFTWARE CORP"}]
[{"$f":"\"\"","v":""},null,{"$f":"IF('Vendor List'!$A2585=\"\",\"\",'Vendor List'!$A2585)","v":"RELIABLE"}]
[{"$f":"\"\"","v":""},null,{"$f":"IF('Vendor List'!$A2586=\"\",\"\",'Vendor List'!$A2586)","v":"REM ELECTRONICS SUPPLY CO"}]
[{"$f":"\"\"","v":""},null,{"$f":"IF('Vendor List'!$A2587=\"\",\"\",'Vendor List'!$A2587)","v":"REMARKABLE PRODUCTS INC"}]
[{"$f":"\"\"","v":""},null,{"$f":"IF('Vendor List'!$A2588=\"\",\"\",'Vendor List'!$A2588)","v":"REMCOM INC"}]
[{"$f":"\"\"","v":""},null,{"$f":"IF('Vendor List'!$A2589=\"\",\"\",'Vendor List'!$A2589)","v":"RENISHAW, INC"}]
[{"$f":"\"\"","v":""},null,{"$f":"IF('Vendor List'!$A2590=\"\",\"\",'Vendor List'!$A2590)","v":"REPLEX PLASTICS"}]
[{"$f":"\"\"","v":""},null,{"$f":"IF('Vendor List'!$A2591=\"\",\"\",'Vendor List'!$A2591)","v":"REPUBLIC LAGUN MACHINE TOOL CO"}]
[{"$f":"\"\"","v":""},null,{"$f":"IF('Vendor List'!$A2592=\"\",\"\",'Vendor List'!$A2592)","v":"RESEARCH METAL FOILS"}]
[{"$f":"\"\"","v":""},null,{"$f":"IF('Vendor List'!$A2593=\"\",\"\",'Vendor List'!$A2593)","v":"RESEARCH SYSTEMS INC"}]
[{"$f":"\"\"","v":""},null,{"$f":"IF('Vendor List'!$A2594=\"\",\"\",'Vendor List'!$A2594)","v":"RESONETICS MICROMACHING TECH"}]
[{"$f":"\"\"","v":""},null,{"$f":"IF('Vendor List'!$A2595=\"\",\"\",'Vendor List'!$A2595)","v":"RESOURCE DATA SYSTEMS"}]
[{"$f":"\"\"","v":""},null,{"$f":"IF('Vendor List'!$A2596=\"\",\"\",'Vendor List'!$A2596)","v":"REYNOLDS ADVANCED MATERIALS"}]
[{"$f":"\"\"","v":""},null,{"$f":"IF('Vendor List'!$A2597=\"\",\"\",'Vendor List'!$A2597)","v":"REYNOLDS TRANSFER & STORAGE"}]
[{"$f":"\"\"","v":""},null,{"$f":"IF('Vendor List'!$A2598=\"\",\"\",'Vendor List'!$A2598)","v":"RF PARTS INC"}]
[{"$f":"\"\"","v":""},null,{"$f":"IF('Vendor List'!$A2599=\"\",\"\",'Vendor List'!$A2599)","v":"RFS ELECTRONICS"}]
[{"$f":"\"\"","v":""},null,{"$f":"IF('Vendor List'!$A2600=\"\",\"\",'Vendor List'!$A2600)","v":"RICHARD E ELA COMPANY"}]
[{"$f":"\"\"","v":""},null,{"$f":"IF('Vendor List'!$A2601=\"\",\"\",'Vendor List'!$A2601)","v":"RICHARDSON ELECTRONICS"}]
[{"$f":"\"\"","v":""},null,{"$f":"IF('Vendor List'!$A2602=\"\",\"\",'Vendor List'!$A2602)","v":"RICKS LAWN & GARDEN SERVICE"}]
[{"$f":"\"\"","v":""},null,{"$f":"IF('Vendor List'!$A2603=\"\",\"\",'Vendor List'!$A2603)","v":"RICOH BUSINESS SOLUTIONS"}]
[{"$f":"\"\"","v":""},null,{"$f":"IF('Vendor List'!$A2604=\"\",\"\",'Vendor List'!$A2604)","v":"RICOH BUSINESS SOLUTIONS"}]
[{"$f":"\"\"","v":""},null,{"$f":"IF('Vendor List'!$A2605=\"\",\"\",'Vendor List'!$A2605)","v":"RIDGE EQUIPMENT CO"}]
[{"$f":"\"\"","v":""},null,{"$f":"IF('Vendor List'!$A2606=\"\",\"\",'Vendor List'!$A2606)","v":"RILEY VALVE SERVICES INC"}]
[{"$f":"\"\"","v":""},null,{"$f":"IF('Vendor List'!$A2607=\"\",\"\",'Vendor List'!$A2607)","v":"RITCHIE ENGINEERING CO"}]
[{"$f":"\"\"","v":""},null,{"$f":"IF('Vendor List'!$A2608=\"\",\"\",'Vendor List'!$A2608)","v":"RITE TRACK EQUIPMENT SERVICES,"}]
[{"$f":"\"\"","v":""},null,{"$f":"IF('Vendor List'!$A2609=\"\",\"\",'Vendor List'!$A2609)","v":"RITEWAY LEASING & BUS CO"}]
[{"$f":"\"\"","v":""},null,{"$f":"IF('Vendor List'!$A2610=\"\",\"\",'Vendor List'!$A2610)","v":"RITTER ENGINEERING"}]
[{"$f":"\"\"","v":""},null,{"$f":"IF('Vendor List'!$A2611=\"\",\"\",'Vendor List'!$A2611)","v":"RITTER ENGINEERING"}]
[{"$f":"\"\"","v":""},null,{"$f":"IF('Vendor List'!$A2612=\"\",\"\",'Vendor List'!$A2612)","v":"RITTER TECHNOLOGY"}]
[{"$f":"\"\"","v":""},null,{"$f":"IF('Vendor List'!$A2613=\"\",\"\",'Vendor List'!$A2613)","v":"RITZ CAMERA"}]
[{"$f":"\"\"","v":""},null,{"$f":"IF('Vendor List'!$A2614=\"\",\"\",'Vendor List'!$A2614)","v":"RIVERS METAL PRODUCTS, INC."}]
[{"$f":"\"\"","v":""},null,{"$f":"IF('Vendor List'!$A2615=\"\",\"\",'Vendor List'!$A2615)","v":"RJ LEE GROUP"}]
[{"$f":"\"\"","v":""},null,{"$f":"IF('Vendor List'!$A2616=\"\",\"\",'Vendor List'!$A2616)","v":"ROBERT GREEN FARMS"}]
[{"$f":"\"\"","v":""},null,{"$f":"IF('Vendor List'!$A2617=\"\",\"\",'Vendor List'!$A2617)","v":"ROBERTSON GEOLOGGING (USA) INC"}]
[{"$f":"\"\"","v":""},null,{"$f":"IF('Vendor List'!$A2618=\"\",\"\",'Vendor List'!$A2618)","v":"ROCHESTER CORPORATION"}]
[{"$f":"\"\"","v":""},null,{"$f":"IF('Vendor List'!$A2619=\"\",\"\",'Vendor List'!$A2619)","v":"ROCK OF AGES CORP"}]
[{"$f":"\"\"","v":""},null,{"$f":"IF('Vendor List'!$A2620=\"\",\"\",'Vendor List'!$A2620)","v":"ROCK-N-RESCUE"}]
[{"$f":"\"\"","v":""},null,{"$f":"IF('Vendor List'!$A2621=\"\",\"\",'Vendor List'!$A2621)","v":"ROCK-N-RESCUE"}]
[{"$f":"\"\"","v":""},null,{"$f":"IF('Vendor List'!$A2622=\"\",\"\",'Vendor List'!$A2622)","v":"ROCKFORD CENTRAL PLASTICS"}]
[{"$f":"\"\"","v":""},null,{"$f":"IF('Vendor List'!$A2623=\"\",\"\",'Vendor List'!$A2623)","v":"ROCKFORD RIGGING PRODUCTS"}]
[{"$f":"\"\"","v":""},null,{"$f":"IF('Vendor List'!$A2624=\"\",\"\",'Vendor List'!$A2624)","v":"ROCKMOUNT NASSAU"}]
[{"$f":"\"\"","v":""},null,{"$f":"IF('Vendor List'!$A2625=\"\",\"\",'Vendor List'!$A2625)","v":"ROCKWARE INC"}]
[{"$f":"\"\"","v":""},null,{"$f":"IF('Vendor List'!$A2626=\"\",\"\",'Vendor List'!$A2626)","v":"ROCKWELL AUTOMATION"}]
[{"$f":"\"\"","v":""},null,{"$f":"IF('Vendor List'!$A2627=\"\",\"\",'Vendor List'!$A2627)","v":"ROCKY MOUNTAIN LASERS"}]
[{"$f":"\"\"","v":""},null,{"$f":"IF('Vendor List'!$A2628=\"\",\"\",'Vendor List'!$A2628)","v":"ROCOM CORP"}]
[{"$f":"\"\"","v":""},null,{"$f":"IF('Vendor List'!$A2629=\"\",\"\",'Vendor List'!$A2629)","v":"ROENT DEK HANDELS GMBH"}]
[{"$f":"\"\"","v":""},null,{"$f":"IF('Vendor List'!$A2630=\"\",\"\",'Vendor List'!$A2630)","v":"ROGAN'S SHOES"}]
[{"$f":"\"\"","v":""},null,{"$f":"IF('Vendor List'!$A2631=\"\",\"\",'Vendor List'!$A2631)","v":"ROHDE & SCHWARZ"}]
[{"$f":"\"\"","v":""},null,{"$f":"IF('Vendor List'!$A2632=\"\",\"\",'Vendor List'!$A2632)","v":"ROITHNER LASERTECHNIK"}]
[{"$f":"\"\"","v":""},null,{"$f":"IF('Vendor List'!$A2633=\"\",\"\",'Vendor List'!$A2633)","v":"ROLERTRAC DIVISION"}]
[{"$f":"\"\"","v":""},null,{"$f":"IF('Vendor List'!$A2634=\"\",\"\",'Vendor List'!$A2634)","v":"ROLYN OPTICS COMPANY"}]
[{"$f":"\"\"","v":""},null,{"$f":"IF('Vendor List'!$A2635=\"\",\"\",'Vendor List'!$A2635)","v":"ROMACK, INC"}]
[{"$f":"\"\"","v":""},null,{"$f":"IF('Vendor List'!$A2636=\"\",\"\",'Vendor List'!$A2636)","v":"RON WITHERSPOON"}]
[{"$f":"\"\"","v":""},null,{"$f":"IF('Vendor List'!$A2637=\"\",\"\",'Vendor List'!$A2637)","v":"RONSBERG TECHNOLOGY PARTNERS"}]
[{"$f":"\"\"","v":""},null,{"$f":"IF('Vendor List'!$A2638=\"\",\"\",'Vendor List'!$A2638)","v":"ROPEWORKS"}]
[{"$f":"\"\"","v":""},null,{"$f":"IF('Vendor List'!$A2639=\"\",\"\",'Vendor List'!$A2639)","v":"ROSCOR INC"}]
[{"$f":"\"\"","v":""},null,{"$f":"IF('Vendor List'!$A2640=\"\",\"\",'Vendor List'!$A2640)","v":"ROSE BOPLA ENCLOSURES"}]
[{"$f":"\"\"","v":""},null,{"$f":"IF('Vendor List'!$A2641=\"\",\"\",'Vendor List'!$A2641)","v":"ROSE MILL CO"}]
[{"$f":"\"\"","v":""},null,{"$f":"IF('Vendor List'!$A2642=\"\",\"\",'Vendor List'!$A2642)","v":"ROSEBURG TRACTOR & MACHINERY"}]
[{"$f":"\"\"","v":""},null,{"$f":"IF('Vendor List'!$A2643=\"\",\"\",'Vendor List'!$A2643)","v":"ROSENBAUM CRUSHING & EXCAVATE"}]
[{"$f":"\"\"","v":""},null,{"$f":"IF('Vendor List'!$A2644=\"\",\"\",'Vendor List'!$A2644)","v":"ROTARY SYSTEMS, INC."}]
[{"$f":"\"\"","v":""},null,{"$f":"IF('Vendor List'!$A2645=\"\",\"\",'Vendor List'!$A2645)","v":"ROXTER MANUFACTURING CORP"}]
[{"$f":"\"\"","v":""},null,{"$f":"IF('Vendor List'!$A2646=\"\",\"\",'Vendor List'!$A2646)","v":"ROYALTY AMERICA CORP"}]
[{"$f":"\"\"","v":""},null,{"$f":"IF('Vendor List'!$A2647=\"\",\"\",'Vendor List'!$A2647)","v":"ROYCE AEROSPACE MATERIALS SALE"}]
[{"$f":"\"\"","v":""},null,{"$f":"IF('Vendor List'!$A2648=\"\",\"\",'Vendor List'!$A2648)","v":"RSA INC"}]
[{"$f":"\"\"","v":""},null,{"$f":"IF('Vendor List'!$A2649=\"\",\"\",'Vendor List'!$A2649)","v":"RUNDLE SPENCE"}]
[{"$f":"\"\"","v":""},null,{"$f":"IF('Vendor List'!$A2650=\"\",\"\",'Vendor List'!$A2650)","v":"RUSKA INSTRUMENT CORPORATION"}]
[{"$f":"\"\"","v":""},null,{"$f":"IF('Vendor List'!$A2651=\"\",\"\",'Vendor List'!$A2651)","v":"RUSSELL CONSULTING"}]
[{"$f":"\"\"","v":""},null,{"$f":"IF('Vendor List'!$A2652=\"\",\"\",'Vendor List'!$A2652)","v":"RUTLAND CONCRETE CONSTRUCTION"}]
[{"$f":"\"\"","v":""},null,{"$f":"IF('Vendor List'!$A2653=\"\",\"\",'Vendor List'!$A2653)","v":"RUUD LIGHTING"}]
[{"$f":"\"\"","v":""},null,{"$f":"IF('Vendor List'!$A2654=\"\",\"\",'Vendor List'!$A2654)","v":"RYAN ENTERPRISE"}]
[{"$f":"\"\"","v":""},null,{"$f":"IF('Vendor List'!$A2655=\"\",\"\",'Vendor List'!$A2655)","v":"S O S TECHNOLOGIES"}]
[{"$f":"\"\"","v":""},null,{"$f":"IF('Vendor List'!$A2656=\"\",\"\",'Vendor List'!$A2656)","v":"S.W. ANDERSON CO"}]
[{"$f":"\"\"","v":""},null,{"$f":"IF('Vendor List'!$A2657=\"\",\"\",'Vendor List'!$A2657)","v":"SAE ORDER DEPT"}]
[{"$f":"\"\"","v":""},null,{"$f":"IF('Vendor List'!$A2658=\"\",\"\",'Vendor List'!$A2658)","v":"SAES GETTERS"}]
[{"$f":"\"\"","v":""},null,{"$f":"IF('Vendor List'!$A2659=\"\",\"\",'Vendor List'!$A2659)","v":"SAES PURE GAS"}]
[{"$f":"\"\"","v":""},null,{"$f":"IF('Vendor List'!$A2660=\"\",\"\",'Vendor List'!$A2660)","v":"SAFETY CONNECTION"}]
[{"$f":"\"\"","v":""},null,{"$f":"IF('Vendor List'!$A2661=\"\",\"\",'Vendor List'!$A2661)","v":"SAFETY KLEEN CORP"}]
[{"$f":"\"\"","v":""},null,{"$f":"IF('Vendor List'!$A2662=\"\",\"\",'Vendor List'!$A2662)","v":"SAFETY KLEEN CORP"}]
[{"$f":"\"\"","v":""},null,{"$f":"IF('Vendor List'!$A2663=\"\",\"\",'Vendor List'!$A2663)","v":"SAFETY SHORT PRODUCTION INC"}]
[{"$f":"\"\"","v":""},null,{"$f":"IF('Vendor List'!$A2664=\"\",\"\",'Vendor List'!$A2664)","v":"SAINSBURY POOL & SPA"}]
[{"$f":"\"\"","v":""},null,{"$f":"IF('Vendor List'!$A2665=\"\",\"\",'Vendor List'!$A2665)","v":"SAINT-GOBAIN CERAMICS"}]
[{"$f":"\"\"","v":""},null,{"$f":"IF('Vendor List'!$A2666=\"\",\"\",'Vendor List'!$A2666)","v":"SAINT-GOBAIN CERAMICS"}]
[{"$f":"\"\"","v":""},null,{"$f":"IF('Vendor List'!$A2667=\"\",\"\",'Vendor List'!$A2667)","v":"SAL INC"}]
[{"$f":"\"\"","v":""},null,{"$f":"IF('Vendor List'!$A2668=\"\",\"\",'Vendor List'!$A2668)","v":"SAL, INC."}]
[{"$f":"\"\"","v":""},null,{"$f":"IF('Vendor List'!$A2669=\"\",\"\",'Vendor List'!$A2669)","v":"SAMTEC"}]
[{"$f":"\"\"","v":""},null,{"$f":"IF('Vendor List'!$A2670=\"\",\"\",'Vendor List'!$A2670)","v":"SAMUEL GOLDWASSER"}]
[{"$f":"\"\"","v":""},null,{"$f":"IF('Vendor List'!$A2671=\"\",\"\",'Vendor List'!$A2671)","v":"SANBORN TUBE SALES OF WIS"}]
[{"$f":"\"\"","v":""},null,{"$f":"IF('Vendor List'!$A2672=\"\",\"\",'Vendor List'!$A2672)","v":"SANDMEYER STEEL"}]
[{"$f":"\"\"","v":""},null,{"$f":"IF('Vendor List'!$A2673=\"\",\"\",'Vendor List'!$A2673)","v":"SANDVIK MATERIAL TECH"}]
[{"$f":"\"\"","v":""},null,{"$f":"IF('Vendor List'!$A2674=\"\",\"\",'Vendor List'!$A2674)","v":"SANDVIK MATERIAL TECHNOLOGY"}]
[{"$f":"\"\"","v":""},null,{"$f":"IF('Vendor List'!$A2675=\"\",\"\",'Vendor List'!$A2675)","v":"SANLO MANUFACTURING CO. INC."}]
[{"$f":"\"\"","v":""},null,{"$f":"IF('Vendor List'!$A2676=\"\",\"\",'Vendor List'!$A2676)","v":"SANMINA-SCI CORP"}]
[{"$f":"\"\"","v":""},null,{"$f":"IF('Vendor List'!$A2677=\"\",\"\",'Vendor List'!$A2677)","v":"SAPPHIRE SYSTEMS"}]
[{"$f":"\"\"","v":""},null,{"$f":"IF('Vendor List'!$A2678=\"\",\"\",'Vendor List'!$A2678)","v":"SAS INSTITUTE INC"}]
[{"$f":"\"\"","v":""},null,{"$f":"IF('Vendor List'!$A2679=\"\",\"\",'Vendor List'!$A2679)","v":"SAUNDERS IND. SUPPLY INC."}]
[{"$f":"\"\"","v":""},null,{"$f":"IF('Vendor List'!$A2680=\"\",\"\",'Vendor List'!$A2680)","v":"SBS TECHNOLOGIES"}]
[{"$f":"\"\"","v":""},null,{"$f":"IF('Vendor List'!$A2681=\"\",\"\",'Vendor List'!$A2681)","v":"SCANAM TRANSPORT"}]
[{"$f":"\"\"","v":""},null,{"$f":"IF('Vendor List'!$A2682=\"\",\"\",'Vendor List'!$A2682)","v":"SCANNER MASTER"}]
[{"$f":"\"\"","v":""},null,{"$f":"IF('Vendor List'!$A2683=\"\",\"\",'Vendor List'!$A2683)","v":"SCARBROUGH INTERNATIONAL LTD"}]
[{"$f":"\"\"","v":""},null,{"$f":"IF('Vendor List'!$A2684=\"\",\"\",'Vendor List'!$A2684)","v":"SCHAFFNER EMC INC"}]
[{"$f":"\"\"","v":""},null,{"$f":"IF('Vendor List'!$A2685=\"\",\"\",'Vendor List'!$A2685)","v":"SCHLEUNIGER, INC"}]
[{"$f":"\"\"","v":""},null,{"$f":"IF('Vendor List'!$A2686=\"\",\"\",'Vendor List'!$A2686)","v":"SCHMIDTS AUTO SERVICE"}]
[{"$f":"\"\"","v":""},null,{"$f":"IF('Vendor List'!$A2687=\"\",\"\",'Vendor List'!$A2687)","v":"SCHNEEBERGER INC"}]
[{"$f":"\"\"","v":""},null,{"$f":"IF('Vendor List'!$A2688=\"\",\"\",'Vendor List'!$A2688)","v":"SCHOOL OF VETERINARY MEDICINE"}]
[{"$f":"\"\"","v":""},null,{"$f":"IF('Vendor List'!$A2689=\"\",\"\",'Vendor List'!$A2689)","v":"SCHOOL-PAK"}]
[{"$f":"\"\"","v":""},null,{"$f":"IF('Vendor List'!$A2690=\"\",\"\",'Vendor List'!$A2690)","v":"SCHOTT GLASS TECHNOLOGIES INC"}]
[{"$f":"\"\"","v":""},null,{"$f":"IF('Vendor List'!$A2691=\"\",\"\",'Vendor List'!$A2691)","v":"SCHROEDER MOVING SYSTEMS"}]
[{"$f":"\"\"","v":""},null,{"$f":"IF('Vendor List'!$A2692=\"\",\"\",'Vendor List'!$A2692)","v":"SCHROEDER MOVING SYSTEMS INC"}]
[{"$f":"\"\"","v":""},null,{"$f":"IF('Vendor List'!$A2693=\"\",\"\",'Vendor List'!$A2693)","v":"SCHROFF INC"}]
[{"$f":"\"\"","v":""},null,{"$f":"IF('Vendor List'!$A2694=\"\",\"\",'Vendor List'!$A2694)","v":"SCI-TECH SOFTWARE FOR SCIENCE"}]
[{"$f":"\"\"","v":""},null,{"$f":"IF('Vendor List'!$A2695=\"\",\"\",'Vendor List'!$A2695)","v":"SCIENCE"}]
[{"$f":"\"\"","v":""},null,{"$f":"IF('Vendor List'!$A2696=\"\",\"\",'Vendor List'!$A2696)","v":"SCIENCE KIT & BOREAL LAB"}]
[{"$f":"\"\"","v":""},null,{"$f":"IF('Vendor List'!$A2697=\"\",\"\",'Vendor List'!$A2697)","v":"SCIENTIFIC ALLOYS INC"}]
[{"$f":"\"\"","v":""},null,{"$f":"IF('Vendor List'!$A2698=\"\",\"\",'Vendor List'!$A2698)","v":"SCIENTIFIC AMERICAN"}]
[{"$f":"\"\"","v":""},null,{"$f":"IF('Vendor List'!$A2699=\"\",\"\",'Vendor List'!$A2699)","v":"SCIENTIFIC ANSWERS & SOLUTIONS"}]
[{"$f":"\"\"","v":""},null,{"$f":"IF('Vendor List'!$A2700=\"\",\"\",'Vendor List'!$A2700)","v":"SCIENTIFIC INSTRUMENT SERVICES"}]
[{"$f":"\"\"","v":""},null,{"$f":"IF('Vendor List'!$A2701=\"\",\"\",'Vendor List'!$A2701)","v":"SCIENTIFIC PRODUCTS"}]
[{"$f":"\"\"","v":""},null,{"$f":"IF('Vendor List'!$A2702=\"\",\"\",'Vendor List'!$A2702)","v":"SCIENTIFIC SOFTWARE"}]
[{"$f":"\"\"","v":""},null,{"$f":"IF('Vendor List'!$A2703=\"\",\"\",'Vendor List'!$A2703)","v":"SCIENTIFICS"}]
[{"$f":"\"\"","v":""},null,{"$f":"IF('Vendor List'!$A2704=\"\",\"\",'Vendor List'!$A2704)","v":"SCMS INC"}]
[{"$f":"\"\"","v":""},null,{"$f":"IF('Vendor List'!$A2705=\"\",\"\",'Vendor List'!$A2705)","v":"SCOT INDUSTRIES, INC"}]
[{"$f":"\"\"","v":""},null,{"$f":"IF('Vendor List'!$A2706=\"\",\"\",'Vendor List'!$A2706)","v":"SCOTCHMAN INDUSTRIES"}]
[{"$f":"\"\"","v":""},null,{"$f":"IF('Vendor List'!$A2707=\"\",\"\",'Vendor List'!$A2707)","v":"SCOTT'S PASTRY SHOPPE INC"}]
[{"$f":"\"\"","v":""},null,{"$f":"IF('Vendor List'!$A2708=\"\",\"\",'Vendor List'!$A2708)","v":"SCS CASES"}]
[{"$f":"\"\"","v":""},null,{"$f":"IF('Vendor List'!$A2709=\"\",\"\",'Vendor List'!$A2709)","v":"SEA BOX  INC"}]
[{"$f":"\"\"","v":""},null,{"$f":"IF('Vendor List'!$A2710=\"\",\"\",'Vendor List'!$A2710)","v":"SEA BOX, INC"}]
[{"$f":"\"\"","v":""},null,{"$f":"IF('Vendor List'!$A2711=\"\",\"\",'Vendor List'!$A2711)","v":"SEA CON"}]
[{"$f":"\"\"","v":""},null,{"$f":"IF('Vendor List'!$A2712=\"\",\"\",'Vendor List'!$A2712)","v":"SEARS"}]
[{"$f":"\"\"","v":""},null,{"$f":"IF('Vendor List'!$A2713=\"\",\"\",'Vendor List'!$A2713)","v":"SEARS"}]
[{"$f":"\"\"","v":""},null,{"$f":"IF('Vendor List'!$A2714=\"\",\"\",'Vendor List'!$A2714)","v":"SEARS CONTRACT SALES"}]
[{"$f":"\"\"","v":""},null,{"$f":"IF('Vendor List'!$A2715=\"\",\"\",'Vendor List'!$A2715)","v":"SEARS EAST TOWNE MALL"}]
[{"$f":"\"\"","v":""},null,{"$f":"IF('Vendor List'!$A2716=\"\",\"\",'Vendor List'!$A2716)","v":"SEARS POWER & HAND TOOLS"}]
[{"$f":"\"\"","v":""},null,{"$f":"IF('Vendor List'!$A2717=\"\",\"\",'Vendor List'!$A2717)","v":"SEASIDE SOFTWARE INC"}]
[{"$f":"\"\"","v":""},null,{"$f":"IF('Vendor List'!$A2718=\"\",\"\",'Vendor List'!$A2718)","v":"SECO SEALS INC"}]
[{"$f":"\"\"","v":""},null,{"$f":"IF('Vendor List'!$A2719=\"\",\"\",'Vendor List'!$A2719)","v":"SECRETARIAT MICRO PROCESS 95"}]
[{"$f":"\"\"","v":""},null,{"$f":"IF('Vendor List'!$A2720=\"\",\"\",'Vendor List'!$A2720)","v":"SEE 122324"}]
[{"$f":"\"\"","v":""},null,{"$f":"IF('Vendor List'!$A2721=\"\",\"\",'Vendor List'!$A2721)","v":"SEHI PROCOMP COMPUTER PROD INC"}]
[{"$f":"\"\"","v":""},null,{"$f":"IF('Vendor List'!$A2722=\"\",\"\",'Vendor List'!$A2722)","v":"SEIKO INSTRUMENTS"}]
[{"$f":"\"\"","v":""},null,{"$f":"IF('Vendor List'!$A2723=\"\",\"\",'Vendor List'!$A2723)","v":"SEIKO INSTRUMENTS INC"}]
[{"$f":"\"\"","v":""},null,{"$f":"IF('Vendor List'!$A2724=\"\",\"\",'Vendor List'!$A2724)","v":"SEIKO INSTRUMENTS USA INC"}]
[{"$f":"\"\"","v":""},null,{"$f":"IF('Vendor List'!$A2725=\"\",\"\",'Vendor List'!$A2725)","v":"SEIMENS"}]
[{"$f":"\"\"","v":""},null,{"$f":"IF('Vendor List'!$A2726=\"\",\"\",'Vendor List'!$A2726)","v":"SEKO"}]
[{"$f":"\"\"","v":""},null,{"$f":"IF('Vendor List'!$A2727=\"\",\"\",'Vendor List'!$A2727)","v":"SELCO PORDUCTS CO."}]
[{"$f":"\"\"","v":""},null,{"$f":"IF('Vendor List'!$A2728=\"\",\"\",'Vendor List'!$A2728)","v":"SELTZNER DOOR SERVICE"}]
[{"$f":"\"\"","v":""},null,{"$f":"IF('Vendor List'!$A2729=\"\",\"\",'Vendor List'!$A2729)","v":"SEMCO INC"}]
[{"$f":"\"\"","v":""},null,{"$f":"IF('Vendor List'!$A2730=\"\",\"\",'Vendor List'!$A2730)","v":"SEMI"}]
[{"$f":"\"\"","v":""},null,{"$f":"IF('Vendor List'!$A2731=\"\",\"\",'Vendor List'!$A2731)","v":"SEMICONDUCTOR RESEARCH CORP"}]
[{"$f":"\"\"","v":""},null,{"$f":"IF('Vendor List'!$A2732=\"\",\"\",'Vendor List'!$A2732)","v":"SEMITOOL INC."}]
[{"$f":"\"\"","v":""},null,{"$f":"IF('Vendor List'!$A2733=\"\",\"\",'Vendor List'!$A2733)","v":"SEMIX INC."}]
[{"$f":"\"\"","v":""},null,{"$f":"IF('Vendor List'!$A2734=\"\",\"\",'Vendor List'!$A2734)","v":"SENCORE INC"}]
[{"$f":"\"\"","v":""},null,{"$f":"IF('Vendor List'!$A2735=\"\",\"\",'Vendor List'!$A2735)","v":"SENIOR FLEXONICS"}]
[{"$f":"\"\"","v":""},null,{"$f":"IF('Vendor List'!$A2736=\"\",\"\",'Vendor List'!$A2736)","v":"SENSOR ELECTRONIC TECHNOLOGY"}]
[{"$f":"\"\"","v":""},null,{"$f":"IF('Vendor List'!$A2737=\"\",\"\",'Vendor List'!$A2737)","v":"SENTRY AIR SYSTEMS, INC"}]
[{"$f":"\"\"","v":""},null,{"$f":"IF('Vendor List'!$A2738=\"\",\"\",'Vendor List'!$A2738)","v":"SERGENIANS FLOOR COVERINGS"}]
[{"$f":"\"\"","v":""},null,{"$f":"IF('Vendor List'!$A2739=\"\",\"\",'Vendor List'!$A2739)","v":"SERTEC INC"}]
[{"$f":"\"\"","v":""},null,{"$f":"IF('Vendor List'!$A2740=\"\",\"\",'Vendor List'!$A2740)","v":"SERVER SUPPLY"}]
[{"$f":"\"\"","v":""},null,{"$f":"IF('Vendor List'!$A2741=\"\",\"\",'Vendor List'!$A2741)","v":"SERVER TECHNOLOGY"}]
[{"$f":"\"\"","v":""},null,{"$f":"IF('Vendor List'!$A2742=\"\",\"\",'Vendor List'!$A2742)","v":"SERVICE ELECTRONICS CORPORATIO"}]
[{"$f":"\"\"","v":""},null,{"$f":"IF('Vendor List'!$A2743=\"\",\"\",'Vendor List'!$A2743)","v":"SERVICE SUPPLY"}]
[{"$f":"\"\"","v":""},null,{"$f":"IF('Vendor List'!$A2744=\"\",\"\",'Vendor List'!$A2744)","v":"SERVICE-MANUALS.NET"}]
[{"$f":"\"\"","v":""},null,{"$f":"IF('Vendor List'!$A2745=\"\",\"\",'Vendor List'!$A2745)","v":"SERVO SYSTEMS CO"}]
[{"$f":"\"\"","v":""},null,{"$f":"IF('Vendor List'!$A2746=\"\",\"\",'Vendor List'!$A2746)","v":"SES RESEARCH CO"}]
[{"$f":"\"\"","v":""},null,{"$f":"IF('Vendor List'!$A2747=\"\",\"\",'Vendor List'!$A2747)","v":"SESC"}]
[{"$f":"\"\"","v":""},null,{"$f":"IF('Vendor List'!$A2748=\"\",\"\",'Vendor List'!$A2748)","v":"SESO"}]
[{"$f":"\"\"","v":""},null,{"$f":"IF('Vendor List'!$A2749=\"\",\"\",'Vendor List'!$A2749)","v":"SETON IDENTIFICATION & SAFETY"}]
[{"$f":"\"\"","v":""},null,{"$f":"IF('Vendor List'!$A2750=\"\",\"\",'Vendor List'!$A2750)","v":"SETRA SYSTEMS INC"}]
[{"$f":"\"\"","v":""},null,{"$f":"IF('Vendor List'!$A2751=\"\",\"\",'Vendor List'!$A2751)","v":"SEWELL DIRECT"}]
[{"$f":"\"\"","v":""},null,{"$f":"IF('Vendor List'!$A2752=\"\",\"\",'Vendor List'!$A2752)","v":"SHAPEWARE CORPORATION"}]
[{"$f":"\"\"","v":""},null,{"$f":"IF('Vendor List'!$A2753=\"\",\"\",'Vendor List'!$A2753)","v":"SHARP ELECTRONICS CORP"}]
[{"$f":"\"\"","v":""},null,{"$f":"IF('Vendor List'!$A2754=\"\",\"\",'Vendor List'!$A2754)","v":"SHARP ELECTRONICS CORP"}]
[{"$f":"\"\"","v":""},null,{"$f":"IF('Vendor List'!$A2755=\"\",\"\",'Vendor List'!$A2755)","v":"SHAVLIK TECHNOLOGIES LLC"}]
[{"$f":"\"\"","v":""},null,{"$f":"IF('Vendor List'!$A2756=\"\",\"\",'Vendor List'!$A2756)","v":"SHECOM COMPUTERS"}]
[{"$f":"\"\"","v":""},null,{"$f":"IF('Vendor List'!$A2757=\"\",\"\",'Vendor List'!$A2757)","v":"SHEEHY SCIENTIFIC CONSULTING"}]
[{"$f":"\"\"","v":""},null,{"$f":"IF('Vendor List'!$A2758=\"\",\"\",'Vendor List'!$A2758)","v":"SHERATON INN"}]
[{"$f":"\"\"","v":""},null,{"$f":"IF('Vendor List'!$A2759=\"\",\"\",'Vendor List'!$A2759)","v":"SHERATON NEW YORK HOTEL & TWR"}]
[{"$f":"\"\"","v":""},null,{"$f":"IF('Vendor List'!$A2760=\"\",\"\",'Vendor List'!$A2760)","v":"SHERWIN WILLIAMS"}]
[{"$f":"\"\"","v":""},null,{"$f":"IF('Vendor List'!$A2761=\"\",\"\",'Vendor List'!$A2761)","v":"SHI INTERNATIONAL CORP"}]
[{"$f":"\"\"","v":""},null,{"$f":"IF('Vendor List'!$A2762=\"\",\"\",'Vendor List'!$A2762)","v":"SHINE A BLIND"}]
[{"$f":"\"\"","v":""},null,{"$f":"IF('Vendor List'!$A2763=\"\",\"\",'Vendor List'!$A2763)","v":"SHIP"}]
[{"$f":"\"\"","v":""},null,{"$f":"IF('Vendor List'!$A2764=\"\",\"\",'Vendor List'!$A2764)","v":"SHIPLEY COMPANY INC"}]
[{"$f":"\"\"","v":""},null,{"$f":"IF('Vendor List'!$A2765=\"\",\"\",'Vendor List'!$A2765)","v":"SHIREEN INC"}]
[{"$f":"\"\"","v":""},null,{"$f":"IF('Vendor List'!$A2766=\"\",\"\",'Vendor List'!$A2766)","v":"SHOPKO"}]
[{"$f":"\"\"","v":""},null,{"$f":"IF('Vendor List'!$A2767=\"\",\"\",'Vendor List'!$A2767)","v":"SHORT COURSE DORM"}]
[{"$f":"\"\"","v":""},null,{"$f":"IF('Vendor List'!$A2768=\"\",\"\",'Vendor List'!$A2768)","v":"SHOW ME CABLES"}]
[{"$f":"\"\"","v":""},null,{"$f":"IF('Vendor List'!$A2769=\"\",\"\",'Vendor List'!$A2769)","v":"SHREVE SYSTEMS"}]
[{"$f":"\"\"","v":""},null,{"$f":"IF('Vendor List'!$A2770=\"\",\"\",'Vendor List'!$A2770)","v":"SIC MCPHERSON"}]
[{"$f":"\"\"","v":""},null,{"$f":"IF('Vendor List'!$A2771=\"\",\"\",'Vendor List'!$A2771)","v":"SID HARVEY INDUSTRIES"}]
[{"$f":"\"\"","v":""},null,{"$f":"IF('Vendor List'!$A2772=\"\",\"\",'Vendor List'!$A2772)","v":"SID HARVEY INDUSTRIES INC"}]
[{"$f":"\"\"","v":""},null,{"$f":"IF('Vendor List'!$A2773=\"\",\"\",'Vendor List'!$A2773)","v":"SIEKERT & BAUM INC"}]
[{"$f":"\"\"","v":""},null,{"$f":"IF('Vendor List'!$A2774=\"\",\"\",'Vendor List'!$A2774)","v":"SIEMENS INDUSTRY"}]
[{"$f":"\"\"","v":""},null,{"$f":"IF('Vendor List'!$A2775=\"\",\"\",'Vendor List'!$A2775)","v":"SIEMENS(U.S.FILTER RECOVERY)"}]
[{"$f":"\"\"","v":""},null,{"$f":"IF('Vendor List'!$A2776=\"\",\"\",'Vendor List'!$A2776)","v":"SIERRA MONITOR CORP."}]
[{"$f":"\"\"","v":""},null,{"$f":"IF('Vendor List'!$A2777=\"\",\"\",'Vendor List'!$A2777)","v":"SIGMA ALDRICH"}]
[{"$f":"\"\"","v":""},null,{"$f":"IF('Vendor List'!$A2778=\"\",\"\",'Vendor List'!$A2778)","v":"SIGMA ALDRICH"}]
[{"$f":"\"\"","v":""},null,{"$f":"IF('Vendor List'!$A2779=\"\",\"\",'Vendor List'!$A2779)","v":"SIGNATONE CORPORATION"}]
[{"$f":"\"\"","v":""},null,{"$f":"IF('Vendor List'!$A2780=\"\",\"\",'Vendor List'!$A2780)","v":"SIGNATURE GRAPHICS"}]
[{"$f":"\"\"","v":""},null,{"$f":"IF('Vendor List'!$A2781=\"\",\"\",'Vendor List'!$A2781)","v":"SIGNS BY TOMORROW"}]
[{"$f":"\"\"","v":""},null,{"$f":"IF('Vendor List'!$A2782=\"\",\"\",'Vendor List'!$A2782)","v":"SILICON QUEST INTERNATI0NAL"}]
[{"$f":"\"\"","v":""},null,{"$f":"IF('Vendor List'!$A2783=\"\",\"\",'Vendor List'!$A2783)","v":"SILICON SENSE INC"}]
[{"$f":"\"\"","v":""},null,{"$f":"IF('Vendor List'!$A2784=\"\",\"\",'Vendor List'!$A2784)","v":"SILICON SPECIALISTS"}]
[{"$f":"\"\"","v":""},null,{"$f":"IF('Vendor List'!$A2785=\"\",\"\",'Vendor List'!$A2785)","v":"SILICON VALLEY GROUP"}]
[{"$f":"\"\"","v":""},null,{"$f":"IF('Vendor List'!$A2786=\"\",\"\",'Vendor List'!$A2786)","v":"SILICON VALLEY MICROELECTRONIC"}]
[{"$f":"\"\"","v":""},null,{"$f":"IF('Vendor List'!$A2787=\"\",\"\",'Vendor List'!$A2787)","v":"SILK SCIENTIFIC INC"}]
[{"$f":"\"\"","v":""},null,{"$f":"IF('Vendor List'!$A2788=\"\",\"\",'Vendor List'!$A2788)","v":"SILK SCREEN ADVERTISING CO"}]
[{"$f":"\"\"","v":""},null,{"$f":"IF('Vendor List'!$A2789=\"\",\"\",'Vendor List'!$A2789)","v":"SILSON LTD"}]
[{"$f":"\"\"","v":""},null,{"$f":"IF('Vendor List'!$A2790=\"\",\"\",'Vendor List'!$A2790)","v":"SILVERADO CAFE"}]
[{"$f":"\"\"","v":""},null,{"$f":"IF('Vendor List'!$A2791=\"\",\"\",'Vendor List'!$A2791)","v":"SILVERADO SOFTWARE & CONSULTIN"}]
[{"$f":"\"\"","v":""},null,{"$f":"IF('Vendor List'!$A2792=\"\",\"\",'Vendor List'!$A2792)","v":"SILVERTHIN BEARING GROUP"}]
[{"$f":"\"\"","v":""},null,{"$f":"IF('Vendor List'!$A2793=\"\",\"\",'Vendor List'!$A2793)","v":"SIMON & SCHUSTER"}]
[{"$f":"\"\"","v":""},null,{"$f":"IF('Vendor List'!$A2794=\"\",\"\",'Vendor List'!$A2794)","v":"SIMONE ENGINEERING INC"}]
[{"$f":"\"\"","v":""},null,{"$f":"IF('Vendor List'!$A2795=\"\",\"\",'Vendor List'!$A2795)","v":"SIMONSON BROS OF WI, INC"}]
[{"$f":"\"\"","v":""},null,{"$f":"IF('Vendor List'!$A2796=\"\",\"\",'Vendor List'!$A2796)","v":"SIMUTECH GROUP"}]
[{"$f":"\"\"","v":""},null,{"$f":"IF('Vendor List'!$A2797=\"\",\"\",'Vendor List'!$A2797)","v":"SIOUX CORP"}]
[{"$f":"\"\"","v":""},null,{"$f":"IF('Vendor List'!$A2798=\"\",\"\",'Vendor List'!$A2798)","v":"SITE SERVICES"}]
[{"$f":"\"\"","v":""},null,{"$f":"IF('Vendor List'!$A2799=\"\",\"\",'Vendor List'!$A2799)","v":"SITECH"}]
[{"$f":"\"\"","v":""},null,{"$f":"IF('Vendor List'!$A2800=\"\",\"\",'Vendor List'!$A2800)","v":"SIVERS IMA AB"}]
[{"$f":"\"\"","v":""},null,{"$f":"IF('Vendor List'!$A2801=\"\",\"\",'Vendor List'!$A2801)","v":"SKC COMMUNICATIONS PRODUCTS"}]
[{"$f":"\"\"","v":""},null,{"$f":"IF('Vendor List'!$A2802=\"\",\"\",'Vendor List'!$A2802)","v":"SKILLPATH INC"}]
[{"$f":"\"\"","v":""},null,{"$f":"IF('Vendor List'!$A2803=\"\",\"\",'Vendor List'!$A2803)","v":"SKY 1 TECHNOLOGIES"}]
[{"$f":"\"\"","v":""},null,{"$f":"IF('Vendor List'!$A2804=\"\",\"\",'Vendor List'!$A2804)","v":"SKY SCIENTIFIC"}]
[{"$f":"\"\"","v":""},null,{"$f":"IF('Vendor List'!$A2805=\"\",\"\",'Vendor List'!$A2805)","v":"SKYLINE ADVANCE TECHNOLOGY"}]
[{"$f":"\"\"","v":""},null,{"$f":"IF('Vendor List'!$A2806=\"\",\"\",'Vendor List'!$A2806)","v":"SLICKEDIT INC"}]
[{"$f":"\"\"","v":""},null,{"$f":"IF('Vendor List'!$A2807=\"\",\"\",'Vendor List'!$A2807)","v":"SLINDE'S INTERIOR  INC"}]
[{"$f":"\"\"","v":""},null,{"$f":"IF('Vendor List'!$A2808=\"\",\"\",'Vendor List'!$A2808)","v":"SMALL PARTS INC"}]
[{"$f":"\"\"","v":""},null,{"$f":"IF('Vendor List'!$A2809=\"\",\"\",'Vendor List'!$A2809)","v":"SMALLEY STEEL RING CO."}]
[{"$f":"\"\"","v":""},null,{"$f":"IF('Vendor List'!$A2810=\"\",\"\",'Vendor List'!$A2810)","v":"SMARACT GMBH"}]
[{"$f":"\"\"","v":""},null,{"$f":"IF('Vendor List'!$A2811=\"\",\"\",'Vendor List'!$A2811)","v":"SMC"}]
[{"$f":"\"\"","v":""},null,{"$f":"IF('Vendor List'!$A2812=\"\",\"\",'Vendor List'!$A2812)","v":"SMC PNEUMATICS"}]
[{"$f":"\"\"","v":""},null,{"$f":"IF('Vendor List'!$A2813=\"\",\"\",'Vendor List'!$A2813)","v":"SMITH OPTICS"}]
[{"$f":"\"\"","v":""},null,{"$f":"IF('Vendor List'!$A2814=\"\",\"\",'Vendor List'!$A2814)","v":"SMITH TOOLING CO."}]
[{"$f":"\"\"","v":""},null,{"$f":"IF('Vendor List'!$A2815=\"\",\"\",'Vendor List'!$A2815)","v":"SMITH,JASON"}]
[{"$f":"\"\"","v":""},null,{"$f":"IF('Vendor List'!$A2816=\"\",\"\",'Vendor List'!$A2816)","v":"SMOKEY JON'S BBQ"}]
[{"$f":"\"\"","v":""},null,{"$f":"IF('Vendor List'!$A2817=\"\",\"\",'Vendor List'!$A2817)","v":"SMOKY JON'S #1 BBQ"}]
[{"$f":"\"\"","v":""},null,{"$f":"IF('Vendor List'!$A2818=\"\",\"\",'Vendor List'!$A2818)","v":"SNAP ON TOOLS CORPORATION"}]
[{"$f":"\"\"","v":""},null,{"$f":"IF('Vendor List'!$A2819=\"\",\"\",'Vendor List'!$A2819)","v":"SNAPON TOOLS"}]
[{"$f":"\"\"","v":""},null,{"$f":"IF('Vendor List'!$A2820=\"\",\"\",'Vendor List'!$A2820)","v":"SNOW IMPLEMENTS"}]
[{"$f":"\"\"","v":""},null,{"$f":"IF('Vendor List'!$A2821=\"\",\"\",'Vendor List'!$A2821)","v":"SNYDER NEWELL INC."}]
[{"$f":"\"\"","v":""},null,{"$f":"IF('Vendor List'!$A2822=\"\",\"\",'Vendor List'!$A2822)","v":"SOCIETY FOR APPLIED SPECTROSCO"}]
[{"$f":"\"\"","v":""},null,{"$f":"IF('Vendor List'!$A2823=\"\",\"\",'Vendor List'!$A2823)","v":"SOCIETY OF MANUFACTURING ENGIN"}]
[{"$f":"\"\"","v":""},null,{"$f":"IF('Vendor List'!$A2824=\"\",\"\",'Vendor List'!$A2824)","v":"SOCIETY OF RESEARCH ADMINISTRA"}]
[{"$f":"\"\"","v":""},null,{"$f":"IF('Vendor List'!$A2825=\"\",\"\",'Vendor List'!$A2825)","v":"SOCIETY OF WOMEN ENGINEERS"}]
[{"$f":"\"\"","v":""},null,{"$f":"IF('Vendor List'!$A2826=\"\",\"\",'Vendor List'!$A2826)","v":"SOFTBLOX, INC"}]
[{"$f":"\"\"","v":""},null,{"$f":"IF('Vendor List'!$A2827=\"\",\"\",'Vendor List'!$A2827)","v":"SOFTMART"}]
[{"$f":"\"\"","v":""},null,{"$f":"IF('Vendor List'!$A2828=\"\",\"\",'Vendor List'!$A2828)","v":"SOFTWARE ETC"}]
[{"$f":"\"\"","v":""},null,{"$f":"IF('Vendor List'!$A2829=\"\",\"\",'Vendor List'!$A2829)","v":"SOFTWARE ONE"}]
[{"$f":"\"\"","v":""},null,{"$f":"IF('Vendor List'!$A2830=\"\",\"\",'Vendor List'!$A2830)","v":"SOFTWARE SPECTRUM"}]
[{"$f":"\"\"","v":""},null,{"$f":"IF('Vendor List'!$A2831=\"\",\"\",'Vendor List'!$A2831)","v":"SOIL & PLANT ANALYSIS LAB"}]
[{"$f":"\"\"","v":""},null,{"$f":"IF('Vendor List'!$A2832=\"\",\"\",'Vendor List'!$A2832)","v":"SOLAR ATMOSPHERES"}]
[{"$f":"\"\"","v":""},null,{"$f":"IF('Vendor List'!$A2833=\"\",\"\",'Vendor List'!$A2833)","v":"SOLITEC INC"}]
[{"$f":"\"\"","v":""},null,{"$f":"IF('Vendor List'!$A2834=\"\",\"\",'Vendor List'!$A2834)","v":"SONIC MILL"}]
[{"$f":"\"\"","v":""},null,{"$f":"IF('Vendor List'!$A2835=\"\",\"\",'Vendor List'!$A2835)","v":"SONY"}]
[{"$f":"\"\"","v":""},null,{"$f":"IF('Vendor List'!$A2836=\"\",\"\",'Vendor List'!$A2836)","v":"SONY ELECTRONICS"}]
[{"$f":"\"\"","v":""},null,{"$f":"IF('Vendor List'!$A2837=\"\",\"\",'Vendor List'!$A2837)","v":"SORENSEN CO"}]
[{"$f":"\"\"","v":""},null,{"$f":"IF('Vendor List'!$A2838=\"\",\"\",'Vendor List'!$A2838)","v":"SOUTH BAY CABLE CORP"}]
[{"$f":"\"\"","v":""},null,{"$f":"IF('Vendor List'!$A2839=\"\",\"\",'Vendor List'!$A2839)","v":"SOUTHERN COPPER & SUPPLY"}]
[{"$f":"\"\"","v":""},null,{"$f":"IF('Vendor List'!$A2840=\"\",\"\",'Vendor List'!$A2840)","v":"SOUTHLAND ELECTRICAL SUPPLY"}]
[{"$f":"\"\"","v":""},null,{"$f":"IF('Vendor List'!$A2841=\"\",\"\",'Vendor List'!$A2841)","v":"SOUTHWIRE"}]
[{"$f":"\"\"","v":""},null,{"$f":"IF('Vendor List'!$A2842=\"\",\"\",'Vendor List'!$A2842)","v":"SPACE MANAGEMENT"}]
[{"$f":"\"\"","v":""},null,{"$f":"IF('Vendor List'!$A2843=\"\",\"\",'Vendor List'!$A2843)","v":"SPACE SCIENCE & ENGINEERING"}]
[{"$f":"\"\"","v":""},null,{"$f":"IF('Vendor List'!$A2844=\"\",\"\",'Vendor List'!$A2844)","v":"SPACE SCIENCE & ENGINEERING"}]
[{"$f":"\"\"","v":""},null,{"$f":"IF('Vendor List'!$A2845=\"\",\"\",'Vendor List'!$A2845)","v":"SPACECRAFT COMPONENTS"}]
[{"$f":"\"\"","v":""},null,{"$f":"IF('Vendor List'!$A2846=\"\",\"\",'Vendor List'!$A2846)","v":"SPARK FUN ELECTRONICS"}]
[{"$f":"\"\"","v":""},null,{"$f":"IF('Vendor List'!$A2847=\"\",\"\",'Vendor List'!$A2847)","v":"SPARTAN LASER"}]
[{"$f":"\"\"","v":""},null,{"$f":"IF('Vendor List'!$A2848=\"\",\"\",'Vendor List'!$A2848)","v":"SPARTAN TECHNOLOGIES"}]
[{"$f":"\"\"","v":""},null,{"$f":"IF('Vendor List'!$A2849=\"\",\"\",'Vendor List'!$A2849)","v":"SPAWR INDUSTRIES INC"}]
[{"$f":"\"\"","v":""},null,{"$f":"IF('Vendor List'!$A2850=\"\",\"\",'Vendor List'!$A2850)","v":"SPECIALIZED PRODUCTS CO"}]
[{"$f":"\"\"","v":""},null,{"$f":"IF('Vendor List'!$A2851=\"\",\"\",'Vendor List'!$A2851)","v":"SPECIALTY STEEL & FORGE"}]
[{"$f":"\"\"","v":""},null,{"$f":"IF('Vendor List'!$A2852=\"\",\"\",'Vendor List'!$A2852)","v":"SPECIALTY STEEL SUPPLY"}]
[{"$f":"\"\"","v":""},null,{"$f":"IF('Vendor List'!$A2853=\"\",\"\",'Vendor List'!$A2853)","v":"SPECIALTY UNDERWRITERS LLC"}]
[{"$f":"\"\"","v":""},null,{"$f":"IF('Vendor List'!$A2854=\"\",\"\",'Vendor List'!$A2854)","v":"SPECTRA GASES INC"}]
[{"$f":"\"\"","v":""},null,{"$f":"IF('Vendor List'!$A2855=\"\",\"\",'Vendor List'!$A2855)","v":"SPECTRA LOGIC CORPORATION"}]
[{"$f":"\"\"","v":""},null,{"$f":"IF('Vendor List'!$A2856=\"\",\"\",'Vendor List'!$A2856)","v":"SPECTRA TEST  EQUIPMENT"}]
[{"$f":"\"\"","v":""},null,{"$f":"IF('Vendor List'!$A2857=\"\",\"\",'Vendor List'!$A2857)","v":"SPECTRA-PHYSICS"}]
[{"$f":"\"\"","v":""},null,{"$f":"IF('Vendor List'!$A2858=\"\",\"\",'Vendor List'!$A2858)","v":"SPECTRA-PHYSICS"}]
[{"$f":"\"\"","v":""},null,{"$f":"IF('Vendor List'!$A2859=\"\",\"\",'Vendor List'!$A2859)","v":"SPECTRACOM"}]
[{"$f":"\"\"","v":""},null,{"$f":"IF('Vendor List'!$A2860=\"\",\"\",'Vendor List'!$A2860)","v":"SPECTRAL INSTRUMENTS"}]
[{"$f":"\"\"","v":""},null,{"$f":"IF('Vendor List'!$A2861=\"\",\"\",'Vendor List'!$A2861)","v":"SPECTRAL PRODUCTS"}]
[{"$f":"\"\"","v":""},null,{"$f":"IF('Vendor List'!$A2862=\"\",\"\",'Vendor List'!$A2862)","v":"SPECTRAL SYSTEMS INC"}]
[{"$f":"\"\"","v":""},null,{"$f":"IF('Vendor List'!$A2863=\"\",\"\",'Vendor List'!$A2863)","v":"SPECTRONIC INSTRUMENTS"}]
[{"$f":"\"\"","v":""},null,{"$f":"IF('Vendor List'!$A2864=\"\",\"\",'Vendor List'!$A2864)","v":"SPECTRUM MAGNETICS"}]
[{"$f":"\"\"","v":""},null,{"$f":"IF('Vendor List'!$A2865=\"\",\"\",'Vendor List'!$A2865)","v":"SPECTRUM MICROWAVE"}]
[{"$f":"\"\"","v":""},null,{"$f":"IF('Vendor List'!$A2866=\"\",\"\",'Vendor List'!$A2866)","v":"SPEEDCOM"}]
[{"$f":"\"\"","v":""},null,{"$f":"IF('Vendor List'!$A2867=\"\",\"\",'Vendor List'!$A2867)","v":"SPEEDY METALS"}]
[{"$f":"\"\"","v":""},null,{"$f":"IF('Vendor List'!$A2868=\"\",\"\",'Vendor List'!$A2868)","v":"SPELLMAN HIGH VOLTAGE CORP"}]
[{"$f":"\"\"","v":""},null,{"$f":"IF('Vendor List'!$A2869=\"\",\"\",'Vendor List'!$A2869)","v":"SPELLMAN HIGH VOLTAGE ELECTRIC"}]
[{"$f":"\"\"","v":""},null,{"$f":"IF('Vendor List'!$A2870=\"\",\"\",'Vendor List'!$A2870)","v":"SPIE"}]
[{"$f":"\"\"","v":""},null,{"$f":"IF('Vendor List'!$A2871=\"\",\"\",'Vendor List'!$A2871)","v":"SPINDLE MATE CO"}]
[{"$f":"\"\"","v":""},null,{"$f":"IF('Vendor List'!$A2872=\"\",\"\",'Vendor List'!$A2872)","v":"SPINDLER & HOYER INC"}]
[{"$f":"\"\"","v":""},null,{"$f":"IF('Vendor List'!$A2873=\"\",\"\",'Vendor List'!$A2873)","v":"SPORTS PRODUCTS INC"}]
[null,null,{"$f":"IF('Vendor List'!$A2874=\"\",\"\",'Vendor List'!$A2874)","v":"SPRAYING SYSTEMS CO"}]
[null,null,{"$f":"IF('Vendor List'!$A2875=\"\",\"\",'Vendor List'!$A2875)","v":"SPRAYING SYSTEMS CO"}]
[null,null,{"$f":"IF('Vendor List'!$A2876=\"\",\"\",'Vendor List'!$A2876)","v":"SPRINGER VERLAG NEW YORK INC"}]
[null,null,{"$f":"IF('Vendor List'!$A2877=\"\",\"\",'Vendor List'!$A2877)","v":"SPSS INC"}]
[null,null,{"$f":"IF('Vendor List'!$A2878=\"\",\"\",'Vendor List'!$A2878)","v":"SPYGLASS INC"}]
[null,null,{"$f":"IF('Vendor List'!$A2879=\"\",\"\",'Vendor List'!$A2879)","v":"SQUIRES WATERJETTING SERVICES"}]
[null,null,{"$f":"IF('Vendor List'!$A2880=\"\",\"\",'Vendor List'!$A2880)","v":"SRA"}]
[null,null,{"$f":"IF('Vendor List'!$A2881=\"\",\"\",'Vendor List'!$A2881)","v":"SRA"}]
[null,null,{"$f":"IF('Vendor List'!$A2882=\"\",\"\",'Vendor List'!$A2882)","v":"SRA WESTERN"}]
[null,null,{"$f":"IF('Vendor List'!$A2883=\"\",\"\",'Vendor List'!$A2883)","v":"SRI INTERNATIONAL"}]
[null,null,{"$f":"IF('Vendor List'!$A2884=\"\",\"\",'Vendor List'!$A2884)","v":"SS WHITE INDUSTRIAL PRODUCTS"}]
[null,null,{"$f":"IF('Vendor List'!$A2885=\"\",\"\",'Vendor List'!$A2885)","v":"SSA GLOBAL TECHNOLOGIES"}]
[null,null,{"$f":"IF('Vendor List'!$A2886=\"\",\"\",'Vendor List'!$A2886)","v":"ST CROIX MACHINE TOOL"}]
[null,null,{"$f":"IF('Vendor List'!$A2887=\"\",\"\",'Vendor List'!$A2887)","v":"STA TRAVEL"}]
[null,null,{"$f":"IF('Vendor List'!$A2888=\"\",\"\",'Vendor List'!$A2888)","v":"STAEHLE PRECISION CORP"}]
[null,null,{"$f":"IF('Vendor List'!$A2889=\"\",\"\",'Vendor List'!$A2889)","v":"STAFF ELECTRIC CO"}]
[null,null,{"$f":"IF('Vendor List'!$A2890=\"\",\"\",'Vendor List'!$A2890)","v":"STAINLESS FLOW TECHNOLOGIES"}]
[null,null,{"$f":"IF('Vendor List'!$A2891=\"\",\"\",'Vendor List'!$A2891)","v":"STAINLESS TUBULAR PRODUCTS"}]
[null,null,{"$f":"IF('Vendor List'!$A2892=\"\",\"\",'Vendor List'!$A2892)","v":"STAINLESS UNLIMITED INC"}]
[null,null,{"$f":"IF('Vendor List'!$A2893=\"\",\"\",'Vendor List'!$A2893)","v":"STANDARD ELECTRIC"}]
[null,null,{"$f":"IF('Vendor List'!$A2894=\"\",\"\",'Vendor List'!$A2894)","v":"STANDARD WELDED BELLOWS"}]
[null,null,{"$f":"IF('Vendor List'!$A2895=\"\",\"\",'Vendor List'!$A2895)","v":"STANFORD LINEAR ACCELERATOR"}]
[null,null,{"$f":"IF('Vendor List'!$A2896=\"\",\"\",'Vendor List'!$A2896)","v":"STANFORD RESEARCH SYSTEMS INC"}]
[null,null,{"$f":"IF('Vendor List'!$A2897=\"\",\"\",'Vendor List'!$A2897)","v":"STANGENES INDUSTRIES INC"}]
[null,null,{"$f":"IF('Vendor List'!$A2898=\"\",\"\",'Vendor List'!$A2898)","v":"STAPLES"}]
[null,null,{"$f":"IF('Vendor List'!$A2899=\"\",\"\",'Vendor List'!$A2899)","v":"STAPLES"}]
[null,null,{"$f":"IF('Vendor List'!$A2900=\"\",\"\",'Vendor List'!$A2900)","v":"STAPLES"}]
[null,null,{"$f":"IF('Vendor List'!$A2901=\"\",\"\",'Vendor List'!$A2901)","v":"STAPLES, INC"}]
[null,null,{"$f":"IF('Vendor List'!$A2902=\"\",\"\",'Vendor List'!$A2902)","v":"STAR NINE TECHNOLOGIES"}]
[null,null,{"$f":"IF('Vendor List'!$A2903=\"\",\"\",'Vendor List'!$A2903)","v":"STAR PHOTO SERVICE WILLIAMSON"}]
[null,null,{"$f":"IF('Vendor List'!$A2904=\"\",\"\",'Vendor List'!$A2904)","v":"STAR-ODDI"}]
[null,null,{"$f":"IF('Vendor List'!$A2905=\"\",\"\",'Vendor List'!$A2905)","v":"STARFIRE SYSTEMS, INC"}]
[null,null,{"$f":"IF('Vendor List'!$A2906=\"\",\"\",'Vendor List'!$A2906)","v":"STARLITE INDUSTRIES"}]
[null,null,{"$f":"IF('Vendor List'!$A2907=\"\",\"\",'Vendor List'!$A2907)","v":"STARNET COMMUNICATIONS"}]
[null,null,{"$f":"IF('Vendor List'!$A2908=\"\",\"\",'Vendor List'!$A2908)","v":"STARRETT CO"}]
[null,null,{"$f":"IF('Vendor List'!$A2909=\"\",\"\",'Vendor List'!$A2909)","v":"STARRETT, TRU-STONE TECH DIV"}]
[null,null,{"$f":"IF('Vendor List'!$A2910=\"\",\"\",'Vendor List'!$A2910)","v":"STAT MEDICAL SUPPLY CO"}]
[null,null,{"$f":"IF('Vendor List'!$A2911=\"\",\"\",'Vendor List'!$A2911)","v":"STATE ELECTRICAL SUPPLY"}]
[null,null,{"$f":"IF('Vendor List'!$A2912=\"\",\"\",'Vendor List'!$A2912)","v":"STATE HISTORICAL SOCIETY"}]
[null,null,{"$f":"IF('Vendor List'!$A2913=\"\",\"\",'Vendor List'!$A2913)","v":"STATE LABORATORY OF HYGEINE"}]
[null,null,{"$f":"IF('Vendor List'!$A2914=\"\",\"\",'Vendor List'!$A2914)","v":"STATE MACHINE TOOL CO"}]
[null,null,{"$f":"IF('Vendor List'!$A2915=\"\",\"\",'Vendor List'!$A2915)","v":"STATE OF WI DEPT OF ADMINISTRA"}]
[null,null,{"$f":"IF('Vendor List'!$A2916=\"\",\"\",'Vendor List'!$A2916)","v":"STATIC SPECIALISTS CO INC"}]
[null,null,{"$f":"IF('Vendor List'!$A2917=\"\",\"\",'Vendor List'!$A2917)","v":"STAYONLINE.COM"}]
[null,null,{"$f":"IF('Vendor List'!$A2918=\"\",\"\",'Vendor List'!$A2918)","v":"STBS"}]
[null,null,{"$f":"IF('Vendor List'!$A2919=\"\",\"\",'Vendor List'!$A2919)","v":"STD ELECTRIC"}]
[null,null,{"$f":"IF('Vendor List'!$A2920=\"\",\"\",'Vendor List'!$A2920)","v":"STEENBOCKS ON ORCHARD"}]
[null,null,{"$f":"IF('Vendor List'!$A2921=\"\",\"\",'Vendor List'!$A2921)","v":"STELLAR SOFTWARE"}]
[null,null,{"$f":"IF('Vendor List'!$A2922=\"\",\"\",'Vendor List'!$A2922)","v":"STERLING ELECTRONICS"}]
[null,null,{"$f":"IF('Vendor List'!$A2923=\"\",\"\",'Vendor List'!$A2923)","v":"STERLING LABS"}]
[null,null,{"$f":"IF('Vendor List'!$A2924=\"\",\"\",'Vendor List'!$A2924)","v":"STEWART JOHNSON CO."}]
[null,null,{"$f":"IF('Vendor List'!$A2925=\"\",\"\",'Vendor List'!$A2925)","v":"STOCK DRIVE PRODUCTS"}]
[null,null,{"$f":"IF('Vendor List'!$A2926=\"\",\"\",'Vendor List'!$A2926)","v":"STOCKHOLM UNIVERSITY"}]
[null,null,{"$f":"IF('Vendor List'!$A2927=\"\",\"\",'Vendor List'!$A2927)","v":"STODDARD'S COUNTRY GROVE MARKE"}]
[null,null,{"$f":"IF('Vendor List'!$A2928=\"\",\"\",'Vendor List'!$A2928)","v":"STONER INC"}]
[null,null,{"$f":"IF('Vendor List'!$A2929=\"\",\"\",'Vendor List'!$A2929)","v":"STORAGE & HANDLING SYSTEMS"}]
[null,null,{"$f":"IF('Vendor List'!$A2930=\"\",\"\",'Vendor List'!$A2930)","v":"STORAGEIT SOLUTIONS"}]
[null,null,{"$f":"IF('Vendor List'!$A2931=\"\",\"\",'Vendor List'!$A2931)","v":"STOUGHTON LUMBER CO"}]
[null,null,{"$f":"IF('Vendor List'!$A2932=\"\",\"\",'Vendor List'!$A2932)","v":"STOUGHTON NEWSPAPERS"}]
[null,null,{"$f":"IF('Vendor List'!$A2933=\"\",\"\",'Vendor List'!$A2933)","v":"STOUGHTON TRUCKING INC"}]
[null,null,{"$f":"IF('Vendor List'!$A2934=\"\",\"\",'Vendor List'!$A2934)","v":"STOUGHTON UTILITIES"}]
[null,null,{"$f":"IF('Vendor List'!$A2935=\"\",\"\",'Vendor List'!$A2935)","v":"STRANCO PRODUCTS"}]
[null,null,{"$f":"IF('Vendor List'!$A2936=\"\",\"\",'Vendor List'!$A2936)","v":"STRANCO PRODUCTS"}]
[null,null,{"$f":"IF('Vendor List'!$A2937=\"\",\"\",'Vendor List'!$A2937)","v":"STRIPMASTER"}]
[null,null,{"$f":"IF('Vendor List'!$A2938=\"\",\"\",'Vendor List'!$A2938)","v":"STRIPPIT INC"}]
[null,null,{"$f":"IF('Vendor List'!$A2939=\"\",\"\",'Vendor List'!$A2939)","v":"STRONGHOLD SECURITY/FORTIWALL"}]
[null,null,{"$f":"IF('Vendor List'!$A2940=\"\",\"\",'Vendor List'!$A2940)","v":"STRUCK & IRWIN FENCE INC"}]
[null,null,{"$f":"IF('Vendor List'!$A2941=\"\",\"\",'Vendor List'!$A2941)","v":"STRUCTURE PROBE INC"}]
[null,null,{"$f":"IF('Vendor List'!$A2942=\"\",\"\",'Vendor List'!$A2942)","v":"STUTZ ASSOCIATES"}]
[null,null,{"$f":"IF('Vendor List'!$A2943=\"\",\"\",'Vendor List'!$A2943)","v":"SUB TOWN DELI"}]
[null,null,{"$f":"IF('Vendor List'!$A2944=\"\",\"\",'Vendor List'!$A2944)","v":"SUBTECHNIQUE"}]
[null,null,{"$f":"IF('Vendor List'!$A2945=\"\",\"\",'Vendor List'!$A2945)","v":"SUBURBAN INDUSTRIES, INC."}]
[null,null,{"$f":"IF('Vendor List'!$A2946=\"\",\"\",'Vendor List'!$A2946)","v":"SUGAR & SPICE EATERY, INC"}]
[null,null,{"$f":"IF('Vendor List'!$A2947=\"\",\"\",'Vendor List'!$A2947)","v":"SULLIVAN BROS INC"}]
[null,null,{"$f":"IF('Vendor List'!$A2948=\"\",\"\",'Vendor List'!$A2948)","v":"SULLIVAN MANUFACTURING CORP"}]
[null,null,{"$f":"IF('Vendor List'!$A2949=\"\",\"\",'Vendor List'!$A2949)","v":"SULZER MACHINE & MANUFACTURING"}]
[null,null,{"$f":"IF('Vendor List'!$A2950=\"\",\"\",'Vendor List'!$A2950)","v":"SUMIKA ELECTRONIC MATERIALS"}]
[null,null,{"$f":"IF('Vendor List'!$A2951=\"\",\"\",'Vendor List'!$A2951)","v":"SUMITOMO CRYOGENICS"}]
[null,null,{"$f":"IF('Vendor List'!$A2952=\"\",\"\",'Vendor List'!$A2952)","v":"SUMMIT RACING EQUIPMENT"}]
[null,null,{"$f":"IF('Vendor List'!$A2953=\"\",\"\",'Vendor List'!$A2953)","v":"SUN MICROSYSTEMS"}]
[null,null,{"$f":"IF('Vendor List'!$A2954=\"\",\"\",'Vendor List'!$A2954)","v":"SUN MICROSYSTEMS"}]
[null,null,{"$f":"IF('Vendor List'!$A2955=\"\",\"\",'Vendor List'!$A2955)","v":"SUNBELT SOFTWARE"}]
[null,null,{"$f":"IF('Vendor List'!$A2956=\"\",\"\",'Vendor List'!$A2956)","v":"SUNBELT SOFTWARE DISTRIBUTION"}]
[null,null,{"$f":"IF('Vendor List'!$A2957=\"\",\"\",'Vendor List'!$A2957)","v":"SUNDANCE SUPPLY"}]
[null,null,{"$f":"IF('Vendor List'!$A2958=\"\",\"\",'Vendor List'!$A2958)","v":"SUNIX CORPORATION"}]
[null,null,{"$f":"IF('Vendor List'!$A2959=\"\",\"\",'Vendor List'!$A2959)","v":"SUNSOURCE"}]
[null,null,{"$f":"IF('Vendor List'!$A2960=\"\",\"\",'Vendor List'!$A2960)","v":"SUPER WAREHOUSE"}]
[null,null,{"$f":"IF('Vendor List'!$A2961=\"\",\"\",'Vendor List'!$A2961)","v":"SUPERBOLT"}]
[null,null,{"$f":"IF('Vendor List'!$A2962=\"\",\"\",'Vendor List'!$A2962)","v":"SUPERCIRCUITS"}]
[null,null,{"$f":"IF('Vendor List'!$A2963=\"\",\"\",'Vendor List'!$A2963)","v":"SUPERINTENDENT OF DOCUMENTS"}]
[null,null,{"$f":"IF('Vendor List'!$A2964=\"\",\"\",'Vendor List'!$A2964)","v":"SUPERIOR DETROIT"}]
[null,null,{"$f":"IF('Vendor List'!$A2965=\"\",\"\",'Vendor List'!$A2965)","v":"SUPERMICRO COMPUTER"}]
[null,null,{"$f":"IF('Vendor List'!$A2966=\"\",\"\",'Vendor List'!$A2966)","v":"SUREPURE CHEMICALS INC"}]
[null,null,{"$f":"IF('Vendor List'!$A2967=\"\",\"\",'Vendor List'!$A2967)","v":"SURFACE FINISHES INC"}]
[null,null,{"$f":"IF('Vendor List'!$A2968=\"\",\"\",'Vendor List'!$A2968)","v":"SURFACE/INTERFACE INC."}]
[null,null,{"$f":"IF('Vendor List'!$A2969=\"\",\"\",'Vendor List'!$A2969)","v":"SURPLUS CENTER"}]
[null,null,{"$f":"IF('Vendor List'!$A2970=\"\",\"\",'Vendor List'!$A2970)","v":"SURPLUS SALES OF NEBRASKA"}]
[null,null,{"$f":"IF('Vendor List'!$A2971=\"\",\"\",'Vendor List'!$A2971)","v":"SURPLUS SHED"}]
[null,null,{"$f":"IF('Vendor List'!$A2972=\"\",\"\",'Vendor List'!$A2972)","v":"SURPLUSEQ.COM, INC."}]
[null,null,{"$f":"IF('Vendor List'!$A2973=\"\",\"\",'Vendor List'!$A2973)","v":"SURVEYMONKEY.COM"}]
[null,null,{"$f":"IF('Vendor List'!$A2974=\"\",\"\",'Vendor List'!$A2974)","v":"SVEN REICHE"}]
[null,null,{"$f":"IF('Vendor List'!$A2975=\"\",\"\",'Vendor List'!$A2975)","v":"SWALES AEROSPACE"}]
[null,null,{"$f":"IF('Vendor List'!$A2976=\"\",\"\",'Vendor List'!$A2976)","v":"SWANSON ANALYSIS SYSTEMS INC"}]
[null,null,{"$f":"IF('Vendor List'!$A2977=\"\",\"\",'Vendor List'!$A2977)","v":"SWHIFT SYSTEMS INC"}]
[null,null,{"$f":"IF('Vendor List'!$A2978=\"\",\"\",'Vendor List'!$A2978)","v":"SWISS AUTOMATION"}]
[null,null,{"$f":"IF('Vendor List'!$A2979=\"\",\"\",'Vendor List'!$A2979)","v":"SYMANTEC CORPORATION"}]
[null,null,{"$f":"IF('Vendor List'!$A2980=\"\",\"\",'Vendor List'!$A2980)","v":"SYMMETRICOM"}]
[null,null,{"$f":"IF('Vendor List'!$A2981=\"\",\"\",'Vendor List'!$A2981)","v":"SYMMETRICOM"}]
[null,null,{"$f":"IF('Vendor List'!$A2982=\"\",\"\",'Vendor List'!$A2982)","v":"SYNAPTECH"}]
[null,null,{"$f":"IF('Vendor List'!$A2983=\"\",\"\",'Vendor List'!$A2983)","v":"SYNCHROTRON RADIATION CENTER"}]
[null,null,{"$f":"IF('Vendor List'!$A2984=\"\",\"\",'Vendor List'!$A2984)","v":"SYNCHROTRON RADIATION NEWS"}]
[null,null,{"$f":"IF('Vendor List'!$A2985=\"\",\"\",'Vendor List'!$A2985)","v":"SYNERCOMM"}]
[null,null,{"$f":"IF('Vendor List'!$A2986=\"\",\"\",'Vendor List'!$A2986)","v":"SYNERGY SOFTWARE"}]
[null,null,{"$f":"IF('Vendor List'!$A2987=\"\",\"\",'Vendor List'!$A2987)","v":"SYSTEM PLANNING CORP"}]
[null,null,{"$f":"IF('Vendor List'!$A2988=\"\",\"\",'Vendor List'!$A2988)","v":"SYSTEMS MAINTENANCE SERVICES"}]
[null,null,{"$f":"IF('Vendor List'!$A2989=\"\",\"\",'Vendor List'!$A2989)","v":"SYSTRAN CORPORATION"}]
[null,null,{"$f":"IF('Vendor List'!$A2990=\"\",\"\",'Vendor List'!$A2990)","v":"SYSTRON DONNER CORPORATION"}]
[null,null,{"$f":"IF('Vendor List'!$A2991=\"\",\"\",'Vendor List'!$A2991)","v":"T MAKER RESEARCH CORP"}]
[null,null,{"$f":"IF('Vendor List'!$A2992=\"\",\"\",'Vendor List'!$A2992)","v":"T&A INDUSTRIAL"}]
[null,null,{"$f":"IF('Vendor List'!$A2993=\"\",\"\",'Vendor List'!$A2993)","v":"T&A INDUSTRIAL DISTRIBUTORS"}]
[null,null,{"$f":"IF('Vendor List'!$A2994=\"\",\"\",'Vendor List'!$A2994)","v":"T.A.D. MACHINE TOOL CO"}]
[null,null,{"$f":"IF('Vendor List'!$A2995=\"\",\"\",'Vendor List'!$A2995)","v":"TAI  (TECHNOLOGY APPLICATIONS,"}]
[null,null,{"$f":"IF('Vendor List'!$A2996=\"\",\"\",'Vendor List'!$A2996)","v":"TAL TECHNOLOGIES"}]
[null,null,{"$f":"IF('Vendor List'!$A2997=\"\",\"\",'Vendor List'!$A2997)","v":"TANDEMLOC"}]
[null,null,{"$f":"IF('Vendor List'!$A2998=\"\",\"\",'Vendor List'!$A2998)","v":"TAPCO USA, INC."}]
[null,null,{"$f":"IF('Vendor List'!$A2999=\"\",\"\",'Vendor List'!$A2999)","v":"TAPE4BACKUP.COM"}]
[null,null,{"$f":"IF('Vendor List'!$A3000=\"\",\"\",'Vendor List'!$A3000)","v":"TAPEDISK CORP"}]
[null,null,{"$f":"IF('Vendor List'!$A3001=\"\",\"\",'Vendor List'!$A3001)","v":"TARANET IA INC."}]
[null,null,{"$f":"IF('Vendor List'!$A3002=\"\",\"\",'Vendor List'!$A3002)","v":"TARGET"}]
[null,null,{"$f":"IF('Vendor List'!$A3003=\"\",\"\",'Vendor List'!$A3003)","v":"TARGET"}]
[null,null,{"$f":"IF('Vendor List'!$A3004=\"\",\"\",'Vendor List'!$A3004)","v":"TARGET COMMERICAL INTERIORS"}]
[null,null,{"$f":"IF('Vendor List'!$A3005=\"\",\"\",'Vendor List'!$A3005)","v":"TARPS PLUS"}]
[null,null,{"$f":"IF('Vendor List'!$A3006=\"\",\"\",'Vendor List'!$A3006)","v":"TAYLOR & FRANCIS"}]
[null,null,{"$f":"IF('Vendor List'!$A3007=\"\",\"\",'Vendor List'!$A3007)","v":"TAYLOR HOBSON INC"}]
[null,null,{"$f":"IF('Vendor List'!$A3008=\"\",\"\",'Vendor List'!$A3008)","v":"TAYLOR INDUSTRIAL ELECTRONICS"}]
[null,null,{"$f":"IF('Vendor List'!$A3009=\"\",\"\",'Vendor List'!$A3009)","v":"TCI ALUMINUM"}]
[null,null,{"$f":"IF('Vendor List'!$A3010=\"\",\"\",'Vendor List'!$A3010)","v":"TCI AMERICA"}]
[null,null,{"$f":"IF('Vendor List'!$A3011=\"\",\"\",'Vendor List'!$A3011)","v":"TCO POWER CENTER"}]
[null,null,{"$f":"IF('Vendor List'!$A3012=\"\",\"\",'Vendor List'!$A3012)","v":"TECH MART"}]
[null,null,{"$f":"IF('Vendor List'!$A3013=\"\",\"\",'Vendor List'!$A3013)","v":"TECH POOL STUDIOS INC"}]
[null,null,{"$f":"IF('Vendor List'!$A3014=\"\",\"\",'Vendor List'!$A3014)","v":"TECH WELD INC"}]
[null,null,{"$f":"IF('Vendor List'!$A3015=\"\",\"\",'Vendor List'!$A3015)","v":"TECH-ETCH, INC"}]
[null,null,{"$f":"IF('Vendor List'!$A3016=\"\",\"\",'Vendor List'!$A3016)","v":"TECHMAR CORPORATION"}]
[null,null,{"$f":"IF('Vendor List'!$A3017=\"\",\"\",'Vendor List'!$A3017)","v":"TECHMASTER INC"}]
[null,null,{"$f":"IF('Vendor List'!$A3018=\"\",\"\",'Vendor List'!$A3018)","v":"TECHNI TOOL INC"}]
[null,null,{"$f":"IF('Vendor List'!$A3019=\"\",\"\",'Vendor List'!$A3019)","v":"TECHNIC INC"}]
[null,null,{"$f":"IF('Vendor List'!$A3020=\"\",\"\",'Vendor List'!$A3020)","v":"TECHNICAL MANUFACTURING CORP"}]
[null,null,{"$f":"IF('Vendor List'!$A3021=\"\",\"\",'Vendor List'!$A3021)","v":"TECHNICAL PRODUCTS INC"}]
[null,null,{"$f":"IF('Vendor List'!$A3022=\"\",\"\",'Vendor List'!$A3022)","v":"TECHNIMARK INC"}]
[null,null,{"$f":"IF('Vendor List'!$A3023=\"\",\"\",'Vendor List'!$A3023)","v":"TECHNOLOGY GALAXY"}]
[null,null,{"$f":"IF('Vendor List'!$A3024=\"\",\"\",'Vendor List'!$A3024)","v":"TECHPOOL"}]
[null,null,{"$f":"IF('Vendor List'!$A3025=\"\",\"\",'Vendor List'!$A3025)","v":"TECTRA GMBH"}]
[null,null,{"$f":"IF('Vendor List'!$A3026=\"\",\"\",'Vendor List'!$A3026)","v":"TED PELLA INC"}]
[null,null,{"$f":"IF('Vendor List'!$A3027=\"\",\"\",'Vendor List'!$A3027)","v":"TEETER WARSH COMPANY"}]
[null,null,{"$f":"IF('Vendor List'!$A3028=\"\",\"\",'Vendor List'!$A3028)","v":"TEK PRODUCTS"}]
[null,null,{"$f":"IF('Vendor List'!$A3029=\"\",\"\",'Vendor List'!$A3029)","v":"TEK-SUPPLY INC"}]
[null,null,{"$f":"IF('Vendor List'!$A3030=\"\",\"\",'Vendor List'!$A3030)","v":"TEK-TEMP"}]
[null,null,{"$f":"IF('Vendor List'!$A3031=\"\",\"\",'Vendor List'!$A3031)","v":"TEKNA SEAL"}]
[null,null,{"$f":"IF('Vendor List'!$A3032=\"\",\"\",'Vendor List'!$A3032)","v":"TEKNET ELECTRONICS"}]
[null,null,{"$f":"IF('Vendor List'!$A3033=\"\",\"\",'Vendor List'!$A3033)","v":"TEKSYSTEMS"}]
[null,null,{"$f":"IF('Vendor List'!$A3034=\"\",\"\",'Vendor List'!$A3034)","v":"TEKTRONIX"}]
[null,null,{"$f":"IF('Vendor List'!$A3035=\"\",\"\",'Vendor List'!$A3035)","v":"TEKTRONIX"}]
[null,null,{"$f":"IF('Vendor List'!$A3036=\"\",\"\",'Vendor List'!$A3036)","v":"TEKTRONIX INC"}]
[null,null,{"$f":"IF('Vendor List'!$A3037=\"\",\"\",'Vendor List'!$A3037)","v":"TEKTRONIX INC"}]
[null,null,{"$f":"IF('Vendor List'!$A3038=\"\",\"\",'Vendor List'!$A3038)","v":"TELECHEM INTERNATIONAL"}]
[null,null,{"$f":"IF('Vendor List'!$A3039=\"\",\"\",'Vendor List'!$A3039)","v":"TELEDYNE BENTHOS"}]
[null,null,{"$f":"IF('Vendor List'!$A3040=\"\",\"\",'Vendor List'!$A3040)","v":"TELEDYNE IMPULSE ENTERPRISE"}]
[null,null,{"$f":"IF('Vendor List'!$A3041=\"\",\"\",'Vendor List'!$A3041)","v":"TELEDYNE STORM PRODUCTS"}]
[null,null,{"$f":"IF('Vendor List'!$A3042=\"\",\"\",'Vendor List'!$A3042)","v":"TELEPHONE ANSWERING SERV (TAS)"}]
[null,null,{"$f":"IF('Vendor List'!$A3043=\"\",\"\",'Vendor List'!$A3043)","v":"TELEPHONE TOOLS OF GEORGIA,INC"}]
[null,null,{"$f":"IF('Vendor List'!$A3044=\"\",\"\",'Vendor List'!$A3044)","v":"TELIC"}]
[null,null,{"$f":"IF('Vendor List'!$A3045=\"\",\"\",'Vendor List'!$A3045)","v":"TELOG INSTRUMENTS INC"}]
[null,null,{"$f":"IF('Vendor List'!$A3046=\"\",\"\",'Vendor List'!$A3046)","v":"TEMPERATURE SYSTEMS INC."}]
[null,null,{"$f":"IF('Vendor List'!$A3047=\"\",\"\",'Vendor List'!$A3047)","v":"TENCOR INC"}]
[null,null,{"$f":"IF('Vendor List'!$A3048=\"\",\"\",'Vendor List'!$A3048)","v":"TEQUIPMENT.NET"}]
[null,null,{"$f":"IF('Vendor List'!$A3049=\"\",\"\",'Vendor List'!$A3049)","v":"TERRA UNIVERSAL INC"}]
[null,null,{"$f":"IF('Vendor List'!$A3050=\"\",\"\",'Vendor List'!$A3050)","v":"TERRATIAL TECHNOLOGIES"}]
[null,null,{"$f":"IF('Vendor List'!$A3051=\"\",\"\",'Vendor List'!$A3051)","v":"TESSCO TECHNOLOLGIES"}]
[null,null,{"$f":"IF('Vendor List'!$A3052=\"\",\"\",'Vendor List'!$A3052)","v":"TEST EQUITY INC"}]
[null,null,{"$f":"IF('Vendor List'!$A3053=\"\",\"\",'Vendor List'!$A3053)","v":"TEX USERS GROUP"}]
[null,null,{"$f":"IF('Vendor List'!$A3054=\"\",\"\",'Vendor List'!$A3054)","v":"TEXAS AMERICA SAFETY CO"}]
[null,null,{"$f":"IF('Vendor List'!$A3055=\"\",\"\",'Vendor List'!$A3055)","v":"TEXAS INSTRUMENTS"}]
[null,null,{"$f":"IF('Vendor List'!$A3056=\"\",\"\",'Vendor List'!$A3056)","v":"TEXAS INSTRUMENTS"}]
[null,null,{"$f":"IF('Vendor List'!$A3057=\"\",\"\",'Vendor List'!$A3057)","v":"TEXAS INSTRUMENTS INC"}]
[null,null,{"$f":"IF('Vendor List'!$A3058=\"\",\"\",'Vendor List'!$A3058)","v":"TEXAS TECHNOLOGIES INC"}]
[null,null,{"$f":"IF('Vendor List'!$A3059=\"\",\"\",'Vendor List'!$A3059)","v":"TEXLOC"}]
[null,null,{"$f":"IF('Vendor List'!$A3060=\"\",\"\",'Vendor List'!$A3060)","v":"TEXLOC"}]
[null,null,{"$f":"IF('Vendor List'!$A3061=\"\",\"\",'Vendor List'!$A3061)","v":"TEXMATE"}]
[null,null,{"$f":"IF('Vendor List'!$A3062=\"\",\"\",'Vendor List'!$A3062)","v":"TEXWIPE COMPANY"}]
[null,null,{"$f":"IF('Vendor List'!$A3063=\"\",\"\",'Vendor List'!$A3063)","v":"THE BETTY MILLS CO"}]
[null,null,{"$f":"IF('Vendor List'!$A3064=\"\",\"\",'Vendor List'!$A3064)","v":"THE DRY BEAN"}]
[null,null,{"$f":"IF('Vendor List'!$A3065=\"\",\"\",'Vendor List'!$A3065)","v":"THE EDGEWATER HOTEL"}]
[null,null,{"$f":"IF('Vendor List'!$A3066=\"\",\"\",'Vendor List'!$A3066)","v":"THE H & H TRAILER CO"}]
[null,null,{"$f":"IF('Vendor List'!$A3067=\"\",\"\",'Vendor List'!$A3067)","v":"THE HOME DEPOT"}]
[null,null,{"$f":"IF('Vendor List'!$A3068=\"\",\"\",'Vendor List'!$A3068)","v":"THE JOHNSON CORPORATION"}]
[null,null,{"$f":"IF('Vendor List'!$A3069=\"\",\"\",'Vendor List'!$A3069)","v":"THE LEE COMPANY"}]
[null,null,{"$f":"IF('Vendor List'!$A3070=\"\",\"\",'Vendor List'!$A3070)","v":"THE MANIFORD CENTER"}]
[null,null,{"$f":"IF('Vendor List'!$A3071=\"\",\"\",'Vendor List'!$A3071)","v":"THE PORTLAND GROUP, INC"}]
[null,null,{"$f":"IF('Vendor List'!$A3072=\"\",\"\",'Vendor List'!$A3072)","v":"THE PRINTER WORKS"}]
[null,null,{"$f":"IF('Vendor List'!$A3073=\"\",\"\",'Vendor List'!$A3073)","v":"THE PYLE CENTER"}]
[null,null,{"$f":"IF('Vendor List'!$A3074=\"\",\"\",'Vendor List'!$A3074)","v":"THE REGENT"}]
[null,null,{"$f":"IF('Vendor List'!$A3075=\"\",\"\",'Vendor List'!$A3075)","v":"THE REMBAR CO, INC"}]
[null,null,{"$f":"IF('Vendor List'!$A3076=\"\",\"\",'Vendor List'!$A3076)","v":"THE ROWLAND COMPANY"}]
[null,null,{"$f":"IF('Vendor List'!$A3077=\"\",\"\",'Vendor List'!$A3077)","v":"THE TAPE COMPANY"}]
[null,null,{"$f":"IF('Vendor List'!$A3078=\"\",\"\",'Vendor List'!$A3078)","v":"THE ZIPPERTUBING CO"}]
[null,null,{"$f":"IF('Vendor List'!$A3079=\"\",\"\",'Vendor List'!$A3079)","v":"THERM TECH OF WAUKESHA INC"}]
[null,null,{"$f":"IF('Vendor List'!$A3080=\"\",\"\",'Vendor List'!$A3080)","v":"THERMAL REDUCTION CO."}]
[null,null,{"$f":"IF('Vendor List'!$A3081=\"\",\"\",'Vendor List'!$A3081)","v":"THERMIONICS LABORATORY INC"}]
[null,null,{"$f":"IF('Vendor List'!$A3082=\"\",\"\",'Vendor List'!$A3082)","v":"THERMIONICS LABORATORY INC NW"}]
[null,null,{"$f":"IF('Vendor List'!$A3083=\"\",\"\",'Vendor List'!$A3083)","v":"THERMIONICS METAL PROCESSING"}]
[null,null,{"$f":"IF('Vendor List'!$A3084=\"\",\"\",'Vendor List'!$A3084)","v":"THERMO ELECTRON CORP"}]
[null,null,{"$f":"IF('Vendor List'!$A3085=\"\",\"\",'Vendor List'!$A3085)","v":"THERMO ELECTRON CORPORATION"}]
[null,null,{"$f":"IF('Vendor List'!$A3086=\"\",\"\",'Vendor List'!$A3086)","v":"THERMO ELECTRON SCIENTIFIC"}]
[null,null,{"$f":"IF('Vendor List'!$A3087=\"\",\"\",'Vendor List'!$A3087)","v":"THERMO ELECTRON SPECTROSCOPY"}]
[null,null,{"$f":"IF('Vendor List'!$A3088=\"\",\"\",'Vendor List'!$A3088)","v":"THERMO SHIELD"}]
[null,null,{"$f":"IF('Vendor List'!$A3089=\"\",\"\",'Vendor List'!$A3089)","v":"THERMO TECH"}]
[null,null,{"$f":"IF('Vendor List'!$A3090=\"\",\"\",'Vendor List'!$A3090)","v":"THERMOCOAX"}]
[null,null,{"$f":"IF('Vendor List'!$A3091=\"\",\"\",'Vendor List'!$A3091)","v":"THERMOLYNE CORPORATION"}]
[null,null,{"$f":"IF('Vendor List'!$A3092=\"\",\"\",'Vendor List'!$A3092)","v":"THERMOMICROSCOPES"}]
[null,null,{"$f":"IF('Vendor List'!$A3093=\"\",\"\",'Vendor List'!$A3093)","v":"THERMOVAC INC"}]
[null,null,{"$f":"IF('Vendor List'!$A3094=\"\",\"\",'Vendor List'!$A3094)","v":"THERMTROL CORPORATION"}]
[null,null,{"$f":"IF('Vendor List'!$A3095=\"\",\"\",'Vendor List'!$A3095)","v":"THINK INK AND DESIGN"}]
[null,null,{"$f":"IF('Vendor List'!$A3096=\"\",\"\",'Vendor List'!$A3096)","v":"THINKGEEK INC"}]
[null,null,{"$f":"IF('Vendor List'!$A3097=\"\",\"\",'Vendor List'!$A3097)","v":"THK AMERICA INC"}]
[null,null,{"$f":"IF('Vendor List'!$A3098=\"\",\"\",'Vendor List'!$A3098)","v":"THOMAS INDUSTRIAL SUPPLY INC"}]
[null,null,{"$f":"IF('Vendor List'!$A3099=\"\",\"\",'Vendor List'!$A3099)","v":"THOMAS PUBLISHING COMPANY"}]
[null,null,{"$f":"IF('Vendor List'!$A3100=\"\",\"\",'Vendor List'!$A3100)","v":"THOMPSON GRINDERS INC"}]
[null,null,{"$f":"IF('Vendor List'!$A3101=\"\",\"\",'Vendor List'!$A3101)","v":"THOR LABS INC"}]
[null,null,{"$f":"IF('Vendor List'!$A3102=\"\",\"\",'Vendor List'!$A3102)","v":"THORNTON ASSOCIATES, INC"}]
[null,null,{"$f":"IF('Vendor List'!$A3103=\"\",\"\",'Vendor List'!$A3103)","v":"THORSTAD CHEVROLET"}]
[null,null,{"$f":"IF('Vendor List'!$A3104=\"\",\"\",'Vendor List'!$A3104)","v":"THRIFT PAINTING"}]
[null,null,{"$f":"IF('Vendor List'!$A3105=\"\",\"\",'Vendor List'!$A3105)","v":"THT SALES COMPANY, INC."}]
[null,null,{"$f":"IF('Vendor List'!$A3106=\"\",\"\",'Vendor List'!$A3106)","v":"THUEMLING INDUSTRIAL PRODUCTS"}]
[null,null,{"$f":"IF('Vendor List'!$A3107=\"\",\"\",'Vendor List'!$A3107)","v":"THURNER HEAT TREATING CORP"}]
[null,null,{"$f":"IF('Vendor List'!$A3108=\"\",\"\",'Vendor List'!$A3108)","v":"TICO TITANIUM"}]
[null,null,{"$f":"IF('Vendor List'!$A3109=\"\",\"\",'Vendor List'!$A3109)","v":"TIERNEY BROTHERS"}]
[null,null,{"$f":"IF('Vendor List'!$A3110=\"\",\"\",'Vendor List'!$A3110)","v":"TIERRA"}]
[null,null,{"$f":"IF('Vendor List'!$A3111=\"\",\"\",'Vendor List'!$A3111)","v":"TIGER DIRECT"}]
[null,null,{"$f":"IF('Vendor List'!$A3112=\"\",\"\",'Vendor List'!$A3112)","v":"TIGER SOFTWARE"}]
[null,null,{"$f":"IF('Vendor List'!$A3113=\"\",\"\",'Vendor List'!$A3113)","v":"TIGER SOFTWARE"}]
[null,null,{"$f":"IF('Vendor List'!$A3114=\"\",\"\",'Vendor List'!$A3114)","v":"TIME MOTION TOOLS INC"}]
[null,null,{"$f":"IF('Vendor List'!$A3115=\"\",\"\",'Vendor List'!$A3115)","v":"TIMES MICROWAVE SYSTEMS"}]
[null,null,{"$f":"IF('Vendor List'!$A3116=\"\",\"\",'Vendor List'!$A3116)","v":"TINSLEY"}]
[null,null,{"$f":"IF('Vendor List'!$A3117=\"\",\"\",'Vendor List'!$A3117)","v":"TITAN TOOL SUPPLY CO INC"}]
[null,null,{"$f":"IF('Vendor List'!$A3118=\"\",\"\",'Vendor List'!$A3118)","v":"TITAN WIRELESS, LLC"}]
[null,null,{"$f":"IF('Vendor List'!$A3119=\"\",\"\",'Vendor List'!$A3119)","v":"TJT INTERNATIONAL"}]
[null,null,{"$f":"IF('Vendor List'!$A3120=\"\",\"\",'Vendor List'!$A3120)","v":"TMW MEDIA"}]
[null,null,{"$f":"IF('Vendor List'!$A3121=\"\",\"\",'Vendor List'!$A3121)","v":"TODDCO INC"}]
[null,null,{"$f":"IF('Vendor List'!$A3122=\"\",\"\",'Vendor List'!$A3122)","v":"TOLEDO METAL SPINNING"}]
[null,null,{"$f":"IF('Vendor List'!$A3123=\"\",\"\",'Vendor List'!$A3123)","v":"TOM O'ROURKE"}]
[null,null,{"$f":"IF('Vendor List'!$A3124=\"\",\"\",'Vendor List'!$A3124)","v":"TOM TIERNAN & ASSOCIATES"}]
[null,null,{"$f":"IF('Vendor List'!$A3125=\"\",\"\",'Vendor List'!$A3125)","v":"TOMAHAWK LIVE TRAP"}]
[null,null,{"$f":"IF('Vendor List'!$A3126=\"\",\"\",'Vendor List'!$A3126)","v":"TONAR INDUSTRIES"}]
[null,null,{"$f":"IF('Vendor List'!$A3127=\"\",\"\",'Vendor List'!$A3127)","v":"TOOL SERVICE CORP"}]
[null,null,{"$f":"IF('Vendor List'!$A3128=\"\",\"\",'Vendor List'!$A3128)","v":"TOOLMANN MACHINERY SALES"}]
[null,null,{"$f":"IF('Vendor List'!$A3129=\"\",\"\",'Vendor List'!$A3129)","v":"TOPAC INC"}]
[null,null,{"$f":"IF('Vendor List'!$A3130=\"\",\"\",'Vendor List'!$A3130)","v":"TOPOMETRIX"}]
[null,null,{"$f":"IF('Vendor List'!$A3131=\"\",\"\",'Vendor List'!$A3131)","v":"TORVAC"}]
[null,null,{"$f":"IF('Vendor List'!$A3132=\"\",\"\",'Vendor List'!$A3132)","v":"TOTAL RECALL"}]
[null,null,{"$f":"IF('Vendor List'!$A3133=\"\",\"\",'Vendor List'!$A3133)","v":"TOUGH SOLUTIONS"}]
[null,null,{"$f":"IF('Vendor List'!$A3134=\"\",\"\",'Vendor List'!$A3134)","v":"TOWER OPTICAL CORP"}]
[null,null,{"$f":"IF('Vendor List'!$A3135=\"\",\"\",'Vendor List'!$A3135)","v":"TOWN & COUNTRY ELECTRIC"}]
[null,null,{"$f":"IF('Vendor List'!$A3136=\"\",\"\",'Vendor List'!$A3136)","v":"TOWN OF DUNN"}]
[null,null,{"$f":"IF('Vendor List'!$A3137=\"\",\"\",'Vendor List'!$A3137)","v":"TRA CON"}]
[null,null,{"$f":"IF('Vendor List'!$A3138=\"\",\"\",'Vendor List'!$A3138)","v":"TRACE MEDICAL EQUIPMENT INC"}]
[null,null,{"$f":"IF('Vendor List'!$A3139=\"\",\"\",'Vendor List'!$A3139)","v":"TRAINING INNOVATIONS"}]
[null,null,{"$f":"IF('Vendor List'!$A3140=\"\",\"\",'Vendor List'!$A3140)","v":"TRANS-COIL, INC"}]
[null,null,{"$f":"IF('Vendor List'!$A3141=\"\",\"\",'Vendor List'!$A3141)","v":"TRANSCOM CORP"}]
[null,null,{"$f":"IF('Vendor List'!$A3142=\"\",\"\",'Vendor List'!$A3142)","v":"TRANSDUCER TECHNIQUES"}]
[null,null,{"$f":"IF('Vendor List'!$A3143=\"\",\"\",'Vendor List'!$A3143)","v":"TRANSFER ENGINEERING"}]
[null,null,{"$f":"IF('Vendor List'!$A3144=\"\",\"\",'Vendor List'!$A3144)","v":"TRANSGROUP WORLDWIDE LOGISTICS"}]
[null,null,{"$f":"IF('Vendor List'!$A3145=\"\",\"\",'Vendor List'!$A3145)","v":"TRANSOURCE COMPUTERS"}]
[null,null,{"$f":"IF('Vendor List'!$A3146=\"\",\"\",'Vendor List'!$A3146)","v":"TRAVEL EASE INC"}]
[null,null,{"$f":"IF('Vendor List'!$A3147=\"\",\"\",'Vendor List'!$A3147)","v":"TRAVELING SOFTWARE"}]
[null,null,{"$f":"IF('Vendor List'!$A3148=\"\",\"\",'Vendor List'!$A3148)","v":"TRAVELING SOFTWARE"}]
[null,null,{"$f":"IF('Vendor List'!$A3149=\"\",\"\",'Vendor List'!$A3149)","v":"TRAVERS TOOL COMPANY"}]
[null,null,{"$f":"IF('Vendor List'!$A3150=\"\",\"\",'Vendor List'!$A3150)","v":"TRAVLYN PEDDLERS"}]
[null,null,{"$f":"IF('Vendor List'!$A3151=\"\",\"\",'Vendor List'!$A3151)","v":"TRCA"}]
[null,null,{"$f":"IF('Vendor List'!$A3152=\"\",\"\",'Vendor List'!$A3152)","v":"TREASURE CHEST"}]
[null,null,{"$f":"IF('Vendor List'!$A3153=\"\",\"\",'Vendor List'!$A3153)","v":"TREASURE CHEST"}]
[null,null,{"$f":"IF('Vendor List'!$A3154=\"\",\"\",'Vendor List'!$A3154)","v":"TRI PHASE AUTOMATION INC."}]
[null,null,{"$f":"IF('Vendor List'!$A3155=\"\",\"\",'Vendor List'!$A3155)","v":"TRI SOURCE INC."}]
[null,null,{"$f":"IF('Vendor List'!$A3156=\"\",\"\",'Vendor List'!$A3156)","v":"TRI STATE PUMP"}]
[null,null,{"$f":"IF('Vendor List'!$A3157=\"\",\"\",'Vendor List'!$A3157)","v":"TRI WIRE"}]
[null,null,{"$f":"IF('Vendor List'!$A3158=\"\",\"\",'Vendor List'!$A3158)","v":"TRI-COUNTY APPLIANCE"}]
[null,null,{"$f":"IF('Vendor List'!$A3159=\"\",\"\",'Vendor List'!$A3159)","v":"TRI-STATE ELECTRONIC CORP"}]
[null,null,{"$f":"IF('Vendor List'!$A3160=\"\",\"\",'Vendor List'!$A3160)","v":"TRIAD PROCESS EQUIPMENT"}]
[null,null,{"$f":"IF('Vendor List'!$A3161=\"\",\"\",'Vendor List'!$A3161)","v":"TRIAD PROJECT MANAGEMENT"}]
[null,null,{"$f":"IF('Vendor List'!$A3162=\"\",\"\",'Vendor List'!$A3162)","v":"TRIANGLE CABLES.COM LLC"}]
[null,null,{"$f":"IF('Vendor List'!$A3163=\"\",\"\",'Vendor List'!$A3163)","v":"TRIANGLE TECH"}]
[null,null,{"$f":"IF('Vendor List'!$A3164=\"\",\"\",'Vendor List'!$A3164)","v":"TRIBECA COMPUTER CORPORATION"}]
[null,null,{"$f":"IF('Vendor List'!$A3165=\"\",\"\",'Vendor List'!$A3165)","v":"TRICO MANUFACTURING CORP"}]
[null,null,{"$f":"IF('Vendor List'!$A3166=\"\",\"\",'Vendor List'!$A3166)","v":"TRIGRAM SYSTEMS"}]
[null,null,{"$f":"IF('Vendor List'!$A3167=\"\",\"\",'Vendor List'!$A3167)","v":"TRILOBYTE PICTURES"}]
[null,null,{"$f":"IF('Vendor List'!$A3168=\"\",\"\",'Vendor List'!$A3168)","v":"TRIM-LOK INC"}]
[null,null,{"$f":"IF('Vendor List'!$A3169=\"\",\"\",'Vendor List'!$A3169)","v":"TRIMETRIX"}]
[null,null,{"$f":"IF('Vendor List'!$A3170=\"\",\"\",'Vendor List'!$A3170)","v":"TRIPHASE AUTOMATION"}]
[null,null,{"$f":"IF('Vendor List'!$A3171=\"\",\"\",'Vendor List'!$A3171)","v":"TRIWAY MACHINING"}]
[null,null,{"$f":"IF('Vendor List'!$A3172=\"\",\"\",'Vendor List'!$A3172)","v":"TUBEDEPOT.COM"}]
[null,null,{"$f":"IF('Vendor List'!$A3173=\"\",\"\",'Vendor List'!$A3173)","v":"TUBESALES"}]
[null,null,{"$f":"IF('Vendor List'!$A3174=\"\",\"\",'Vendor List'!$A3174)","v":"TUCKER ELECTRONICS CO"}]
[null,null,{"$f":"IF('Vendor List'!$A3175=\"\",\"\",'Vendor List'!$A3175)","v":"TULSA POWER PRODUCTS"}]
[null,null,{"$f":"IF('Vendor List'!$A3176=\"\",\"\",'Vendor List'!$A3176)","v":"TUNGSTEN PRODUCTS"}]
[null,null,{"$f":"IF('Vendor List'!$A3177=\"\",\"\",'Vendor List'!$A3177)","v":"TUSHAUS COMPUTER SERVICE"}]
[null,null,{"$f":"IF('Vendor List'!$A3178=\"\",\"\",'Vendor List'!$A3178)","v":"TW METALS"}]
[null,null,{"$f":"IF('Vendor List'!$A3179=\"\",\"\",'Vendor List'!$A3179)","v":"TWIN CITIES DIGITAL"}]
[null,null,{"$f":"IF('Vendor List'!$A3180=\"\",\"\",'Vendor List'!$A3180)","v":"TWP INC"}]
[null,null,{"$f":"IF('Vendor List'!$A3181=\"\",\"\",'Vendor List'!$A3181)","v":"TWR SERVICE CORP"}]
[null,null,{"$f":"IF('Vendor List'!$A3182=\"\",\"\",'Vendor List'!$A3182)","v":"TYCO THERMAL CONTROLS MW"}]
[null,null,{"$f":"IF('Vendor List'!$A3183=\"\",\"\",'Vendor List'!$A3183)","v":"TYGH SILICON"}]
[null,null,{"$f":"IF('Vendor List'!$A3184=\"\",\"\",'Vendor List'!$A3184)","v":"TYLER TOOL CO"}]
[null,null,{"$f":"IF('Vendor List'!$A3185=\"\",\"\",'Vendor List'!$A3185)","v":"U FRAME IT"}]
[null,null,{"$f":"IF('Vendor List'!$A3186=\"\",\"\",'Vendor List'!$A3186)","v":"U.S. CUSTOMS SERVICE"}]
[null,null,{"$f":"IF('Vendor List'!$A3187=\"\",\"\",'Vendor List'!$A3187)","v":"UC COMPONENTS"}]
[null,null,{"$f":"IF('Vendor List'!$A3188=\"\",\"\",'Vendor List'!$A3188)","v":"UC REGENTS"}]
[null,null,{"$f":"IF('Vendor List'!$A3189=\"\",\"\",'Vendor List'!$A3189)","v":"UDT SENSORS"}]
[null,null,{"$f":"IF('Vendor List'!$A3190=\"\",\"\",'Vendor List'!$A3190)","v":"ULEAD SYSTEMS"}]
[null,null,{"$f":"IF('Vendor List'!$A3191=\"\",\"\",'Vendor List'!$A3191)","v":"ULINE INC"}]
[null,null,{"$f":"IF('Vendor List'!$A3192=\"\",\"\",'Vendor List'!$A3192)","v":"ULLMER'S DAIRY EQUIPMENT, INC"}]
[null,null,{"$f":"IF('Vendor List'!$A3193=\"\",\"\",'Vendor List'!$A3193)","v":"ULTRA ONE CORPORATION"}]
[null,null,{"$f":"IF('Vendor List'!$A3194=\"\",\"\",'Vendor List'!$A3194)","v":"ULTRAVOLT INC"}]
[null,null,{"$f":"IF('Vendor List'!$A3195=\"\",\"\",'Vendor List'!$A3195)","v":"UMX- UNIVERSAL MERCANTILE EXCH"}]
[null,null,{"$f":"IF('Vendor List'!$A3196=\"\",\"\",'Vendor List'!$A3196)","v":"UNCLE BUDS SMALL ENGINE"}]
[null,null,{"$f":"IF('Vendor List'!$A3197=\"\",\"\",'Vendor List'!$A3197)","v":"UNICO, INC"}]
[null,null,{"$f":"IF('Vendor List'!$A3198=\"\",\"\",'Vendor List'!$A3198)","v":"UNIFIED EQUIPMENT SYSTEMS"}]
[null,null,{"$f":"IF('Vendor List'!$A3199=\"\",\"\",'Vendor List'!$A3199)","v":"UNIFIED NEWSPAPER GROUP"}]
[null,null,{"$f":"IF('Vendor List'!$A3200=\"\",\"\",'Vendor List'!$A3200)","v":"UNION CAB OF MADISON"}]
[null,null,{"$f":"IF('Vendor List'!$A3201=\"\",\"\",'Vendor List'!$A3201)","v":"UNION SOUTH"}]
[null,null,{"$f":"IF('Vendor List'!$A3202=\"\",\"\",'Vendor List'!$A3202)","v":"UNION TRANSFER & STORAGE INC"}]
[null,null,{"$f":"IF('Vendor List'!$A3203=\"\",\"\",'Vendor List'!$A3203)","v":"UNIPHASE CORP"}]
[null,null,{"$f":"IF('Vendor List'!$A3204=\"\",\"\",'Vendor List'!$A3204)","v":"UNIQUE MANUFACTURING INC"}]
[null,null,{"$f":"IF('Vendor List'!$A3205=\"\",\"\",'Vendor List'!$A3205)","v":"UNISOURCE"}]
[null,null,{"$f":"IF('Vendor List'!$A3206=\"\",\"\",'Vendor List'!$A3206)","v":"UNISOURCE WORLDWIDE, INC"}]
[null,null,{"$f":"IF('Vendor List'!$A3207=\"\",\"\",'Vendor List'!$A3207)","v":"UNISTRUT"}]
[null,null,{"$f":"IF('Vendor List'!$A3208=\"\",\"\",'Vendor List'!$A3208)","v":"UNISTRUT WISCONSIN"}]
[null,null,{"$f":"IF('Vendor List'!$A3209=\"\",\"\",'Vendor List'!$A3209)","v":"UNITEC SYSTEMS INC"}]
[null,null,{"$f":"IF('Vendor List'!$A3210=\"\",\"\",'Vendor List'!$A3210)","v":"UNITED AIR"}]
[null,null,{"$f":"IF('Vendor List'!$A3211=\"\",\"\",'Vendor List'!$A3211)","v":"UNITED BUILDING CENTERS"}]
[null,null,{"$f":"IF('Vendor List'!$A3212=\"\",\"\",'Vendor List'!$A3212)","v":"UNITED EQUIPMENT ACCESSORIES"}]
[null,null,{"$f":"IF('Vendor List'!$A3213=\"\",\"\",'Vendor List'!$A3213)","v":"UNITED PARCEL SERVICE"}]
[null,null,{"$f":"IF('Vendor List'!$A3214=\"\",\"\",'Vendor List'!$A3214)","v":"UNITED RENTALS"}]
[null,null,{"$f":"IF('Vendor List'!$A3215=\"\",\"\",'Vendor List'!$A3215)","v":"UNITED SCALE & ENGINEERING"}]
[null,null,{"$f":"IF('Vendor List'!$A3216=\"\",\"\",'Vendor List'!$A3216)","v":"UNITED STATES BRASS & COPPER"}]
[null,null,{"$f":"IF('Vendor List'!$A3217=\"\",\"\",'Vendor List'!$A3217)","v":"UNITED STATES POSTAL SERVICE"}]
[null,null,{"$f":"IF('Vendor List'!$A3218=\"\",\"\",'Vendor List'!$A3218)","v":"UNITED STATES RADIATION"}]
[null,null,{"$f":"IF('Vendor List'!$A3219=\"\",\"\",'Vendor List'!$A3219)","v":"UNITED TITANIUM INC"}]
[null,null,{"$f":"IF('Vendor List'!$A3220=\"\",\"\",'Vendor List'!$A3220)","v":"UNITEK EQUIPMENT INC"}]
[null,null,{"$f":"IF('Vendor List'!$A3221=\"\",\"\",'Vendor List'!$A3221)","v":"UNITY ELECTRONICS"}]
[null,null,{"$f":"IF('Vendor List'!$A3222=\"\",\"\",'Vendor List'!$A3222)","v":"UNIV OF ALASKA-FAIRBANKS"}]
[null,null,{"$f":"IF('Vendor List'!$A3223=\"\",\"\",'Vendor List'!$A3223)","v":"UNIVERSAL METAL FINISHING, CO."}]
[null,null,{"$f":"IF('Vendor List'!$A3224=\"\",\"\",'Vendor List'!$A3224)","v":"UNIVERSAL METAL HOSE CO"}]
[null,null,{"$f":"IF('Vendor List'!$A3225=\"\",\"\",'Vendor List'!$A3225)","v":"UNIVERSAL PAPER & PACKAGING"}]
[null,null,{"$f":"IF('Vendor List'!$A3226=\"\",\"\",'Vendor List'!$A3226)","v":"UNIVERSAL RADIO INC"}]
[null,null,{"$f":"IF('Vendor List'!$A3227=\"\",\"\",'Vendor List'!$A3227)","v":"UNIVERSAL SHIELDING CORP"}]
[null,null,{"$f":"IF('Vendor List'!$A3228=\"\",\"\",'Vendor List'!$A3228)","v":"UNIVERSAL THREAD GRINDING CO"}]
[null,null,{"$f":"IF('Vendor List'!$A3229=\"\",\"\",'Vendor List'!$A3229)","v":"UNIVERSAL VOLTRONICS CORP"}]
[null,null,{"$f":"IF('Vendor List'!$A3230=\"\",\"\",'Vendor List'!$A3230)","v":"UNIVERSITY BOOK STORE"}]
[null,null,{"$f":"IF('Vendor List'!$A3231=\"\",\"\",'Vendor List'!$A3231)","v":"UNIVERSITY CLUB"}]
[null,null,{"$f":"IF('Vendor List'!$A3232=\"\",\"\",'Vendor List'!$A3232)","v":"UNIVERSITY COMMUNICATIONS"}]
[null,null,{"$f":"IF('Vendor List'!$A3233=\"\",\"\",'Vendor List'!$A3233)","v":"UNIVERSITY EXTENSION"}]
[null,null,{"$f":"IF('Vendor List'!$A3234=\"\",\"\",'Vendor List'!$A3234)","v":"UNIVERSITY HOUSING"}]
[null,null,{"$f":"IF('Vendor List'!$A3235=\"\",\"\",'Vendor List'!$A3235)","v":"UNIVERSITY INN"}]
[null,null,{"$f":"IF('Vendor List'!$A3236=\"\",\"\",'Vendor List'!$A3236)","v":"UNIVERSITY MECHANICAL & ENGINE"}]
[null,null,{"$f":"IF('Vendor List'!$A3237=\"\",\"\",'Vendor List'!$A3237)","v":"UNIVERSITY OF CA IRVINE"}]
[null,null,{"$f":"IF('Vendor List'!$A3238=\"\",\"\",'Vendor List'!$A3238)","v":"UNIVERSITY OF CHICAGO"}]
[null,null,{"$f":"IF('Vendor List'!$A3239=\"\",\"\",'Vendor List'!$A3239)","v":"UNIVERSITY OF CHICAGO PRESS"}]
[null,null,{"$f":"IF('Vendor List'!$A3240=\"\",\"\",'Vendor List'!$A3240)","v":"UNIVERSITY OF DELAWARE"}]
[null,null,{"$f":"IF('Vendor List'!$A3241=\"\",\"\",'Vendor List'!$A3241)","v":"UNIVERSITY OF GLASGOW"}]
[null,null,{"$f":"IF('Vendor List'!$A3242=\"\",\"\",'Vendor List'!$A3242)","v":"UNIVERSITY OF HAWAII"}]
[null,null,{"$f":"IF('Vendor List'!$A3243=\"\",\"\",'Vendor List'!$A3243)","v":"UNIVERSITY OF HAWAII"}]
[null,null,{"$f":"IF('Vendor List'!$A3244=\"\",\"\",'Vendor List'!$A3244)","v":"UNIVERSITY OF MARYLAND"}]
[null,null,{"$f":"IF('Vendor List'!$A3245=\"\",\"\",'Vendor List'!$A3245)","v":"UNIVERSITY OF MINNESOTA"}]
[null,null,{"$f":"IF('Vendor List'!$A3246=\"\",\"\",'Vendor List'!$A3246)","v":"UNIVERSITY OF MINNESOTA"}]
[null,null,{"$f":"IF('Vendor List'!$A3247=\"\",\"\",'Vendor List'!$A3247)","v":"UNIVERSITY OF NEBRASKA-LINCOLN"}]
[null,null,{"$f":"IF('Vendor List'!$A3248=\"\",\"\",'Vendor List'!$A3248)","v":"UNIVERSITY OF NEVADA LAS VEGAS"}]
[null,null,{"$f":"IF('Vendor List'!$A3249=\"\",\"\",'Vendor List'!$A3249)","v":"UNIVERSITY OF NORTH TEXAS"}]
[null,null,{"$f":"IF('Vendor List'!$A3250=\"\",\"\",'Vendor List'!$A3250)","v":"UNIVERSITY OF OKLAHOMA"}]
[null,null,{"$f":"IF('Vendor List'!$A3251=\"\",\"\",'Vendor List'!$A3251)","v":"UNIVERSITY OF VERMONT"}]
[null,null,{"$f":"IF('Vendor List'!$A3252=\"\",\"\",'Vendor List'!$A3252)","v":"UNIVERSITY OF WI-EXTENSION"}]
[null,null,{"$f":"IF('Vendor List'!$A3253=\"\",\"\",'Vendor List'!$A3253)","v":"UNIVERSITY OUTREACH"}]
[null,null,{"$f":"IF('Vendor List'!$A3254=\"\",\"\",'Vendor List'!$A3254)","v":"UNIVERSITY WAFER COMPANY"}]
[null,null,{"$f":"IF('Vendor List'!$A3255=\"\",\"\",'Vendor List'!$A3255)","v":"UPS"}]
[null,null,{"$f":"IF('Vendor List'!$A3256=\"\",\"\",'Vendor List'!$A3256)","v":"UPS CUSTOMHOUSE BROKERAGE"}]
[null,null,{"$f":"IF('Vendor List'!$A3257=\"\",\"\",'Vendor List'!$A3257)","v":"US AIR"}]
[null,null,{"$f":"IF('Vendor List'!$A3258=\"\",\"\",'Vendor List'!$A3258)","v":"US COMMERCE DEPARTMENT"}]
[null,null,{"$f":"IF('Vendor List'!$A3259=\"\",\"\",'Vendor List'!$A3259)","v":"US COMPOSITES"}]
[null,null,{"$f":"IF('Vendor List'!$A3260=\"\",\"\",'Vendor List'!$A3260)","v":"US DIGITAL"}]
[null,null,{"$f":"IF('Vendor List'!$A3261=\"\",\"\",'Vendor List'!$A3261)","v":"US FILTER ENVIRONSCAN SVCS"}]
[null,null,{"$f":"IF('Vendor List'!$A3262=\"\",\"\",'Vendor List'!$A3262)","v":"US FLAG STORE"}]
[null,null,{"$f":"IF('Vendor List'!$A3263=\"\",\"\",'Vendor List'!$A3263)","v":"US GOVERNMENT PRINTING OFFICE"}]
[null,null,{"$f":"IF('Vendor List'!$A3264=\"\",\"\",'Vendor List'!$A3264)","v":"US INSTRUMENT SERVICES"}]
[null,null,{"$f":"IF('Vendor List'!$A3265=\"\",\"\",'Vendor List'!$A3265)","v":"US PARTICLE ACCELERATOR SCHOOL"}]
[null,null,{"$f":"IF('Vendor List'!$A3266=\"\",\"\",'Vendor List'!$A3266)","v":"US PLASTICS CORP"}]
[null,null,{"$f":"IF('Vendor List'!$A3267=\"\",\"\",'Vendor List'!$A3267)","v":"US SHOP TOOLS"}]
[null,null,{"$f":"IF('Vendor List'!$A3268=\"\",\"\",'Vendor List'!$A3268)","v":"USA BLUEBOOK"}]
[null,null,{"$f":"IF('Vendor List'!$A3269=\"\",\"\",'Vendor List'!$A3269)","v":"USA MOBILITY"}]
[null,null,{"$f":"IF('Vendor List'!$A3270=\"\",\"\",'Vendor List'!$A3270)","v":"USBID INC"}]
[null,null,{"$f":"IF('Vendor List'!$A3271=\"\",\"\",'Vendor List'!$A3271)","v":"USEMCO"}]
[null,null,{"$f":"IF('Vendor List'!$A3272=\"\",\"\",'Vendor List'!$A3272)","v":"USHIO AMERICA INC"}]
[null,null,{"$f":"IF('Vendor List'!$A3273=\"\",\"\",'Vendor List'!$A3273)","v":"USI INC"}]
[null,null,{"$f":"IF('Vendor List'!$A3274=\"\",\"\",'Vendor List'!$A3274)","v":"USK CABLE"}]
[null,null,{"$f":"IF('Vendor List'!$A3275=\"\",\"\",'Vendor List'!$A3275)","v":"USPS"}]
[null,null,{"$f":"IF('Vendor List'!$A3276=\"\",\"\",'Vendor List'!$A3276)","v":"UTE MICROWAVE INC"}]
[null,null,{"$f":"IF('Vendor List'!$A3277=\"\",\"\",'Vendor List'!$A3277)","v":"UTILITY TOOL & MACHINE"}]
[null,null,{"$f":"IF('Vendor List'!$A3278=\"\",\"\",'Vendor List'!$A3278)","v":"UW - RIVER FALLS"}]
[null,null,{"$f":"IF('Vendor List'!$A3279=\"\",\"\",'Vendor List'!$A3279)","v":"UW BURSAR'S OFFICE"}]
[null,null,{"$f":"IF('Vendor List'!$A3280=\"\",\"\",'Vendor List'!$A3280)","v":"UW CASH MANAGEMENT"}]
[null,null,{"$f":"IF('Vendor List'!$A3281=\"\",\"\",'Vendor List'!$A3281)","v":"UW ENVIRONMENTAL HEALTH PROG"}]
[null,null,{"$f":"IF('Vendor List'!$A3282=\"\",\"\",'Vendor List'!$A3282)","v":"UW EXTENSION MAIL SERVICES"}]
[null,null,{"$f":"IF('Vendor List'!$A3283=\"\",\"\",'Vendor List'!$A3283)","v":"UW FLUNO CENTER EXECUTIVE EDU"}]
[null,null,{"$f":"IF('Vendor List'!$A3284=\"\",\"\",'Vendor List'!$A3284)","v":"UW GEOSCIENCES"}]
[null,null,{"$f":"IF('Vendor List'!$A3285=\"\",\"\",'Vendor List'!$A3285)","v":"UW PUBLICATIONS"}]
[null,null,{"$f":"IF('Vendor List'!$A3286=\"\",\"\",'Vendor List'!$A3286)","v":"UW PURCHASING"}]
[null,null,{"$f":"IF('Vendor List'!$A3287=\"\",\"\",'Vendor List'!$A3287)","v":"UW SAFETY DEPT."}]
[null,null,{"$f":"IF('Vendor List'!$A3288=\"\",\"\",'Vendor List'!$A3288)","v":"UW SCHOOL OF BUSINESS  SBDC"}]
[null,null,{"$f":"IF('Vendor List'!$A3289=\"\",\"\",'Vendor List'!$A3289)","v":"UW SYSTEM ADMINISTRATION"}]
[null,null,{"$f":"IF('Vendor List'!$A3290=\"\",\"\",'Vendor List'!$A3290)","v":"UW WISCONSIN EXTENSION"}]
[null,null,{"$f":"IF('Vendor List'!$A3291=\"\",\"\",'Vendor List'!$A3291)","v":"UW-CHEMISTRY"}]
[null,null,{"$f":"IF('Vendor List'!$A3292=\"\",\"\",'Vendor List'!$A3292)","v":"UW-DEPT OF ASTRONOMY"}]
[null,null,{"$f":"IF('Vendor List'!$A3293=\"\",\"\",'Vendor List'!$A3293)","v":"UW-LAW SCHOOL"}]
[null,null,{"$f":"IF('Vendor List'!$A3294=\"\",\"\",'Vendor List'!$A3294)","v":"UW-MADISON INTERNAL AUDIT"}]
[null,null,{"$f":"IF('Vendor List'!$A3295=\"\",\"\",'Vendor List'!$A3295)","v":"UW-RIVER FALLS"}]
[null,null,{"$f":"IF('Vendor List'!$A3296=\"\",\"\",'Vendor List'!$A3296)","v":"UZ ENGINEERED PRODUCTS"}]
[null,null,{"$f":"IF('Vendor List'!$A3297=\"\",\"\",'Vendor List'!$A3297)","v":"VACUUM ONE"}]
[null,null,{"$f":"IF('Vendor List'!$A3298=\"\",\"\",'Vendor List'!$A3298)","v":"VACUUM RESEARCH CORP"}]
[null,null,{"$f":"IF('Vendor List'!$A3299=\"\",\"\",'Vendor List'!$A3299)","v":"VACUUM TECHNICAL SERVICES"}]
[null,null,{"$f":"IF('Vendor List'!$A3300=\"\",\"\",'Vendor List'!$A3300)","v":"VACUUM TECHNOLOGY"}]
[null,null,{"$f":"IF('Vendor List'!$A3301=\"\",\"\",'Vendor List'!$A3301)","v":"VACUUM TUBE IND."}]
[null,null,{"$f":"IF('Vendor List'!$A3302=\"\",\"\",'Vendor List'!$A3302)","v":"VACUUM TUBES INC"}]
[null,null,{"$f":"IF('Vendor List'!$A3303=\"\",\"\",'Vendor List'!$A3303)","v":"VALLEY DESIGN CORP"}]
[null,null,{"$f":"IF('Vendor List'!$A3304=\"\",\"\",'Vendor List'!$A3304)","v":"VALLEY TOOL INC"}]
[null,null,{"$f":"IF('Vendor List'!$A3305=\"\",\"\",'Vendor List'!$A3305)","v":"VALUE EXPRESS"}]
[null,null,{"$f":"IF('Vendor List'!$A3306=\"\",\"\",'Vendor List'!$A3306)","v":"VALUETRONICS"}]
[null,null,{"$f":"IF('Vendor List'!$A3307=\"\",\"\",'Vendor List'!$A3307)","v":"VALUETRONICS"}]
[null,null,{"$f":"IF('Vendor List'!$A3308=\"\",\"\",'Vendor List'!$A3308)","v":"VALVE TECH INC"}]
[null,null,{"$f":"IF('Vendor List'!$A3309=\"\",\"\",'Vendor List'!$A3309)","v":"VANGUARD COMPUTERS"}]
[null,null,{"$f":"IF('Vendor List'!$A3310=\"\",\"\",'Vendor List'!$A3310)","v":"VANGUARD COMPUTERS"}]
[null,null,{"$f":"IF('Vendor List'!$A3311=\"\",\"\",'Vendor List'!$A3311)","v":"VANTON PUMP & EQUIPMENT CORP"}]
[null,null,{"$f":"IF('Vendor List'!$A3312=\"\",\"\",'Vendor List'!$A3312)","v":"VARIABLE SYMBOLS, INC."}]
[null,null,{"$f":"IF('Vendor List'!$A3313=\"\",\"\",'Vendor List'!$A3313)","v":"VARIAN VACUUM"}]
[null,null,{"$f":"IF('Vendor List'!$A3314=\"\",\"\",'Vendor List'!$A3314)","v":"VARIAN VACUUM"}]
[null,null,{"$f":"IF('Vendor List'!$A3315=\"\",\"\",'Vendor List'!$A3315)","v":"VAT"}]
[null,null,{"$f":"IF('Vendor List'!$A3316=\"\",\"\",'Vendor List'!$A3316)","v":"VAT INCORPORATED"}]
[null,null,{"$f":"IF('Vendor List'!$A3317=\"\",\"\",'Vendor List'!$A3317)","v":"VECTOR FIELDS, INC"}]
[null,null,{"$f":"IF('Vendor List'!$A3318=\"\",\"\",'Vendor List'!$A3318)","v":"VEGAS FASTENER MFG"}]
[null,null,{"$f":"IF('Vendor List'!$A3319=\"\",\"\",'Vendor List'!$A3319)","v":"VELMEX INC"}]
[null,null,{"$f":"IF('Vendor List'!$A3320=\"\",\"\",'Vendor List'!$A3320)","v":"VELOCITY MANUFACTURING, INC"}]
[null,null,{"$f":"IF('Vendor List'!$A3321=\"\",\"\",'Vendor List'!$A3321)","v":"VELOCITY SYSTEMS"}]
[null,null,{"$f":"IF('Vendor List'!$A3322=\"\",\"\",'Vendor List'!$A3322)","v":"VERIZON"}]
[null,null,{"$f":"IF('Vendor List'!$A3323=\"\",\"\",'Vendor List'!$A3323)","v":"VERONA BUS SERVICE INC"}]
[null,null,{"$f":"IF('Vendor List'!$A3324=\"\",\"\",'Vendor List'!$A3324)","v":"VERTEQ"}]
[null,null,{"$f":"IF('Vendor List'!$A3325=\"\",\"\",'Vendor List'!$A3325)","v":"VESTIL MFG CORP"}]
[null,null,{"$f":"IF('Vendor List'!$A3326=\"\",\"\",'Vendor List'!$A3326)","v":"VG SCIENTA AB"}]
[null,null,{"$f":"IF('Vendor List'!$A3327=\"\",\"\",'Vendor List'!$A3327)","v":"VG SCIENTA INC"}]
[null,null,{"$f":"IF('Vendor List'!$A3328=\"\",\"\",'Vendor List'!$A3328)","v":"VIADON"}]
[null,null,{"$f":"IF('Vendor List'!$A3329=\"\",\"\",'Vendor List'!$A3329)","v":"VICOR CORPORATION"}]
[null,null,{"$f":"IF('Vendor List'!$A3330=\"\",\"\",'Vendor List'!$A3330)","v":"VICTOR ASSOCIATES INC"}]
[null,null,{"$f":"IF('Vendor List'!$A3331=\"\",\"\",'Vendor List'!$A3331)","v":"VIDEO PRODUCTS INC"}]
[null,null,{"$f":"IF('Vendor List'!$A3332=\"\",\"\",'Vendor List'!$A3332)","v":"VIKING DECAL"}]
[null,null,{"$f":"IF('Vendor List'!$A3333=\"\",\"\",'Vendor List'!$A3333)","v":"VISIBLE COMPUTER SUPPLY"}]
[null,null,{"$f":"IF('Vendor List'!$A3334=\"\",\"\",'Vendor List'!$A3334)","v":"VISIO CORPORATION"}]
[null,null,{"$f":"IF('Vendor List'!$A3335=\"\",\"\",'Vendor List'!$A3335)","v":"VISUAL NUMERICS INC"}]
[null,null,{"$f":"IF('Vendor List'!$A3336=\"\",\"\",'Vendor List'!$A3336)","v":"VISUAL NUMERICS INC."}]
[null,null,{"$f":"IF('Vendor List'!$A3337=\"\",\"\",'Vendor List'!$A3337)","v":"VISUAL WORKPLACE"}]
[null,null,{"$f":"IF('Vendor List'!$A3338=\"\",\"\",'Vendor List'!$A3338)","v":"VME MICROSYSTEMS DIVISION"}]
[null,null,{"$f":"IF('Vendor List'!$A3339=\"\",\"\",'Vendor List'!$A3339)","v":"VMIC"}]
[null,null,{"$f":"IF('Vendor List'!$A3340=\"\",\"\",'Vendor List'!$A3340)","v":"VMP INC"}]
[null,null,{"$f":"IF('Vendor List'!$A3341=\"\",\"\",'Vendor List'!$A3341)","v":"VMWARE, INC."}]
[null,null,{"$f":"IF('Vendor List'!$A3342=\"\",\"\",'Vendor List'!$A3342)","v":"VO BAKER COMPANY"}]
[null,null,{"$f":"IF('Vendor List'!$A3343=\"\",\"\",'Vendor List'!$A3343)","v":"VOIPSUPPLY.COM"}]
[null,null,{"$f":"IF('Vendor List'!$A3344=\"\",\"\",'Vendor List'!$A3344)","v":"VONDRA ENGRAVING"}]
[null,null,{"$f":"IF('Vendor List'!$A3345=\"\",\"\",'Vendor List'!$A3345)","v":"VTS JOACHIM SCHWARZ GMBH"}]
[null,null,{"$f":"IF('Vendor List'!$A3346=\"\",\"\",'Vendor List'!$A3346)","v":"VULCAN LEAD PRODUCTS"}]
[null,null,{"$f":"IF('Vendor List'!$A3347=\"\",\"\",'Vendor List'!$A3347)","v":"VWR SCIENTIFIC INC"}]
[null,null,{"$f":"IF('Vendor List'!$A3348=\"\",\"\",'Vendor List'!$A3348)","v":"W A HAMMOND DRIERITE CO"}]
[null,null,{"$f":"IF('Vendor List'!$A3349=\"\",\"\",'Vendor List'!$A3349)","v":"W J ROBERTS CO INC"}]
[null,null,{"$f":"IF('Vendor List'!$A3350=\"\",\"\",'Vendor List'!$A3350)","v":"W K ROBSON"}]
[null,null,{"$f":"IF('Vendor List'!$A3351=\"\",\"\",'Vendor List'!$A3351)","v":"WA HAMMOND DRIERITE CO"}]
[null,null,{"$f":"IF('Vendor List'!$A3352=\"\",\"\",'Vendor List'!$A3352)","v":"WAFERNET"}]
[null,null,{"$f":"IF('Vendor List'!$A3353=\"\",\"\",'Vendor List'!$A3353)","v":"WAISMAN COMPUTING SERVICES"}]
[null,null,{"$f":"IF('Vendor List'!$A3354=\"\",\"\",'Vendor List'!$A3354)","v":"WAL-MART"}]
[null,null,{"$f":"IF('Vendor List'!$A3355=\"\",\"\",'Vendor List'!$A3355)","v":"WALGREENS"}]
[null,null,{"$f":"IF('Vendor List'!$A3356=\"\",\"\",'Vendor List'!$A3356)","v":"WALMART"}]
[null,null,{"$f":"IF('Vendor List'!$A3357=\"\",\"\",'Vendor List'!$A3357)","v":"WALT DISNEY WORLD RESORTS"}]
[null,null,{"$f":"IF('Vendor List'!$A3358=\"\",\"\",'Vendor List'!$A3358)","v":"WANG LABORATORIES INC"}]
[null,null,{"$f":"IF('Vendor List'!$A3359=\"\",\"\",'Vendor List'!$A3359)","v":"WARDS NATURAL SCIENCE"}]
[null,null,{"$f":"IF('Vendor List'!$A3360=\"\",\"\",'Vendor List'!$A3360)","v":"WARMAN INTERNATIONAL INC."}]
[null,null,{"$f":"IF('Vendor List'!$A3361=\"\",\"\",'Vendor List'!$A3361)","v":"WASHINGTON EQUIPMENT & SUPPLY"}]
[null,null,{"$f":"IF('Vendor List'!$A3362=\"\",\"\",'Vendor List'!$A3362)","v":"WASHINGTON STATE UNIVERSITY"}]
[null,null,{"$f":"IF('Vendor List'!$A3363=\"\",\"\",'Vendor List'!$A3363)","v":"WASTE MANAGEMENT OF WI MADISON"}]
[null,null,{"$f":"IF('Vendor List'!$A3364=\"\",\"\",'Vendor List'!$A3364)","v":"WATERJET CUTTING SPECIALISTS"}]
[null,null,{"$f":"IF('Vendor List'!$A3365=\"\",\"\",'Vendor List'!$A3365)","v":"WATERS INDUSTRIAL SUPPLY"}]
[null,null,{"$f":"IF('Vendor List'!$A3366=\"\",\"\",'Vendor List'!$A3366)","v":"WATSON BRICKSON LUMBER"}]
[null,null,{"$f":"IF('Vendor List'!$A3367=\"\",\"\",'Vendor List'!$A3367)","v":"WATSON GRINDING & MFG"}]
[null,null,{"$f":"IF('Vendor List'!$A3368=\"\",\"\",'Vendor List'!$A3368)","v":"WATSON INDUSTRIES INC"}]
[null,null,{"$f":"IF('Vendor List'!$A3369=\"\",\"\",'Vendor List'!$A3369)","v":"WATTEREDGE-UNIFLEX, INC"}]
[null,null,{"$f":"IF('Vendor List'!$A3370=\"\",\"\",'Vendor List'!$A3370)","v":"WAUKESHA INDUSTRIAL SUPPLY"}]
[null,null,{"$f":"IF('Vendor List'!$A3371=\"\",\"\",'Vendor List'!$A3371)","v":"WAUKESHA PACKAGING SUPPLY INC"}]
[null,null,{"$f":"IF('Vendor List'!$A3372=\"\",\"\",'Vendor List'!$A3372)","v":"WAUSAU CHEMICAL CORPORATION"}]
[null,null,{"$f":"IF('Vendor List'!$A3373=\"\",\"\",'Vendor List'!$A3373)","v":"WAVEMETRICS"}]
[null,null,{"$f":"IF('Vendor List'!$A3374=\"\",\"\",'Vendor List'!$A3374)","v":"WAYTEK, INC"}]
[null,null,{"$f":"IF('Vendor List'!$A3375=\"\",\"\",'Vendor List'!$A3375)","v":"WCAM-WISC CTR FOR APPL MICROEL"}]
[null,null,{"$f":"IF('Vendor List'!$A3376=\"\",\"\",'Vendor List'!$A3376)","v":"WDL SYSTEMS"}]
[null,null,{"$f":"IF('Vendor List'!$A3377=\"\",\"\",'Vendor List'!$A3377)","v":"WE THEW SUPPLY CO INC"}]
[null,null,{"$f":"IF('Vendor List'!$A3378=\"\",\"\",'Vendor List'!$A3378)","v":"WEATHERHAVEN"}]
[null,null,{"$f":"IF('Vendor List'!$A3379=\"\",\"\",'Vendor List'!$A3379)","v":"WEED INSTRUMENT CO INC"}]
[null,null,{"$f":"IF('Vendor List'!$A3380=\"\",\"\",'Vendor List'!$A3380)","v":"WEICO WIRE & CABLE"}]
[null,null,{"$f":"IF('Vendor List'!$A3381=\"\",\"\",'Vendor List'!$A3381)","v":"WEIMER BEARING & TRANSMISSION"}]
[null,null,{"$f":"IF('Vendor List'!$A3382=\"\",\"\",'Vendor List'!$A3382)","v":"WEIMER BEARING & TRANSMISSION"}]
[null,null,{"$f":"IF('Vendor List'!$A3383=\"\",\"\",'Vendor List'!$A3383)","v":"WELCH RIETSCHLE THOMAS"}]
[null,null,{"$f":"IF('Vendor List'!$A3384=\"\",\"\",'Vendor List'!$A3384)","v":"WELCH VACUUM TECHNOLOGY"}]
[null,null,{"$f":"IF('Vendor List'!$A3385=\"\",\"\",'Vendor List'!$A3385)","v":"WENDT LIBRARY"}]
[null,null,{"$f":"IF('Vendor List'!$A3386=\"\",\"\",'Vendor List'!$A3386)","v":"WENZEL ASSOCIATES"}]
[null,null,{"$f":"IF('Vendor List'!$A3387=\"\",\"\",'Vendor List'!$A3387)","v":"WERNER  ELECTRIC SUPPLY"}]
[null,null,{"$f":"IF('Vendor List'!$A3388=\"\",\"\",'Vendor List'!$A3388)","v":"WESCO"}]
[null,null,{"$f":"IF('Vendor List'!$A3389=\"\",\"\",'Vendor List'!$A3389)","v":"WEST HILLS LAN SYSTEMS"}]
[null,null,{"$f":"IF('Vendor List'!$A3390=\"\",\"\",'Vendor List'!$A3390)","v":"WEST MARINE"}]
[null,null,{"$f":"IF('Vendor List'!$A3391=\"\",\"\",'Vendor List'!$A3391)","v":"WEST MARINE PRODUCTS"}]
[null,null,{"$f":"IF('Vendor List'!$A3392=\"\",\"\",'Vendor List'!$A3392)","v":"WEST SPUR TREE EQUIP INC"}]
[null,null,{"$f":"IF('Vendor List'!$A3393=\"\",\"\",'Vendor List'!$A3393)","v":"WEST WASHINGTON ASSOCIATES"}]
[null,null,{"$f":"IF('Vendor List'!$A3394=\"\",\"\",'Vendor List'!$A3394)","v":"WEST WASHINGTON ASSOCIATES LLC"}]
[null,null,{"$f":"IF('Vendor List'!$A3395=\"\",\"\",'Vendor List'!$A3395)","v":"WESTERN ENVIRONMENTAL LINER"}]
[null,null,{"$f":"IF('Vendor List'!$A3396=\"\",\"\",'Vendor List'!$A3396)","v":"WESTERN SCIENTIFIC, INC"}]
[null,null,{"$f":"IF('Vendor List'!$A3397=\"\",\"\",'Vendor List'!$A3397)","v":"WESTIN HOTEL"}]
[null,null,{"$f":"IF('Vendor List'!$A3398=\"\",\"\",'Vendor List'!$A3398)","v":"WESTIN PEACHTREE PLAZA"}]
[null,null,{"$f":"IF('Vendor List'!$A3399=\"\",\"\",'Vendor List'!$A3399)","v":"WESTIN SEATTLE"}]
[null,null,{"$f":"IF('Vendor List'!$A3400=\"\",\"\",'Vendor List'!$A3400)","v":"WHELAN & ASSOCIATES"}]
[null,null,{"$f":"IF('Vendor List'!$A3401=\"\",\"\",'Vendor List'!$A3401)","v":"WHITMAN CONTROLS CORP"}]
[null,null,{"$f":"IF('Vendor List'!$A3402=\"\",\"\",'Vendor List'!$A3402)","v":"WHITTET-HIGGINS"}]
[null,null,{"$f":"IF('Vendor List'!$A3403=\"\",\"\",'Vendor List'!$A3403)","v":"WI DEPT OF COMMERCE"}]
[null,null,{"$f":"IF('Vendor List'!$A3404=\"\",\"\",'Vendor List'!$A3404)","v":"WI DPI PUBLICATION SALES"}]
[null,null,{"$f":"IF('Vendor List'!$A3405=\"\",\"\",'Vendor List'!$A3405)","v":"WI STATE INDUSTRY LABOR & HUMA"}]
[null,null,{"$f":"IF('Vendor List'!$A3406=\"\",\"\",'Vendor List'!$A3406)","v":"WI STRUCTURE & MATERIAL TESTIN"}]
[null,null,{"$f":"IF('Vendor List'!$A3407=\"\",\"\",'Vendor List'!$A3407)","v":"WIDEBAND DESIGN, LLC"}]
[null,null,{"$f":"IF('Vendor List'!$A3408=\"\",\"\",'Vendor List'!$A3408)","v":"WIEDENBECK INC"}]
[null,null,{"$f":"IF('Vendor List'!$A3409=\"\",\"\",'Vendor List'!$A3409)","v":"WIHA QUALITY TOOLS"}]
[null,null,{"$f":"IF('Vendor List'!$A3410=\"\",\"\",'Vendor List'!$A3410)","v":"WILLY STEET CO-OP"}]
[null,null,{"$f":"IF('Vendor List'!$A3411=\"\",\"\",'Vendor List'!$A3411)","v":"WILSON TOOL CORPORATION"}]
[null,null,{"$f":"IF('Vendor List'!$A3412=\"\",\"\",'Vendor List'!$A3412)","v":"WILSON TOOL INTERNATIONAL, INC"}]
[null,null,{"$f":"IF('Vendor List'!$A3413=\"\",\"\",'Vendor List'!$A3413)","v":"WINFRED M BERG INC"}]
[null,null,{"$f":"IF('Vendor List'!$A3414=\"\",\"\",'Vendor List'!$A3414)","v":"WINSTRUCT INC."}]
[null,null,{"$f":"IF('Vendor List'!$A3415=\"\",\"\",'Vendor List'!$A3415)","v":"WINZIP COMPUTING"}]
[null,null,{"$f":"IF('Vendor List'!$A3416=\"\",\"\",'Vendor List'!$A3416)","v":"WIRE AUTOMATIC DEVICE CO"}]
[null,null,{"$f":"IF('Vendor List'!$A3417=\"\",\"\",'Vendor List'!$A3417)","v":"WIREWORKS"}]
[null,null,{"$f":"IF('Vendor List'!$A3418=\"\",\"\",'Vendor List'!$A3418)","v":"WIS CENTER, REGISTRATION OFF"}]
[null,null,{"$f":"IF('Vendor List'!$A3419=\"\",\"\",'Vendor List'!$A3419)","v":"WIS COUNCIL OF SAFETY"}]
[null,null,{"$f":"IF('Vendor List'!$A3420=\"\",\"\",'Vendor List'!$A3420)","v":"WISCO INDUSTRIES INC"}]
[null,null,{"$f":"IF('Vendor List'!$A3421=\"\",\"\",'Vendor List'!$A3421)","v":"WISCOLIFT  INC"}]
[null,null,{"$f":"IF('Vendor List'!$A3422=\"\",\"\",'Vendor List'!$A3422)","v":"WISCONSIN COMPRESSED AIR CORP"}]
[null,null,{"$f":"IF('Vendor List'!$A3423=\"\",\"\",'Vendor List'!$A3423)","v":"WISCONSIN CONTROL CORP"}]
[null,null,{"$f":"IF('Vendor List'!$A3424=\"\",\"\",'Vendor List'!$A3424)","v":"WISCONSIN DEPT OF EMPLOYMENT R"}]
[null,null,{"$f":"IF('Vendor List'!$A3425=\"\",\"\",'Vendor List'!$A3425)","v":"WISCONSIN ENGINEER MAGAZINE"}]
[null,null,{"$f":"IF('Vendor List'!$A3426=\"\",\"\",'Vendor List'!$A3426)","v":"WISCONSIN FOAM PRODUCTS"}]
[null,null,{"$f":"IF('Vendor List'!$A3427=\"\",\"\",'Vendor List'!$A3427)","v":"WISCONSIN HARDCOAT INC"}]
[null,null,{"$f":"IF('Vendor List'!$A3428=\"\",\"\",'Vendor List'!$A3428)","v":"WISCONSIN HOUSING FACILITY"}]
[null,null,{"$f":"IF('Vendor List'!$A3429=\"\",\"\",'Vendor List'!$A3429)","v":"WISCONSIN HOUSING FACILITY"}]
[null,null,{"$f":"IF('Vendor List'!$A3430=\"\",\"\",'Vendor List'!$A3430)","v":"WISCONSIN LIFT TRUCK"}]
[null,null,{"$f":"IF('Vendor List'!$A3431=\"\",\"\",'Vendor List'!$A3431)","v":"WISCONSIN LIFT TRUCK CORP"}]
[null,null,{"$f":"IF('Vendor List'!$A3432=\"\",\"\",'Vendor List'!$A3432)","v":"WISCONSIN LIFTING SPECIALISTS"}]
[null,null,{"$f":"IF('Vendor List'!$A3433=\"\",\"\",'Vendor List'!$A3433)","v":"WISCONSIN METAL SALES"}]
[null,null,{"$f":"IF('Vendor List'!$A3434=\"\",\"\",'Vendor List'!$A3434)","v":"WISCONSIN PLASTICS"}]
[null,null,{"$f":"IF('Vendor List'!$A3435=\"\",\"\",'Vendor List'!$A3435)","v":"WISCONSIN PLATING"}]
[null,null,{"$f":"IF('Vendor List'!$A3436=\"\",\"\",'Vendor List'!$A3436)","v":"WISCONSIN POWER & LIGHT CO"}]
[null,null,{"$f":"IF('Vendor List'!$A3437=\"\",\"\",'Vendor List'!$A3437)","v":"WISCONSIN POWER & LIGHT CO."}]
[null,null,{"$f":"IF('Vendor List'!$A3438=\"\",\"\",'Vendor List'!$A3438)","v":"WISCONSIN SECTION-AIHA"}]
[null,null,{"$f":"IF('Vendor List'!$A3439=\"\",\"\",'Vendor List'!$A3439)","v":"WISCONSIN STATE DOCUMENT SALES"}]
[null,null,{"$f":"IF('Vendor List'!$A3440=\"\",\"\",'Vendor List'!$A3440)","v":"WISCONSIN STEEL & TUBE"}]
[null,null,{"$f":"IF('Vendor List'!$A3441=\"\",\"\",'Vendor List'!$A3441)","v":"WISCONSIN TECHNICAL COLLEGE"}]
[null,null,{"$f":"IF('Vendor List'!$A3442=\"\",\"\",'Vendor List'!$A3442)","v":"WISCONSIN UNION CATERING"}]
[null,null,{"$f":"IF('Vendor List'!$A3443=\"\",\"\",'Vendor List'!$A3443)","v":"WISE COMPONENTS"}]
[null,null,{"$f":"IF('Vendor List'!$A3444=\"\",\"\",'Vendor List'!$A3444)","v":"WISE SOFTWARE"}]
[null,null,{"$f":"IF('Vendor List'!$A3445=\"\",\"\",'Vendor List'!$A3445)","v":"WISP-ROUTER.COM"}]
[null,null,{"$f":"IF('Vendor List'!$A3446=\"\",\"\",'Vendor List'!$A3446)","v":"WITCO SYSTEMS"}]
[null,null,{"$f":"IF('Vendor List'!$A3447=\"\",\"\",'Vendor List'!$A3447)","v":"WJ ROBERTS"}]
[null,null,{"$f":"IF('Vendor List'!$A3448=\"\",\"\",'Vendor List'!$A3448)","v":"WOLFF KUBLY HILLDALE"}]
[null,null,{"$f":"IF('Vendor List'!$A3449=\"\",\"\",'Vendor List'!$A3449)","v":"WOLFRAM RESEARCH INC"}]
[null,null,{"$f":"IF('Vendor List'!$A3450=\"\",\"\",'Vendor List'!$A3450)","v":"WOLOHANS LUMBER"}]
[null,null,{"$f":"IF('Vendor List'!$A3451=\"\",\"\",'Vendor List'!$A3451)","v":"WOODS LINE EQUIPMENT INC"}]
[null,null,{"$f":"IF('Vendor List'!$A3452=\"\",\"\",'Vendor List'!$A3452)","v":"WOODS MANUFACTURING"}]
[null,null,{"$f":"IF('Vendor List'!$A3453=\"\",\"\",'Vendor List'!$A3453)","v":"WORK BENCH TOOL COMPANY"}]
[null,null,{"$f":"IF('Vendor List'!$A3454=\"\",\"\",'Vendor List'!$A3454)","v":"WORLD CLASS WIRE & CABLE"}]
[null,null,{"$f":"IF('Vendor List'!$A3455=\"\",\"\",'Vendor List'!$A3455)","v":"WORLD ENVIRONMENTAL TECHNOLOGY"}]
[null,null,{"$f":"IF('Vendor List'!$A3456=\"\",\"\",'Vendor List'!$A3456)","v":"WORLD PUBLISHERS"}]
[null,null,{"$f":"IF('Vendor List'!$A3457=\"\",\"\",'Vendor List'!$A3457)","v":"WORLD SCIENTIFIC PUBLISHING"}]
[null,null,{"$f":"IF('Vendor List'!$A3458=\"\",\"\",'Vendor List'!$A3458)","v":"WORLD-LINK COMMUNICATIONS"}]
[null,null,{"$f":"IF('Vendor List'!$A3459=\"\",\"\",'Vendor List'!$A3459)","v":"WW GRAINGER INC"}]
[null,null,{"$f":"IF('Vendor List'!$A3460=\"\",\"\",'Vendor List'!$A3460)","v":"WYNDHAM GARDEN HOTEL"}]
[null,null,{"$f":"IF('Vendor List'!$A3461=\"\",\"\",'Vendor List'!$A3461)","v":"WYNN ENVIRONMENTAL"}]
[null,null,{"$f":"IF('Vendor List'!$A3462=\"\",\"\",'Vendor List'!$A3462)","v":"X ENGRG SOFTWARE SYSTEMS CORP"}]
[null,null,{"$f":"IF('Vendor List'!$A3463=\"\",\"\",'Vendor List'!$A3463)","v":"XACT WIRE EDM CORP"}]
[null,null,{"$f":"IF('Vendor List'!$A3464=\"\",\"\",'Vendor List'!$A3464)","v":"XANTREX TECHNOLOGY"}]
[null,null,{"$f":"IF('Vendor List'!$A3465=\"\",\"\",'Vendor List'!$A3465)","v":"XEL YASUAKI FUKADA"}]
[null,null,{"$f":"IF('Vendor List'!$A3466=\"\",\"\",'Vendor List'!$A3466)","v":"XEROGRAPHICS SUPPLY"}]
[null,null,{"$f":"IF('Vendor List'!$A3467=\"\",\"\",'Vendor List'!$A3467)","v":"XEROX CORP"}]
[null,null,{"$f":"IF('Vendor List'!$A3468=\"\",\"\",'Vendor List'!$A3468)","v":"XEROX CORPORATION"}]
[null,null,{"$f":"IF('Vendor List'!$A3469=\"\",\"\",'Vendor List'!$A3469)","v":"XEROX CORPORATION"}]
[null,null,{"$f":"IF('Vendor List'!$A3470=\"\",\"\",'Vendor List'!$A3470)","v":"XEROX CORPORATION"}]
[null,null,{"$f":"IF('Vendor List'!$A3471=\"\",\"\",'Vendor List'!$A3471)","v":"XEROX CORPORATION"}]
[null,null,{"$f":"IF('Vendor List'!$A3472=\"\",\"\",'Vendor List'!$A3472)","v":"XILINX INC"}]
[null,null,{"$f":"IF('Vendor List'!$A3473=\"\",\"\",'Vendor List'!$A3473)","v":"XILOR INC"}]
[null,null,{"$f":"IF('Vendor List'!$A3474=\"\",\"\",'Vendor List'!$A3474)","v":"XIODONG JIN"}]
[null,null,{"$f":"IF('Vendor List'!$A3475=\"\",\"\",'Vendor List'!$A3475)","v":"XL MACHINES INC"}]
[null,null,{"$f":"IF('Vendor List'!$A3476=\"\",\"\",'Vendor List'!$A3476)","v":"XPEDX"}]
[null,null,{"$f":"IF('Vendor List'!$A3477=\"\",\"\",'Vendor List'!$A3477)","v":"XYCOM"}]
[null,null,{"$f":"IF('Vendor List'!$A3478=\"\",\"\",'Vendor List'!$A3478)","v":"Y&Y"}]
[null,null,{"$f":"IF('Vendor List'!$A3479=\"\",\"\",'Vendor List'!$A3479)","v":"YALE CORDAGE"}]
[null,null,{"$f":"IF('Vendor List'!$A3480=\"\",\"\",'Vendor List'!$A3480)","v":"YARDE METALS"}]
[null,null,{"$f":"IF('Vendor List'!$A3481=\"\",\"\",'Vendor List'!$A3481)","v":"YELLOW FREIGHT SYS"}]
[null,null,{"$f":"IF('Vendor List'!$A3482=\"\",\"\",'Vendor List'!$A3482)","v":"YES EQUIPMENT & SERVICES INC"}]
[null,null,{"$f":"IF('Vendor List'!$A3483=\"\",\"\",'Vendor List'!$A3483)","v":"YES EQUIPMENT & SERVICES INC"}]
[null,null,{"$f":"IF('Vendor List'!$A3484=\"\",\"\",'Vendor List'!$A3484)","v":"YIELD ENGINEERING SYSTEMS INC"}]
[null,null,{"$f":"IF('Vendor List'!$A3485=\"\",\"\",'Vendor List'!$A3485)","v":"ZABER TECHNOLOGIES INC."}]
[null,null,{"$f":"IF('Vendor List'!$A3486=\"\",\"\",'Vendor List'!$A3486)","v":"ZEIER PLASTIC & MFG CO"}]
[null,null,{"$f":"IF('Vendor List'!$A3487=\"\",\"\",'Vendor List'!$A3487)","v":"ZEISS"}]
[null,null,{"$f":"IF('Vendor List'!$A3488=\"\",\"\",'Vendor List'!$A3488)","v":"ZEMAX DEVELOPMENT CORP"}]
[null,null,{"$f":"IF('Vendor List'!$A3489=\"\",\"\",'Vendor List'!$A3489)","v":"ZENOSS, INC"}]
[null,null,{"$f":"IF('Vendor List'!$A3490=\"\",\"\",'Vendor List'!$A3490)","v":"ZEON AMERICA, INC"}]
[null,null,{"$f":"IF('Vendor List'!$A3491=\"\",\"\",'Vendor List'!$A3491)","v":"ZEOS INTERNATIONAL LTD"}]
[null,null,{"$f":"IF('Vendor List'!$A3492=\"\",\"\",'Vendor List'!$A3492)","v":"ZERO HALIBURTON"}]
[null,null,{"$f":"IF('Vendor List'!$A3493=\"\",\"\",'Vendor List'!$A3493)","v":"ZESTRON AMERICA"}]
[null,null,{"$f":"IF('Vendor List'!$A3494=\"\",\"\",'Vendor List'!$A3494)","v":"ZIP ZOOM FLY"}]
[null,null,{"$f":"IF('Vendor List'!$A3495=\"\",\"\",'Vendor List'!$A3495)","v":"ZOLO"}]
[null,null,{"$f":"IF('Vendor List'!$A3496=\"\",\"\",'Vendor List'!$A3496)","v":"ZORN-COCHRANE"}]
[null,null,{"$f":"IF('Vendor List'!$A3497=\"\",\"\",'Vendor List'!$A3497)","v":"ZRB BEARING INC"}]
[null,null,{"$f":"IF('Vendor List'!$A3498=\"\",\"\",'Vendor List'!$A3498)","v":"ZURBACHEN"}]
[null,null,{"$f":"IF('Vendor List'!$A3499=\"\",\"\",'Vendor List'!$A3499)","v":"ZURBUCHEN OIL"}]
[null,null,{"$f":"IF('Vendor List'!$A3500=\"\",\"\",'Vendor List'!$A3500)","v":"ZYGO CORPORATION"}]
[null,null,{"$f":"IF('Vendor List'!$A3501=\"\",\"\",'Vendor List'!$A3501)","v":""}]
[null,null,{"$f":"IF('Vendor List'!$A3502=\"\",\"\",'Vendor List'!$A3502)","v":""}]
[null,null,{"$f":"IF('Vendor List'!$A3503=\"\",\"\",'Vendor List'!$A3503)","v":""}]
[null,null,{"$f":"IF('Vendor List'!$A3504=\"\",\"\",'Vendor List'!$A3504)","v":""}]
[null,null,{"$f":"IF('Vendor List'!$A3505=\"\",\"\",'Vendor List'!$A3505)","v":""}]
[null,null,{"$f":"IF('Vendor List'!$A3506=\"\",\"\",'Vendor List'!$A3506)","v":""}]
[null,null,{"$f":"IF('Vendor List'!$A3507=\"\",\"\",'Vendor List'!$A3507)","v":""}]
[null,null,{"$f":"IF('Vendor List'!$A3508=\"\",\"\",'Vendor List'!$A3508)","v":""}]
[null,null,{"$f":"IF('Vendor List'!$A3509=\"\",\"\",'Vendor List'!$A3509)","v":""}]
[null,null,{"$f":"IF('Vendor List'!$A3510=\"\",\"\",'Vendor List'!$A3510)","v":""}]
[null,null,{"$f":"IF('Vendor List'!$A3511=\"\",\"\",'Vendor List'!$A3511)","v":""}]
[null,null,{"$f":"IF('Vendor List'!$A3512=\"\",\"\",'Vendor List'!$A3512)","v":""}]
[null,null,{"$f":"IF('Vendor List'!$A3513=\"\",\"\",'Vendor List'!$A3513)","v":""}]
[null,null,{"$f":"IF('Vendor List'!$A3514=\"\",\"\",'Vendor List'!$A3514)","v":""}]
[null,null,{"$f":"IF('Vendor List'!$A3515=\"\",\"\",'Vendor List'!$A3515)","v":""}]
[null,null,{"$f":"IF('Vendor List'!$A3516=\"\",\"\",'Vendor List'!$A3516)","v":""}]
[null,null,{"$f":"IF('Vendor List'!$A3517=\"\",\"\",'Vendor List'!$A3517)","v":""}]
[null,null,{"$f":"IF('Vendor List'!$A3518=\"\",\"\",'Vendor List'!$A3518)","v":""}]
[null,null,{"$f":"IF('Vendor List'!$A3519=\"\",\"\",'Vendor List'!$A3519)","v":""}]
[null,null,{"$f":"IF('Vendor List'!$A3520=\"\",\"\",'Vendor List'!$A3520)","v":""}]
[null,null,{"$f":"IF('Vendor List'!$A3521=\"\",\"\",'Vendor List'!$A3521)","v":""}]
[null,null,{"$f":"IF('Vendor List'!$A3522=\"\",\"\",'Vendor List'!$A3522)","v":""}]
[null,null,{"$f":"IF('Vendor List'!$A3523=\"\",\"\",'Vendor List'!$A3523)","v":""}]
[null,null,{"$f":"IF('Vendor List'!$A3524=\"\",\"\",'Vendor List'!$A3524)","v":""}]
[null,null,{"$f":"IF('Vendor List'!$A3525=\"\",\"\",'Vendor List'!$A3525)","v":""}]
[null,null,{"$f":"IF('Vendor List'!$A3526=\"\",\"\",'Vendor List'!$A3526)","v":""}]
[null,null,{"$f":"IF('Vendor List'!$A3527=\"\",\"\",'Vendor List'!$A3527)","v":""}]
[null,null,{"$f":"IF('Vendor List'!$A3528=\"\",\"\",'Vendor List'!$A3528)","v":""}]
[null,null,{"$f":"IF('Vendor List'!$A3529=\"\",\"\",'Vendor List'!$A3529)","v":""}]
[null,null,{"$f":"IF('Vendor List'!$A3530=\"\",\"\",'Vendor List'!$A3530)","v":""}]
[null,null,{"$f":"IF('Vendor List'!$A3531=\"\",\"\",'Vendor List'!$A3531)","v":""}]
[null,null,{"$f":"IF('Vendor List'!$A3532=\"\",\"\",'Vendor List'!$A3532)","v":""}]
[null,null,{"$f":"IF('Vendor List'!$A3533=\"\",\"\",'Vendor List'!$A3533)","v":""}]
[null,null,{"$f":"IF('Vendor List'!$A3534=\"\",\"\",'Vendor List'!$A3534)","v":""}]
[null,null,{"$f":"IF('Vendor List'!$A3535=\"\",\"\",'Vendor List'!$A3535)","v":""}]
[null,null,{"$f":"IF('Vendor List'!$A3536=\"\",\"\",'Vendor List'!$A3536)","v":""}]
[null,null,{"$f":"IF('Vendor List'!$A3537=\"\",\"\",'Vendor List'!$A3537)","v":""}]
[null,null,{"$f":"IF('Vendor List'!$A3538=\"\",\"\",'Vendor List'!$A3538)","v":""}]
[null,null,{"$f":"IF('Vendor List'!$A3539=\"\",\"\",'Vendor List'!$A3539)","v":""}]
[null,null,{"$f":"IF('Vendor List'!$A3540=\"\",\"\",'Vendor List'!$A3540)","v":""}]
[null,null,{"$f":"IF('Vendor List'!$A3541=\"\",\"\",'Vendor List'!$A3541)","v":""}]
[null,null,{"$f":"IF('Vendor List'!$A3542=\"\",\"\",'Vendor List'!$A3542)","v":""}]
[null,null,{"$f":"IF('Vendor List'!$A3543=\"\",\"\",'Vendor List'!$A3543)","v":""}]
[null,null,{"$f":"IF('Vendor List'!$A3544=\"\",\"\",'Vendor List'!$A3544)","v":""}]
[null,null,{"$f":"IF('Vendor List'!$A3545=\"\",\"\",'Vendor List'!$A3545)","v":""}]
[null,null,{"$f":"IF('Vendor List'!$A3546=\"\",\"\",'Vendor List'!$A3546)","v":""}]
[null,null,{"$f":"IF('Vendor List'!$A3547=\"\",\"\",'Vendor List'!$A3547)","v":""}]
[null,null,{"$f":"IF('Vendor List'!$A3548=\"\",\"\",'Vendor List'!$A3548)","v":""}]
[null,null,{"$f":"IF('Vendor List'!$A3549=\"\",\"\",'Vendor List'!$A3549)","v":""}]
[null,null,{"$f":"IF('Vendor List'!$A3550=\"\",\"\",'Vendor List'!$A3550)","v":""}]
[null,null,{"$f":"IF('Vendor List'!$A3551=\"\",\"\",'Vendor List'!$A3551)","v":""}]
[null,null,{"$f":"IF('Vendor List'!$A3552=\"\",\"\",'Vendor List'!$A3552)","v":""}]
[null,null,{"$f":"IF('Vendor List'!$A3553=\"\",\"\",'Vendor List'!$A3553)","v":""}]
[null,null,{"$f":"IF('Vendor List'!$A3554=\"\",\"\",'Vendor List'!$A3554)","v":""}]
[null,null,{"$f":"IF('Vendor List'!$A3555=\"\",\"\",'Vendor List'!$A3555)","v":""}]
[null,null,{"$f":"IF('Vendor List'!$A3556=\"\",\"\",'Vendor List'!$A3556)","v":""}]
[null,null,{"$f":"IF('Vendor List'!$A3557=\"\",\"\",'Vendor List'!$A3557)","v":""}]
[null,null,{"$f":"IF('Vendor List'!$A3558=\"\",\"\",'Vendor List'!$A3558)","v":""}]
[null,null,{"$f":"IF('Vendor List'!$A3559=\"\",\"\",'Vendor List'!$A3559)","v":""}]
[null,null,{"$f":"IF('Vendor List'!$A3560=\"\",\"\",'Vendor List'!$A3560)","v":""}]
[null,null,{"$f":"IF('Vendor List'!$A3561=\"\",\"\",'Vendor List'!$A3561)","v":""}]
[null,null,{"$f":"IF('Vendor List'!$A3562=\"\",\"\",'Vendor List'!$A3562)","v":""}]
[null,null,{"$f":"IF('Vendor List'!$A3563=\"\",\"\",'Vendor List'!$A3563)","v":""}]
[null,null,{"$f":"IF('Vendor List'!$A3564=\"\",\"\",'Vendor List'!$A3564)","v":""}]
[null,null,{"$f":"IF('Vendor List'!$A3565=\"\",\"\",'Vendor List'!$A3565)","v":""}]
[null,null,{"$f":"IF('Vendor List'!$A3566=\"\",\"\",'Vendor List'!$A3566)","v":""}]
[null,null,{"$f":"IF('Vendor List'!$A3567=\"\",\"\",'Vendor List'!$A3567)","v":""}]
[null,null,{"$f":"IF('Vendor List'!$A3568=\"\",\"\",'Vendor List'!$A3568)","v":""}]
[null,null,{"$f":"IF('Vendor List'!$A3569=\"\",\"\",'Vendor List'!$A3569)","v":""}]
[null,null,{"$f":"IF('Vendor List'!$A3570=\"\",\"\",'Vendor List'!$A3570)","v":""}]
[null,null,{"$f":"IF('Vendor List'!$A3571=\"\",\"\",'Vendor List'!$A3571)","v":""}]
[null,null,{"$f":"IF('Vendor List'!$A3572=\"\",\"\",'Vendor List'!$A3572)","v":""}]
[null,null,{"$f":"IF('Vendor List'!$A3573=\"\",\"\",'Vendor List'!$A3573)","v":""}]
[null,null,{"$f":"IF('Vendor List'!$A3574=\"\",\"\",'Vendor List'!$A3574)","v":""}]
[null,null,{"$f":"IF('Vendor List'!$A3575=\"\",\"\",'Vendor List'!$A3575)","v":""}]
[null,null,{"$f":"IF('Vendor List'!$A3576=\"\",\"\",'Vendor List'!$A3576)","v":""}]
[null,null,{"$f":"IF('Vendor List'!$A3577=\"\",\"\",'Vendor List'!$A3577)","v":""}]
[null,null,{"$f":"IF('Vendor List'!$A3578=\"\",\"\",'Vendor List'!$A3578)","v":""}]
[null,null,{"$f":"IF('Vendor List'!$A3579=\"\",\"\",'Vendor List'!$A3579)","v":""}]
[null,null,{"$f":"IF('Vendor List'!$A3580=\"\",\"\",'Vendor List'!$A3580)","v":""}]
[null,null,{"$f":"IF('Vendor List'!$A3581=\"\",\"\",'Vendor List'!$A3581)","v":""}]
[null,null,{"$f":"IF('Vendor List'!$A3582=\"\",\"\",'Vendor List'!$A3582)","v":""}]
[null,null,{"$f":"IF('Vendor List'!$A3583=\"\",\"\",'Vendor List'!$A3583)","v":""}]
[null,null,{"$f":"IF('Vendor List'!$A3584=\"\",\"\",'Vendor List'!$A3584)","v":""}]
[null,null,{"$f":"IF('Vendor List'!$A3585=\"\",\"\",'Vendor List'!$A3585)","v":""}]
[null,null,{"$f":"IF('Vendor List'!$A3586=\"\",\"\",'Vendor List'!$A3586)","v":""}]
[null,null,{"$f":"IF('Vendor List'!$A3587=\"\",\"\",'Vendor List'!$A3587)","v":""}]
[null,null,{"$f":"IF('Vendor List'!$A3588=\"\",\"\",'Vendor List'!$A3588)","v":""}]
[null,null,{"$f":"IF('Vendor List'!$A3589=\"\",\"\",'Vendor List'!$A3589)","v":""}]
[null,null,{"$f":"IF('Vendor List'!$A3590=\"\",\"\",'Vendor List'!$A3590)","v":""}]
[null,null,{"$f":"IF('Vendor List'!$A3591=\"\",\"\",'Vendor List'!$A3591)","v":""}]
[null,null,{"$f":"IF('Vendor List'!$A3592=\"\",\"\",'Vendor List'!$A3592)","v":""}]
[null,null,{"$f":"IF('Vendor List'!$A3593=\"\",\"\",'Vendor List'!$A3593)","v":""}]
[null,null,{"$f":"IF('Vendor List'!$A3594=\"\",\"\",'Vendor List'!$A3594)","v":""}]
[null,null,{"$f":"IF('Vendor List'!$A3595=\"\",\"\",'Vendor List'!$A3595)","v":""}]
[null,null,{"$f":"IF('Vendor List'!$A3596=\"\",\"\",'Vendor List'!$A3596)","v":""}]
[null,null,{"$f":"IF('Vendor List'!$A3597=\"\",\"\",'Vendor List'!$A3597)","v":""}]
[null,null,{"$f":"IF('Vendor List'!$A3598=\"\",\"\",'Vendor List'!$A3598)","v":""}]
[null,null,{"$f":"IF('Vendor List'!$A3599=\"\",\"\",'Vendor List'!$A3599)","v":""}]
[null,null,{"$f":"IF('Vendor List'!$A3600=\"\",\"\",'Vendor List'!$A3600)","v":""}]
[null,null,{"$f":"IF('Vendor List'!$A3601=\"\",\"\",'Vendor List'!$A3601)","v":""}]
[null,null,{"$f":"IF('Vendor List'!$A3602=\"\",\"\",'Vendor List'!$A3602)","v":""}]
[null,null,{"$f":"IF('Vendor List'!$A3603=\"\",\"\",'Vendor List'!$A3603)","v":""}]
[null,null,{"$f":"IF('Vendor List'!$A3604=\"\",\"\",'Vendor List'!$A3604)","v":""}]
[null,null,{"$f":"IF('Vendor List'!$A3605=\"\",\"\",'Vendor List'!$A3605)","v":""}]
[null,null,{"$f":"IF('Vendor List'!$A3606=\"\",\"\",'Vendor List'!$A3606)","v":""}]
[null,null,{"$f":"IF('Vendor List'!$A3607=\"\",\"\",'Vendor List'!$A3607)","v":""}]
[null,null,{"$f":"IF('Vendor List'!$A3608=\"\",\"\",'Vendor List'!$A3608)","v":""}]
[null,null,{"$f":"IF('Vendor List'!$A3609=\"\",\"\",'Vendor List'!$A3609)","v":""}]
[null,null,{"$f":"IF('Vendor List'!$A3610=\"\",\"\",'Vendor List'!$A3610)","v":""}]
[null,null,{"$f":"IF('Vendor List'!$A3611=\"\",\"\",'Vendor List'!$A3611)","v":""}]
[null,null,{"$f":"IF('Vendor List'!$A3612=\"\",\"\",'Vendor List'!$A3612)","v":""}]
[null,null,{"$f":"IF('Vendor List'!$A3613=\"\",\"\",'Vendor List'!$A3613)","v":""}]
[null,null,{"$f":"IF('Vendor List'!$A3614=\"\",\"\",'Vendor List'!$A3614)","v":""}]
[null,null,{"$f":"IF('Vendor List'!$A3615=\"\",\"\",'Vendor List'!$A3615)","v":""}]
[null,null,{"$f":"IF('Vendor List'!$A3616=\"\",\"\",'Vendor List'!$A3616)","v":""}]
[null,null,{"$f":"IF('Vendor List'!$A3617=\"\",\"\",'Vendor List'!$A3617)","v":""}]
[null,null,{"$f":"IF('Vendor List'!$A3618=\"\",\"\",'Vendor List'!$A3618)","v":""}]
[null,null,{"$f":"IF('Vendor List'!$A3619=\"\",\"\",'Vendor List'!$A3619)","v":""}]
[null,null,{"$f":"IF('Vendor List'!$A3620=\"\",\"\",'Vendor List'!$A3620)","v":""}]
[null,null,{"$f":"IF('Vendor List'!$A3621=\"\",\"\",'Vendor List'!$A3621)","v":""}]
[null,null,{"$f":"IF('Vendor List'!$A3622=\"\",\"\",'Vendor List'!$A3622)","v":""}]
[null,null,{"$f":"IF('Vendor List'!$A3623=\"\",\"\",'Vendor List'!$A3623)","v":""}]
[null,null,{"$f":"IF('Vendor List'!$A3624=\"\",\"\",'Vendor List'!$A3624)","v":""}]
[null,null,{"$f":"IF('Vendor List'!$A3625=\"\",\"\",'Vendor List'!$A3625)","v":""}]
[null,null,{"$f":"IF('Vendor List'!$A3626=\"\",\"\",'Vendor List'!$A3626)","v":""}]
[null,null,{"$f":"IF('Vendor List'!$A3627=\"\",\"\",'Vendor List'!$A3627)","v":""}]
[null,null,{"$f":"IF('Vendor List'!$A3628=\"\",\"\",'Vendor List'!$A3628)","v":""}]
[null,null,{"$f":"IF('Vendor List'!$A3629=\"\",\"\",'Vendor List'!$A3629)","v":""}]
[null,null,{"$f":"IF('Vendor List'!$A3630=\"\",\"\",'Vendor List'!$A3630)","v":""}]
[null,null,{"$f":"IF('Vendor List'!$A3631=\"\",\"\",'Vendor List'!$A3631)","v":""}]
[null,null,{"$f":"IF('Vendor List'!$A3632=\"\",\"\",'Vendor List'!$A3632)","v":""}]
[null,null,{"$f":"IF('Vendor List'!$A3633=\"\",\"\",'Vendor List'!$A3633)","v":""}]
[null,null,{"$f":"IF('Vendor List'!$A3634=\"\",\"\",'Vendor List'!$A3634)","v":""}]
[null,null,{"$f":"IF('Vendor List'!$A3635=\"\",\"\",'Vendor List'!$A3635)","v":""}]
[null,null,{"$f":"IF('Vendor List'!$A3636=\"\",\"\",'Vendor List'!$A3636)","v":""}]
[null,null,{"$f":"IF('Vendor List'!$A3637=\"\",\"\",'Vendor List'!$A3637)","v":""}]
[null,null,{"$f":"IF('Vendor List'!$A3638=\"\",\"\",'Vendor List'!$A3638)","v":""}]
[null,null,{"$f":"IF('Vendor List'!$A3639=\"\",\"\",'Vendor List'!$A3639)","v":""}]
[null,null,{"$f":"IF('Vendor List'!$A3640=\"\",\"\",'Vendor List'!$A3640)","v":""}]
[null,null,{"$f":"IF('Vendor List'!$A3641=\"\",\"\",'Vendor List'!$A3641)","v":""}]
[null,null,{"$f":"IF('Vendor List'!$A3642=\"\",\"\",'Vendor List'!$A3642)","v":""}]
[null,null,{"$f":"IF('Vendor List'!$A3643=\"\",\"\",'Vendor List'!$A3643)","v":""}]
[null,null,{"$f":"IF('Vendor List'!$A3644=\"\",\"\",'Vendor List'!$A3644)","v":""}]
[null,null,{"$f":"IF('Vendor List'!$A3645=\"\",\"\",'Vendor List'!$A3645)","v":""}]
[null,null,{"$f":"IF('Vendor List'!$A3646=\"\",\"\",'Vendor List'!$A3646)","v":""}]
[null,null,{"$f":"IF('Vendor List'!$A3647=\"\",\"\",'Vendor List'!$A3647)","v":""}]
[null,null,{"$f":"IF('Vendor List'!$A3648=\"\",\"\",'Vendor List'!$A3648)","v":""}]
[null,null,{"$f":"IF('Vendor List'!$A3649=\"\",\"\",'Vendor List'!$A3649)","v":""}]
[null,null,{"$f":"IF('Vendor List'!$A3650=\"\",\"\",'Vendor List'!$A3650)","v":""}]
[null,null,{"$f":"IF('Vendor List'!$A3651=\"\",\"\",'Vendor List'!$A3651)","v":""}]
[null,null,{"$f":"IF('Vendor List'!$A3652=\"\",\"\",'Vendor List'!$A3652)","v":""}]
[null,null,{"$f":"IF('Vendor List'!$A3653=\"\",\"\",'Vendor List'!$A3653)","v":""}]
[null,null,{"$f":"IF('Vendor List'!$A3654=\"\",\"\",'Vendor List'!$A3654)","v":""}]
[null,null,{"$f":"IF('Vendor List'!$A3655=\"\",\"\",'Vendor List'!$A3655)","v":""}]
[null,null,{"$f":"IF('Vendor List'!$A3656=\"\",\"\",'Vendor List'!$A3656)","v":""}]
[null,null,{"$f":"IF('Vendor List'!$A3657=\"\",\"\",'Vendor List'!$A3657)","v":""}]
[null,null,{"$f":"IF('Vendor List'!$A3658=\"\",\"\",'Vendor List'!$A3658)","v":""}]
[null,null,{"$f":"IF('Vendor List'!$A3659=\"\",\"\",'Vendor List'!$A3659)","v":""}]
[null,null,{"$f":"IF('Vendor List'!$A3660=\"\",\"\",'Vendor List'!$A3660)","v":""}]
[null,null,{"$f":"IF('Vendor List'!$A3661=\"\",\"\",'Vendor List'!$A3661)","v":""}]
[null,null,{"$f":"IF('Vendor List'!$A3662=\"\",\"\",'Vendor List'!$A3662)","v":""}]
[null,null,{"$f":"IF('Vendor List'!$A3663=\"\",\"\",'Vendor List'!$A3663)","v":""}]
[null,null,{"$f":"IF('Vendor List'!$A3664=\"\",\"\",'Vendor List'!$A3664)","v":""}]
[null,null,{"$f":"IF('Vendor List'!$A3665=\"\",\"\",'Vendor List'!$A3665)","v":""}]
[null,null,{"$f":"IF('Vendor List'!$A3666=\"\",\"\",'Vendor List'!$A3666)","v":""}]
[null,null,{"$f":"IF('Vendor List'!$A3667=\"\",\"\",'Vendor List'!$A3667)","v":""}]
[null,null,{"$f":"IF('Vendor List'!$A3668=\"\",\"\",'Vendor List'!$A3668)","v":""}]
[null,null,{"$f":"IF('Vendor List'!$A3669=\"\",\"\",'Vendor List'!$A3669)","v":""}]
[null,null,{"$f":"IF('Vendor List'!$A3670=\"\",\"\",'Vendor List'!$A3670)","v":""}]
[null,null,{"$f":"IF('Vendor List'!$A3671=\"\",\"\",'Vendor List'!$A3671)","v":""}]
[null,null,{"$f":"IF('Vendor List'!$A3672=\"\",\"\",'Vendor List'!$A3672)","v":""}]
[null,null,{"$f":"IF('Vendor List'!$A3673=\"\",\"\",'Vendor List'!$A3673)","v":""}]
[null,null,{"$f":"IF('Vendor List'!$A3674=\"\",\"\",'Vendor List'!$A3674)","v":""}]
[null,null,{"$f":"IF('Vendor List'!$A3675=\"\",\"\",'Vendor List'!$A3675)","v":""}]
[null,null,{"$f":"IF('Vendor List'!$A3676=\"\",\"\",'Vendor List'!$A3676)","v":""}]
[null,null,{"$f":"IF('Vendor List'!$A3677=\"\",\"\",'Vendor List'!$A3677)","v":""}]
[null,null,{"$f":"IF('Vendor List'!$A3678=\"\",\"\",'Vendor List'!$A3678)","v":""}]
[null,null,{"$f":"IF('Vendor List'!$A3679=\"\",\"\",'Vendor List'!$A3679)","v":""}]
[null,null,{"$f":"IF('Vendor List'!$A3680=\"\",\"\",'Vendor List'!$A3680)","v":""}]
[null,null,{"$f":"IF('Vendor List'!$A3681=\"\",\"\",'Vendor List'!$A3681)","v":""}]
[null,null,{"$f":"IF('Vendor List'!$A3682=\"\",\"\",'Vendor List'!$A3682)","v":""}]
[null,null,{"$f":"IF('Vendor List'!$A3683=\"\",\"\",'Vendor List'!$A3683)","v":""}]
[null,null,{"$f":"IF('Vendor List'!$A3684=\"\",\"\",'Vendor List'!$A3684)","v":""}]
[null,null,{"$f":"IF('Vendor List'!$A3685=\"\",\"\",'Vendor List'!$A3685)","v":""}]
[null,null,{"$f":"IF('Vendor List'!$A3686=\"\",\"\",'Vendor List'!$A3686)","v":""}]
[null,null,{"$f":"IF('Vendor List'!$A3687=\"\",\"\",'Vendor List'!$A3687)","v":""}]
[null,null,{"$f":"IF('Vendor List'!$A3688=\"\",\"\",'Vendor List'!$A3688)","v":""}]
[null,null,{"$f":"IF('Vendor List'!$A3689=\"\",\"\",'Vendor List'!$A3689)","v":""}]
[null,null,{"$f":"IF('Vendor List'!$A3690=\"\",\"\",'Vendor List'!$A3690)","v":""}]
[null,null,{"$f":"IF('Vendor List'!$A3691=\"\",\"\",'Vendor List'!$A3691)","v":""}]
[null,null,{"$f":"IF('Vendor List'!$A3692=\"\",\"\",'Vendor List'!$A3692)","v":""}]
[null,null,{"$f":"IF('Vendor List'!$A3693=\"\",\"\",'Vendor List'!$A3693)","v":""}]
[null,null,{"$f":"IF('Vendor List'!$A3694=\"\",\"\",'Vendor List'!$A3694)","v":""}]
[null,null,{"$f":"IF('Vendor List'!$A3695=\"\",\"\",'Vendor List'!$A3695)","v":""}]
[null,null,{"$f":"IF('Vendor List'!$A3696=\"\",\"\",'Vendor List'!$A3696)","v":""}]
[null,null,{"$f":"IF('Vendor List'!$A3697=\"\",\"\",'Vendor List'!$A3697)","v":""}]
[null,null,{"$f":"IF('Vendor List'!$A3698=\"\",\"\",'Vendor List'!$A3698)","v":""}]
[null,null,{"$f":"IF('Vendor List'!$A3699=\"\",\"\",'Vendor List'!$A3699)","v":""}]
[null,null,{"$f":"IF('Vendor List'!$A3700=\"\",\"\",'Vendor List'!$A3700)","v":""}]

{"sheet":"Shipping Menu","index":1,"n_rows":8,"n_cols":6,"rows_kept":8,"cut":false,"hidden":false,"merged":[]}
[null,"Name: ShipLocation",null,"Name: ShipMethod",null,"Name:CostCat"]
[null,"Shipping Locations:",null,"Shipping Method:",null,"Cost category"]
[null,"222 W Washington Ave. 5Th Floor, Madison, WI 53703",null,"Ground  ",null,"Capital Equipment"]
[null,"KRC/PSL - 3725 Schneider Dr. Stoughton, WI 53589",null,"2nd Day",null,"M&S"]
[null,"Chamberlin Hall, 1150 University Ave. Madison, WI 53706 ",null,"Next Day",null,"Service Agreement"]
[null,null,null,null,null,"Services"]
[null,null,null,null,null,"Travel"]
[null,null,null,null,null,"Subawards"]

{"sheet":"WIPAC Funding","index":2,"n_rows":185,"n_cols":10,"rows_kept":185,"cut":false,"hidden":false,"merged":[]}
["UDDS A349300 ","IRC - Effective 7/1/08"]
["UDDS A349160","A3RI/KRC",null,null,null,"FUNDING","PROJECT#",null,"PROJECT DESCRIPTION","FUNDING & PROJECT #"]
["UDDS A349100","A3RI/SSEC"]
["UDDS A484230","A3RI/SOCIAL SCIENCE MICRO COMPUTER LAB"]
["UDDS A486700","A3RI/PHYSICS"]
[null,null,"9/1/04-8/31/07"]
[]
[null,null,null,null,null,"IceCube M&O Core (144-AAA9616)","380210.010",null,"Program Management",{"$f":"F8&\" \"&G8&\" \"&I8","v":"IceCube M&O Core (144-AAA9616) 380210.010 Program Management"}]
[null,null,null,null,null,"IceCube M&O Core (144-AAA9616)","380211.010",null,"Administration","IceCube M&O Core (144-AAA9616) 380211.010 Administration"]
[null,null,null,null,null,"IceCube M&O Core (144-AAA9616)","380212.010",null,"Engineering & R&D Supp.","IceCube M&O Core (144-AAA9616) 380212.010 Engineering & R&D Supp."]
[null,null,null,null,null,"IceCube M&O Core (144-AAA9616)",380212.01500000001,null,"PINGU R&D","IceCube M&O Core (144-AAA9616) 380212.015 PINGU R&D"]
[null,null,null,null,null,"IceCube M&O Core (144-AAA9616)","380212.020",null,"SPICECORE","IceCube M&O Core (144-AAA9616) 380212.020 SPICECORE"]
[null,null,null,null,null,"IceCube M&O Core (144-AAA9616)","380213.010",null,"USAP  & Safety Support","IceCube M&O Core (144-AAA9616) 380213.010 USAP  & Safety Support"]
[null,null,null,null,null,"IceCube M&O Core (144-AAA9616)","380214.010",null,"Education & Outreach",{"$f":"F14&\" \"&G14&\" \"&I14","v":"IceCube M&O Core (144-AAA9616) 380214.010 Education & Outreach"}]
[null,null,null,null,null,"IceCube M&O Core (144-AAA9616)","380215.010","Communications","Communications",{"$f":"F15&\" \"&G15&\" \"&I15","v":"IceCube M&O Core (144-AAA9616) 380215.010 Communications"}]
[null,null,null,null,null,null,null,null,null,"  "]
[null,null,null,null,null,"IceCube M&O Core (144-AAA9616)","380220.010",null,"Detector Mgmnt & Opr","IceCube M&O Core (144-AAA9616) 380220.010 Detector Mgmnt & Opr"]
[null,null,null,null,null,"IceCube M&O Core (144-AAA9616)","380221.010",null,"Run Coordination","IceCube M&O Core (144-AAA9616) 380221.010 Run Coordination"]
[null,null,null,null,null,"IceCube M&O Core (144-AAA9616)","380221.020",null,"Winter Over Personnel",{"$f":"F19&\" \"&G19&\" \"&I19","v":"IceCube M&O Core (144-AAA9616) 380221.020 Winter Over Personnel"}]
[null,null,null,null,null,"IceCube M&O Core (144-AAA9616)","380222.010",null,"Data Acquisition","IceCube M&O Core (144-AAA9616) 380222.010 Data Acquisition"]
[null,null,null,null,null,"IceCube M&O Core (144-AAA9616)","380223.010",null,"Online Filter (PnF)"]
[null,null,null,null,null,"IceCube M&O Core (144-AAA9616)","380224.010",null,"Detector Monitoring","IceCube M&O Core (144-AAA9616) 380224.010 Detector Monitoring"]
[null,null,null,null,null,"IceCube M&O Core (144-AAA9616)","380225.010",null,"Experiment Control","IceCube M&O Core (144-AAA9616) 380225.010 Experiment Control"]
[null,null,null,null,null,"IceCube M&O Core (144-AAA9616)","380226.010",null,"Surface Detector Operations","IceCube M&O Core (144-AAA9616) 380226.010 Surface Detector Operations"]
[null,null,null,null,null,"IceCube M&O Core (144-AAA9616)","380227.010",null,"Supernova System","IceCube M&O Core (144-AAA9616) 380227.010 Supernova System"]
[null,null,null,null,null,null,null,null,null,"  "]
[null,null,null,null,null,"IceCube M&O Core (144-AAA9616)","380230.010",null,"Computing & Data Mgmt","IceCube M&O Core (144-AAA9616) 380230.010 Computing & Data Mgmt"]
[null,null,null,null,null,"IceCube M&O Core (144-AAA9616)","380231.010",null,"Data Storage & Transfer","IceCube M&O Core (144-AAA9616) 380231.010 Data Storage & Transfer"]
[null,null,null,null,null,"IceCube M&O Core (144-AAA9616)","380232.010",null,"Core Data Center Infrastructure","IceCube M&O Core (144-AAA9616) 380232.010 Core Data Center Infrastructure"]
[null,null,null,null,null,"IceCube M&O Core (144-AAA9616)","380233.010",null,"Central Computing Resources","IceCube M&O Core (144-AAA9616) 380233.010 Central Computing Resources"]
[null,null,null,null,null,"IceCube M&O Core (144-AAA9616)","380234.010",null,"Distributed Computing Resources","IceCube M&O Core (144-AAA9616) 380234.010 Distributed Computing Resources"]
[null,null,null,null,null,"IceCube M&O Core (144-AAA9616)","380235.010",null,"South Pole System","IceCube M&O Core (144-AAA9616) 380235.010 South Pole System"]
[null,null,null,null,null,"IceCube M&O Core (144-AAA9616)","380236.010",null,"South Pole Test System",{"$f":"F33&\" \"&G33&\" \"&I33","v":"IceCube M&O Core (144-AAA9616) 380236.010 South Pole Test System"}]
[null,null,null,null,null,null,null,null,null,"  "]
[null,null,null,null,null,"IceCube M&O Core (144-AAA9616)","380240.010",null,"Data Proc and Simulation Serv","IceCube M&O Core (144-AAA9616) 380240.010 Data Proc and Simulation Serv"]
[null,null,null,null,null,"IceCube M&O Core (144-AAA9616)","380241.010",null,"Offline Data Production",{"$f":"F36&\" \"&G36&\" \"&I36","v":"IceCube M&O Core (144-AAA9616) 380241.010 Offline Data Production"}]
[null,null,null,null,null,"IceCube M&O Core (144-AAA9616)","380242.010",null,"Simulation Production","IceCube M&O Core (144-AAA9616) 380242.010 Simulation Production"]
[null,null,null,null,null,"IceCube M&O Core (144-AAA9616)","380243.010",null,"Public Data Products","IceCube M&O Core (144-AAA9616) 380243.010 Public Data Products"]
[]
[null,null,null,null,null,"IceCube M&O Core (144-AAA9616)","380251.010",null,"Core Software","IceCube M&O Core (144-AAA9616) 380251.010 Core Software"]
[null,null,null,null,null,"IceCube M&O Core (144-AAA9616)","380252.010",null,"Simulation Software","IceCube M&O Core (144-AAA9616) 380252.010 Simulation Software"]
[null,null,null,null,null,"IceCube M&O Core (144-AAA9616)","380253.010",null,"Reconstruction",{"$f":"F42&\" \"&G42&\" \"&I42","v":"IceCube M&O Core (144-AAA9616) 380253.010 Reconstruction"}]
[null,null,null,null,null,"IceCube M&O Core (144-AAA9616)","380254.010",null,"Science Support Tools","IceCube M&O Core (144-AAA9616) 380254.010 Science Support Tools"]
[null,null,null,null,null,"IceCube M&O Core (144-AAA9616)","380255.010",null,"Software Dev Infrastructure",{"$f":"F44&\" \"&G44&\" \"&I44","v":"IceCube M&O Core (144-AAA9616) 380255.010 Software Dev Infrastructure"}]
[]
[null,null,null,null,null,"IceCube M&O Core (144-AAA9616)","380261.010",null,"Detector Calibration",{"$f":"F46&\" \"&G46&\" \"&I46","v":"IceCube M&O Core (144-AAA9616) 380261.010 Detector Calibration"}]
[null,null,null,null,null,"IceCube M&O Core (144-AAA9616)","380262.010",null,"Ice Properties","IceCube M&O Core (144-AAA9616) 380262.010 Ice Properties"]
[]
[null,null,null,null,null,"IceCube M&O Core (144-AAA9616)","380190.020",null,"Subaward - LBNL","IceCube M&O Core (144-AAA9616) 380190.020 Subaward - LBNL"]
[null,null,null,null,null,"IceCube M&O Core (144-AAA9616)","380190.040",null,"Subaward - Penn State","IceCube M&O Core (144-AAA9616) 380190.040 Subaward - Penn State"]
[null,null,null,null,null,"IceCube M&O Core (144-AAA9616)","380190.070",null,"Subaward - U Delaware","IceCube M&O Core (144-AAA9616) 380190.070 Subaward - U Delaware"]
[null,null,null,null,null,"IceCube M&O Core (144-AAA9616)","380190.080",null,"Subaward - U Maryland",{"$f":"F52&\" \"&G52&\" \"&I52","v":"IceCube M&O Core (144-AAA9616) 380190.080 Subaward - U Maryland"}]
[null,null,null,null,null,"IceCube M&O Core (144-AAA9616)","380190.090",null,"Subaward - UW-River Falls","IceCube M&O Core (144-AAA9616) 380190.090 Subaward - UW-River Falls"]
[null,null,null,null,null,"IceCube M&O Core (144-AAA9616)","380190.150",null,"Subaward - U Alabama","IceCube M&O Core (144-AAA9616) 380190.150 Subaward - U Alabama"]
[null,null,null,null,null,"IceCube M&O Core (144-AAA9616)","380190.170",null,"Subaward - MSU","IceCube M&O Core (144-AAA9616) 380190.170 Subaward - MSU"]
[null,null,null,null,null,"IceCube M&O Core (144-AAA9616)","380190.180",null,"Subaward - SDSMT","IceCube M&O Core (144-AAA9616) 380190.180 Subaward - SDSMT"]
[null,null,null,null,null,null,null,null,null,"  "]
[]
[null,null,null,null,null,"IceCube M&O US CF (144-AAA9617)","381105.010",null,"Detector Ops&Maint",{"$f":"F59&\" \"&G59&\" \"&I59","v":"IceCube M&O US CF (144-AAA9617) 381105.010 Detector Ops&Maint"}]
[null,null,null,null,null,"IceCube M&O US CF (144-AAA9617)","381110.010",null,"Comp & Data Mgmt",{"$f":"F60&\" \"&G60&\" \"&I60","v":"IceCube M&O US CF (144-AAA9617) 381110.010 Comp & Data Mgmt"}]
[null,null,null,null,null,null,null,null,null,{"$f":"F61&\" \"&G61&\" \"&I61","v":"  "}]
[]
[null,null,null,null,null,"IceCube M&O NonUS CF (233-KJ11)","282105.010",null,"Detect Ops&Maint",{"$f":"F63&\" \"&G63&\" \"&I63","v":"IceCube M&O NonUS CF (233-KJ11) 282105.010 Detect Ops&Maint"}]
[null,null,null,null,null,"IceCube M&O NonUS CF (233-KJ11)","282110.010",null,"Comp & Data Mgt",{"$f":"F64&\" \"&G64&\" \"&I64","v":"IceCube M&O NonUS CF (233-KJ11) 282110.010 Comp & Data Mgt"}]
[null,null,null,null,null,"IceCube M&O NonUS CF (233-KJ11)","283110.010",null,"IceCube Upgrade",{"$f":"F65&\" \"&G65&\" \"&I65","v":"IceCube M&O NonUS CF (233-KJ11) 283110.010 IceCube Upgrade"}]
[]
[null,null,null,null,null,"IC M&O Multi-Messngr (144-AAD6231)","284100.010",null,"Default",{"$f":"F67&\" \"&G67&\" \"&I67","v":"IC M&O Multi-Messngr (144-AAD6231) 284100.010 Default"}]
[]
[null,null,null,null,null,"IC M&O  Part Support  (144-AAD6232)","285100.010",null,"Default",{"$f":"F69&\" \"&G69&\" \"&I69","v":"IC M&O  Part Support  (144-AAD6232) 285100.010 Default"}]
["144JR70",null,"144-MS59"]
[]
[null,null,null,null,null,"IceCube GEN2 Phase 1 (144-AAD7628)","400110.010",null,"Program Management",{"$f":"F72&\" \"&G72&\" \"&I72","v":"IceCube GEN2 Phase 1 (144-AAD7628) 400110.010 Program Management"}]
[null,null,null,null,null,"IceCube GEN2 Phase 1 (144-AAD7628)","400111.010",null,"Project Controls (EVMS)",{"$f":"F73&\" \"&G73&\" \"&I73","v":"IceCube GEN2 Phase 1 (144-AAD7628) 400111.010 Project Controls (EVMS)"}]
[null,null,null,null,null,"IceCube GEN2 Phase 1 (144-AAD7628)","400112.010",null,"Project Engineering",{"$f":"F74&\" \"&G74&\" \"&I74","v":"IceCube GEN2 Phase 1 (144-AAD7628) 400112.010 Project Engineering"}]
[null,null,null,null,null,"IceCube GEN2 Phase 1 (144-AAD7628)","400113.010",null,"Polar Operations",{"$f":"F75&\" \"&G75&\" \"&I75","v":"IceCube GEN2 Phase 1 (144-AAD7628) 400113.010 Polar Operations"}]
[null,null,null,null,null,null,null,null,null,{"$f":"F76&\" \"&G76&\" \"&I76","v":"  "}]
[null,null,null,null,null,"IceCube GEN2 Phase 1 (144-AAD7628)","400120.010",null,"Enhanced Hot Water Drill","IceCube GEN2 Phase 1 (144-AAD7628) 400120.010 Enhanced Hot Water Drill"]
[null,null,null,null,null,"IceCube GEN2 Phase 1 (144-AAD7628)","400121.010",null,"Drill Management","IceCube GEN2 Phase 1 (144-AAD7628) 400121.010 Drill Management"]
[null,null,null,null,null,"IceCube GEN2 Phase 1 (144-AAD7628)","400122.010",null,"Thermal Plant",{"$f":"F79&\" \"&G79&\" \"&I79","v":"IceCube GEN2 Phase 1 (144-AAD7628) 400122.010 Thermal Plant"}]
[null,null,null,null,null,"IceCube GEN2 Phase 1 (144-AAD7628)","400123.010",null,"Tower Operations Site"]
[null,null,null,null,null,"IceCube GEN2 Phase 1 (144-AAD7628)","400124.010",null,"Computing & Control Systems",{"$f":"F81&\" \"&G81&\" \"&I81","v":"IceCube GEN2 Phase 1 (144-AAD7628) 400124.010 Computing & Control Systems"}]
[null,null,null,null,null,"IceCube GEN2 Phase 1 (144-AAD7628)","400125.010",null,"Elec Gen & Distr Systems","IceCube GEN2 Phase 1 (144-AAD7628) 400125.010 Elec Gen & Distr Systems"]
[null,null,null,null,null,"IceCube GEN2 Phase 1 (144-AAD7628)","400126.010",null,"Water Handling Systems","IceCube GEN2 Phase 1 (144-AAD7628) 400126.010 Water Handling Systems"]
[null,null,null,null,null,"IceCube GEN2 Phase 1 (144-AAD7628)","400127.010",null,"Deployment & Sup Equipment","IceCube GEN2 Phase 1 (144-AAD7628) 400127.010 Deployment & Sup Equipment"]
[null,null,null,null,null,"IceCube GEN2 Phase 1 (144-AAD7628)","400128.010",null,"Drill Field Systems",{"$f":"F85&\" \"&G85&\" \"&I85","v":"IceCube GEN2 Phase 1 (144-AAD7628) 400128.010 Drill Field Systems"}]
[null,null,null,null,null,null,null,null,null,"  "]
[null,null,null,null,null,"IceCube GEN2 Phase 1 (144-AAD7628)","400130.010",null,"DP Ice Dectector Modules","IceCube GEN2 Phase 1 (144-AAD7628) 400130.010 DP Ice Dectector Modules"]
[null,null,null,null,null,"IceCube GEN2 Phase 1 (144-AAD7628)","400131.010",null,"mDOM","IceCube GEN2 Phase 1 (144-AAD7628) 400131.010 mDOM"]
[null,null,null,null,null,"IceCube GEN2 Phase 1 (144-AAD7628)","400132.010",null,"D-Egg","IceCube GEN2 Phase 1 (144-AAD7628) 400132.010 D-Egg"]
[null,null,null,null,null,"IceCube GEN2 Phase 1 (144-AAD7628)","400133.010",null,"pDOM","IceCube GEN2 Phase 1 (144-AAD7628) 400133.010 pDOM"]
[null,null,null,null,null,"IceCube GEN2 Phase 1 (144-AAD7628)","400134.010",null,"Special Devices","IceCube GEN2 Phase 1 (144-AAD7628) 400134.010 Special Devices"]
[null,null,null,null,null,null,null,null,null,"  "]
[null,null,null,null,null,"IceCube GEN2 Phase 1 (144-AAD7628)","400140.010",null,"Comms, Power & Timin","IceCube GEN2 Phase 1 (144-AAD7628) 400140.010 Comms, Power & Timin"]
[null,null,null,null,null,"IceCube GEN2 Phase 1 (144-AAD7628)","400141.010",null,"Downhole Cable Assembly","IceCube GEN2 Phase 1 (144-AAD7628) 400141.010 Downhole Cable Assembly"]
[null,null,null,null,null,"IceCube GEN2 Phase 1 (144-AAD7628)","400142.010",null,"Interm Distrib Facility","IceCube GEN2 Phase 1 (144-AAD7628) 400142.010 Interm Distrib Facility"]
[null,null,null,null,null,"IceCube GEN2 Phase 1 (144-AAD7628)","400143.010",null,"FieldHub","IceCube GEN2 Phase 1 (144-AAD7628) 400143.010 FieldHub"]
[null,null,null,null,null,"IceCube GEN2 Phase 1 (144-AAD7628)","400144.010",null,"CPT Central Infrastructure",{"$f":"F97&\" \"&G97&\" \"&I97","v":"IceCube GEN2 Phase 1 (144-AAD7628) 400144.010 CPT Central Infrastructure"}]
[null,null,null,null,null,"IceCube GEN2 Phase 1 (144-AAD7628)","400145.010",null,"Northern Test Systems","IceCube GEN2 Phase 1 (144-AAD7628) 400145.010 Northern Test Systems"]
[]
[null,null,null,null,null,"IceCube GEN2 Phase 1 (144-AAD7628)","400150.010",null,"Charac & Calibraton",{"$f":"F100&\" \"&G100&\" \"&I100","v":"IceCube GEN2 Phase 1 (144-AAD7628) 400150.010 Charac & Calibraton"}]
[null,null,null,null,null,"IceCube GEN2 Phase 1 (144-AAD7628)","400151.010",null,"Module Calibration","IceCube GEN2 Phase 1 (144-AAD7628) 400151.010 Module Calibration"]
[null,null,null,null,null,"IceCube GEN2 Phase 1 (144-AAD7628)","400152.010",null,"Calibration Assemblies","IceCube GEN2 Phase 1 (144-AAD7628) 400152.010 Calibration Assemblies"]
[null,null,null,null,null,"IceCube GEN2 Phase 1 (144-AAD7628)","400153.010",null,"Array Calibration","IceCube GEN2 Phase 1 (144-AAD7628) 400153.010 Array Calibration"]
[]
[null,null,null,null,null,"IceCube GEN2 Phase 1 (144-AAD7628)","400160.010",null,"Data Systems",{"$f":"F105&\" \"&G105&\" \"&I105","v":"IceCube GEN2 Phase 1 (144-AAD7628) 400160.010 Data Systems"}]
[null,null,null,null,null,"IceCube GEN2 Phase 1 (144-AAD7628)","400161.010",null,"Online Software","IceCube GEN2 Phase 1 (144-AAD7628) 400161.010 Online Software"]
[null,null,null,null,null,"IceCube GEN2 Phase 1 (144-AAD7628)","400162.010",null,"Offline Software",{"$f":"F107&\" \"&G107&\" \"&I107","v":"IceCube GEN2 Phase 1 (144-AAD7628) 400162.010 Offline Software"}]
[null,null,null,null,null,"IceCube GEN2 Phase 1 (144-AAD7628)","400163.010",null,"Simulation Software","IceCube GEN2 Phase 1 (144-AAD7628) 400163.010 Simulation Software"]
[null,null,null,null,null,"IceCube GEN2 Phase 1 (144-AAD7628)","400164.010",null,"Computing Infrastructure",{"$f":"F109&\" \"&G109&\" \"&I109","v":"IceCube GEN2 Phase 1 (144-AAD7628) 400164.010 Computing Infrastructure"}]
[]
[null,null,null,null,null,"IceCube GEN2 Phase 1 (144-AAD7628)","400199.010",null,"Salary Encumbrance",{"$f":"F111&\" \"&G111&\" \"&I111","v":"IceCube GEN2 Phase 1 (144-AAD7628) 400199.010 Salary Encumbrance"}]
[null,null,null,null,null,null,null,null,null,{"$f":"F112&\" \"&G112&\" \"&I112","v":"  "}]
[null,null,null,null,null,null,null,null,null,"  "]
[null,null,null,null,null,null,null,null,null,"  "]
[null,null,null,null,null,null,null,null,null,"  "]
[null,null,null,null,null,"ARA NSF 2015 (144-AAA7611)",264100.00099999999,264100.00099999999,"Default",{"$f":"F116&\" \"&G116&\" \"&I116","v":"ARA NSF 2015 (144-AAA7611) 264100.001 Default"}]
[null,null,null,null,null,"ARA NSF 2015 (144-AAA7611)",264190.00099999999,264100.00099999999,"Subaward ",{"$f":"F117&\" \"&G117&\" \"&I117","v":"ARA NSF 2015 (144-AAA7611) 264190.001 Subaward "}]
[]
[null,null,null,null,null,"ARA CHIBA MoU (133-76PS)","212020.001",null,"Default","ARA CHIBA MoU (133-76PS) 212020.001 Default"]
[null,null,null,null,null,null,null,null,null,"  "]
[null,null,null,null,null,"Simon Strauss Found (233-PRJ81JG)",212023.00099999999,null,"Default","Simon Strauss Found (233-PRJ81JG) 212023.001 Default"]
[null,null,null,null,null,null,null,null,null,"  "]
[null,null,null,null,null,"MoU W/Nagoya (133-AAA6364)",212026.00099999999,null,"Default","MoU W/Nagoya (133-AAA6364) 212026.001 Default"]
[null,null,null,null,null,null,null,null,null,"  "]
[null,null,null,null,null,"Balzan Prize(233-AAA8919)",212028.00099999999,null,"Default",{"$f":"F125&\" \"&G125&\" \"&I125","v":"Balzan Prize(233-AAA8919) 212028.001 Default"}]
[]
[null,null,null,null,null,"UW2020_Hanson (135-AAC1687)",212031.00099999999,null,"Default",{"$f":"F127&\" \"&G127&\" \"&I127","v":"UW2020_Hanson (135-AAC1687) 212031.001 Default"}]
[]
[null,null,null,null,null,"Multi-Messenger Astro (144-AAC4794)",212032.00099999999,null,"Default",{"$f":"F129&\" \"&G129&\" \"&I129","v":"Multi-Messenger Astro (144-AAC4794) 212032.001 Default"}]
[]
[null,null,null,null,null,"All 4 Science (133-AAC8711)",212033.00099999999,null,"Default","All 4 Science (133-AAC8711) 212033.001 Default"]
["ended 8/31/05",null,"ends 8/31/08"]
[null,null,null,null,null,"APS - All 4 Science (144-AAD2449)",212034.00099999999,null,"Default",{"$f":"F133&\" \"&G133&\" \"&I133","v":"APS - All 4 Science (144-AAD2449) 212034.001 Default"}]
[]
[null,null,null,null,null,"APS - Participant Sup (144-AAD2451)",212035.00099999999,null,"Default","APS - Participant Sup (144-AAD2451) 212035.001 Default"]
["ended 8/31/05",null,"ends 8/31/08"]
[null,null,null,null,null,"Data Infrastructure (144-AAD7358)",212036.00099999999,null,"Default",{"$f":"F137&\" \"&G137&\" \"&I137","v":"Data Infrastructure (144-AAD7358) 212036.001 Default"}]
["ended 8/31/05",null,"ends 8/31/08"]
[]
["Amanda/Collector",null,"Default"]
[null,null,null,null,null,"IceCube Analysis  (144-AAB4322)","273100.001",null,"Default",{"$f":"F141&\" \"&G141&\" \"&I141","v":"IceCube Analysis  (144-AAB4322) 273100.001 Default"}]
[null,null,null,null,null,null,null,null,null,{"$f":"F142&\" \"&G142&\" \"&I142","v":"  "}]
[]
[null,null,null,null,null,null,null,null,null,{"$f":"F144&\" \"&G144&\" \"&I144","v":"  "}]
[22000.001,null,22100.001,null,null,"WIPAC Overhead (144-FS80)","20012.001",null,"General",{"$f":"F145&\" \"&G145&\" \"&I145","v":"WIPAC Overhead (144-FS80) 20012.001 General"}]
[null,null,null,null,null,"WIPAC Overhead (144-FS80)",20015.001,null,"IceCube M&O",{"$f":"F146&\" \"&G146&\" \"&I146","v":"WIPAC Overhead (144-FS80) 20015.001 IceCube M&O"}]
[null,null,null,null,null,"WIPAC Overhead (144-FS80)",20018.001,null,"L&S Support","WIPAC Overhead (144-FS80) 20018.001 L&S Support"]
["22000.vac",null,"22100.vac",null,null,"WIPAC Overhead (144-FS80)",20020.001,null,"Administration","WIPAC Overhead (144-FS80) 20020.001 Administration"]
["22000.sick",null,"22100.sick",null,null,"WIPAC Overhead (144-FS80)",20020.019,null,"FY2019 Coll. Mtg.","WIPAC Overhead (144-FS80) 20020.019 FY2019 Coll. Mtg."]
["22000.hol",null,"22100.hol",null,null,null,null,null,null,"  "]
[null,null,null,null,null,"WIPAC Overhead (144-FS80)",20025.001,null,"Visitor Program","WIPAC Overhead (144-FS80) 20025.001 Visitor Program"]
["Amanda Tea",null,"SSEC",null,null,null,null,null,null,"  "]
[22000.002,null,22110.001,null,null,"WIPAC Overhead (144-FS80)",20030.001,null,"Accounting","WIPAC Overhead (144-FS80) 20030.001 Accounting"]
[null,null,null,null,null,null,null,null,null,"  "]
[null,null,null,null,null,"WIPAC Overhead (144-FS80)",20040.001,null,"Human Resources","WIPAC Overhead (144-FS80) 20040.001 Human Resources"]
[null,null,null,null,null,null,null,null,null,"  "]
[null,null,null,null,null,"WIPAC Overhead (144-FS80)",20050.001,null,"Info. Technology","WIPAC Overhead (144-FS80) 20050.001 Info. Technology"]
[null,null,null,null,null,"WIPAC Overhead (144-FS80)",20050.005000000001,null,"IT Capital Equip.","WIPAC Overhead (144-FS80) 20050.005 IT Capital Equip."]
[null,null,null,null,null,null,null,null,null,"  "]
[null,null,null,null,null,"WIPAC Overhead (144-FS80)",20060.001,null,"Technical & Science","WIPAC Overhead (144-FS80) 20060.001 Technical & Science"]
[null,null,null,null,null,"WIPAC Overhead (144-FS80)",20061.001,null,"Physics Lab Support","WIPAC Overhead (144-FS80) 20061.001 Physics Lab Support"]
[null,null,null,null,null,"WIPAC Overhead (144-FS80)",20062.001,null,"John Bahcall Fellowship","WIPAC Overhead (144-FS80) 20062.001 John Bahcall Fellowship"]
[null,null,null,null,null,"WIPAC Overhead (144-FS80)",20062.005000000001,null,"Park Fellowship Expense",{"$f":"F163&\" \"&G163&\" \"&I163","v":"WIPAC Overhead (144-FS80) 20062.005 Park Fellowship Expense"}]
[null,null,null,null,null,"WIPAC Overhead (144-FS80)",20063.001,null,"Enhanced IceCube","WIPAC Overhead (144-FS80) 20063.001 Enhanced IceCube"]
[null,null,null,null,null,"WIPAC Overhead (144-FS80)",20064.001,null,"Chips",{"$f":"F165&\" \"&G165&\" \"&I165","v":"WIPAC Overhead (144-FS80) 20064.001 Chips"}]
[null,null,null,null,null,"WIPAC Overhead (144-FS80)",20065.001,null,"Kael Hanson",{"$f":"F166&\" \"&G166&\" \"&I166","v":"WIPAC Overhead (144-FS80) 20065.001 Kael Hanson"}]
[null,null,null,null,null,null,null,null,null,"  "]
[null,null,null,null,null,"WIPAC Overhead (144-FS80)",20077.001,null,"Justin V.-Startup","WIPAC Overhead (144-FS80) 20077.001 Justin V.-Startup"]
[null,null,null,null,null,null,null,null,null,"  "]
[null,null,null,null,null,"WIPAC Overhead (144-FS80)",20082.001,null,"R&D HAWC","WIPAC Overhead (144-FS80) 20082.001 R&D HAWC"]
[null,null,null,null,null,"WIPAC Overhead (144-FS80)",20084.001,null,"ARA-Drilling","WIPAC Overhead (144-FS80) 20084.001 ARA-Drilling"]
[null,null,null,null,null,"WIPAC Overhead (144-FS80)",20084.005000000001,null,"ARA - Instrumentation","WIPAC Overhead (144-FS80) 20084.005 ARA - Instrumentation"]
[null,null,null,null,null,"WIPAC Overhead (144-FS80)",20086.001,null,"DM-Ice",{"$f":"F173&\" \"&G173&\" \"&I173","v":"WIPAC Overhead (144-FS80) 20086.001 DM-Ice"}]
[null,null,null,null,null,"WIPAC Overhead (144-FS80)",20088.001,null,"Anechoic Chamber","WIPAC Overhead (144-FS80) 20088.001 Anechoic Chamber"]
[null,null,null,null,null,"WIPAC Overhead (144-FS80)",20089.001,null,"PINGU R&D","WIPAC Overhead (144-FS80) 20089.001 PINGU R&D"]
[null,null,null,null,null,null,null,null,null,"  "]
[null,null,null,null,null,"WIPAC Overhead (144-FS80)",20090.001,null,"Education & Outreach","WIPAC Overhead (144-FS80) 20090.001 Education & Outreach"]
[null,null,null,null,null,null,null,null,null,"  "]
[null,null,null,null,null,null,null,null,null,"  "]
[null,null,null,null,null,"AMANDA Overhead (144-FS81)",20011.001,null,"Default","AMANDA Overhead (144-FS81) 20011.001 Default"]
[null,null,null,null,null,"AMANDA Research Fund (233-KM44)",212011.00099999999,null,"Default","AMANDA Research Fund (233-KM44) 212011.001 Default"]
[null,null,null,null,null,null,null,null,null,"  "]
[null,null,null,null,null,null,null,null,null,{"$f":"F183&\" \"&G183&\" \"&I183","v":"  "}]
[null,null,null,null,null,"IceCube 136 Account (136-000)",20535.001,null,"FY2019 Coll. Mtg.","IceCube 136 Account (136-000) 20535.001 FY2019 Coll. Mtg."]
[null,null,null,null,null,"IceCube 136 Account (136-000)",20535.019,null,"FY2019 Coll Meeting","IceCube 136 Account (136-000) 20535.019 FY2019 Coll Meeting"]

{"sheet":"Vendor List","index":3,"n_rows":3700,"n_cols":10,"rows_kept":3700,"cut":false,"hidden":false,"merged":[]}
["Vendor Name","Vendor Num","Vendor Name","Address 1","Address 2","City","State","Zip","Country","Address 3"]
[{"$f":"IF($C2=\"\",\"\",$C2)","v":"11X17 INC"},123157,"11X17 INC","P.O. BOX 117",null,"JACKSONVILLE","WI",75766,"USA",{"$f":"IF(F2=\"\",\"\",F2&\", \")&IF(G2=\"\",\"\",G2&\" \")&IF(H2=\"\",\"\",H2&\" \")&IF(I2=\"\",\"\",I2&\" \")","v":"JACKSONVILLE, WI 75766 USA "}]
[{"$f":"IF($C3=\"\",\"\",$C3)","v":"1ST VISION"},116127,"1ST VISION","2 DUNDEE PARK",null,"ANDOVER","MA",1810,"USA",{"$f":"IF(F3=\"\",\"\",F3&\", \")&IF(G3=\"\",\"\",G3&\" \")&IF(H3=\"\",\"\",H3&\" \")&IF(I3=\"\",\"\",I3&\" \")","v":"ANDOVER, MA 1810 USA "}]
["3 COM",103419,"3 COM","PO 1505",null,"BUFFALO","NY",14240,"USA",{"$f":"IF(F4=\"\",\"\",F4&\", \")&IF(G4=\"\",\"\",G4&\" \")&IF(H4=\"\",\"\",H4&\" \")&IF(I4=\"\",\"\",I4&\" \")","v":"BUFFALO, NY 14240 USA "}]
["4IMPRINT","K00018","4IMPRINT","101 COMMERCE ST",null,"OSKHOSH","WI",54901,"USA","OSKHOSH, WI 54901 USA "]
["4IMPRINT",117972,"4IMPRINT","101 COMMERCE ST",null,"OSHKOSH","WI",54901,"USA","OSHKOSH, WI 54901 USA "]
["5NINES DATA, LLC",129573,"5NINES DATA, LLC","222 W. WASHINGTON AVE, STE 170",null,"MADISON","WI",53703,"USA","MADISON, WI 53703 USA "]
["A & C MACHINE REBUILDERS",45078,"A & C MACHINE REBUILDERS","1413 E PEARL ST",null,"WAUKESHA","WI",53186,"USA","WAUKESHA, WI 53186 USA "]
["A & J VACUUM",125441,"A & J VACUUM","25 SOMERSET PL",null,"CLIFTON","NJ",7012,"USA","CLIFTON, NJ 7012 USA "]
["A & N CORPORATION",9801,"A & N CORPORATION","707 SW 19TH AVENUE",null,"WILLISTON","FL",34449,"USA","WILLISTON, FL 34449 USA "]
["A E PETSCHE CO",126644,"A E PETSCHE CO","2112 W DIVISION ST",null,"ARLINGTON","TX","76012-3693","USA","ARLINGTON, TX 76012-3693 USA "]
["A E YALE ENTERPRISES",29900,"A E YALE ENTERPRISES","4055 PACIFIC HIGHWAY",null,"SAN DIEGO","CA",92110,"USA","SAN DIEGO, CA 92110 USA "]
["A I MCDERMOTT",89087,"A I MCDERMOTT","2009 JACKSON ST",null,"OSHKOSH","WI",54903,"USA","OSHKOSH, WI 54903 USA "]
["A TO Z RENTALL & SALES",39,"A TO Z RENTALL & SALES","2209 S STOUGHTON RD",null,"MADISON","WI",53716,"USA","MADISON, WI 53716 USA "]
["A&A MANUFACTURING CO INC",3960,"A&A MANUFACTURING CO INC","2300 S CALHOUN RD","PO BOX 51208","NEW BERLIN","WI",53151,"USA","NEW BERLIN, WI 53151 USA "]
["A+ COMPUTER",104168,"A+ COMPUTER","37844 VAN DYKE",null,"STERLING HEIGHTS","MI",48312,"USA","STERLING HEIGHTS, MI 48312 USA "]
["A-L TOOL SUPPLY",123814,"A-L TOOL SUPPLY","8440 S. 116TH ST.",null,"FRANKLIN","WI",53132,"USA","FRANKLIN, WI 53132 USA "]
["A-PLUS COMPUTERS & SERVICE",103603,"A-PLUS COMPUTERS & SERVICE","9900 PFLAUM #64",null,"LENEXA","KS",66215,"USA","LENEXA, KS 66215 USA "]
["A.H. SYSTEMS",125184,"A.H. SYSTEMS","9710 COZYCROFT AVE",null,"CHATSWORTH","CA",91311,"USA","CHATSWORTH, CA 91311 USA "]
["A1 FURNITURE",57301,"A1 FURNITURE","2002 S. STOUGHTON RD",null,"MADISON","WI",53716,"USA","MADISON, WI 53716 USA "]
["A1BOOKS","K00031","A1BOOKS","11 STEWART PL",null,"FAIRFIELD","NJ",7004,"USA","FAIRFIELD, NJ 7004 USA "]
["A2Z COMPUTERS INC",22703,"A2Z COMPUTERS INC","701 BETA DRIVE",null,"MAYFIELD VILLAGE","OH",44143,"USA","MAYFIELD VILLAGE, OH 44143 USA "]
["AAA ACME RUBBER CO",133413,"AAA ACME RUBBER CO","2003 EAST FIFTH ST    BLDG #1",null,"TEMPE","AZ",85281,"USA","TEMPE, AZ 85281 USA "]
["AABREE COFFEE",125008,"AABREE COFFEE","596 FISHER STATION DR",null,"VICTOR","NY",14564,"USA","VICTOR, NY 14564 USA "]
["AALBORG INSTRUMENT",55116,"AALBORG INSTRUMENT","292 ROUTE 59",null,"MONSEY","NY",10952,"USA","MONSEY, NY 10952 USA "]
["AAMRO CORP",130344,"AAMRO CORP","3110 S 26TH AVE",null,"BROADVIEW","IL",60155,"USA","BROADVIEW, IL 60155 USA "]
["AARON'S METRIC SCREWS","K00005","AARON'S METRIC SCREWS","15 ENTERPRISE","STE 445","ALISO VIEJO","CA",92656,"USA","ALISO VIEJO, CA 92656 USA "]
["AAXEON TECHNOLOGIES",129526,"AAXEON TECHNOLOGIES","224 CAPRICORN ST",null,"BREA","CA",92821,"USA","BREA, CA 92821 USA "]
["AB TOOLS INC",92030,"AB TOOLS INC","1451 ATTEBERRY LN",null,"SAN JOSE","CA",95131,"USA","SAN JOSE, CA 95131 USA "]
["ABBOTT PLASTICS COMPANY",119625,"ABBOTT PLASTICS COMPANY","3302 LONGERGAN DRIVE",null,"ROCKFORD","IL",61109,"USA","ROCKFORD, IL 61109 USA "]
["ABC SUPPLY",67470,"ABC SUPPLY","1002 ANN ST",null,"MADISON","WI",53713,"USA","MADISON, WI 53713 USA "]
["ABF UPACK MOVING",15417,"ABF UPACK MOVING","PO BOX 10048",null,"FORT SMITH","AR",72917,"USA","FORT SMITH, AR 72917 USA "]
["ABLE ELECTROPOLISH",69622,"ABLE ELECTROPOLISH","2906 W 26TH STREET",null,"CHICAGO","IL",60623,"USA","CHICAGO, IL 60623 USA "]
["ABSOLUTE MACHINING",122094,"ABSOLUTE MACHINING","1604B W. HASKEL ST",null,"APPLETON","WI",54914,"USA","APPLETON, WI 54914 USA "]
["AC SUPPLY",21,"AC SUPPLY","2019 S STOUGHTON RD","PO BOX 8427","MADISON","WI",53708,"USA","MADISON, WI 53708 USA "]
["ACAD OF CERTIFIED HAZ MAT MGRS",129164,"ACAD OF CERTIFIED HAZ MAT MGRS","9650 ROCKVILLE PIKE",null,"BETHESDA","MD",20814,"USA","BETHESDA, MD 20814 USA "]
["ACADEMIC SUPERSTORE",117607,"ACADEMIC SUPERSTORE","223 W. ANDERSON LN",null,"AUSTIN","TX",78752,"USA","AUSTIN, TX 78752 USA "]
["ACADEMY ELECTRIC",56628,"ACADEMY ELECTRIC","4810 ELLESTAD DR",null,"MADISON","WI",53716,"USA","MADISON, WI 53716 USA "]
["ACCEL INSTRUMENTS GMBH",109701,"ACCEL INSTRUMENTS GMBH","D-51429 BERGISCH GLADBACH",null,null,"GERMANY",null,"USA","GERMANY USA "]
["ACCESS I/O PRODUCTS",120664,"ACCESS I/O PRODUCTS","10623 ROSELLE ST",null,"SAN DIEGO","CA",92121,"USA","SAN DIEGO, CA 92121 USA "]
["ACCESSORIES",102077,"ACCESSORIES","16966 MANCHESTER RD",null,"GROVER","MD",63040,"USA","GROVER, MD 63040 USA "]
["ACCUMET ENGINEERING CORP",97584,"ACCUMET ENGINEERING CORP","518 MAIN ST",null,"HUDSON","MA",1749,"USA","HUDSON, MA 1749 USA "]
["ACCUMET MATERIALS CO",112269,"ACCUMET MATERIALS CO","62 WATER ST",null,"OSSINING","NY",10562,"USA","OSSINING, NY 10562 USA "]
["ACCUMULATORS, INC",130319,"ACCUMULATORS, INC","1175 BRITTMOORE ROAD",null,"HOUSTON","TX",77043,"USA","HOUSTON, TX 77043 USA "]
["ACCURATE SCREW MACHINE",47297,"ACCURATE SCREW MACHINE","10 AUDREY PL",null,"FAIRFIELD","NJ",7004,"USA","FAIRFIELD, NJ 7004 USA "]
["ACCUSOURCE ELECTRONICS",135498,"ACCUSOURCE ELECTRONICS","470 WOODS MILL RD, SUITE D",null,"GAINESVILLE","GA",30501,"USA","GAINESVILLE, GA 30501 USA "]
["ACD SYSTEMS",117509,"ACD SYSTEMS","P O BOX 36",null,"SAANICHTON","BC","V8M2C3","USA","SAANICHTON, BC V8M2C3 USA "]
["ACE GLASS",15250,"ACE GLASS","1430 NORTHWEST ROAD","PO BOX 688","VINELAND","NJ",8360,"USA","VINELAND, NJ 8360 USA "]
["ACHESON COLLOIDS CO",4314,"ACHESON COLLOIDS CO","PO BOX 611747",null,"PORT HURON","MI",480611747,"USA","PORT HURON, MI 480611747 USA "]
["ACI ALLOYS, INC",108992,"ACI ALLOYS, INC","1985 LAS PLUMAS AVE",null,"SAN JOSE","CA",95133,"USA","SAN JOSE, CA 95133 USA "]
["ACME GALVANIZING, INC.",136780,"ACME GALVANIZING, INC.","2730 S. 19TH STREET",null,"MILWAUKEE","WI",53215,"USA","MILWAUKEE, WI 53215 USA "]
["ACME MACHELL CO",802,"ACME MACHELL CO","PO BOX 1617","2000 AIRPORT RD","WAUKESHA","WI",53188,"USA","WAUKESHA, WI 53188 USA "]
["ACME PHOTO FINISHING",31752,"ACME PHOTO FINISHING","3682 KINSMAN BLVD",null,"MADISON","WI",53704,"USA","MADISON, WI 53704 USA "]
["ACOPIAN CO",75795,"ACOPIAN CO","2001 W NASA BLVD",null,"MELBOURNE","FL",32904,"USA","MELBOURNE, FL 32904 USA "]
["ACR CORP",130967,"ACR CORP","1545 6TH ST","P.O. BOX 1355","GREEN BAY","WI",54307,"USA","GREEN BAY, WI 54307 USA "]
["ACRO SALES & ENGINEERING INC",25934,"ACRO SALES & ENGINEERING INC","N57W13366 CARMEN AV",null,"MENOMONEE FALLS","WI",53051,"USA","MENOMONEE FALLS, WI 53051 USA "]
["ACROTECH",129170,"ACROTECH","980 W LAKEWOOD AVE",null,"LAKE CITY","MN",55041,"USA","LAKE CITY, MN 55041 USA "]
["ACRYLIC DESIGN WORKS",125127,"ACRYLIC DESIGN WORKS","2847 WEST 47TH PLACE",null,"CHICAGO","IL",60632,"USA","CHICAGO, IL 60632 USA "]
["ACS MADISON TAXI",17607,"ACS MADISON TAXI","1403 GILSON ST",null,"MADISON","WI",53715,"USA","MADISON, WI 53715 USA "]
["ACTFAX COMMUNICATIONS",129509,"ACTFAX COMMUNICATIONS","KARL SCHMID STRASSE 17 F5",null,null,null,null,"AUSTRIA","AUSTRIA "]
["ACTION ELECTRONICS",117995,"ACTION ELECTRONICS","1301 E. ENDINGER AVE",null,"SANTA ANA","CA",92705,"USA","SANTA ANA, CA 92705 USA "]
["ACTIVE EDM",19694,"ACTIVE EDM","10550 COUNTY HWY 81",null,"MAPLE GROVE","MN",55369,"USA","MAPLE GROVE, MN 55369 USA "]
["ACTON MOBILE IND INC",50826,"ACTON MOBILE IND INC","BOX 11",null,"CRYSTAL LAKE","IL",600140011,"USA","CRYSTAL LAKE, IL 600140011 USA "]
["ACUREN INSPECTION,  INC",105958,"ACUREN INSPECTION,  INC","4250 N 126TH ST",null,"BROOKFIELD","WI",53005,"USA","BROOKFIELD, WI 53005 USA "]
["AD-VANCE MAGNETICS",17214,"AD-VANCE MAGNETICS","625 MONROE ST",null,"ROCHESTER","IN",46975,"USA","ROCHESTER, IN 46975 USA "]
["ADAPTEC",103465,"ADAPTEC","PO BOX 1568",null,"BUFFALO","NY",14240,"USA","BUFFALO, NY 14240 USA "]
[{"$f":"IF($C67=\"\",\"\",$C67)","v":"ADDISON ENGINEERING"},106352,"ADDISON ENGINEERING","150 NORTECH PARKWAY",null,"SAN JOSE","CA",95134,"USA","SAN JOSE, CA 95134 USA "]
["ADDONICS TECHNOLOGIES",122423,"ADDONICS TECHNOLOGIES","1918 JUNCTION AV",null,"SAN JOSE","CA",95131,"USA",{"$f":"IF(F68=\"\",\"\",F68&\", \")&IF(G68=\"\",\"\",G68&\" \")&IF(H68=\"\",\"\",H68&\" \")&IF(I68=\"\",\"\",I68&\" \")","v":"SAN JOSE, CA 95131 USA "}]
["ADEK INDUSTRIAL COMPUTERS",119335,"ADEK INDUSTRIAL COMPUTERS","3 INFINITY DR",null,"RAYMOND","NH",3077,"USA","RAYMOND, NH 3077 USA "]
["ADIT ELECTRON TUBES",135735,"ADIT ELECTRON TUBES","300 CRANE ST",null,"SWEETWATER","TX",79556,"USA","SWEETWATER, TX 79556 USA "]
["ADLER PLANETARIUM",104637,"ADLER PLANETARIUM","1300 S LAKE SHORE DRIVE",null,"CHICAGO","IL",60605,"USA","CHICAGO, IL 60605 USA "]
["ADLER-NORCO",105602,"ADLER-NORCO","2222 COMMONWEALTH AVE",null,"NORTH CHICAGO","IL",60064,"USA","NORTH CHICAGO, IL 60064 USA "]
["ADMIN DATA PROCESSING","UW0023","ADMIN DATA PROCESSING","2118 COMPUTER SCI.BLDG",null,"MADISON","WI",53706,"USA","MADISON, WI 53706 USA "]
["ADMIRALTY TRAVEL",122895,"ADMIRALTY TRAVEL","5214 HARBOR CT",null,"MADISON","WI",53705,"USA","MADISON, WI 53705 USA "]
["ADOBE PLUG-IN",22451,"ADOBE PLUG-IN","PO BOX 2096",null,"WOODINVILLE","WA",98077,"USA","WOODINVILLE, WA 98077 USA "]
["ADOBE SUTDIOS",106167,"ADOBE SUTDIOS","833 4TH AVE SW STE 800",null,"CALGARY","AL","T2P3T","CANADA","CALGARY, AL T2P3T CANADA "]
["ADOBE SYSTEMS INC",22696,"ADOBE SYSTEMS INC","411 FIRST AVE S.",null,"SEATTLE","WA",98104,"USA","SEATTLE, WA 98104 USA "]
["ADOBE SYSTEMS INC",72409,"ADOBE SYSTEMS INC","% ALEXANDER & LORD","PO BOX 6458","SALINAS","CA",939126458,"USA","SALINAS, CA 939126458 USA "]
["ADORAMA",52737,"ADORAMA","42 WEST 18TH ST",null,"NEW YORK","NY",10011,"USA","NEW YORK, NY 10011 USA "]
["ADRON TOOL CORPORATION",53637,"ADRON TOOL CORPORATION","N85 W13730 LEON RD","P. O. BOX 960","MENONOMEE FALLS","WI",53051,"USA","MENONOMEE FALLS, WI 53051 USA "]
["ADVACO",106746,"ADVACO","1215 BUSINESS PARKWAY NORTH",null,"WESTMINSTER","MD",21157,"USA","WESTMINSTER, MD 21157 USA "]
["ADVANCE  HYDRAULICS",46982,"ADVANCE  HYDRAULICS","4630 S BRUST AVE, SUITE 400",null,"ST FRANCIS","WI",53235,"USA","ST FRANCIS, WI 53235 USA "]
["ADVANCE HYDRAULICS",76303,"ADVANCE HYDRAULICS","4630 S BRUST","STE 400","ST FRANCIS","WI",53235,"USA","ST FRANCIS, WI 53235 USA "]
["ADVANCED ASSEMBLY",130750,"ADVANCED ASSEMBLY","20100 E 32ND PARKWAY STE225",null,"AURORA","CO",80011,"USA","AURORA, CO 80011 USA "]
["ADVANCED CIRCUITS",9171,"ADVANCED CIRCUITS","21100 E. 33RD DRIVE",null,"AURORA","CO",80011,"USA","AURORA, CO 80011 USA "]
["ADVANCED CONTROL COMPONENTS",130041,"ADVANCED CONTROL COMPONENTS","611 INDUSTRIAL WAY WEST",null,"EATONTOWN","NJ",7724,"USA","EATONTOWN, NJ 7724 USA "]
["ADVANCED CONTROL SYSTEMS CORP.",65267,"ADVANCED CONTROL SYSTEMS CORP.","OLD MINE ROCK WAY",null,"HINGAM","MA",2043,"USA","HINGAM, MA 2043 USA "]
["ADVANCED DESIGN CONSULTING",124794,"ADVANCED DESIGN CONSULTING","P.O. BOX 187","126 RIDGE RD","LANSING","NY",14882,"USA","LANSING, NY 14882 USA "]
["ADVANCED FERRITE TECHNOLOGY IN",111521,"ADVANCED FERRITE TECHNOLOGY IN","2275 RESEARCH BLVD     STE 500",null,"ROCKVILLE","MD",20850,"USA","ROCKVILLE, MD 20850 USA "]
["ADVANCED KIOSKS",130398,"ADVANCED KIOSKS","39 MTN VIEW ACREES RD",null,"WILMOT","NH",3287,"USA","WILMOT, NH 3287 USA "]
["ADVANCED MACHINE & ENGR.",25740,"ADVANCED MACHINE & ENGR.","2500-T LATHAM ST.",null,"ROCKFORD","IL",61103,"USA","ROCKFORD, IL 61103 USA "]
["ADVANCED MACHINERY SALES",15741,"ADVANCED MACHINERY SALES","1135 JANSEN FARM DRIVE",null,"ELGIN","IL",60123,"USA","ELGIN, IL 60123 USA "]
["ADVANCED MAGNET LAB",130937,"ADVANCED MAGNET LAB","328 HIBISCUS BLVD",null,"MELBOURNE","FL",32901,"USA","MELBOURNE, FL 32901 USA "]
["ADVANCED MEASUREMENT TECH",9496,"ADVANCED MEASUREMENT TECH","801 S ILLINOIS AVE",null,"OAK RIDGE","TN",378310895,"USA","OAK RIDGE, TN 378310895 USA "]
["ADVANCED MICRO SYSTEMS INC",125785,"ADVANCED MICRO SYSTEMS INC","2 TOWNSEND W STE 5",null,"NASHUA","NH",3063,"USA","NASHUA, NH 3063 USA "]
["ADVANCED MICROMACHING GMBH",116549,"ADVANCED MICROMACHING GMBH","A.-FEUERBACH-STR. 6","D-67227 FRANKENTHAL",null,null,null,"USA","USA "]
["ADVANCED OPTICS, INC",123453,"ADVANCED OPTICS, INC","2331 SILVERMALL ROAD",null,"PEWAUKEE","WI",53072,"USA","PEWAUKEE, WI 53072 USA "]
["ADVANCED ORIENTATION SYSTEMS",126028,"ADVANCED ORIENTATION SYSTEMS","2525 BRUNSWICK AV   SUITE 205",null,"LINDEN","NJ",7036,"USA","LINDEN, NJ 7036 USA "]
["ADVANCED PERIPHERAL SYSTEMS",61172,"ADVANCED PERIPHERAL SYSTEMS","2900 S 291 HWY",null,"INDEPENDENCE","MO",64057,"USA","INDEPENDENCE, MO 64057 USA "]
["ADVANCED PRODUCTS GROUP",24814,"ADVANCED PRODUCTS GROUP","9320 MASON AVENUE",null,"CHATSWORTH","CA",91311,"USA","CHATSWORTH, CA 91311 USA "]
["ADVANCED VACUUM TECHNOLOGY",35946,"ADVANCED VACUUM TECHNOLOGY","2520 WYANDOTTE ST",null,"MOUNTAIN VIEW","CA",94043,"USA","MOUNTAIN VIEW, CA 94043 USA "]
["ADVENT ELECTRONICS INC",5634,"ADVENT ELECTRONICS INC","7110-16 N LYNDON ST",null,"ROSEMONT","IL",60018,"USA","ROSEMONT, IL 60018 USA "]
["ADVENT TOOL & MFG",134997,"ADVENT TOOL & MFG","35 BAKER RD",null,"LAKE BLUFF","IL",60044,"USA","LAKE BLUFF, IL 60044 USA "]
["ADVERTISING CREATIONS",263,"ADVERTISING CREATIONS","2618 INDUSTRIAL DR",null,"MADISON","WI",53713,"USA","MADISON, WI 53713 USA "]
["AE BUSINESS SOLUTIONS ZENITH D",150,"AE BUSINESS SOLUTIONS ZENITH D","2030 PINEHURST DR",null,"MIDDLETON","WI",535622535,"USA","MIDDLETON, WI 535622535 USA "]
["AEA TECHNOLOGY INC",127074,"AEA TECHNOLOGY INC","1489 POINSETTIA AVE","STE #134","VISTA","CA",92081,"USA","VISTA, CA 92081 USA "]
["AEARO CO.",65632,"AEARO CO.","401 E JEFFERSON",null,"PLYMOUTH","IN",46563,"USA","PLYMOUTH, IN 46563 USA "]
["AED",124175,"AED","3546 ROCKY REEF LA",null,"BOULDER JUNCTION","WI",53512,"USA","BOULDER JUNCTION, WI 53512 USA "]
["AED PROFESSIONALS",128718,"AED PROFESSIONALS","P O BOX 700",null,"PALATINE","IL",60078,"USA","PALATINE, IL 60078 USA "]
["AERO RESEARCH ASSOC",51400,"AERO RESEARCH ASSOC","PO BOX 1109",null,"LOGAN","OH",43138,"USA","LOGAN, OH 43138 USA "]
["AEROSPACE WIRE & CABLE INC",117773,"AEROSPACE WIRE & CABLE INC","129-09 18TH AVE",null,"COLLEGE POINT","NY",11356,"USA","COLLEGE POINT, NY 11356 USA "]
["AEROTECH INC",2287,"AEROTECH INC","101 ZETA DR",null,"PITTSBURGH","PA",152387459,"USA","PITTSBURGH, PA 152387459 USA "]
["AGA GAS INC",36104,"AGA GAS INC","PO BOX 94737",null,"CLEVELAND","OH","44101-4737","USA","CLEVELAND, OH 44101-4737 USA "]
["AGA/LINDE",10657,"AGA/LINDE","4101 ROBERTSON RD",null,"MADISON","WI",53714,"USA","MADISON, WI 53714 USA "]
["AGILENT TECH (VARIAN)",46806,"AGILENT TECH (VARIAN)","121 HARTWELL AVE",null,"LEXINGTON","MA","02173-3133","USA","LEXINGTON, MA 02173-3133 USA "]
["AGILENT TECHNOLGIES",113065,"AGILENT TECHNOLGIES","2401 4TH AVE STE 500",null,"SEATTLE","WA","98121-1436","USA","SEATTLE, WA 98121-1436 USA "]
["AGILENT TECHNOLOGIES",15349,"AGILENT TECHNOLOGIES","PO BOX 4026",null,"ENGLEWOOD","CO","80155-4026","USA","ENGLEWOOD, CO 80155-4026 USA "]
["AGILYSYS",133340,"AGILYSYS","1001 WARRENVILLE RD   STE 200",null,"LISLE","IL",60532,"USA","LISLE, IL 60532 USA "]
["AGSCO CORPORATION",127499,"AGSCO CORPORATION","160 WEST HINTZ ROAD",null,"WHEELING","IL",60090,"USA","WHEELING, IL 60090 USA "]
["AHSRESCUE.COM",130865,"AHSRESCUE.COM","11649 N CAVE CREEK RD",null,"PHOENIX","AZ",85020,"USA","PHOENIX, AZ 85020 USA "]
["AIDC",84674,"AIDC","64 DEPOT RD",null,"COLCHESTER","VT",5446,"USA","COLCHESTER, VT 5446 USA "]
["AIHA",49262,"AIHA","2700 PROSPERITY AVE, SUITE 250",null,"FAIRFAX","VA",22031,"USA","FAIRFAX, VA 22031 USA "]
["AIHA",93376,"AIHA","2700 PROSPERITY AVE, SUITE 250",null,"FAIRFAX","VA",22031,"USA","FAIRFAX, VA 22031 USA "]
["AIO MICROSERVICE",97092,"AIO MICROSERVICE","48119 WARM SPRINGS BLVD",null,"FREMONT","CA",94539,"USA","FREMONT, CA 94539 USA "]
["AIR GUARD INDUSTRIES",33586,"AIR GUARD INDUSTRIES","PO BOX 32578",null,"LOUISVILLE","KY",40232,"USA","LOUISVILLE, KY 40232 USA "]
["AIR SUPPLY SYSTEMS",90204,"AIR SUPPLY SYSTEMS","6431 S 108TH ST",null,"FRANKLIN","WI",53132,"USA","FRANKLIN, WI 53132 USA "]
["AIRBORNE EXPRESS",58607,"AIRBORNE EXPRESS","PO BOX 91001",null,"SEATTLE","WA",98111,"USA","SEATTLE, WA 98111 USA "]
["AIRCRAFP SPRUCE & SPECIALTY CO",20883,"AIRCRAFP SPRUCE & SPECIALTY CO","210 W TRUSTOW AVE.",null,"FULLERTON","CA",92632,"USA","FULLERTON, CA 92632 USA "]
["AIRGAS  USA LLC",138425,"AIRGAS  USA LLC","NORTH CENTRAL DIV","4101 ROBERTSON RD","MADISON","WI",53714,"USA","MADISON, WI 53714 USA "]
["AIRGAS (LINDE)",6898,"AIRGAS (LINDE)","4101 ROBERTSON RD",null,"MADISON","WI",53714,"USA","MADISON, WI 53714 USA "]
[{"$f":"IF($C131=\"\",\"\",$C131)","v":"AIRGAS NORTH CENTRAL"},117016,"AIRGAS NORTH CENTRAL","PO BOX 3395",null,"WATERLOO","IA",50704,"USA","WATERLOO, IA 50704 USA "]
["AIRGAS RUTLAND TOOL",125082,"AIRGAS RUTLAND TOOL","2225 WORKMAN MILL RD",null,"WHITTIER","CA","90601-9917","USA",{"$f":"IF(F132=\"\",\"\",F132&\", \")&IF(G132=\"\",\"\",G132&\" \")&IF(H132=\"\",\"\",H132&\" \")&IF(I132=\"\",\"\",I132&\" \")","v":"WHITTIER, CA 90601-9917 USA "}]
["AIRLOC",23238,"AIRLOC","5 FISHER STREET",null,"FRANKLIN","MA",2038,"USA","FRANKLIN, MA 2038 USA "]
["AJUMP INC",120789,"AJUMP INC","4435 ENTERPRISE ST",null,"FREMONT","CA",94538,"USA","FREMONT, CA 94538 USA "]
["ALADDIN SYSTEMS",88926,"ALADDIN SYSTEMS","165 WESTRIDGE DR",null,"WATSONVILLE","CA",95076,"USA","WATSONVILLE, CA 95076 USA "]
["ALADDIN SYSTEMS",101129,"ALADDIN SYSTEMS","PO BOX 629000",null,"ELDORADO HILLS","CA",95762,"USA","ELDORADO HILLS, CA 95762 USA "]
["ALARM DISTRIBUTORS",104114,"ALARM DISTRIBUTORS","11 HARTS LANE STE A",null,"EAST BRUNSWICK","NJ",8816,"USA","EAST BRUNSWICK, NJ 8816 USA "]
["ALBANY STEEL",98727,"ALBANY STEEL",null,null,null,null,null,"USA","USA "]
["ALCATEL",81605,"ALCATEL","C/O MIDWEST VACUMN PRODUCTS","201 E OGDEN AV  SUITE 15","HINSDALE","IL",60521,"USA","HINSDALE, IL 60521 USA "]
["ALCATEL NETWORK SYSTEMS",27708,"ALCATEL NETWORK SYSTEMS","6385 SAN IGNACIO AVE",null,"SAN JOSE","CA",95119,"USA","SAN JOSE, CA 95119 USA "]
["ALCATEL VACUUM PRODUCTS",14169,"ALCATEL VACUUM PRODUCTS","67 SHARP ST",null,"HINGHAM","MA",20434348,"USA","HINGHAM, MA 20434348 USA "]
["ALDRICH CHEMICAL CO",364,"ALDRICH CHEMICAL CO","1001 W ST PAUL AVE",null,"MILWAUKEE","WI",53233,"USA","MILWAUKEE, WI 53233 USA "]
["ALDUS CORPORATION",57345,"ALDUS CORPORATION","411 FIRST AVE S",null,"SEATTLE","WA",981042871,"USA","SEATTLE, WA 981042871 USA "]
["ALDUS CORPORATION",12247,"ALDUS CORPORATION","PO BOX 22393",null,"DENVER","CO","80222-9990","USA","DENVER, CO 80222-9990 USA "]
["ALEXANDER & ALEXANDER",87244,"ALEXANDER & ALEXANDER","100 E WISCONSIN AVE","STE 1750","MILWAUKEE","WI","53202-4119","USA","MILWAUKEE, WI 53202-4119 USA "]
["ALEXANDER & ALEXANDER CONSULTI",98482,"ALEXANDER & ALEXANDER CONSULTI","225 N MICHIGAN AVE",null,"CHICAGO","IL",60601,"USA","CHICAGO, IL 60601 USA "]
["ALFA AESAR",13190,"ALFA AESAR","ALFA PRODUCTS","PO BOX 8247","WARD HILL","MA",18350747,"USA","WARD HILL, MA 18350747 USA "]
["ALGORITHM",117268,"ALGORITHM","PO BOX 75755 DEPT 80009",null,"CLEVELAND","OH",44101,"USA","CLEVELAND, OH 44101 USA "]
["ALL COLOR POWDER COATING",6281,"ALL COLOR POWDER COATING","298 N. BURR OAK AVE.",null,"OREGON","WI",53575,"USA","OREGON, WI 53575 USA "]
["ALL CONTROL",128755,"ALL CONTROL","1644 CAMBRIDGE DR",null,"ELGIN","IL",60123,"USA","ELGIN, IL 60123 USA "]
["ALL ELECTRONICS CORP",72589,"ALL ELECTRONICS CORP","PO BOX 567",null,"VAN NUYS","CA","91408-0567","USA","VAN NUYS, CA 91408-0567 USA "]
["ALL METALS & FORGE",119037,"ALL METALS & FORGE","239 NEW ROAD",null,"PARSIPPANY","NJ",7054,"USA","PARSIPPANY, NJ 7054 USA "]
["ALLEGIS CORP",129110,"ALLEGIS CORP","8001 CENTRAL AVE NE",null,"MINNEAPOLIS","MN",55432,"USA","MINNEAPOLIS, MN 55432 USA "]
["ALLEN,MICHAELA",572603,"ALLEN,MICHAELA","REU",null,"STOUGHTON","WI",53589,"USA","STOUGHTON, WI 53589 USA "]
["ALLIANCE PERIPHERAL SYSTEMS",85483,"ALLIANCE PERIPHERAL SYSTEMS","2900 S 291 HWY","LOWER H","INDEPENDENCE","MO",64057,"USA","INDEPENDENCE, MO 64057 USA "]
["ALLIANCE TRAILER SERVICE  INC",101523,"ALLIANCE TRAILER SERVICE  INC","121 S STOUGHTON RD",null,"MADISON","WI",53707,"USA","MADISON, WI 53707 USA "]
["ALLIANT ENERGY",112560,"ALLIANT ENERGY","2147 COUNTRY RD PB",null,"VERONA","WI","53593-9225","USA","VERONA, WI 53593-9225 USA "]
["ALLIED DEVICES CORP",1767,"ALLIED DEVICES CORP","PO BOX 502",null,"BALDWIN","NY",11510,"USA","BALDWIN, NY 11510 USA "]
["ALLIED ELECTRONICS",420,"ALLIED ELECTRONICS","2440 S 179TH ST",null,"NEW BERLIN","WI",53146,"USA","NEW BERLIN, WI 53146 USA "]
["ALLIED ELECTRONICS, INC",124303,"ALLIED ELECTRONICS, INC","2210 FARRAGUT AVE",null,"BRISTOL","PA",19007,"USA","BRISTOL, PA 19007 USA "]
["ALLIED INSULATION SUPPLY CO",423,"ALLIED INSULATION SUPPLY CO","315 N 12TH ST","P O BOX 212","MILWAUKEE","WI",53201,"USA","MILWAUKEE, WI 53201 USA "]
["ALLIED MUNICIPAL SUPPLY",129489,"ALLIED MUNICIPAL SUPPLY","2100 S. SPRESSER ST",null,"TAYLORVILLE","IL",62568,"USA","TAYLORVILLE, IL 62568 USA "]
["ALLTECH APPLIED SCIENCE",71398,"ALLTECH APPLIED SCIENCE","2701 CAROLEAN INDUSTRIAL DR",null,"STATE COLLEGE","PA",16801,"USA","STATE COLLEGE, PA 16801 USA "]
["ALLTRONICS",123137,"ALLTRONICS","P O BOX 730",null,"MORGAN HILL","CA",95038,"USA","MORGAN HILL, CA 95038 USA "]
["ALMEG CONTROLS",130857,"ALMEG CONTROLS","BOX 1133 210 S 8TH ST",null,"LEWISTON","NY",14092,"USA","LEWISTON, NY 14092 USA "]
["ALMO CORPORATION",128439,"ALMO CORPORATION","2709 COMMERCE WAY",null,"PHILADELPHIA","PA",19154,"USA","PHILADELPHIA, PA 19154 USA "]
["ALPHA ENGRG & SALES INC",125168,"ALPHA ENGRG & SALES INC","P O BOX 55",null,"WAUNAKEE","WI","535970-0055","USA","WAUNAKEE, WI 535970-0055 USA "]
["ALPHA METAL FINISHING CO",128566,"ALPHA METAL FINISHING CO","8155 HURON ST",null,"DEXTER","MI",48130,"USA","DEXTER, MI 48130 USA "]
["ALPHA METALS",108506,"ALPHA METALS","600 ROUTE 440",null,"JERSEY CITY","NJ",7304,"USA","JERSEY CITY, NJ 7304 USA "]
["ALPHA SPECTRA  INC",139467,"ALPHA SPECTRA  INC","715 ARROWEST COURT",null,"GRAND JUNCTION","CO",81505,"USA","GRAND JUNCTION, CO 81505 USA "]
["ALRAN SALES CO, INC",70552,"ALRAN SALES CO, INC","P.O. BOX 579",null,"YORKTOWN HEIGHTS","NY",10598,"USA","YORKTOWN HEIGHTS, NY 10598 USA "]
["ALRO METALS PLUS",134219,"ALRO METALS PLUS","2466 S INDUSTRIAL HIGHWAY",null,"ANN ARBOR","MI",48104,"USA","ANN ARBOR, MI 48104 USA "]
["ALSOFT, INC",29890,"ALSOFT, INC","PO BOX 927",null,"SPRING","TX","77383-0927","USA","SPRING, TX 77383-0927 USA "]
["ALT CONSULTING",100063,"ALT CONSULTING","16218 ZIRCONIUM ST",null,"RAMSEY","MN",55303,"USA","RAMSEY, MN 55303 USA "]
["ALTAIR ENGINEERING",21849,"ALTAIR ENGINEERING","1820 BIG BEAVER RD",null,"TROY","MI","48083-2031","USA","TROY, MI 48083-2031 USA "]
["ALTERNATIVE MACHINE TOOL INC",117996,"ALTERNATIVE MACHINE TOOL INC","300 VENTURE DR",null,"DOUSMAN","WI",53118,"USA","DOUSMAN, WI 53118 USA "]
["ALTEX ELECTRONICS INC",68750,"ALTEX ELECTRONICS INC","11342 IL 35 N",null,"SAN ANTONIO","TX",78233,"USA","SAN ANTONIO, TX 78233 USA "]
["ALTHOR PRODUCTS",471,"ALTHOR PRODUCTS","2 TURNAGE LN",null,"BETHEL","CT",6801,"USA","BETHEL, CT 6801 USA "]
["ALUMINUM ASSOCIATION",42775,"ALUMINUM ASSOCIATION","1525 WILSON BLVD, SUITE 600",null,"ARLINGTON","VA",22209,"USA","ARLINGTON, VA 22209 USA "]
["ALZATEX","ALZATEX","ALZATEX","P.O. BOX 5173",null,"ALOHA","OR",97007,"USA","ALOHA, OR 97007 USA "]
["ALZATEX",124222,"ALZATEX","P.O. BOX 5173",null,"ALOHA","OR",97007,"USA","ALOHA, OR 97007 USA "]
["AMALGA COMPOSITES INC",123152,"AMALGA COMPOSITES INC","10600 W MITCHELL ST",null,"WEST ALLIS","WI",53214,"USA","WEST ALLIS, WI 53214 USA "]
["AMAMAX",122037,"AMAMAX","10515 HARWIN","STE 150","HOUTON","TX",77036,"USA","HOUTON, TX 77036 USA "]
["AMAZON",105367,"AMAZON",null,null,"SEATTLE","WA",null,"USA","SEATTLE, WA USA "]
["AMBRY INTERNATIONAL",128100,"AMBRY INTERNATIONAL","10830 COMPOSITE DR",null,"DALLAS","TX",75220,"USA","DALLAS, TX 75220 USA "]
["AMCI COMPUTERS",113418,"AMCI COMPUTERS","123 N. KELLER",null,"AMERY","WI",54001,"USA","AMERY, WI 54001 USA "]
["AMCO",490,"AMCO","% ESI","765 ROUTE 83  SUITE 110","BENSENVILLE","IL",60106,"USA","BENSENVILLE, IL 60106 USA "]
["AMER SOC OF SAFETY ENGRS",24467,"AMER SOC OF SAFETY ENGRS","1800 E OAKTON ST",null,"DES PLAINES","IL",60018,"USA","DES PLAINES, IL 60018 USA "]
["AMER SOCIETY OF MECH ENGINEERS",56466,"AMER SOCIETY OF MECH ENGINEERS","22 LAW DR",null,"FAIRFIELD","NJ","07007-2900","USA","FAIRFIELD, NJ 07007-2900 USA "]
["AMERICAL ELECTRICAL INC",126097,"AMERICAL ELECTRICAL INC","325 SOUTHLAKE BLVD","STE 9-B","RICHMOND","VA",23236,"USA","RICHMOND, VA 23236 USA "]
["AMERICAN 3B SCIENTIFIC",112644,"AMERICAN 3B SCIENTIFIC","2189 FLINTSTONE DR   STE #0",null,"TUCKER","GA",30084,"USA","TUCKER, GA 30084 USA "]
["AMERICAN AIRLINES",74096,"AMERICAN AIRLINES","PO BOX 610245","DALLAS FORT WORTH AIRPORT","DALLAS","TX",75261,"USA","DALLAS, TX 75261 USA "]
["AMERICAN ALDES VENTILATION COR",120307,"AMERICAN ALDES VENTILATION COR","4537 NORTHGATE COURT",null,"SARASOTA","FL","34234-2124","USA","SARASOTA, FL 34234-2124 USA "]
["AMERICAN ALUMINUM EXTRUSIONS",136619,"AMERICAN ALUMINUM EXTRUSIONS","ONE ST LAWRENCE AV",null,"BELOIT","WI",53511,"USA","BELOIT, WI 53511 USA "]
[{"$f":"IF($C195=\"\",\"\",$C195)","v":"AMERICAN ASSC CANCER RESEARCH"},526,"AMERICAN ASSC CANCER RESEARCH","615 CHESTNUT STREET, 17TH FL",null,"PHILADELPHIA","PA",19106,"USA","PHILADELPHIA, PA 19106 USA "]
["AMERICAN ASSN FOR ADV SCIENCE",516,"AMERICAN ASSN FOR ADV SCIENCE","1333 H ST NW STE 814",null,"WASHINGTON","DC",20005,"USA",{"$f":"IF(F196=\"\",\"\",F196&\", \")&IF(G196=\"\",\"\",G196&\" \")&IF(H196=\"\",\"\",H196&\" \")&IF(I196=\"\",\"\",I196&\" \")","v":"WASHINGTON, DC 20005 USA "}]
["AMERICAN BEVERAGE EQUIPMENT",129820,"AMERICAN BEVERAGE EQUIPMENT","27560 GROESBECK HWY",null,"ROSEVILLE","MI",48066,"USA","ROSEVILLE, MI 48066 USA "]
["AMERICAN BOA",128716,"AMERICAN BOA","P O BOX 1301",null,"CUMMING","GA",30026,"USA","CUMMING, GA 30026 USA "]
["AMERICAN CHEMICAL SOCIETY",614,"AMERICAN CHEMICAL SOCIETY","1155 16TH ST NW",null,"WASHINGTON","DC",20036,"USA","WASHINGTON, DC 20036 USA "]
["AMERICAN DURAFILM",6041,"AMERICAN DURAFILM","55 BOYNTON ROAD",null,"HOLLISTON","MA",1746,"USA","HOLLISTON, MA 1746 USA "]
["AMERICAN GRINDING & MACHINE CO",115569,"AMERICAN GRINDING & MACHINE CO","2000 NORTH MANGO AVENUE",null,"CHICAGO","IL",60639,"USA","CHICAGO, IL 60639 USA "]
["AMERICAN HEALTH & SAFETY INC",23617,"AMERICAN HEALTH & SAFETY INC","6250 NESBITT RD",null,"MADISON","WI",537191800,"USA","MADISON, WI 537191800 USA "]
["AMERICAN INDUSTRIAL HYGIENE AS",39798,"AMERICAN INDUSTRIAL HYGIENE AS","2700 PROSPERITY AVE","STE 250","ALEXANDRIA","VA",22031,"USA","ALEXANDRIA, VA 22031 USA "]
["AMERICAN INFO CENTER",108761,"AMERICAN INFO CENTER","ROUTE 78 AIRPORT RD",null,"SWANTON","VT",5488,"USA","SWANTON, VT 5488 USA "]
["AMERICAN INSTITUTE OF PHYSICS",60632,"AMERICAN INSTITUTE OF PHYSICS","500 SUNNYSIDE BLVD",null,"WOODBURY","NY",117972999,"USA","WOODBURY, NY 117972999 USA "]
["AMERICAN INSTITUTE OF PHYSICS",29097,"AMERICAN INSTITUTE OF PHYSICS","PO BOX 20",null,"WILLISTON","VT",5495,"USA","WILLISTON, VT 5495 USA "]
["AMERICAN INSTITUTE OF PHYSICS",704,"AMERICAN INSTITUTE OF PHYSICS","1 RESEARCH ROAD","PO BOX 1000","RIDGE","NY",11961,"USA","RIDGE, NY 11961 USA "]
["AMERICAN LIFTING SYSTEMS INC",42197,"AMERICAN LIFTING SYSTEMS INC","21825 DORAL RD","BOX 799","WAUKESHA","WI",53187,"USA","WAUKESHA, WI 53187 USA "]
["AMERICAN LINEAR MANUFACTURERS",24278,"AMERICAN LINEAR MANUFACTURERS","47 NEW YORK AVENUE",null,"WESTBURY","NY",11590,"USA","WESTBURY, NY 11590 USA "]
["AMERICAN MAGNETICS",735,"AMERICAN MAGNETICS","112 FLINT RD / PO BOX 2509",null,"OAK RIDGE","TN","37831-2509","USA","OAK RIDGE, TN 37831-2509 USA "]
["AMERICAN NATIONAL STANDARDS IN",753,"AMERICAN NATIONAL STANDARDS IN","11 W 42ND ST 13TH FL",null,"NEW YORK","NY",10036,"USA","NEW YORK, NY 10036 USA "]
["AMERICAN OF MADISON",26611,"AMERICAN OF MADISON","5215 HIGH CROSSING",null,"MADISON","WI",53718,"USA","MADISON, WI 53718 USA "]
["AMERICAN OF MADISON",871,"AMERICAN OF MADISON","2404 W BELTLINE HWY",null,"MADISON","WI",537132387,"USA","MADISON, WI 537132387 USA "]
["AMERICAN PAGING INC",3416,"AMERICAN PAGING INC","6402 ODANA RD",null,"MADISON","WI",53719,"USA","MADISON, WI 53719 USA "]
["AMERICAN PHYSICAL SOCIETY",122968,"AMERICAN PHYSICAL SOCIETY","ONE PHYSICS ELLIPSE",null,"COLLEGE PARK","MD","20740-3844","USA","COLLEGE PARK, MD 20740-3844 USA "]
["AMERICAN PHYSICAL SOCIETY",122255,"AMERICAN PHYSICAL SOCIETY","P O BOX 631551",null,"BALTIMORE","MD",21263,"USA","BALTIMORE, MD 21263 USA "]
["AMERICAN PHYSICAL SOCIETY",21920,"AMERICAN PHYSICAL SOCIETY","ONE PHYSICS ELLIPSE",null,"COLLEGE PARK","MD","20740-3844","USA","COLLEGE PARK, MD 20740-3844 USA "]
["AMERICAN PHYSICAL SOCIETY",58679,"AMERICAN PHYSICAL SOCIETY","PUBLICATION DEPARTMENT","1 RESEARCH RD","RIDGE","NY",11961,"USA","RIDGE, NY 11961 USA "]
["AMERICAN POLYWATER CORP",130711,"AMERICAN POLYWATER CORP","PO BOX 53",null,"STILLWATER","MN",55082,"USA","STILLWATER, MN 55082 USA "]
["AMERICAN PORTWELL TECH",133908,"AMERICAN PORTWELL TECH","44200 CHRISTY ST",null,"FREMONT","CA",94538,"USA","FREMONT, CA 94538 USA "]
["AMERICAN POWER CONVERSION CORP",67815,"AMERICAN POWER CONVERSION CORP","132 FAIRGROUNDS RD",null,"WEST KINGSTON","RI",2892,"USA","WEST KINGSTON, RI 2892 USA "]
["AMERICAN PRECISION INDUSTRIES",77749,"AMERICAN PRECISION INDUSTRIES","3229 ROYMAR RD",null,"OCEANSIDE","CA",92054,"USA","OCEANSIDE, CA 92054 USA "]
["AMERICAN PRECISION INDUSTRIES",34568,"AMERICAN PRECISION INDUSTRIES","RAPIDSYN DIVISION","45 HAZELWOOD DRIVE","AMHERST","NY",14228,"USA","AMHERST, NY 14228 USA "]
["AMERICAN RED CROSS",791,"AMERICAN RED CROSS","BADGER RED CROSS BLOOD","4860 SHEBOYGAN AVE","MADISON","WI",537055905,"USA","MADISON, WI 537055905 USA "]
["AMERICAN SAFETY TRAINING INC",127615,"AMERICAN SAFETY TRAINING INC","317 W 4TH ST",null,"DAVENPORT","IA",52801,"USA","DAVENPORT, IA 52801 USA "]
["AMERICAN SCIENCES & SURPLUS",17439,"AMERICAN SCIENCES & SURPLUS","3605 HOWARD STREET",null,"SKOKIE","IL","60076-4014","USA","SKOKIE, IL 60076-4014 USA "]
["AMERICAN SOC. FOR QUALITY CONT",2585,"AMERICAN SOC. FOR QUALITY CONT","PO BOX 3066",null,"MILWAUKEE","WI","53201-3066","USA","MILWAUKEE, WI 53201-3066 USA "]
["AMERICAN SOCIETY OF MECH ENGRS",842,"AMERICAN SOCIETY OF MECH ENGRS","22 LAW DR",null,"FAIRFIELD","NJ",7007,"USA","FAIRFIELD, NJ 7007 USA "]
["AMERICAN STAR INTERNATIONAL IN",85966,"AMERICAN STAR INTERNATIONAL IN","11985 MARANATHA DR",null,"BRIGHTON","MI",48116,"USA","BRIGHTON, MI 48116 USA "]
["AMERICAN TRAINCO",126342,"AMERICAN TRAINCO","P.O. BOX 3397",null,"ENGLEWOOD","CO",80155,"USA","ENGLEWOOD, CO 80155 USA "]
["AMERICAN TYPE CULTURE COLLECTI",875,"AMERICAN TYPE CULTURE COLLECTI","12301 PARKLAWN DR",null,"ROCKVILLE","MD",20852,"USA","ROCKVILLE, MD 20852 USA "]
["AMERICAN VACUUM SOCIETY",2166,"AMERICAN VACUUM SOCIETY","1349 N. OAKLEY BLVD.#100",null,"CHICAGO","IL","60622-3049","USA","CHICAGO, IL 60622-3049 USA "]
["AMERICAN WELDING & ENGINEERING",122142,"AMERICAN WELDING & ENGINEERING","6001 S PENNSYLVANIA AVE",null,"CUDAHY","WI",53110,"USA","CUDAHY, WI 53110 USA "]
["AMERICANA METAL SERVICES",80903,"AMERICANA METAL SERVICES","PO BOX 459",null,"TALBOTT","TN",37877,"USA","TALBOTT, TN 37877 USA "]
["AMERICASE, INC",129665,"AMERICASE, INC","1610 EAST MAIN ST.",null,"WAXAHACHIE","TX",75165,"USA","WAXAHACHIE, TX 75165 USA "]
["AMERIGAS",5403,"AMERIGAS","4117 TERMINAL DR",null,"MCFARLAND","WI",535589437,"USA","MCFARLAND, WI 535589437 USA "]
["AMERITECH CELLULAR",26996,"AMERITECH CELLULAR","7826 MINERAL POINT RD",null,"MADISON","WI",53717,"USA","MADISON, WI 53717 USA "]
["AMERITECH CREDIT CORP",90314,"AMERITECH CREDIT CORP","2550 W GOLF RD",null,"ROLLING MEADOWS","IL",60008,"USA","ROLLING MEADOWS, IL 60008 USA "]
["AMETEK THERMOX INSTRUMENTS DIV",48838,"AMETEK THERMOX INSTRUMENTS DIV","150 FREEPORT RD",null,"PITTSBURGH","PA",15238,"USA","PITTSBURGH, PA 15238 USA "]
["AMIDON, INC",901,"AMIDON, INC","240 BRIGGS AV",null,"COSTA MESA","CA",92626,"USA","COSTA MESA, CA 92626 USA "]
["AMP TEK",74291,"AMP TEK","PO BOX 1381",null,"STAFFORD","TX",77477,"USA","STAFFORD, TX 77477 USA "]
["AMPCO SAFETY TOOLS",127638,"AMPCO SAFETY TOOLS","294 BARNES DR",null,"GARLAND","TX",75042,"USA","GARLAND, TX 75042 USA "]
["AMPHENOL CORP",58196,"AMPHENOL CORP","40-60 DELAWARE AVE",null,"SIDNEY","NY","13838-1395","USA","SIDNEY, NY 13838-1395 USA "]
["AMPTEK, INC",37908,"AMPTEK, INC","6 DEANGELO DRIVE",null,"BEDFORD","MA",1730,"USA","BEDFORD, MA 1730 USA "]
["AMPTEK, INC",37908,"AMPTEK, INC","6 DE ANGELO DR",null,"BEDFORD","MA",1730,"USA","BEDFORD, MA 1730 USA "]
["AMS LAWN CARE",140078,"AMS LAWN CARE","708 BERRY ST",null,"STOUGHTON","WI",53589,"USA","STOUGHTON, WI 53589 USA "]
["AMUNEAL MANUFACTURING CORP",31033,"AMUNEAL MANUFACTURING CORP","4737 DARRAH ST",null,"PHILADELPHIA","PA",19124,"USA","PHILADELPHIA, PA 19124 USA "]
["ANALOG DEVICES",920,"ANALOG DEVICES","PO BOX 9106","ONE TECHNOLOGY WAY","NORWOOD","MA",20629106,"USA","NORWOOD, MA 20629106 USA "]
["ANALOG MODULES  INC",33047,"ANALOG MODULES  INC","126 BAYWOOD AV",null,"LONGWOOD","FL","32750-3426","USA","LONGWOOD, FL 32750-3426 USA "]
["ANALOG SERVICES",128784,"ANALOG SERVICES","1169 HAYNESVILLE RD",null,"REYNOLD STATION","KY",42368,"USA","REYNOLD STATION, KY 42368 USA "]
["ANALYTICAL SYSTEMS INT.''",105677,"ANALYTICAL SYSTEMS INT.''","21175 TOMBALL PARKWAY #297",null,"HOUSTON","TX",77070,"USA","HOUSTON, TX 77070 USA "]
["AND TECHNOLOGIES",28473,"AND TECHNOLOGIES","PO BOX 64811",null,"LOS ANGELES","CA",90064,"USA","LOS ANGELES, CA 90064 USA "]
["ANDERSON PUMP & PROCESS",943,"ANDERSON PUMP & PROCESS","PO BOX 523",null,"BROOKFIELD","WI",530080523,"USA","BROOKFIELD, WI 530080523 USA "]
["ANDERSON THOMAS",953,"ANDERSON THOMAS","2100 WINNEBAGO",null,"MADISON","WI",53704,"USA","MADISON, WI 53704 USA "]
["ANDREW CORPORATION",5668,"ANDREW CORPORATION","10500 W 153RD ST",null,"ORLAND PARK","IL",60462,"USA","ORLAND PARK, IL 60462 USA "]
["ANGELIC BREWING CO",105458,"ANGELIC BREWING CO","322 W JOHNSON",null,"MADISON","WI",53703,"USA","MADISON, WI 53703 USA "]
["ANIXTER",50726,"ANIXTER","4711 GOLF RD",null,"SKOKIE","IL",60076,"USA","SKOKIE, IL 60076 USA "]
["ANIXTER BROS",9285,"ANIXTER BROS","4701 W SCHROEDER DR",null,"BROWN DEER","WI",53223,"USA","BROWN DEER, WI 53223 USA "]
[{"$f":"IF($C259=\"\",\"\",$C259)","v":"ANIXTER INC"},135967,"ANIXTER INC","W234 N2O91 RIDGEVIEW PKWY CT",null,"WAUKESHA","WI",53188,"USA","WAUKESHA, WI 53188 USA "]
["ANTIQUE ELECTRONIC SUPPLY",14820,"ANTIQUE ELECTRONIC SUPPLY","6221 S MAPLE AVE",null,"TEMPE","AZ",85283,"USA",{"$f":"IF(F260=\"\",\"\",F260&\", \")&IF(G260=\"\",\"\",G260&\" \")&IF(H260=\"\",\"\",H260&\" \")&IF(I260=\"\",\"\",I260&\" \")","v":"TEMPE, AZ 85283 USA "}]
["ANTISTATIC INDUSTRIES INC",124961,"ANTISTATIC INDUSTRIES INC","140 GAMEWELL ST","P O BOX 460","HACKENSACK","NJ","07602-0460","USA","HACKENSACK, NJ 07602-0460 USA "]
["ANVS, INC",125173,"ANVS, INC","320 WEST 200 SOUTH #300B","P.O. BOX 288","SALT LAKE CITY","UT",84101,"USA","SALT LAKE CITY, UT 84101 USA "]
["AP CIRCUITS",131592,"AP CIRCUITS","UNIT 3,  1112-40TH AV  N.E.",null,"CALGARY","ALBERTA","T2E 5T8","CANADA","CALGARY, ALBERTA T2E 5T8 CANADA "]
["APD CRYOGENICS",73572,"APD CRYOGENICS","1833 VULTEE ST",null,"ALLENTOWN","PA",18103,"USA","ALLENTOWN, PA 18103 USA "]
["APEX BATTERY",127359,"APEX BATTERY","446 S ANAHEIM HILLS RD STE 177",null,"ANAHEIM HILLS","CA",92807,"USA","ANAHEIM HILLS, CA 92807 USA "]
["APPLE COMPUTER INC",1881,"APPLE COMPUTER INC","2420 RICHPOINT DR","M/S 198 HE","AUSTIN","TX",78754,"USA","AUSTIN, TX 78754 USA "]
["APPLE COMPUTERS",3268,"APPLE COMPUTERS","PO BOX 720",null,"BUFFALO","NY",14207,"USA","BUFFALO, NY 14207 USA "]
["APPLE RUBBER PRODUCT",65086,"APPLE RUBBER PRODUCT","310 ERIE ST",null,"LANCASTER","NY",14086,"USA","LANCASTER, NY 14086 USA "]
["APPLICATION EQUIPMENT",75918,"APPLICATION EQUIPMENT","6211 EASTWOOD CT",null,"MEQUON","WI",53092,"USA","MEQUON, WI 53092 USA "]
["APPLIED DIAMOND,  INC",129642,"APPLIED DIAMOND,  INC","3825 LANCASTER PIKE",null,"WILMINGTON","DE",19805,"USA","WILMINGTON, DE 19805 USA "]
["APPLIED ENGINEERING",34507,"APPLIED ENGINEERING","970 LONUS STREET",null,"SAN JOSE","CA",95126,"USA","SAN JOSE, CA 95126 USA "]
["APPLIED ENGINEERING PRODUCTS",79227,"APPLIED ENGINEERING PRODUCTS","104 JW MURPHY DR",null,"NEW HAVEN","CT",6513,"USA","NEW HAVEN, CT 6513 USA "]
["APPLIED INDUSTRIAL TECHNOLOGIE",45421,"APPLIED INDUSTRIAL TECHNOLOGIE","2606 SEIFERTH RD",null,"MADISON","WI",53716,"USA","MADISON, WI 53716 USA "]
["APPLIED INFORMATION SYSTEMS IN",89966,"APPLIED INFORMATION SYSTEMS IN","500 EAST TOWNE DR","SUITE 207","CHAPEL HILL","NC",27514,"USA","CHAPEL HILL, NC 27514 USA "]
["APPLIED PHYSICS TECHNOLOGIES",128490,"APPLIED PHYSICS TECHNOLOGIES","1600 NE MILLER ST",null,"MCMINNVILLE","OR",97128,"USA","MCMINNVILLE, OR 97128 USA "]
["APTEC NUCLEAR",2873,"APTEC NUCLEAR","210 S 8 ST",null,"LEWISTON","NY",14092,"USA","LEWISTON, NY 14092 USA "]
["APTEK INDUSTRIES INC",105361,"APTEK INDUSTRIES INC","414-F UMBARGER RD",null,"SAN JOSE","CA",95111,"USA","SAN JOSE, CA 95111 USA "]
["AQUATROL INC",103745,"AQUATROL INC","600 E NORTH ST",null,"ELBURN","IL",60119,"USA","ELBURN, IL 60119 USA "]
["ARAMARK CLASSIC FARE CATERING",127670,"ARAMARK CLASSIC FARE CATERING","P.O. BOX 9980","MAYBERRY ANNEX/HARDING BLVD","BATON ROUGE","LA",70813,"USA","BATON ROUGE, LA 70813 USA "]
["ARAMARK UNIFORM SERVICES",8004,"ARAMARK UNIFORM SERVICES","1212 N STOUGHTON RD",null,"MADISON","WI",53714,"USA","MADISON, WI 53714 USA "]
["ARBORETUM","UW0014","ARBORETUM","1207 SEMINOLE HIGHWAY",null,"MADISON","WI","53711-3726","USA","MADISON, WI 53711-3726 USA "]
["ARCTIC GLACIER, INC",93745,"ARCTIC GLACIER, INC","2558 ADVANCE RD",null,"MADISON","WI",53716,"USA","MADISON, WI 53716 USA "]
["AREMCO PRODUCTS",1082,"AREMCO PRODUCTS","707B EXECUTIVE BLVD",null,"VALLEY COTTAGE","NY",10989,"USA","VALLEY COTTAGE, NY 10989 USA "]
["ARES SOFTWARE",28125,"ARES SOFTWARE","PO BOX 4667",null,"FOSTER CITYT","CA",94404,"USA","FOSTER CITYT, CA 94404 USA "]
["ARGONNE NATIONAL LABORATORY",35936,"ARGONNE NATIONAL LABORATORY","9700 S CASS AVE",null,"ARGONNE","IL",60439,"USA","ARGONNE, IL 60439 USA "]
["ARLINGTON COMPUTER PRODUCTS",54812,"ARLINGTON COMPUTER PRODUCTS","1970 CARBOY",null,"MOUNT PROSPECT","IL",60056,"USA","MOUNT PROSPECT, IL 60056 USA "]
["ARMENTA,REBECCA",572605,"ARMENTA,REBECCA","REU",null,"STOUGHTON","WI",53589,"USA","STOUGHTON, WI 53589 USA "]
["ARMOLOY OF ILLINOIS","K00017","ARMOLOY OF ILLINOIS","(SEE 121692)",null,"DEKALB","IL",60115,"USA","DEKALB, IL 60115 USA "]
["ARMOLOY OF ILLINOIS INC",121692,"ARMOLOY OF ILLINOIS INC","118 SIMONDS AVE",null,"DEKALB","IL",60115,"USA","DEKALB, IL 60115 USA "]
["ARMORLINK CORPORATION",120033,"ARMORLINK CORPORATION","515 N PUENTE ST",null,"BREA","CA",92821,"USA","BREA, CA 92821 USA "]
["ARNDT & SON PLUMBING",130664,"ARNDT & SON PLUMBING","PO BOX 70",null,"BROOKLYN","WI",53521,"USA","BROOKLYN, WI 53521 USA "]
["ARNOLD & O'SHERIDAN INC",74298,"ARNOLD & O'SHERIDAN INC","815 FORWARD DR",null,"MADISON","WI",53711,"USA","MADISON, WI 53711 USA "]
["ARROW ADVANTAGE",107378,"ARROW ADVANTAGE","18640 LAKE DR E",null,"CHANHASSEN","MN",55317,"USA","CHANHASSEN, MN 55317 USA "]
["ARROW ELECTRONICS",1149,"ARROW ELECTRONICS","200 N PATRICK BLVD",null,"BROOKFIELD","WI",53005,"USA","BROOKFIELD, WI 53005 USA "]
["ARROW ELECTRONICS INC",71864,"ARROW ELECTRONICS INC","CATALOG SALES","25 HUB DRIVE","MELVILLE","NY",11747,"USA","MELVILLE, NY 11747 USA "]
["ARROW STAR INC",44916,"ARROW STAR INC","674 WILLIAMS ST",null,"LYNBROOK","NY",11563,"USA","LYNBROOK, NY 11563 USA "]
["ARTISAN CORP",118460,"ARTISAN CORP","15509 WEBER ROAD","PO BOX 7054","LOCKPORT","IL",60441,"USA","LOCKPORT, IL 60441 USA "]
["ARTISTIC PLATING CO  INC",90105,"ARTISTIC PLATING CO  INC","405 W CHERRY ST",null,"MILWAUKEE","WI",53212,"USA","MILWAUKEE, WI 53212 USA "]
["ASAP SOFTWARE EXPRESS INC",57200,"ASAP SOFTWARE EXPRESS INC","1945 TECHNY RD","UNIT 8","NORTHBROOK","IL",600624421,"USA","NORTHBROOK, IL 600624421 USA "]
["ASAT, INC",124521,"ASAT, INC","3755 CAPITAL OF TEXAS HWY","STE 100","AUSTIN","TX",78701,"USA","AUSTIN, TX 78701 USA "]
["ASC PUMPING EQUIPMENT",1370,"ASC PUMPING EQUIPMENT","3625-A N 126TH ST",null,"BROOKFIELD","WI",53005,"USA","BROOKFIELD, WI 53005 USA "]
["ASH EQUIPMENT",85430,"ASH EQUIPMENT","155 OSWALD ST","P.O. BOX 8","BATAVIA","IL",60510,"USA","BATAVIA, IL 60510 USA "]
["ASH EQUIPMENT",88558,"ASH EQUIPMENT","4032 TATUM RD",null,"ROCKFORD","IL",61111,"USA","ROCKFORD, IL 61111 USA "]
["ASHEVILLE SHOONMAKER MICA CO",76554,"ASHEVILLE SHOONMAKER MICA CO","900JEFFERSON AVE",null,"NEWPORT NEWS","VA",23607,"USA","NEWPORT NEWS, VA 23607 USA "]
["ASLESON'S TRUE VALUE",19367,"ASLESON'S TRUE VALUE","154 W MAIN ST",null,"STOUGHTON","WI",53589,"USA","STOUGHTON, WI 53589 USA "]
["ASM INTERNATIONAL",848,"ASM INTERNATIONAL","9639 KINSMAN RD",null,"MATERIALS PARK","OH",44073,"USA","MATERIALS PARK, OH 44073 USA "]
["ASM SOFTWARE",86675,"ASM SOFTWARE","1320 MISSION ST",null,"SANTA CRUZ","CA",95060,"USA","SANTA CRUZ, CA 95060 USA "]
["ASME  AMERICAN SOCIETY OF MECH",55387,"ASME  AMERICAN SOCIETY OF MECH","P.O. BOX 2300",null,"FAIRFIELD, NJ 07007","NJ",7007,"USA","FAIRFIELD, NJ 07007, NJ 7007 USA "]
["ASSOCIATED RESEARCH INC",112762,"ASSOCIATED RESEARCH INC","13860 W LAUREL DR",null,"LAKE FOREST","IL",60045,"USA","LAKE FOREST, IL 60045 USA "]
["ASSOCIATED SPRING CO",1257,"ASSOCIATED SPRING CO","15739 W RYERSON RD",null,"NEW BERLIN","WI",53151,"USA","NEW BERLIN, WI 53151 USA "]
["ASSOCIATED SPRING RAYMOND",109085,"ASSOCIATED SPRING RAYMOND","1705 INDIAN WOOD CIRCLE STE 21",null,"MAUMEE","OH",43537,"USA","MAUMEE, OH 43537 USA "]
["ASTM",10266,"ASTM","1916 RACE STREET",null,"PHILADELPHIA","PA",19103,"USA","PHILADELPHIA, PA 19103 USA "]
["ASTRO INDUSTRIES",130463,"ASTRO INDUSTRIES","810 PARKVIEW RD",null,"GREEN BAY","WI",54304,"USA","GREEN BAY, WI 54304 USA "]
["ASTRO MODEL DEVELOPMENT",119123,"ASTRO MODEL DEVELOPMENT","34459 CURTIS BOULEVARD",null,"EASTLAKE","OH",44095,"USA","EASTLAKE, OH 44095 USA "]
["ASTRO TOOL",91645,"ASTRO TOOL","21615 SW TV HWY",null,"BEAVERTON","OR",97006,"USA","BEAVERTON, OR 97006 USA "]
["ASTRODYNE",105029,"ASTRODYNE","300 MILES STANDISH BLVD",null,"TAUTON","MA",2780,"USA","TAUTON, MA 2780 USA "]
["AT BATTERY CO",127340,"AT BATTERY CO","9960 GLENOAKS BLVD","UNIT A","SUN VALLEY","CA",91352,"USA","SUN VALLEY, CA 91352 USA "]
["AT&T INFORMATION CENTER",61958,"AT&T INFORMATION CENTER","AT&T SUITE 200","400 S EXECUTIVE DRIVER","BROOKFIELD","WI",53005,"USA","BROOKFIELD, WI 53005 USA "]
["AT&T INFORMATION SYSTEMS",48839,"AT&T INFORMATION SYSTEMS","44 E MIFFLIN ST","SUITE 700","MADISON","WI",53703,"USA","MADISON, WI 53703 USA "]
["ATCOM, INC.",125020,"ATCOM, INC.","LANSHACK.COM",null,"CLARK","NJ",7066,"USA","CLARK, NJ 7066 USA "]
["ATD AMERICAN",54,"ATD AMERICAN","135 GREENWOOD AVE",null,"WYNCOTE","PA",19095,"USA","WYNCOTE, PA 19095 USA "]
["ATEX CORPORATION",30075,"ATEX CORPORATION","26 N MAIN ST",null,"ROCKFORD","MI",49341,"USA","ROCKFORD, MI 49341 USA "]
[{"$f":"IF($C323=\"\",\"\",$C323)","v":"ATLANTA LIGHT BULBS"},115439,"ATLANTA LIGHT BULBS","1810-G AUGER DR",null,"TUCKER","GA",30084,"USA","TUCKER, GA 30084 USA "]
["ATLANTIC GASKET CORPORATION",134047,"ATLANTIC GASKET CORPORATION","3908 FRANKFORD AV",null,"PHILADELPHIA","PA",19124,"USA",{"$f":"IF(F324=\"\",\"\",F324&\", \")&IF(G324=\"\",\"\",G324&\" \")&IF(H324=\"\",\"\",H324&\" \")&IF(I324=\"\",\"\",I324&\" \")","v":"PHILADELPHIA, PA 19124 USA "}]
["ATLANTIC STAINLESS",35164,"ATLANTIC STAINLESS","140 JOHN DIETSCH SQ",null,"NORTH ATTLEBORO","MA",2763,"USA","NORTH ATTLEBORO, MA 2763 USA "]
["ATLAS CASE CORP",121122,"ATLAS CASE CORP","1380 S CHEROKEE ST",null,"DENVER","CO",80223,"USA","DENVER, CO 80223 USA "]
["ATLAS PEN & PENCIL CORP",84919,"ATLAS PEN & PENCIL CORP","PO BOX 600","3040 N 29TH AV","HOLLYWOOD","FL",33020,"USA","HOLLYWOOD, FL 33020 USA "]
["ATS MACHINE SAFETY SOLUTIONS",136299,"ATS MACHINE SAFETY SOLUTIONS","3153 LITTLE SAVANNAH RD",null,"SYLVA","NC",28779,"USA","SYLVA, NC 28779 USA "]
["ATT METROLOGY SERVICES",133236,"ATT METROLOGY SERVICES","30210 SE 79TH ST     SUITE 100",null,"ISSAQUAN","WA",98027,"USA","ISSAQUAN, WA 98027 USA "]
["AUDIO CONTRACTORS",120097,"AUDIO CONTRACTORS","1015 N. MAIN ST, SUITE F",null,"OREGON","WI",53575,"USA","OREGON, WI 53575 USA "]
["AUDIO VIDEO SUPPLY",18371,"AUDIO VIDEO SUPPLY","4575 RUFFNER ST",null,"SAN DIEGO","CA",92111,"USA","SAN DIEGO, CA 92111 USA "]
["AUDIO VIDEO SUPPLY",126470,"AUDIO VIDEO SUPPLY","4575 RUFFNER ST",null,"SAN DIEGO","CA",92111,"USA","SAN DIEGO, CA 92111 USA "]
["AUSTIN HARDWARE & SUPPLY",128250,"AUSTIN HARDWARE & SUPPLY","21067 PROTECTA DR",null,"ELKHART","IN",46516,"USA","ELKHART, IN 46516 USA "]
["AUSTIN SCIENTIFIC CO INC",12509,"AUSTIN SCIENTIFIC CO INC","4114 TODD LN","PO BOX 18863","AUSTIN","TX",787608863,"USA","AUSTIN, TX 787608863 USA "]
["AUTEK RESEARCH",125011,"AUTEK RESEARCH","P O BOX 7556",null,"WESLEY CHAPEL","FL",33544,"USA","WESLEY CHAPEL, FL 33544 USA "]
["AUTODESK INC.",31127,"AUTODESK INC.","PARTSPEC OFFER","PO BOX 24026","SEATTLE","WA","98124-9939","USA","SEATTLE, WA 98124-9939 USA "]
["AUTOMATED ANALYSIS CORP",107893,"AUTOMATED ANALYSIS CORP","2805 S INDUSTRIAL HWY STE 100",null,"ANN ARBOR","MI",48104,"USA","ANN ARBOR, MI 48104 USA "]
["AUTOMATION & PROCESS CONTROLS",125936,"AUTOMATION & PROCESS CONTROLS","1259 GERVIAS AVE STE 100",null,"ST PAUL","MN",55109,"USA","ST PAUL, MN 55109 USA "]
["AUTOMATION DIRECT",116535,"AUTOMATION DIRECT","3505 HUTCHINSON RD",null,"CUMMING","GA",30040,"USA","CUMMING, GA 30040 USA "]
["AUTOMATION GAGES INC",67923,"AUTOMATION GAGES INC","850 HUDSON AVE",null,"ROCHESTER","NY",14621,"USA","ROCHESTER, NY 14621 USA "]
["AVA DIRECT INC",128379,"AVA DIRECT INC","1750 HIGHLAND RD","STE 4","TWINSBURG","OR",44087,"USA","TWINSBURG, OR 44087 USA "]
["AVALAN WIRELESS SYSTEMS, INC",129428,"AVALAN WIRELESS SYSTEMS, INC","1020 CORPORATION WAY",null,"PALO ALTO","CA",94303,"USA","PALO ALTO, CA 94303 USA "]
["AVANT GARDE GROUP",92172,"AVANT GARDE GROUP","2540 CAMINO DIABLO","SUITE 202","WALNUT CREEK","CA",94596,"USA","WALNUT CREEK, CA 94596 USA "]
["AVANTI CORP",104500,"AVANTI CORP","1208 E ARQUES AVE",null,"SUNNYVALE","CA",94086,"USA","SUNNYVALE, CA 94086 USA "]
["AVAYA",116227,"AVAYA",null,null,null,null,null,"USA","USA "]
["AVI MIDWEST",8420,"AVI MIDWEST","2137 S. STOUGHTON RD.",null,"MADISON","WI",53716,"USA","MADISON, WI 53716 USA "]
["AVNET ELECTRONICS MARKETING",109213,"AVNET ELECTRONICS MARKETING","10 CENTENNIAL DR.",null,"PEABODY","MA",1960,"USA","PEABODY, MA 1960 USA "]
["AVTECH ELECTROSYSTEMS",58922,"AVTECH ELECTROSYSTEMS","P.O. BOX 265",null,"OGDENSBURG","NY",13669,"USA","OGDENSBURG, NY 13669 USA "]
["AWP BUTCHER BLOCK, INC",133978,"AWP BUTCHER BLOCK, INC","320 CHERRY ST",null,"HORSE CAVE","KY",42749,"USA","HORSE CAVE, KY 42749 USA "]
["AXIOMTEK",128035,"AXIOMTEK","18138 ROWLAND ST",null,"CITY OF INDUSTRY","CA",91748,"USA","CITY OF INDUSTRY, CA 91748 USA "]
["B & B TRAILERS, INC",128299,"B & B TRAILERS, INC","1054 W SUMNER ST",null,"HARTFORD","WI",53027,"USA","HARTFORD, WI 53027 USA "]
["B & D ENTERPRISES",128610,"B & D ENTERPRISES","PO BOX 460","MAIN & LIBERTY ST","RUSSELL","PA",16345,"USA","RUSSELL, PA 16345 USA "]
["B & H PHOTO",55046,"B & H PHOTO","420 9TH AVE",null,"NEW YORK","NY",10001,"USA","NEW YORK, NY 10001 USA "]
["B J WOLFE ENTERPRISES",28289,"B J WOLFE ENTERPRISES","PO BOX 1303",null,"AGOURA HILLS","CA","91376-1303","USA","AGOURA HILLS, CA 91376-1303 USA "]
["B&B ELECTRONICS",33339,"B&B ELECTRONICS","4000 BAKER RD","BOX 1040","OTTAWA","IL",61350,"USA","OTTAWA, IL 61350 USA "]
["BACHARACH INC",128337,"BACHARACH INC","621 HUNT VALLEY CIRCLE",null,"NEW KENSINGTON","PA",15068,"USA","NEW KENSINGTON, PA 15068 USA "]
["BACHMANN POOLS & SPAS",130339,"BACHMANN POOLS & SPAS","2225 S. STOUGHTON RD.",null,"MADISON","WI",53716,"USA","MADISON, WI 53716 USA "]
["BACKCOUNTRY EQUIPMENT",127056,"BACKCOUNTRY EQUIPMENT","5407 BANDERA RD #117",null,"SAN ANTONIO","TX",78238,"USA","SAN ANTONIO, TX 78238 USA "]
["BACKUPWORKS.COM",119172,"BACKUPWORKS.COM","3621 MACARTHUR BLVD","STE 107","SANTA ANA","CA",92704,"USA","SANTA ANA, CA 92704 USA "]
["BACTERIOLOGY DEPT","UW0072","BACTERIOLOGY DEPT",null,null,"MADISON","WI",53714,"USA","MADISON, WI 53714 USA "]
["BADGER CAB COMPANY",20099,"BADGER CAB COMPANY","22 N FEW ST",null,"MADISON","WI",53703,"USA","MADISON, WI 53703 USA "]
["BADGER CONTRACTORS RENTAL",126656,"BADGER CONTRACTORS RENTAL","1501 GILSON ST",null,"MADISON","WI",53715,"USA","MADISON, WI 53715 USA "]
["BADGER DIVERSIFIED",23924,"BADGER DIVERSIFIED","703 RUSKIN",null,"MADISON","WI",53704,"USA","MADISON, WI 53704 USA "]
["BADGER ELECTRIC MOTOR CO",88414,"BADGER ELECTRIC MOTOR CO","5000 S 2ND ST",null,"MILWAUKEE","WI",53207,"USA","MILWAUKEE, WI 53207 USA "]
["BADGER FLUID SYSTEM TECH",1491,"BADGER FLUID SYSTEM TECH","3315 N INTERTECH DR",null,"BROOKFIELD","WI",53005,"USA","BROOKFIELD, WI 53005 USA "]
["BADGER GRAPHIC SYSTEMS",60546,"BADGER GRAPHIC SYSTEMS","1155 WILBURN ROAD",null,"SUN PRAIRIE","WI",53590,"USA","SUN PRAIRIE, WI 53590 USA "]
["BADGER METER INC",48358,"BADGER METER INC","PRECISION PRODUCTS DIVISION","6116 E 15TH ST","TULSA","OK",74112,"USA","TULSA, OK 74112 USA "]
["BADGER MILL SUPPLY",63797,"BADGER MILL SUPPLY","3250 MEDALIST DRIVE",null,"OSHKOSH","WI",54903,"USA","OSHKOSH, WI 54903 USA "]
["BADGER OFFICE SUPPLIES",1480,"BADGER OFFICE SUPPLIES","10 S. CARROLL STREET",null,"MADISON","WI",53703,"USA","MADISON, WI 53703 USA "]
["BADGER SHEET METAL",11839,"BADGER SHEET METAL","7302 GENE ST","P.O. BOX 581","DEFOREST","WI",53532,"USA","DEFOREST, WI 53532 USA "]
["BADGER STATE INDUSTRIES",11738,"BADGER STATE INDUSTRIES","2565 E JOHNSON","PO BOX 7925","MADISON","WI",537077925,"USA","MADISON, WI 537077925 USA "]
["BADGER STATE LOGISTICS",20214,"BADGER STATE LOGISTICS","HEALTH & SOCIAL SERVICE DEPT","1 DOTY ST","WAUPUN","WI",539631996,"USA","WAUPUN, WI 539631996 USA "]
["BADGER UTILITY INC",35327,"BADGER UTILITY INC","P O BOX 8487",null,"MADISON","WI",53708,"USA","MADISON, WI 53708 USA "]
["BADGER WELDING SUPPLY CO",1492,"BADGER WELDING SUPPLY CO","101 S DICKINSON ST","PO BOX 3379","MADISON","WI",53703,"USA","MADISON, WI 53703 USA "]
["BAGELS FOREVER",1498,"BAGELS FOREVER","PO BOX 5547","2947 UNIVERSITY AVE.","MADISON","WI",537050547,"USA","MADISON, WI 537050547 USA "]
["BAILEY'S",130346,"BAILEY'S","44650 HIGHWAY 101",null,"LAYTONVILLE","CA",95454,"USA","LAYTONVILLE, CA 95454 USA "]
["BAKER COMPANY",1509,"BAKER COMPANY","PO DRAWER E","SANFORD AIRPORT RD","SANFORD","ME",4073,"USA","SANFORD, ME 4073 USA "]
["BAL SEAL ENGINEERING",37764,"BAL SEAL ENGINEERING","620 W WARNER AVE",null,"SANTA ANA","CA",92677,"USA","SANTA ANA, CA 92677 USA "]
["BAL-TEC",122621,"BAL-TEC","1550 E SLAUSON AVE",null,"LOS ANGELES","CA",90011,"USA","LOS ANGELES, CA 90011 USA "]
["BALZERS",14062,"BALZERS","46249 WARM SPRINGS BLVD",null,"FREMONT","CA",94339,"USA","FREMONT, CA 94339 USA "]
["BALZERS",9180,"BALZERS","3411 C N KENNICOTT AVE",null,"ARLINGTON HEIGHTS","IL",60004,"USA","ARLINGTON HEIGHTS, IL 60004 USA "]
["BALZERS CORP",29123,"BALZERS CORP","8 SAGAMORE PARK RD",null,"HUDSON","NH",30514914,"USA","HUDSON, NH 30514914 USA "]
["BANGS LABORATORIES",5944,"BANGS LABORATORIES","979 KEYSTONE WAY",null,"CARMEL","IN","46032-2823","USA","CARMEL, IN 46032-2823 USA "]
["BARANIAK ROBOTICS",16966,"BARANIAK ROBOTICS","6828 TOTTENHAM RD.",null,"MADISON","WI",53711,"USA","MADISON, WI 53711 USA "]
["BARDEN PRECISION BEARINGS",117264,"BARDEN PRECISION BEARINGS","200 PARK AVE","PO BOX 2449","DANBURY","CT","06813-2449","USA","DANBURY, CT 06813-2449 USA "]
["BARKER ROCKFORD",16683,"BARKER ROCKFORD","29 AIRPORT DRIVE",null,"ROCKFORD","IL",61109,"USA","ROCKFORD, IL 61109 USA "]
[{"$f":"IF($C387=\"\",\"\",$C387)","v":"BARNES & NOBLE"},84832,"BARNES & NOBLE","126 5TH AVE","DEPT K285","NEW YORK","NY",10011,"USA","NEW YORK, NY 10011 USA "]
["BARNES & NOBLE",100083,"BARNES & NOBLE",null,null,null,null,null,"USA",{"$f":"IF(F388=\"\",\"\",F388&\", \")&IF(G388=\"\",\"\",G388&\" \")&IF(H388=\"\",\"\",H388&\" \")&IF(I388=\"\",\"\",I388&\" \")","v":"USA "}]
["BARNES, INC",2790,"BARNES, INC","6433 NESBITT RD",null,"MADISON","WI",53719,"USA","MADISON, WI 53719 USA "]
["BARNSTEAD THERMOLYNE",1573,"BARNSTEAD THERMOLYNE","2555 KERPER BLVD","PO BOX 797","DUBUQUE","IA",522040797,"USA","DUBUQUE, IA 522040797 USA "]
["BARTOL RESEARCH",999987,"BARTOL RESEARCH","UNIVERSITY OF DELAWARE","206 HULLIHEN HALL","NEWARK","DE",19716,"USA","NEWARK, DE 19716 USA "]
["BARTON SOLVENTS",78458,"BARTON SOLVENTS","PO BOX 900",null,"BETTENDORF","IA",52722,"USA","BETTENDORF, IA 52722 USA "]
["BASE EIGHT",106722,"BASE EIGHT","20919 WILDROSE DR",null,"DEER PARK","IL",60010,"USA","DEER PARK, IL 60010 USA "]
["BASON COMPUTER WAREHOUSE",100357,"BASON COMPUTER WAREHOUSE","20130 PLUMMER ST",null,"CHATSWORTH","CA",91311,"USA","CHATSWORTH, CA 91311 USA "]
["BATTERIES PLUS",24956,"BATTERIES PLUS","406 COMMERCE DRIVE",null,"MADISON","WI","53719-4918","USA","MADISON, WI 53719-4918 USA "]
["BATTERIES PLUS",115124,"BATTERIES PLUS","3721 E WASHINGTON AVE",null,"MADISON","WI",53704,"USA","MADISON, WI 53704 USA "]
["BATTERY MART",72767,"BATTERY MART","2023 S STOUGHTON RD",null,"MADISON","WI",53716,"USA","MADISON, WI 53716 USA "]
["BATTERY PRODUCTS INC",2868,"BATTERY PRODUCTS INC","PO BOX 167","515 INDUSTRIAL DR","HARTLAND","WI",53029,"USA","HARTLAND, WI 53029 USA "]
["BATTERYWHOLESALE.COM",126054,"BATTERYWHOLESALE.COM","40120 INDUSTRIAL PARK CIRCLE",null,"GEORGTOWN","TX",78626,"USA","GEORGTOWN, TX 78626 USA "]
["BAUMER ELECTRIC",124984,"BAUMER ELECTRIC","122 SPRING ST C-6",null,"SOUTHINGTON","CT",6489,"USA","SOUTHINGTON, CT 6489 USA "]
["BAXTER",11242,"BAXTER","SCIENTIFIC PRODUCTS DIV","1210 WAUKEGAN RD","MCGAW PARK","IL",600856788,"USA","MCGAW PARK, IL 600856788 USA "]
["BAY PRESS SERVICES",130723,"BAY PRESS SERVICES","2200 COMMERCE PLACE",null,"HAYWARD","CA",94545,"USA","HAYWARD, CA 94545 USA "]
["BAY VERTE MACHINERING INC",62756,"BAY VERTE MACHINERING INC","975 PARKVIEW RD",null,"GREEN BAY","WI",54304,"USA","GREEN BAY, WI 54304 USA "]
["BCD MACHINE SPECIALTIES",24284,"BCD MACHINE SPECIALTIES","5911 LONG FOREST",null,"HOUSTON","TX",77088,"USA","HOUSTON, TX 77088 USA "]
["BDS INC",88778,"BDS INC","105 CARPENTER DR",null,"STERLING","VA",22170,"USA","STERLING, VA 22170 USA "]
["BEAGLE SOFTWARE",127082,"BEAGLE SOFTWARE","800 WASHINGTON AVE N STE 418",null,"MINNEAPOLIS","MN",55401,"USA","MINNEAPOLIS, MN 55401 USA "]
["BEARING HEADQUARTERS COMPANY",38773,"BEARING HEADQUARTERS COMPANY","13250 W LEON RD",null,"MENOMONEE FALLS","WI",53051,"USA","MENOMONEE FALLS, WI 53051 USA "]
["BEARING SERVICE",74607,"BEARING SERVICE","150 BUCHNER PLACE",null,"LA CROSSE","WI",54601,"USA","LA CROSSE, WI 54601 USA "]
["BEI TECHNOLGIES",78943,"BEI TECHNOLGIES","7230 HOLLISTER",null,"GOLETA","CA",93117,"USA","GOLETA, CA 93117 USA "]
["BEIGE BAG SOFTWARE",96363,"BEIGE BAG SOFTWARE","279 E. LIBERTY ANN",null,"ANN ARBOR","MI",48105,"USA","ANN ARBOR, MI 48105 USA "]
["BELCAN CORPORATION",11948,"BELCAN CORPORATION","WOODLAND COURT OFFICE CENTER","3130 FINELY ROAD, STE 520","DOWNERS GROVE","IL",60515,"USA","DOWNERS GROVE, IL 60515 USA "]
["BELCHER EQUIPMENT, LLC",121568,"BELCHER EQUIPMENT, LLC","4536 N WILDWOOD AVE",null,"SHOREWOOD","WI",53211,"USA","SHOREWOOD, WI 53211 USA "]
["BELL ELECTRONICS",111452,"BELL ELECTRONICS","1479 ROLLINS ROAD",null,"BURLINGAME","CA",94010,"USA","BURLINGAME, CA 94010 USA "]
["BEN'S CLEANER SALES INC",116017,"BEN'S CLEANER SALES INC","2221 FOURTH AVE SOUTH",null,"SEATTLE","WA",98134,"USA","SEATTLE, WA 98134 USA "]
["BENCHMARK PRODUCTS",25799,"BENCHMARK PRODUCTS","3500 WESTERN AVE.",null,"HIGHLAND PARK","IL",60035,"USA","HIGHLAND PARK, IL 60035 USA "]
["BENJAMIN PLUMBING INC",28558,"BENJAMIN PLUMBING INC","5396 KING JAMES WAY",null,"MADISON","WI",53719,"USA","MADISON, WI 53719 USA "]
["BERBEE INFORMATION NETWORKS",34540,"BERBEE INFORMATION NETWORKS","455 SCIENCE DRIVE","UNIVERSITY RESEARCH PARK","MADISON","WI",53711,"USA","MADISON, WI 53711 USA "]
["BERG JOHNSON & ASSOCIATES",133172,"BERG JOHNSON & ASSOCIATES","1000 WESTGATE DRIVE  SUITE 151",null,"ST PAUL","MN",55114,"USA","ST PAUL, MN 55114 USA "]
["BERKELEY NUCLEONICS CORP.",6015,"BERKELEY NUCLEONICS CORP.","3060 KEVNEA BLVD #2",null,"SAN RAFAEL","CA",94901,"USA","SAN RAFAEL, CA 94901 USA "]
["BERNDT ASSOCIATES",1751,"BERNDT ASSOCIATES","9431 W BELOIT RD","STE 214","MILWAUKEE","WI",53227,"USA","MILWAUKEE, WI 53227 USA "]
["BERNIE'S EQUIPMENT",74988,"BERNIE'S EQUIPMENT","304 N STAR RD",null,"HOLMEN","WI",54636,"USA","HOLMEN, WI 54636 USA "]
["BERTAN ASSOCIATES",85721,"BERTAN ASSOCIATES","C/O COOMBS ASSOCIATES","517 W GOLF RD","ARLINGTON HEIGHTS","IL",60005,"USA","ARLINGTON HEIGHTS, IL 60005 USA "]
["BERTAN ASSOCIATES INC",18559,"BERTAN ASSOCIATES INC","121 NEW SOUTH RD",null,"HICKSVILLE","NY",11801,"USA","HICKSVILLE, NY 11801 USA "]
["BERTAN ASSOCIATES INC",67182,"BERTAN ASSOCIATES INC","% COOMBS ASSOCIATES INC","8705 N PORT WASHINGTON RD RM 1","MILWAUKEE","WI",53217,"USA","MILWAUKEE, WI 53217 USA "]
["BERTSCH CO",81377,"BERTSCH CO","PO BOX 2245",null,"APPLETON","WI",54913,"USA","APPLETON, WI 54913 USA "]
["BEST BUY",91336,"BEST BUY","2173 ZEIER RD",null,"MADISON","WI",53704,"USA","MADISON, WI 53704 USA "]
["BEST GROUP INC",74281,"BEST GROUP INC","2830 N MASON ST","SUITE A","APPLETON","WI",54914,"USA","APPLETON, WI 54914 USA "]
["BEST WESTERN THE INNTOWNER",51251,"BEST WESTERN THE INNTOWNER","2424 UNIVERSITY AVE",null,"MADISON","WI",53705,"USA","MADISON, WI 53705 USA "]
["BESTE SCI GLASS",35591,"BESTE SCI GLASS","1309 TRAIL WAY DRIVE",null,"GRAFTON","WI",53024,"USA","GRAFTON, WI 53024 USA "]
["BESTEC GMBH",128857,"BESTEC GMBH","CARL SCHEELE STR 14","12489 BERLIN",null,null,null,"GERMANY","GERMANY "]
["BETA ELECTRONICS",98300,"BETA ELECTRONICS","2209 CLOVERDALE CT",null,"COLUMBUS","OH",432352723,"USA","COLUMBUS, OH 432352723 USA "]
["BICRON",5706,"BICRON","6801 COCHRAN RD",null,"SOLON","OH",44139,"USA","SOLON, OH 44139 USA "]
["BID SERVICE",69634,"BID SERVICE","640 COOKMAN AVE",null,"ASBURY PARK","NJ",7712,"USA","ASBURY PARK, NJ 7712 USA "]
["BIOPHYSICAL SOCIETY",108592,"BIOPHYSICAL SOCIETY","9650 ROCKVILLE PL",null,"BETHESDA","MD",20814,"USA","BETHESDA, MD 20814 USA "]
["BIOSAN LABORATORIES,  INC",113433,"BIOSAN LABORATORIES,  INC","1950 TOBSAL CT",null,"WARREN","MI",48091,"USA","WARREN, MI 48091 USA "]
["BIRCHWOOD LABORATORIES",97205,"BIRCHWOOD LABORATORIES","7900 FULLER RD",null,"EDEN PRAIRIE","MN",55344,"USA","EDEN PRAIRIE, MN 55344 USA "]
["BIRD ELECTRONIC CORPORATION",1842,"BIRD ELECTRONIC CORPORATION","30303 AURORA RD",null,"SOLON","OH",44139,"USA","SOLON, OH 44139 USA "]
["BIRNS, INC",123264,"BIRNS, INC","1720 FISKE PLACE",null,"OXNARD","CA","93033-1863","USA","OXNARD, CA 93033-1863 USA "]
["BISCO INDUSTRIES",94304,"BISCO INDUSTRIES","150 S SUNNYSLOPE RD","STE 125","BROOKFIELD","WI",53005,"USA","BROOKFIELD, WI 53005 USA "]
["BISHOP WISECARVER CORP",6625,"BISHOP WISECARVER CORP","PO BOX 1109",null,"PITTSBURG","CA",94565,"USA","PITTSBURG, CA 94565 USA "]
["BIT 7, INC",35695,"BIT 7, INC","PRODUCT DEVELOPMENT","2 FEN OAK COURT","MADISON","WI",53718,"USA","MADISON, WI 53718 USA "]
["BIT360",8557,"BIT360","2902 AGRICULTURE DR",null,"MADISON","WI",53716,"USA","MADISON, WI 53716 USA "]
["BJ ELECTRIC SUPPLY",1427,"BJ ELECTRIC SUPPLY","805 PLAENERT DR","PO BOX 9570","MADISON","WI",537150570,"USA","MADISON, WI 537150570 USA "]
["BLACK BOX CORPORATION",30248,"BLACK BOX CORPORATION","P O BOX 12800",null,"PITTSBURGH","PA",15241,"USA","PITTSBURGH, PA 15241 USA "]
["BLACK LAB MICRO",108162,"BLACK LAB MICRO","2204 N HILLCREST PARKWAY",null,"ALTOONA","WI",54720,"USA","ALTOONA, WI 54720 USA "]
["BLACKHAWK CO., INC.",1861,"BLACKHAWK CO., INC.","406 INTERPANE LANE, STE A",null,"DEERFIELD","WI",53531,"USA","DEERFIELD, WI 53531 USA "]
["BLACKHAWK LASER",31131,"BLACKHAWK LASER","DIV. OF ROCKFORD SPECIALTIES","720 S WYMAN ST","ROCKFORD","IL",61101,"USA","ROCKFORD, IL 61101 USA "]
["BLACKWELL PUBLISHING",119553,"BLACKWELL PUBLISHING","9600 GARSINGTON RD",null,"OXFORD","OX4 2DQ","UK","USA","OXFORD, OX4 2DQ UK USA "]
["BLACKWELL PUBLISHING",120685,"BLACKWELL PUBLISHING","350 MAIN ST",null,"MALDEN","MA",2148,"USA","MALDEN, MA 2148 USA "]
["BLAINS FARM & FLEET",4583,"BLAINS FARM & FLEET","2202 S STOUGHTON RD",null,"MADISON","WI",53716,"USA","MADISON, WI 53716 USA "]
[{"$f":"IF($C451=\"\",\"\",$C451)","v":"BLISS MACHINE LTD"},125039,"BLISS MACHINE LTD","528 STILES CT",null,"DARIEN","WI",53114,"USA","DARIEN, WI 53114 USA "]
["BLOCK IRON & SUPPLY",4660,"BLOCK IRON & SUPPLY","3121 SYENE RD",null,"MADISON","WI",53715,"USA",{"$f":"IF(F452=\"\",\"\",F452&\", \")&IF(G452=\"\",\"\",G452&\" \")&IF(H452=\"\",\"\",H452&\" \")&IF(I452=\"\",\"\",I452&\" \")","v":"MADISON, WI 53715 USA "}]
["BLOCK IRON & SUPPLY",56219,"BLOCK IRON & SUPPLY","ATTN FASTNER DIVISION","PO BOX 557","OSHKOSH","WI",54902,"USA","OSHKOSH, WI 54902 USA "]
["BLUE BEAN LLC",133347,"BLUE BEAN LLC","5636 OTTAWA PASS",null,"CARMEL","IN",46033,"USA","CARMEL, IN 46033 USA "]
["BLUECOSMO COMMUNICATIONS",134445,"BLUECOSMO COMMUNICATIONS","4701 SW ADMIRAL, PMB# 316",null,"SEATTLE","WA",98116,"USA","SEATTLE, WA 98116 USA "]
["BLUEPRINTS INC",22065,"BLUEPRINTS INC","10930 W RODGERS",null,"MILWAUKEE","WI",53227,"USA","MILWAUKEE, WI 53227 USA "]
["BOAT DOCTOR, LLC",123881,"BOAT DOCTOR, LLC","4702 ELLESTAD DR",null,"MADISON","WI",53716,"USA","MADISON, WI 53716 USA "]
["BOB GREEN GUEST HOUSE","UW0073","BOB GREEN GUEST HOUSE","2014 GREEN ROAD",null,"STOUGHTON","WI",53589,"USA","STOUGHTON, WI 53589 USA "]
["BOBCAT OF MADISON",68597,"BOBCAT OF MADISON","4822 PFLAUM RD",null,"MADISON","WI",53708,"USA","MADISON, WI 53708 USA "]
["BOBS COPY SHOP",9636,"BOBS COPY SHOP","1314 W JOHNSON",null,"MADISON","WI",53715,"USA","MADISON, WI 53715 USA "]
["BODEN MACHINING",137894,"BODEN MACHINING","222 E ADAMS ST",null,"CAMBRIDGE","WI",53523,"USA","CAMBRIDGE, WI 53523 USA "]
["BODY SHOP SUPPLY",1912,"BODY SHOP SUPPLY","1212 GREENWAY CROSS",null,"MADISON","WI",53715,"USA","MADISON, WI 53715 USA "]
["BOGGIS JOHNSON ELECTRIC CO",1921,"BOGGIS JOHNSON ELECTRIC CO","P O BOX 26068",null,"WAUWATOSA","WI",53226,"USA","WAUWATOSA, WI 53226 USA "]
["BOKER'S INC",126861,"BOKER'S INC","3104 SNELLING AVE",null,"MINNEAPOLIS","MN",55406,"USA","MINNEAPOLIS, MN 55406 USA "]
["BOND OPTICS",92621,"BOND OPTICS","ETNA RD","PO BOX 422","LEBANON","NH",3766,"USA","LEBANON, NH 3766 USA "]
["BOOKS & BYTES",100117,"BOOKS & BYTES","815 E OGDEN AVE",null,"NAPERVILLE","IL",60563,"USA","NAPERVILLE, IL 60563 USA "]
["BORDERS BOOK SHOP",1843,"BORDERS BOOK SHOP","3416 UNIVERSITY AVE",null,"MADISON","WI",53705,"USA","MADISON, WI 53705 USA "]
["BOSON SOFTWARE INC",126645,"BOSON SOFTWARE INC","12900 DUPONT CIR",null,"TAMPA","FL",33626,"USA","TAMPA, FL 33626 USA "]
["BOSON TRAINING INC",126797,"BOSON TRAINING INC","12655 RACE TRACK RD",null,"TAMPA","FL",33626,"USA","TAMPA, FL 33626 USA "]
["BOSTON BUSINESS COMPUTING LTD",64186,"BOSTON BUSINESS COMPUTING LTD","3 DUNDEE PARK",null,"ANDOVER","MA",1843,"USA","ANDOVER, MA 1843 USA "]
["BOXWOOD TECHNOLOGY",118662,"BOXWOOD TECHNOLOGY","590 HERNDON PARKWAY, SUITE 400",null,"HERNDON","VA",20170,"USA","HERNDON, VA 20170 USA "]
["BOXWOOD TECHNOLOGY",129441,"BOXWOOD TECHNOLOGY","11350 MCCORMICK RD, SUITE101",null,"HUNT VALLEY","MD",21031,"USA","HUNT VALLEY, MD 21031 USA "]
["BRAAS COMPANY",52388,"BRAAS COMPANY","2357 S COMMERCE DR",null,"NEW BERLIN","WI",53151,"USA","NEW BERLIN, WI 53151 USA "]
["BRADFORD SUPPLY CO",127903,"BRADFORD SUPPLY CO","801 E MAIN ST",null,"ROBINSON","IL","62454-3718","USA","ROBINSON, IL 62454-3718 USA "]
["BRANDS ON SALE",128368,"BRANDS ON SALE","16716 EDWARDS RD",null,"CERRITOS","CA",90703,"USA","CERRITOS, CA 90703 USA "]
["BRANTNER & ASSOCIATES INC",81054,"BRANTNER & ASSOCIATES INC","1240 VERNON WAY",null,"EL CAJON","CA",920201874,"USA","EL CAJON, CA 920201874 USA "]
["BRECOFLEX CO",122924,"BRECOFLEX CO","P O BOX 222","INDUSTRIAL WAY WEST","EATONTOWN","NJ",7724,"USA","EATONTOWN, NJ 7724 USA "]
["BRENT-WOOD PRODUCTS INC",126969,"BRENT-WOOD PRODUCTS INC","777 E ROSECRANS AVE","STE D","LOS ANGELES","CA",90059,"USA","LOS ANGELES, CA 90059 USA "]
["BRETFORD",40373,"BRETFORD","9715 SORENG AVENUE",null,"SCHILLER PARK","IL",60178,"USA","SCHILLER PARK, IL 60178 USA "]
["BREWER SCIENCE INC",86251,"BREWER SCIENCE INC","PO BOX GG",null,"ROLLA","MO",65401,"USA","ROLLA, MO 65401 USA "]
["BRICKSON SHAW INC",2043,"BRICKSON SHAW INC","1409 GREENWAY CROSS",null,"MADISON","WI",53713,"USA","MADISON, WI 53713 USA "]
["BRIGADE QUARTERMASTERS LTD",125743,"BRIGADE QUARTERMASTERS LTD","1025 COBB INTERNATIONAL DR NW","P.O. 100001","KENNESAW","GA","30156-9217","USA","KENNESAW, GA 30156-9217 USA "]
["BRITE INC",126419,"BRITE INC","270 CENTRE ST., UNIT F",null,"HOLBROOK","MA",2343,"USA","HOLBROOK, MA 2343 USA "]
["BRITISH LIBRARY",26201,"BRITISH LIBRARY","BOSTON SPA","WETHERBY",null,null,null,"ENGLAND","ENGLAND "]
["BRODERBUND SOFTWARE",98003,"BRODERBUND SOFTWARE","PO BOX 6125",null,"NOVATO","CA",949486125,"USA","NOVATO, CA 949486125 USA "]
["BROOKS AUTOMATION",130886,"BROOKS AUTOMATION","6450 DRY CREEK PARKWAY",null,"LONGMONT","CO",80503,"USA","LONGMONT, CO 80503 USA "]
["BROOKS AUTOMATION  INC",127587,"BROOKS AUTOMATION  INC","15 ELIZABETH DR",null,"CHELMSFORD","MA",1824,"USA","CHELMSFORD, MA 1824 USA "]
["BROOKS INSTRUMENT DIVISION",4349,"BROOKS INSTRUMENT DIVISION","407 W VINE ST",null,"HATSFIELD","PA",19440,"USA","HATSFIELD, PA 19440 USA "]
["BROUX HOUSE",128814,"BROUX HOUSE","800 NYGAARD ST",null,"STOUGHTON","WI",53589,"USA","STOUGHTON, WI 53589 USA "]
["BROWN SALES",43489,"BROWN SALES","401 ROLFSMEYER DRIVE",null,"MADISON","WI",53713,"USA","MADISON, WI 53713 USA "]
["BRUKER OPTIC",127520,"BRUKER OPTIC","19 FORTUNE DR",null,"BILLERICA","MA",1821,"USA","BILLERICA, MA 1821 USA "]
["BRUNSELL BROTHERS LTD",2118,"BRUNSELL BROTHERS LTD","4611 W BELTLINE HWY",null,"MADISON","WI",53711,"USA","MADISON, WI 53711 USA "]
["BRUNSON INSTRUMENT CO",2117,"BRUNSON INSTRUMENT CO","8000 E 23RRD ST",null,"KANSAS CITY","MO",64129,"USA","KANSAS CITY, MO 64129 USA "]
["BRUSH WELLMAN",17205,"BRUSH WELLMAN","34325 ARDENWOOD BLVD",null,"FREMONT","CA",94555,"USA","FREMONT, CA 94555 USA "]
["BRYANT PRODUCTS  INC",138170,"BRYANT PRODUCTS  INC","W1388 ELMWOOD AV","PO BOX 270","IXONIA","WI",53036,"USA","IXONIA, WI 53036 USA "]
["BTX INC.",100007,"BTX INC.","PO BOX 774",null,"BATAVIA","IL",60510,"USA","BATAVIA, IL 60510 USA "]
["BUCKBEE MEARS COMPANY",2139,"BUCKBEE MEARS COMPANY","245 E SIXTH ST",null,"ST PAUL","MN",55101,"USA","ST PAUL, MN 55101 USA "]
["BUCKY PORTABLE TOILET",15187,"BUCKY PORTABLE TOILET","2182 HWY MM",null,"OREGON","WI",53575,"USA","OREGON, WI 53575 USA "]
["BUCKY USA",21683,"BUCKY USA","5933 BELLAIRE BLDV,SUITE 113",null,"HOUSTON","TX",77081,"USA","HOUSTON, TX 77081 USA "]
["BUEHLER LTD",2150,"BUEHLER LTD","41 WAUKEGAN RD",null,"LAKE BLUFF","IL",60044,"USA","LAKE BLUFF, IL 60044 USA "]
["BUHLER INC",114720,"BUHLER INC","PO BOX 9497","1100 XENIUM LANE","MINNEAPOLIS","MN","55440-9497","USA","MINNEAPOLIS, MN 55440-9497 USA "]
["BUILDING TRUST FUND","UW0069","BUILDING TRUST FUND","C/O JANET HAMM","327A W. PETERSON BLDG",null,null,null,"USA","USA "]
["BULB DIRECT",85304,"BULB DIRECT","1 FISHERS RD",null,"PITTSFORD","NY",14534,"USA","PITTSFORD, NY 14534 USA "]
["BUREAU OF CITIZENSHIP & IMMIGR",18350,"BUREAU OF CITIZENSHIP & IMMIGR","BUREAU OF CITIZENSHIP & IMMIGR","DEPT OF HOMELAND SECURITY","LINCOLN","NE","68501-7539","USA","LINCOLN, NE 68501-7539 USA "]
["BURKHALTER TRAVEL",37099,"BURKHALTER TRAVEL","6501 MINERAL POINT RD",null,"MADISON","WI",53705,"USA","MADISON, WI 53705 USA "]
["BURLE INDUSTRIES, INC",25821,"BURLE INDUSTRIES, INC","1000 NEW HOLLAND AVE",null,"LANCASTER","PA","17601-5688","USA","LANCASTER, PA 17601-5688 USA "]
["BURNE COLOR LAB LTD",25136,"BURNE COLOR LAB LTD","4289 W BELTLINE HWY",null,"MADISON","WI",537113859,"USA","MADISON, WI 537113859 USA "]
["BURTON INDUSTRIES, INC",46152,"BURTON INDUSTRIES, INC","9821 CEDAR FALLD RD",null,"HAZELHURST","WI",54531,"USA","HAZELHURST, WI 54531 USA "]
["BUSBY METALS",128378,"BUSBY METALS","55 DAVIDS DR",null,"HAUPPAUGE","NY",11788,"USA","HAUPPAUGE, NY 11788 USA "]
["BUSINESS EFFICIENCY AIDS, INC.",75940,"BUSINESS EFFICIENCY AIDS, INC.","8114 N LAWNDALE AVENUE","P.O. BOX 1148","SKOKIE","IL",60076,"USA","SKOKIE, IL 60076 USA "]
["BUSINESS LAND",90802,"BUSINESS LAND","56 PINE ST",null,"NEW YORK","NY",10005,"USA","NEW YORK, NY 10005 USA "]
["BUSINESS WORLD INC",128410,"BUSINESS WORLD INC","704 MAIN ST",null,"GARLAND","TX",75040,"USA","GARLAND, TX 75040 USA "]
["BUY COM",106810,"BUY COM","85 ENTERPRISE",null,"ALISO VIEJO","CA",92656,"USA","ALISO VIEJO, CA 92656 USA "]
["BYRON ELLIS ASSOC.",21750,"BYRON ELLIS ASSOC.","690 FIRST AVENUE",null,"DES PLAINES","IL",60016,"USA","DES PLAINES, IL 60016 USA "]
[{"$f":"IF($C515=\"\",\"\",$C515)","v":"BYRON ELLIS ASSOCIATES"},4326,"BYRON ELLIS ASSOCIATES","650 1ST ST",null,"DES PLAINES","IL",60016,"USA","DES PLAINES, IL 60016 USA "]
["C & M HYDRAULIC TOOL SUPPLY",129837,"C & M HYDRAULIC TOOL SUPPLY","203 COMMERCE AVE",null,"CAMBRIDGE","WI",53523,"USA",{"$f":"IF(F516=\"\",\"\",F516&\", \")&IF(G516=\"\",\"\",G516&\" \")&IF(H516=\"\",\"\",H516&\" \")&IF(I516=\"\",\"\",I516&\" \")","v":"CAMBRIDGE, WI 53523 USA "}]
["C E SUNDBERG",7628,"C E SUNDBERG","1226 WILLIAMSON STREET",null,"MADISON","WI",53703,"USA","MADISON, WI 53703 USA "]
["C H PETERS CO",80781,"C H PETERS CO","1214 16TH ST",null,"RACINE","WI",53401,"USA","RACINE, WI 53401 USA "]
["C L THOMPSON CO",12476,"C L THOMPSON CO","N118W18251 BUNSEN DR",null,"GERMANTOWN","WI",53022,"USA","GERMANTOWN, WI 53022 USA "]
["C&H DISTRIBUTORS",2248,"C&H DISTRIBUTORS","400 S FIFTH ST","PO BOX 04499","MILWAUKEE","WI",53204,"USA","MILWAUKEE, WI 53204 USA "]
["C&R RUBBER PROD INC",94094,"C&R RUBBER PROD INC","250 WATER AVE & HWY 38","BOX 100","REEDSPORT","OR",97467,"USA","REEDSPORT, OR 97467 USA "]
["C-FLEX BEARING CO INC",124486,"C-FLEX BEARING CO INC","104 INDUSTRIAL DR",null,"FRANKFORT","NY",13340,"USA","FRANKFORT, NY 13340 USA "]
["C.J. SAPORITO PLATING CO.",16479,"C.J. SAPORITO PLATING CO.","3119 S. AUSTIN",null,"CIRCERO","IL",60650,"USA","CIRCERO, IL 60650 USA "]
["C4 IMAGING",4996,"C4 IMAGING","701 AZON RD","PO BOX 750","JOHNSON CITY","NY",137900750,"USA","JOHNSON CITY, NY 137900750 USA "]
["CA MASTERPIECE USERS GROUP",20503,"CA MASTERPIECE USERS GROUP","P.O. BOX 79210",null,"BALTIMORE","MD","21279-0210","USA","BALTIMORE, MD 21279-0210 USA "]
["CABBAGE CASES, INC",37599,"CABBAGE CASES, INC","1166-C STEELWOOD RD",null,"COLUMBUS","OH",43212,"USA","COLUMBUS, OH 43212 USA "]
["CABLE MARKERS CO INC",124245,"CABLE MARKERS CO INC","22600-F LAMBERT ST","STE 1204","LAKE FOREST","CA",92630,"USA","LAKE FOREST, CA 92630 USA "]
["CABLEMASTER",76847,"CABLEMASTER","N93 W14652 WHITTAKER WAY",null,"MENOMONEE FALLS","WI",53051,"USA","MENOMONEE FALLS, WI 53051 USA "]
["CABLEORGANIZER.COM",129060,"CABLEORGANIZER.COM","5610 NW 12TH AV  STE 214",null,"FORT LAUDERDALE","FL",33309,"USA","FORT LAUDERDALE, FL 33309 USA "]
["CABLES N MOR",129640,"CABLES N MOR","165 CURRITUCK RIDGE DR",null,"CURRITUCK","NC",27929,"USA","CURRITUCK, NC 27929 USA "]
["CABLES TO GO",87116,"CABLES TO GO","1501 WEBSTER ST",null,"DAYTON","OH",45404,"USA","DAYTON, OH 45404 USA "]
["CABLETRON",62116,"CABLETRON","CORNER OF MILL & FRONT","PO BOX 5005","ROCHESTER","NH",3867,"USA","ROCHESTER, NH 3867 USA "]
["CABLING SYSTEM WAREHOUSE",122716,"CABLING SYSTEM WAREHOUSE","20418 E WALNUT DR","UNIT 1-A","DIAMOND BAR","CA",91789,"USA","DIAMOND BAR, CA 91789 USA "]
["CABOT MICROELECTRONICS POLISH",131390,"CABOT MICROELECTRONICS POLISH","39 W OFFICIAL RD",null,"ADDISON","IL",60101,"USA","ADDISON, IL 60101 USA "]
["CADD ENGINEERING SUPPLY",22019,"CADD ENGINEERING SUPPLY","8601 73RD AVE N STE 11",null,"BROOKLYN PARK","MN",55428,"USA","BROOKLYN PARK, MN 55428 USA "]
["CADSYS INC",76719,"CADSYS INC","SUITE 600","20875 CROSSROADS CIRCLE","WAUKESHA","WI",53186,"USA","WAUKESHA, WI 53186 USA "]
["CAERE",28566,"CAERE","PO BOX 6887",null,"SALINA","CA",93912,"USA","SALINA, CA 93912 USA "]
["CAERE CORPORATION",56114,"CAERE CORPORATION","100 COOPER CT",null,"LOS GATOS","CA",95030,"USA","LOS GATOS, CA 95030 USA "]
["CAERE CORPORATION",103050,"CAERE CORPORATION","P. O. BOX 2450",null,"BUFFALO","NEW YORK",14240,"USA","BUFFALO, NEW YORK 14240 USA "]
["CAIN-FORLAW",104260,"CAIN-FORLAW","506A N PLUM GROVE RD",null,"PALATINE","IL",60067,"USA","PALATINE, IL 60067 USA "]
["CALDERA INC.",36018,"CALDERA INC.","931 WEST CENTER STREET",null,"OREM","VT",84057,"USA","OREM, VT 84057 USA "]
["CALERA RECOGNITION SYSTEMS",88980,"CALERA RECOGNITION SYSTEMS","475 POTRERO AVE",null,"SUNNYVALE","CA",94086,"USA","SUNNYVALE, CA 94086 USA "]
["CALIFORNIA BRAZING",131230,"CALIFORNIA BRAZING","37955 CENTRAL CT",null,"NEWARK","CA",94560,"USA","NEWARK, CA 94560 USA "]
["CALIFORNIA PC PRODUCTS",104401,"CALIFORNIA PC PRODUCTS","205 APOLLO WAY",null,"HOLLISTER","CA",95023,"USA","HOLLISTER, CA 95023 USA "]
["CALMONT WIRE & CABLE",111985,"CALMONT WIRE & CABLE","420 E. ALTON AVE",null,"SANTA ANA","CA",92707,"USA","SANTA ANA, CA 92707 USA "]
["CALTIME METALS",112745,"CALTIME METALS","5402 BUSINESS DRIVE",null,"HUNTINGTON BEACH","CA",92649,"USA","HUNTINGTON BEACH, CA 92649 USA "]
["CAMBRIDGE COMPUTER SERVICES",113152,"CAMBRIDGE COMPUTER SERVICES","271 WAVERLY OAK ROAD SUITE 399",null,"WALTHAM","MA",2452,"USA","WALTHAM, MA 2452 USA "]
["CAMBRIDGE UNIVERSITY PRESS",2356,"CAMBRIDGE UNIVERSITY PRESS","110 MIDLAND AV",null,"PORT CHESTER","NY",10573,"USA","PORT CHESTER, NY 10573 USA "]
["CAMBRIDGE UNIVERSITY PRESS",84285,"CAMBRIDGE UNIVERSITY PRESS","40 W 20TH ST",null,"NEW YORK","NY",100114211,"USA","NEW YORK, NY 100114211 USA "]
["CAMECA INSTRUMENTS  INC",132771,"CAMECA INSTRUMENTS  INC","91 MCKEE DR",null,"MAHWAH","NJ",7430,"USA","MAHWAH, NJ 7430 USA "]
["CAMERA COMPANY",48361,"CAMERA COMPANY","23 N PINCKNEY ST",null,"MADISON","WI",53703,"USA","MADISON, WI 53703 USA "]
["CAMERA COMPANY EAST",115069,"CAMERA COMPANY EAST","4114 E WASHINGTON AVE",null,"MADISON","WI",53704,"USA","MADISON, WI 53704 USA "]
["CAMERA CORNER INC",14089,"CAMERA CORNER INC","529 N MONROE ST","PO BOX 218","GREEN BAY","WI",54301,"USA","GREEN BAY, WI 54301 USA "]
["CAMI RESEARCH, INC",73163,"CAMI RESEARCH, INC","442 MARRETT RD, SITE 2B",null,"LEXINGTON","MA",2421,"USA","LEXINGTON, MA 2421 USA "]
["CAMPBELL MFG",106182,"CAMPBELL MFG","SPRING & RAILROAD STREETS",null,"BECHTELSVILLE","PA",19505,"USA","BECHTELSVILLE, PA 19505 USA "]
["CAMPUS INN",16892,"CAMPUS INN","601 LANGDON ST",null,"MADISON","WI",53703,"USA","MADISON, WI 53703 USA "]
["CAMPUZANO,JUAN-CARLOS",118418,"CAMPUZANO,JUAN-CARLOS","950 CHICAGO AVE",null,"OAK PARK","IL",60302,"USA","OAK PARK, IL 60302 USA "]
["CANADIAN COMMERCIAL VEHICLES",130678,"CANADIAN COMMERCIAL VEHICLES","8775C JIM BAILEY CRESCENT",null,"KELOWNA","BRITISH COLOMBIA","V4V2L7","CANADA","KELOWNA, BRITISH COLOMBIA V4V2L7 CANADA "]
["CANARY COMMUNICATIONS",108998,"CANARY COMMUNICATIONS","5884 EDEN PARK PLACE",null,"SAN JOSE","CA",95138,"USA","SAN JOSE, CA 95138 USA "]
["CANBERRA INDUSTRIES",7556,"CANBERRA INDUSTRIES","800 RESEARCH PKWY",null,"MERIDEN","CT",6450,"USA","MERIDEN, CT 6450 USA "]
["CANDLEWOOD SUITES",131149,"CANDLEWOOD SUITES","5421 CADDIS BEND",null,"FITCHBURG","WI",53711,"USA","FITCHBURG, WI 53711 USA "]
["CANICS, INC",130140,"CANICS, INC","1345 EDOUARD-FABRE",null,"CHAMBLY","QUEBEC","J3L6V9","CANADA","CHAMBLY, QUEBEC J3L6V9 CANADA "]
["CANON USA INC",53791,"CANON USA INC","1 CANON PLAZA","LAKE SUCCESS","LONG ISLAND","NY",11042,"USA","LONG ISLAND, NY 11042 USA "]
["CAPITAL CITY CLEANING SUPPLY",112060,"CAPITAL CITY CLEANING SUPPLY","P O BOX 5276",null,"MADISON","WI",53705,"USA","MADISON, WI 53705 USA "]
["CAPITAL DATA INC",17969,"CAPITAL DATA INC","600 N BROADWAY  STE 100",null,"MILWAUKEE","WI",53202,"USA","MILWAUKEE, WI 53202 USA "]
["CAPITAL DATA INC",17969,"CAPITAL DATA INC","600 N BROADWAY  STE 100",null,"MILWAUKEE","WI",53202,"USA","MILWAUKEE, WI 53202 USA "]
["CAPITAL DATA PROCESSING SUPPLY",2403,"CAPITAL DATA PROCESSING SUPPLY","2121 S STOUGHTON RD","PO BOX 7456","MADISON","WI",53716,"USA","MADISON, WI 53716 USA "]
["CAPITAL LUBRICANTS","K00016","CAPITAL LUBRICANTS","290 S. DIVISION ST",null,"WAUNAKEE","WI",53597,"USA","WAUNAKEE, WI 53597 USA "]
["CAPITAL NEWSPAPERS",66,"CAPITAL NEWSPAPERS","1901 FISH HATCHERY RD","P O BOX 8056","MADISON","WI",53708,"USA","MADISON, WI 53708 USA "]
["CAPITOL CENTRE FOODS",96898,"CAPITOL CENTRE FOODS","111 N BROOM ST",null,"MADISON","WI",53703,"USA","MADISON, WI 53703 USA "]
["CAPLUGS",126420,"CAPLUGS","2150 ELMWOOD AVE",null,"BUFFALO","NY",14207,"USA","BUFFALO, NY 14207 USA "]
["CAPOVANI BROTHERS",32047,"CAPOVANI BROTHERS","704 CORPORATIONS PARK",null,"SCOTIA","NY",12302,"USA","SCOTIA, NY 12302 USA "]
["CARBIDE TOOL INC",127053,"CARBIDE TOOL INC","119-B CITATION CT",null,"BIRMINGHAM","AL",35209,"USA","BIRMINGHAM, AL 35209 USA "]
["CARDINAL COMPONENTS",129137,"CARDINAL COMPONENTS","W128 N8600 OLD ORCHARD RD",null,"MENOMINEE FALLS","WI",53051,"USA","MENOMINEE FALLS, WI 53051 USA "]
["CARDINAL GLASS",124012,"CARDINAL GLASS","1011 E MADISON ST",null,"SPRING GREEN","WI",53588,"USA","SPRING GREEN, WI 53588 USA "]
["CAREER TRACK",121987,"CAREER TRACK","PO BOX 219468",null,"KANSAS CITY","MO",64121,"USA","KANSAS CITY, MO 64121 USA "]
["CAREER TRACK PUBLICATIONS",64136,"CAREER TRACK PUBLICATIONS","3085 CENTER GREEN DR",null,"BOULDER","CO",803015408,"USA","BOULDER, CO 803015408 USA "]
["CAREERBUILDER.COM",123138,"CAREERBUILDER.COM","8420 W BRYN MAWR AVE","STE 800","CHICAGO","IL",60631,"USA","CHICAGO, IL 60631 USA "]
[{"$f":"IF($C579=\"\",\"\",$C579)","v":"CARINA SOFTWARE"},84201,"CARINA SOFTWARE","602 MORNINGHOME ROAD",null,"DANVILLE","CA",94526,"USA","DANVILLE, CA 94526 USA "]
["CARL ZEISS",14256,"CARL ZEISS","1 ZEISS DRIVE",null,"THORNWOOD","NY",10594,"USA",{"$f":"IF(F580=\"\",\"\",F580&\", \")&IF(G580=\"\",\"\",G580&\" \")&IF(H580=\"\",\"\",H580&\" \")&IF(I580=\"\",\"\",I580&\" \")","v":"THORNWOOD, NY 10594 USA "}]
["CARL ZEISS LASER OPTICS GMBH",117119,"CARL ZEISS LASER OPTICS GMBH","STRABE 22","73447 OBERKOCHEN",null,null,null,"GERMANY","GERMANY "]
["CARL ZEISS NTS  INC",124423,"CARL ZEISS NTS  INC","1 CORPORATION WAY",null,"PEABODY","MA",1960,"USA","PEABODY, MA 1960 USA "]
["CARLSON COMPUTER INTL",113700,"CARLSON COMPUTER INTL","15307 VIA MOLINERO",null,"POWAY","CA",92064,"USA","POWAY, CA 92064 USA "]
["CARLSON ELECTRIC SALES",53379,"CARLSON ELECTRIC SALES","10701 W NORTH AVE",null,"MILWAUKEE","WI",53226,"USA","MILWAUKEE, WI 53226 USA "]
["CARLSON TOOL & MFG",115145,"CARLSON TOOL & MFG","W57N14386 DOERR WAY","P. O. BOX 85","CEDARBURG","WI",53012,"USA","CEDARBURG, WI 53012 USA "]
["CAROL STATZ",11878,"CAROL STATZ","6106 HOGAN RD","P.O. BOX 38","WAUNAKEE","WI",53597,"USA","WAUNAKEE, WI 53597 USA "]
["CAROLINA TAPE & SUPPLY",125864,"CAROLINA TAPE & SUPPLY","P O BOX 2488",null,"HICKORY","NC",28603,"USA","HICKORY, NC 28603 USA "]
["CARQUEST",122076,"CARQUEST","1025 W MAIN ST",null,"STOUGHTON","WI",53589,"USA","STOUGHTON, WI 53589 USA "]
["CARR LANE MFG CO",2478,"CARR LANE MFG CO","4200 CARR LANE CT",null,"ST LOUIS","MO",63119,"USA","ST LOUIS, MO 63119 USA "]
["CARROLL APPLIANCE PARTS",21119,"CARROLL APPLIANCE PARTS","3150 MARCIER ST., 526",null,"KANSAS CITY","MO",64111,"USA","KANSAS CITY, MO 64111 USA "]
["CASCADE LASER CORP",83278,"CASCADE LASER CORP","101 N ELLIOTT RD",null,"NEWBERG","OR",97132,"USA","NEWBERG, OR 97132 USA "]
["CASE PARTS MIDWEST",128489,"CASE PARTS MIDWEST","3218 RIDER TR SOUTH",null,"ST LOUIS","MO",63045,"USA","ST LOUIS, MO 63045 USA "]
["CASES 4 LESS",128985,"CASES 4 LESS","1267 VERNON WAY",null,"EL CAJON","CA",92020,"USA","EL CAJON, CA 92020 USA "]
["CASES BY SOURCE",129567,"CASES BY SOURCE","16 MCKEE DRIVE",null,"MAHWAH","NJ",7430,"USA","MAHWAH, NJ 7430 USA "]
["CASES2GO",127460,"CASES2GO","24650 STATE ROAD 54",null,"LUTZ","FL",33559,"USA","LUTZ, FL 33559 USA "]
["CASHIER-625 BABCOCK HALL","UW0080","CASHIER-625 BABCOCK HALL","MADISON",null,"MADISON","WI",53706,"USA","MADISON, WI 53706 USA "]
["CASPERSEN DIE COMPANY",2511,"CASPERSEN DIE COMPANY","1334 DEWEY CT",null,"MADISON","WI",53703,"USA","MADISON, WI 53703 USA "]
["CASTLE METALS",46059,"CASTLE METALS","3000 N 114TH ST",null,"WAUWATOSA","WI",53222,"USA","WAUWATOSA, WI 53222 USA "]
["CATI",115192,"CATI","100 RIVER PLACE STE 255",null,"MADISON","WI",53716,"USA","MADISON, WI 53716 USA "]
["CATON CONNECTOR CORP",103070,"CATON CONNECTOR CORP","JONES RIVER INDUSTRIAL PARK","WAPPING ROAD, RTE 106","KINGSTON","MA",2364,"USA","KINGSTON, MA 2364 USA "]
["CBSTUDIOS",129389,"CBSTUDIOS","205 NEW ST",null,"RICHMOND","VA",23005,"USA","RICHMOND, VA 23005 USA "]
["CC&N",134572,"CC&N","N27 W23588 PAUL RD",null,"PEWAUKEE","WI",53072,"USA","PEWAUKEE, WI 53072 USA "]
["CC&N",116805,"CC&N","3700 TERRA CRT. STE 1",null,"SUN PRAIRIE","WI",53590,"USA","SUN PRAIRIE, WI 53590 USA "]
["CCI INSPECTION SERVICES INC",133718,"CCI INSPECTION SERVICES INC","2210 N FRAZIER ST #200",null,"CONROE","TX",77303,"USA","CONROE, TX 77303 USA "]
["CDP INC",28060,"CDP INC","207 TRAVIS LN",null,"WAUKESHA","WI",53186,"USA","WAUKESHA, WI 53186 USA "]
["CEBUS CONFERENCE",100081,"CEBUS CONFERENCE","22300 COMSAT DRIVE",null,"CLARKSBURG","MD",20871,"USA","CLARKSBURG, MD 20871 USA "]
["CECOMP ELECTRONICS",122141,"CECOMP ELECTRONICS","1220 AMERICAN WAY",null,"LIBERTYVILLE","IL",60048,"USA","LIBERTYVILLE, IL 60048 USA "]
["CED INTERSTATE ELECTRIC SUPPLY",8429,"CED INTERSTATE ELECTRIC SUPPLY","HWYS 16 78 & 127","PO BOX 260","PORTAGE","WI",53901,"USA","PORTAGE, WI 53901 USA "]
["CEDAR COMPUTER CENTER INC",96336,"CEDAR COMPUTER CENTER INC","20711 W WATERTOWN RD",null,"WAUKESHA","WI",53186,"USA","WAUKESHA, WI 53186 USA "]
["CELLULAR ONE",73791,"CELLULAR ONE","1702 W BELTLINE HWY",null,"MADISON","WI",53713,"USA","MADISON, WI 53713 USA "]
["CENEX FARMERS UNION COOP",38511,"CENEX FARMERS UNION COOP","203 W COTTAGE GROVE RD",null,"COTTAGE GROVE","WI",53527,"USA","COTTAGE GROVE, WI 53527 USA "]
["CENTENT",70474,"CENTENT","3879 MAIN ST",null,"SANTA ANA","CA",92707,"USA","SANTA ANA, CA 92707 USA "]
["CENTER FOR QUICK RESPONSE MFG","UW0082","CENTER FOR QUICK RESPONSE MFG","3160 ENGINEERING CENTERS BLDG","1550 ENGINEERING DR","MADISON","WI",53706,"USA","MADISON, WI 53706 USA "]
["CENTER FOR X-RAY LITHOGRAPHY","UW0025","CENTER FOR X-RAY LITHOGRAPHY","3731 SCHNEIDER DR.",null,"STOUGHTON","WI",53589,"USA","STOUGHTON, WI 53589 USA "]
["CENTORR ASSOCIATES INC",2576,"CENTORR ASSOCIATES INC","542 AMHERST ST",null,"NASHUA","NH",3063,"USA","NASHUA, NH 3063 USA "]
["CENTRAL MINE EQUIPMENT CO",2586,"CENTRAL MINE EQUIPMENT CO","4215 RIDER TRAIL NORTH",null,"ST LOUIS","MO",63045,"USA","ST LOUIS, MO 63045 USA "]
["CENTURY FENCE CO",23606,"CENTURY FENCE CO","PO BOX 466",null,"WAUKESHA","WI",53187,"USA","WAUKESHA, WI 53187 USA "]
["CENTURY SPRING",40338,"CENTURY SPRING","222 E. 16TH ST",null,"LOS ANGELES","CA",90015,"USA","LOS ANGELES, CA 90015 USA "]
["CERAC INC",2619,"CERAC INC","PO BOX 1178",null,"MILWAUKEE","WI",53201,"USA","MILWAUKEE, WI 53201 USA "]
["CERAMIC PRODUCTS INC",138672,"CERAMIC PRODUCTS INC","221 PARK ST",null,"HACKENSACK","NJ",7601,"USA","HACKENSACK, NJ 7601 USA "]
["CERAMOPTIC INDUSTRIES INC",33081,"CERAMOPTIC INDUSTRIES INC","515A SHAKER RD",null,"EAST LONGMEADOW","MA",1028,"USA","EAST LONGMEADOW, MA 1028 USA "]
["CERAMTEC",2620,"CERAMTEC","PO BOX 260",null,"NEW LEBANON","NY",12125,"USA","NEW LEBANON, NY 12125 USA "]
["CERTIFIED PRODUCTS",8060,"CERTIFIED PRODUCTS","4646 W. HURON ST.",null,"CHICAGO","IL",60644,"USA","CHICAGO, IL 60644 USA "]
["CHALET TRAVEL AGENCY",18951,"CHALET TRAVEL AGENCY","226 S. FORREST ST",null,"STOUGHTON","WI",53589,"USA","STOUGHTON, WI 53589 USA "]
["CHAMBERLAIN HALL","CHAMBERLAIN","CHAMBERLAIN HALL","1150 UNIVERSITY AVENUE",null,null,null,null,"USA","USA "]
["CHAMBERLAIN RESEARCH",94546,"CHAMBERLAIN RESEARCH","122 E OLIN AVE",null,"MADISON","WI",53713,"USA","MADISON, WI 53713 USA "]
["CHAMPLAIN CABLE",116615,"CHAMPLAIN CABLE","12 HERCULES DRIVE",null,"COLCHESTER","VT",5446,"USA","COLCHESTER, VT 5446 USA "]
["CHANGCHUN INST. OF OPTICS",115161,"CHANGCHUN INST. OF OPTICS","140 RENMIN AVE",null,"CHANGCHUN","JILIN",130022,"USA","CHANGCHUN, JILIN 130022 USA "]
["CHARTER",120597,"CHARTER","8301 EXCELSIOR DR",null,"MADISON","WI",53717,"USA","MADISON, WI 53717 USA "]
["CHARTER BUSINESS NETWORKS",119483,"CHARTER BUSINESS NETWORKS","5618 ODANA RD SUITE #150",null,"MADISON","WI",53719,"USA","MADISON, WI 53719 USA "]
["CHARTER COMMUNICATIONS",14233,"CHARTER COMMUNICATIONS","5618 ODANA ROAD STE 150",null,"MADISON","WI",53719,"USA","MADISON, WI 53719 USA "]
["CHASE LUMBER",11737,"CHASE LUMBER","5417 LONG ST",null,"MCFARLAND","WI",53558,"USA","MCFARLAND, WI 53558 USA "]
["CHAUTARA RESTAURANT",115435,"CHAUTARA RESTAURANT","334 STATE ST",null,"MADISON","WI",53703,"USA","MADISON, WI 53703 USA "]
["CHECK ALL VALVE MFG CO",103281,"CHECK ALL VALVE MFG CO","P.O. BOX 835",null,"DES MOINES","IA",50304,"USA","DES MOINES, IA 50304 USA "]
["CHEESERS",130535,"CHEESERS","176 E. MAIN STREET",null,"STOUGHTON","WI",53589,"USA","STOUGHTON, WI 53589 USA "]
["CHEMETALL OAKITE",42960,"CHEMETALL OAKITE","13177 HURON RIVER DR.",null,"ROMULUS","MI",48174,"USA","ROMULUS, MI 48174 USA "]
["CHEMIR ANALYTICAL SERVICES",123387,"CHEMIR ANALYTICAL SERVICES","2672 METRO BLVD",null,"MARYLAND HEIGHTS","MO",63043,"USA","MARYLAND HEIGHTS, MO 63043 USA "]
["CHEZ VOUS",39705,"CHEZ VOUS","831 WILLIAMSON ST",null,"MADISON","WI",53703,"USA","MADISON, WI 53703 USA "]
["CHICAGO CONDENSER",83198,"CHICAGO CONDENSER","6455 N AVONDALE AV",null,"CHICAGO","IL",60631,"USA","CHICAGO, IL 60631 USA "]
["CHICAGO MARRIOTT SUITES O'HARE",103498,"CHICAGO MARRIOTT SUITES O'HARE","6155 NORTH RIVER ORAD",null,"ROSEMONT","IL",60018,"USA","ROSEMONT, IL 60018 USA "]
["CHICAGO TUBE & IRON",452170,"CHICAGO TUBE & IRON","P. O. BOX 18069",null,"MILWAUKEE","WI",53218,"USA","MILWAUKEE, WI 53218 USA "]
["CHICAGO TUBE & IRON",45217,"CHICAGO TUBE & IRON","PO BOX 18069","6030 N 60TH ST","MILWAUKEE","WI",53218,"USA","MILWAUKEE, WI 53218 USA "]
[{"$f":"IF($C643=\"\",\"\",$C643)","v":"CHICAGO TUBE & IRON COMPANY"},45217,"CHICAGO TUBE & IRON COMPANY","6030 N 60TH ST","PO BOX 18069","MILWAUKEE","WI",532180069,"USA","MILWAUKEE, WI 532180069 USA "]
["CHILLER CITY",127113,"CHILLER CITY","555 B WEST 2ND AVE, SUITE B1",null,"MESA","AZ",85210,"USA",{"$f":"IF(F644=\"\",\"\",F644&\", \")&IF(G644=\"\",\"\",G644&\" \")&IF(H644=\"\",\"\",H644&\" \")&IF(I644=\"\",\"\",I644&\" \")","v":"MESA, AZ 85210 USA "}]
["CHIP MERCHANT",81435,"CHIP MERCHANT","9541 RIDGE HAVEN CT","SUITE A","SAN DIEGO","CA",92123,"USA","SAN DIEGO, CA 92123 USA "]
["CHIP SHIP",100450,"CHIP SHIP","40 EXCHANGE ST",null,"NEW YORK","NEW YORK",10005,"USA","NEW YORK, NEW YORK 10005 USA "]
["CHOSE FAMILY INN",101173,"CHOSE FAMILY INN","1124 W MAIN ST",null,"STOUGHTON","WI",53589,"USA","STOUGHTON, WI 53589 USA "]
["CHROMA TECHNOLOGY CORP",9743,"CHROMA TECHNOLOGY CORP","10 IMTEC LANE",null,"BELLOWS FALLS","VT",5101,"USA","BELLOWS FALLS, VT 5101 USA "]
["CHROMIUM, INC",125529,"CHROMIUM, INC","1930 ROOSEVELT AVENUE",null,"RACINE","WI",53406,"USA","RACINE, WI 53406 USA "]
["CHRONICLE OF HIGHER EDUCATION",35500,"CHRONICLE OF HIGHER EDUCATION","SUITE 700","1255 23RD STREET NW","WASHINGTON","DC",20037,"USA","WASHINGTON, DC 20037 USA "]
["CHULA VISA RESORT",66064,"CHULA VISA RESORT","4031 RIVER RD",null,"WISCONSIN DELLS","WI",53965,"USA","WISCONSIN DELLS, WI 53965 USA "]
["CHURCH METAL SPINNING",26383,"CHURCH METAL SPINNING","5050 N 124TH ST",null,"BUTLER","WI",53007,"USA","BUTLER, WI 53007 USA "]
["CINCOM SYSTEMS INC",30332,"CINCOM SYSTEMS INC","2300 MONTANA AVE",null,"CINCINNATI","OH",45211,"USA","CINCINNATI, OH 45211 USA "]
["CINGULAR WIRELESS",123458,"CINGULAR WIRELESS","P.O. BOX 6416",null,"CAROL STREAM","IL",60197,"USA","CAROL STREAM, IL 60197 USA "]
["CIRCLE BORING & MACHINE CO",123380,"CIRCLE BORING & MACHINE CO","3161 FOREST VIEW RD",null,"ROCKFORD","IL",61109,"USA","ROCKFORD, IL 61109 USA "]
["CIRCLE COMPUTER, INC",93199,"CIRCLE COMPUTER, INC","466 HIGH PLAIN ST",null,"WALPOLE","MA",2081,"USA","WALPOLE, MA 2081 USA "]
["CIRCUIT CITY",126025,"CIRCUIT CITY","9954 MAYLAND DR",null,"RICHMOND","VA",23233,"USA","RICHMOND, VA 23233 USA "]
["CIRCUIT CITY",101455,"CIRCUIT CITY","2301 E SPRINGS DR",null,"MADISON","WI",53704,"USA","MADISON, WI 53704 USA "]
["CIRCUIT EXPRESS",130720,"CIRCUIT EXPRESS","229 SOUTH CLARK DR",null,"TEMPE","AZ",85281,"USA","TEMPE, AZ 85281 USA "]
["CIRCUIT SPECIALISTS INC",62231,"CIRCUIT SPECIALISTS INC","220 S COUNTRY CLUB DR","#2","MESA","AZ",85210,"USA","MESA, AZ 85210 USA "]
["CIRRIS SYSTEMS CORP",125106,"CIRRIS SYSTEMS CORP","1991 PARKWAY BLVD",null,"SALT LAKE CITY","UT",84119,"USA","SALT LAKE CITY, UT 84119 USA "]
["CISCO-EAGLE INC",125266,"CISCO-EAGLE INC","2120 VALLEY VIEW LA",null,"DALLAS","TX",75234,"USA","DALLAS, TX 75234 USA "]
["CITY SUPPLY CORP",2819,"CITY SUPPLY CORP","2317 PARMENTER ST",null,"MIDDLETON","WI",53562,"USA","MIDDLETON, WI 53562 USA "]
["CLARIANT CORP",76229,"CLARIANT CORP","70 MEISTER AVE",null,"SOMMERVILLE","NJ",8876,"USA","SOMMERVILLE, NJ 8876 USA "]
["CLARK SOLUTIONS",120400,"CLARK SOLUTIONS","10 BRENT DR",null,"HUDSON","MA",1749,"USA","HUDSON, MA 1749 USA "]
["CLASSBOOK.COM","K00001","CLASSBOOK.COM","700 COLUMBIA TRNPKE",null,"EAST GREENBUSH","NY",12061,"USA","EAST GREENBUSH, NY 12061 USA "]
["CLASSIFIED PERSONNEL OFFICE","UW0034","CLASSIFIED PERSONNEL OFFICE","750 UNIVERSITY AVE",null,"MADISON","WI",53706,"USA","MADISON, WI 53706 USA "]
["CLEAN AIR PRODUCTS",80052,"CLEAN AIR PRODUCTS","8605 WYOMING AVE N",null,"BROOKLYN PARK","MN",55445,"USA","BROOKLYN PARK, MN 55445 USA "]
["CLEAN ROOM PRODUCTS",19512,"CLEAN ROOM PRODUCTS","1800 OCEAN AVE",null,"RONKONKOMA","NY",117799990,"USA","RONKONKOMA, NY 117799990 USA "]
["CLEAN ROOM SOLUTIONS",87370,"CLEAN ROOM SOLUTIONS","3857 SCHAEFER AVE","UNIT E","CHINO","CA",91710,"USA","CHINO, CA 91710 USA "]
["CLEAN SEAL INC",128471,"CLEAN SEAL INC","20900 W IRELAND RD",null,"SOUTH BEND","IN",46680,"USA","SOUTH BEND, IN 46680 USA "]
["CLEANOSONIC",122438,"CLEANOSONIC","12467 HARBOR DRIVE",null,"ORANGE","VA",22960,"USA","ORANGE, VA 22960 USA "]
["CLEAR CHOICE GLYCOLS",132963,"CLEAR CHOICE GLYCOLS","PO BOX 5506",null,"DENVER","CO",80217,"USA","DENVER, CO 80217 USA "]
["CLEAR SOFTWARE INC",76261,"CLEAR SOFTWARE INC","385 ELLIOT ST BLDG D",null,"NEWTON","MA",2164,"USA","NEWTON, MA 2164 USA "]
["CLEVELAND PARTS SPECIALISTS",78373,"CLEVELAND PARTS SPECIALISTS","37195B BEN HUR AVE",null,"WILLOUGHBY","OH",44094,"USA","WILLOUGHBY, OH 44094 USA "]
["CLIFT INDUSTRIES",127993,"CLIFT INDUSTRIES","PO BOX 67153",null,"CHARLOTTE","NC",28226,"USA","CHARLOTTE, NC 28226 USA "]
["CML ENGINEERING SALES",124970,"CML ENGINEERING SALES","2020 RIDGECREST PLACE",null,"ESCONDIDO","CA",92029,"USA","ESCONDIDO, CA 92029 USA "]
["CMP DIRECT MARKETING SERVICES",97847,"CMP DIRECT MARKETING SERVICES","600 COMMUNITY DR",null,"MANHASSET","NY",11030,"USA","MANHASSET, NY 11030 USA "]
["CNA CONSULTING ENGINEERS",134485,"CNA CONSULTING ENGINEERS","2800 UNIVERSITY AVE SE",null,"MINNEAPOLIS","MN",55414,"USA","MINNEAPOLIS, MN 55414 USA "]
["CNC TEKNOWLEGEE",137129,"CNC TEKNOWLEGEE","1106 RANDOLPH ST",null,"WATERTOWN","WI",53094,"USA","WATERTOWN, WI 53094 USA "]
["CNET","K00008","CNET","UNKNOWN",null,"UNKNOWN","UNKNOWN","UNKNOWN","USA","UNKNOWN, UNKNOWN UNKNOWN USA "]
["COAST AIR INC",127218,"COAST AIR INC","11134 SEPULVEDA BLVD",null,"MISSION HILLS","CA",91345,"USA","MISSION HILLS, CA 91345 USA "]
["COASTAL MICRO SUPPLY",126450,"COASTAL MICRO SUPPLY","946 CALLE AMANECER, #D",null,"SAN CLEMENTE","CA",92673,"USA","SAN CLEMENTE, CA 92673 USA "]
["COAXIAL DYNAMICS",82601,"COAXIAL DYNAMICS","15210 INDUSTRIAL PKWY  STE 500",null,"CLEVELAND","OH",44135,"USA","CLEVELAND, OH 44135 USA "]
["CODE COMPLETE SOFTWARE INC",125157,"CODE COMPLETE SOFTWARE INC","1670 S AMPHLETTE BLVD","STE 214","SAN MATEO","CA",94402,"USA","SAN MATEO, CA 94402 USA "]
["COETANIAN SYSTEMS",108809,"COETANIAN SYSTEMS","1577 FIARWAY DRIVE",null,"LOS ALTOS","CA","94024-5313","USA","LOS ALTOS, CA 94024-5313 USA "]
["COHORT SOFTWARE",24582,"COHORT SOFTWARE","PO BOX 19272",null,"MINNEAPOLIS","MN",55419,"USA","MINNEAPOLIS, MN 55419 USA "]
["COLE PARMER INSTRUMENT",2926,"COLE PARMER INSTRUMENT","7425 N OAK PARK AVE","PO BOX 48898","CHICAGO","IL",606489843,"USA","CHICAGO, IL 606489843 USA "]
["COLLEGE OF ENGINEERING","UW0038","COLLEGE OF ENGINEERING","1710 ENGINEERING HALL",null,"MADISON","WI",53706,"USA","MADISON, WI 53706 USA "]
["COLORGRAPHICS COMMUNICATION",36007,"COLORGRAPHICS COMMUNICATION","5980 PEACHTREE ROAD",null,"ATLANTA","GA",30341,"USA","ATLANTA, GA 30341 USA "]
["COLUMBIA PARCAR",96814,"COLUMBIA PARCAR","3696 BURKE RD",null,"MADISON","WI",53718,"USA","MADISON, WI 53718 USA "]
["COMET FABRICATION & WELDING",89521,"COMET FABRICATION & WELDING","5620 FALCON DRIVE",null,"ROCKFORD","IL",61109,"USA","ROCKFORD, IL 61109 USA "]
["COMFORT INN",4648,"COMFORT INN","2175 E TOUHY AVE",null,"DES PLAINES","IL","60018-3637","USA","DES PLAINES, IL 60018-3637 USA "]
["COMFORT INN","K00021","COMFORT INN","660 NYGAARD",null,"STOUGHTON","WI",53589,"USA","STOUGHTON, WI 53589 USA "]
["COMFORT INN",122635,"COMFORT INN","660 NYGAARD",null,"STOUGHTON","WI",53589,"USA","STOUGHTON, WI 53589 USA "]
["COMM CON CONNECTORS INC",122362,"COMM CON CONNECTORS INC","1848 EVERGREEN ST",null,"DUARTE","CA",91010,"USA","DUARTE, CA 91010 USA "]
["COMMERCIAL AIR",66576,"COMMERCIAL AIR","PO BOX 8367",null,"MADISON","WI",53708,"USA","MADISON, WI 53708 USA "]
["COMMERCIAL GRINDING SERVICE",93375,"COMMERCIAL GRINDING SERVICE","2100 ABBEY AVE",null,"CLEVELAND","OH",44113,"USA","CLEVELAND, OH 44113 USA "]
["COMMERCIAL METAL FORMING",123720,"COMMERCIAL METAL FORMING","1775 LOGAN AVE",null,"YOUNGSTOWN","OH",44501,"USA","YOUNGSTOWN, OH 44501 USA "]
["COMMUNICATIONS SERVICE INC",117418,"COMMUNICATIONS SERVICE INC","806 WALSH RD",null,"MADISON","WI",53714,"USA","MADISON, WI 53714 USA "]
["COMMUNITY NEWSPAPERS",23077,"COMMUNITY NEWSPAPERS","6041 MONONA DRIVE",null,"MONONA","WI",53716,"USA","MONONA, WI 53716 USA "]
["COMMVAULT",140118,"COMMVAULT","2 CRESCENT PLACE",null,"OCEANPORT","NJ",7757,"USA","OCEANPORT, NJ 7757 USA "]
["COMO PHOTO SERVICE",15312,"COMO PHOTO SERVICE","2119 FISH HATCHERY RD",null,"MADISON","WI",53713,"USA","MADISON, WI 53713 USA "]
["COMP USA",112617,"COMP USA","231 JUNCTION RD",null,"MADISON","WI",53717,"USA","MADISON, WI 53717 USA "]
["COMP USA-MADISON",103479,"COMP USA-MADISON","231 JUNCTION ROAD",null,"MADISON","WI",53719,"USA","MADISON, WI 53719 USA "]
["COMPAC",130696,"COMPAC","1320-13 LINCOLN AVE",null,"HOLBROOK","NY",11741,"USA","HOLBROOK, NY 11741 USA "]
[{"$f":"IF($C707=\"\",\"\",$C707)","v":"COMPAR, INC"},89763,"COMPAR, INC","10301 YELLOW CIRCLE DRIVE",null,"MINNETONKA","MN",55343,"USA","MINNETONKA, MN 55343 USA "]
["COMPLETE SYSTEMS-N-MORE",36191,"COMPLETE SYSTEMS-N-MORE","1740 N GREENVILLE AVE",null,"RICHARDSON","TX",75081,"USA",{"$f":"IF(F708=\"\",\"\",F708&\", \")&IF(G708=\"\",\"\",G708&\" \")&IF(H708=\"\",\"\",H708&\" \")&IF(I708=\"\",\"\",I708&\" \")","v":"RICHARDSON, TX 75081 USA "}]
["COMPLETE TEXTILE MFG",102900,"COMPLETE TEXTILE MFG","PO BOX 469",null,"OPELIKA","AL",36805,"USA","OPELIKA, AL 36805 USA "]
["COMPONENTONE",125922,"COMPONENTONE","201 S. HIGHLAND AVE, 3RD FL",null,"PITTSBURGH","PA",15206,"USA","PITTSBURGH, PA 15206 USA "]
["COMPRESSED AIR TECHNOLOGY, INC",33914,"COMPRESSED AIR TECHNOLOGY, INC","P.O. BOX 697",null,"MARSHALL","WI",53559,"USA","MARSHALL, WI 53559 USA "]
["COMPUMASTER",102511,"COMPUMASTER","PO BOX 2973",null,"MISSION","KS","66201-1373","USA","MISSION, KS 66201-1373 USA "]
["COMPUMOTOR DIVISION",46053,"COMPUMOTOR DIVISION","5500 BUSINESS PARK DRIVE",null,"ROHNERT PARK","CA",94928,"USA","ROHNERT PARK, CA 94928 USA "]
["COMPUSERVE INFORMATION SERVICE",35659,"COMPUSERVE INFORMATION SERVICE","5000 ARLINGTON CENTER BLVD","PO BOX 20212","COLUMBUS","OH",43220,"USA","COLUMBUS, OH 43220 USA "]
["COMPUSOURCE",110623,"COMPUSOURCE","3241 SUPERIOR DRIVE",null,"CLEVELAND","OH",44114,"USA","CLEVELAND, OH 44114 USA "]
["COMPUTABILITY",68165,"COMPUTABILITY","PO BOX 17882",null,"MILWAUKEE","WI",53217,"USA","MILWAUKEE, WI 53217 USA "]
["COMPUTER AIDED TECHNOLOGY INC",127584,"COMPUTER AIDED TECHNOLOGY INC","165 ARLINGTON HEIGHTS RD","STE 101","BUFFALO GROVE","WI",60089,"USA","BUFFALO GROVE, WI 60089 USA "]
["COMPUTER ASSOCIATES",76172,"COMPUTER ASSOCIATES","2400 CABOT DR","SUITE 1750","LISLE","IL",60532,"USA","LISLE, IL 60532 USA "]
["COMPUTER ASSOCIATES INTERNATIO",54646,"COMPUTER ASSOCIATES INTERNATIO","SALES ACCOUNTING DEPT","ONE COMPUTER ASSOCIATES PLAZA","ISLANDIA","NY",117787003,"USA","ISLANDIA, NY 117787003 USA "]
["COMPUTER CABLE MAKERS INC",114019,"COMPUTER CABLE MAKERS INC","819 STRIKER AVE","STE 6","SACRAMENTO","CA",95834,"USA","SACRAMENTO, CA 95834 USA "]
["COMPUTER DISCOUNT WAREHOUSE",63267,"COMPUTER DISCOUNT WAREHOUSE","2840 MARIA AVE",null,"NORTHBROOK","IL",60062,"USA","NORTHBROOK, IL 60062 USA "]
["COMPUTER PLUS",97107,"COMPUTER PLUS","805 S GAMMON RD",null,"MADISON","WI",53719,"USA","MADISON, WI 53719 USA "]
["COMPUTER SHOPPER",89685,"COMPUTER SHOPPER","P O BOX 52565",null,"BOULDER","CO","80322-2565","USA","BOULDER, CO 80322-2565 USA "]
["COMPUTER WAREHOUSE CLUB",102430,"COMPUTER WAREHOUSE CLUB","3158 DOOLITTLE DRIVE",null,"NORTHBROOK","IL",60062,"USA","NORTHBROOK, IL 60062 USA "]
["COMPUTERBOARDS INC",85181,"COMPUTERBOARDS INC","44 WOOD AVE",null,"MANSFIELD","MA",2048,"USA","MANSFIELD, MA 2048 USA "]
["COMPUTERGIANTS.COM",115171,"COMPUTERGIANTS.COM","168 MADISON AVE","4TH FL","NEW YORK","NY",10016,"USA","NEW YORK, NY 10016 USA "]
["COMPUVEST-IGOR",111591,"COMPUVEST-IGOR","15600 NE 8TH ST.STE B1-157",null,"BELLEVEWE","WA",98008,"USA","BELLEVEWE, WA 98008 USA "]
["COMTECH AHA CORP",131100,"COMTECH AHA CORP","1126 ALTURAS DR",null,"MOSCOW","ID",83843,"USA","MOSCOW, ID 83843 USA "]
["COMTEL EDA CO.",29688,"COMTEL EDA CO.","15500 WAYZATA BLVD.,STE. 1017",null,"WAYZATA","MN",55391,"USA","WAYZATA, MN 55391 USA "]
["COMTEL MIDWEST",92688,"COMTEL MIDWEST","3930 VENTURA DR","SUITE 220","ARLINGTON HEIGHTS","IL",60004,"USA","ARLINGTON HEIGHTS, IL 60004 USA "]
["CONCAD TECHNOLOGIES",82597,"CONCAD TECHNOLOGIES","1235 E MENOMONIE ST",null,"EAU CLAIRE","WI",54703,"USA","EAU CLAIRE, WI 54703 USA "]
["CONCEPT MACHINE TOOL SALES",91946,"CONCEPT MACHINE TOOL SALES","407 AUSTIN CIRCLE",null,"DELAFIELD","WI",53018,"USA","DELAFIELD, WI 53018 USA "]
["CONCOURSE HOTEL",19271,"CONCOURSE HOTEL","1 W DAYTON ST",null,"MADISON","WI",53703,"USA","MADISON, WI 53703 USA "]
["CONDENSOR PRODUCTS CORP",79323,"CONDENSOR PRODUCTS CORP","2131 BROAD ST",null,"BROOKSVILLE","FL",34609,"USA","BROOKSVILLE, FL 34609 USA "]
["CONDUSIV TECHNOLOGIES",88735,"CONDUSIV TECHNOLOGIES","7590 N GLENOAKS BLVD",null,"BURBANK","CA",91504,"USA","BURBANK, CA 91504 USA "]
["CONE DRIVE OPERATIONS  INC",116096,"CONE DRIVE OPERATIONS  INC","240 E 12TH ST",null,"TRAVERSE CITY","MI",49684,"USA","TRAVERSE CITY, MI 49684 USA "]
["CONNECTICUT CLEAN ROOM",102986,"CONNECTICUT CLEAN ROOM","PO BOX 840",null,"BRISTOL","CT",6010,"USA","BRISTOL, CT 6010 USA "]
["CONNEY SAFETY PRODUCTS",3115,"CONNEY SAFETY PRODUCTS","3202 LATHAM DR","PO BOX 44190","MADISON","WI",53744,"USA","MADISON, WI 53744 USA "]
["CONNORS, DOUGLAS",97983,"CONNORS, DOUGLAS","7897 HWY 19",null,"DANE","WI",52529,"USA","DANE, WI 52529 USA "]
["CONSOLIDATED PLASTICS",910,"CONSOLIDATED PLASTICS","1864 ENTERPRISE PKWY",null,"TWINSBURG","OH",44087,"USA","TWINSBURG, OH 44087 USA "]
["CONTACT EAST",30909,"CONTACT EAST","335 WILLOW ST SOUTH","PO BOX 786","NORTH ANDOVER","MA",18450786,"USA","NORTH ANDOVER, MA 18450786 USA "]
["CONTINENTAL AIRLINES",87863,"CONTINENTAL AIRLINES","1600 SMITH ST HQSSD",null,"HOUSTON","TX",77002,"USA","HOUSTON, TX 77002 USA "]
["CONTINENTAL CABLE CO",110109,"CONTINENTAL CABLE CO","GBG INDUSTRIES","253 MONUMENT RD","HINSDALE","NH",3451,"USA","HINSDALE, NH 3451 USA "]
["CONTINENTAL CARBONIC",124507,"CONTINENTAL CARBONIC","2834 PROGRESS RD",null,"MADISON","WI",53216,"USA","MADISON, WI 53216 USA "]
["CONTINENTAL OPTICAL",66890,"CONTINENTAL OPTICAL","15 POWER",null,"HAUPPAUGE","NY",11788,"USA","HAUPPAUGE, NY 11788 USA "]
["CONTINENTAL STEEL & TUBE CO",134240,"CONTINENTAL STEEL & TUBE CO","P.O. BOX 030040",null,"FT. LAUDERDALE","FL",33303,"USA","FT. LAUDERDALE, FL 33303 USA "]
["CONTINUUM",40220,"CONTINUUM","3150 CENTRAL EXPRESSWAY",null,"SANTA CLARA","CA",950510801,"USA","SANTA CLARA, CA 950510801 USA "]
["CONTMEPORARY SVCS CORP",81453,"CONTMEPORARY SVCS CORP","17101 SUPERIOR ST",null,"NORTHRIDGE","CA",91325,"USA","NORTHRIDGE, CA 91325 USA "]
["CONTRACTORS DEPOT",124475,"CONTRACTORS DEPOT","48 ISLAND DR",null,"EASTPOINT","FL",32328,"USA","EASTPOINT, FL 32328 USA "]
["CONTROL SOLUTIONS INC",133480,"CONTROL SOLUTIONS INC","980 E BERWOOD, SUITE 100",null,"VADNAIS HEIGHTS","MN",55110,"USA","VADNAIS HEIGHTS, MN 55110 USA "]
["CONTROL SWITCHES INTERNATIONAL",128033,"CONTROL SWITCHES INTERNATIONAL","2425 MIRA MAR AV",null,"LONG BEACH","CA","90815-1757","USA","LONG BEACH, CA 90815-1757 USA "]
["CONTROLLED MAGNETICS, INC",107459,"CONTROLLED MAGNETICS, INC","126 SUMMIT ST",null,"BRIGHTON","MI",48116,"USA","BRIGHTON, MI 48116 USA "]
["CONTROLLED POWER CO.",56042,"CONTROLLED POWER CO.","1955 STEPHENSON HIGHWAY",null,"TROY","MI",48083,"USA","TROY, MI 48083 USA "]
["CONTROLS PLUS INC",128452,"CONTROLS PLUS INC","257 N. WEST AV",null,"ELMHURST","IL",60126,"USA","ELMHURST, IL 60126 USA "]
["CONVAL INC",107127,"CONVAL INC","265 FIELD RD","P O BOX 1049","SOMERS","CT",6071,"USA","SOMERS, CT 6071 USA "]
["CONVERSE INDUSTRIES",75636,"CONVERSE INDUSTRIES",null,null,null,null,null,"USA","USA "]
["COOLING TECHNOLOGY INC",128144,"COOLING TECHNOLOGY INC","1800 ORR INDUSTRIAL CRT",null,"CHARLOTTE","NC",28213,"USA","CHARLOTTE, NC 28213 USA "]
["COOPER INTERCONNECT GARDENA",123856,"COOPER INTERCONNECT GARDENA","BURTON ELECTRIC ENGINEERING","1510 W 135TH ST","GARDENA","CA",90247,"USA","GARDENA, CA 90247 USA "]
["COPPER & BRASS SALES",10225,"COPPER & BRASS SALES","415 E STATE PKWY",null,"SCHAUMBURG","IL",60168,"USA","SCHAUMBURG, IL 60168 USA "]
["COPPS FOOD CENTER #8178",111196,"COPPS FOOD CENTER #8178","2502 SHOPKO DRIVE",null,"MADISON","WI",53704,"USA","MADISON, WI 53704 USA "]
["COPYRIGHT CLEARANCE CENTER",15103,"COPYRIGHT CLEARANCE CENTER","222 ROSEWOOD DR",null,"DANVERS","MA",1923,"USA","DANVERS, MA 1923 USA "]
["CORES BTS INC",134070,"CORES BTS INC","3001 W BELTLINE HWY",null,"MADISON","WI",53719,"USA","MADISON, WI 53719 USA "]
["CORETEC",122086,"CORETEC","253 5TH AVE SE",null,"OSSEO","MN",55369,"USA","OSSEO, MN 55369 USA "]
["CORETEC DENVER, INC",119857,"CORETEC DENVER, INC","10570 BRADFORD RD",null,"LITTLETON","CO",80127,"USA","LITTLETON, CO 80127 USA "]
["CORETEC INC","K00022","CORETEC INC","8150 SHEPPARD AVE E",null,"TORONTO, ONTARIO","CANADA","M1B5K2","USA","TORONTO, ONTARIO, CANADA M1B5K2 USA "]
["CORETEC, INC",122989,"CORETEC, INC","8150 SHEPPARD AVENUE EAST",null,"TORONTO, ONTARIO","CANADA","M1B5K2","CANADA","TORONTO, ONTARIO, CANADA M1B5K2 CANADA "]
["CORNELL DUBILIER",22489,"CORNELL DUBILIER","140 TECHNOLOGY PL",null,"LIBERTY","SC",29657,"USA","LIBERTY, SC 29657 USA "]
["CORNELL NANOFABRICATION FACILI",11892,"CORNELL NANOFABRICATION FACILI","KNIGHT LABORATORY",null,"ITHICA","NY","14853-5403","USA","ITHICA, NY 14853-5403 USA "]
["CORNELL NANOFABRICATION FACILI",110821,"CORNELL NANOFABRICATION FACILI","CORNELL UNIVERSITY","KNIGHT LABORATORY","ITHACA","NY","14853-5403","USA","ITHACA, NY 14853-5403 USA "]
["CORNING INC., SPECIALTY MATERI",116584,"CORNING INC., SPECIALTY MATERI","HP-CB-08",null,"CORNING","NY",14831,"USA","CORNING, NY 14831 USA "]
[{"$f":"IF($C771=\"\",\"\",$C771)","v":"CORPORATE BUSINESS SYSTEMS"},106089,"CORPORATE BUSINESS SYSTEMS","1955 WEST BROADWAY STE 105",null,"MADISON","WI",53713,"USA","MADISON, WI 53713 USA "]
["CORTLAND CABLE CO",92041,"CORTLAND CABLE CO","BOX 330","177 PORT WATSON ST","CORTLAND","NY",13045,"USA",{"$f":"IF(F772=\"\",\"\",F772&\", \")&IF(G772=\"\",\"\",G772&\" \")&IF(H772=\"\",\"\",H772&\" \")&IF(I772=\"\",\"\",I772&\" \")","v":"CORTLAND, NY 13045 USA "}]
["COTRONICS CORPORATION",30434,"COTRONICS CORPORATION","3379 SHORE PKY",null,"BROOKLYN","NY",11235,"USA","BROOKLYN, NY 11235 USA "]
["COUNTRYSIDE APARTMENTS",102750,"COUNTRYSIDE APARTMENTS","2801 COVENTRY TRAIL SUITE A",null,"MADISON","WI",53713,"USA","MADISON, WI 53713 USA "]
["CPD CASES",129570,"CPD CASES","4665 STATE STREET",null,"MONTCLAIR","CA",91763,"USA","MONTCLAIR, CA 91763 USA "]
["CPI",100528,"CPI","BEVERLY MICROWAVE DIVISION","150 SOHIER RD","BEVERLY","MA",1915,"USA","BEVERLY, MA 1915 USA "]
["CRAMER, INC",27811,"CRAMER, INC","1222 QUEBEC STREET",null,"NORTH KANSAS CITY","MO",64116,"USA","NORTH KANSAS CITY, MO 64116 USA "]
["CRANDALLS CARRYOUT CATERERS",88217,"CRANDALLS CARRYOUT CATERERS","6401 UNIVERSITY AVE",null,"MIDDLETON","WI",53562,"USA","MIDDLETON, WI 53562 USA "]
["CRC PRESS INC",2954,"CRC PRESS INC","2000 CORPORATE BLVD NW",null,"BOCA RATON","FL",33431,"USA","BOCA RATON, FL 33431 USA "]
["CREATIVE BUSINESS INTERIORS",36074,"CREATIVE BUSINESS INTERIORS","1810 WRIGHT ST",null,"MADISON","WI",53704,"USA","MADISON, WI 53704 USA "]
["CREATIVE ENERGY PRODUCTS INC",38467,"CREATIVE ENERGY PRODUCTS INC","1406 WILLIAMSON ST",null,"MADISON","WI",53703,"USA","MADISON, WI 53703 USA "]
["CREATIVE EXPRESSIONS",13524,"CREATIVE EXPRESSIONS","1906 W BELTLINE HWY",null,"MADISON","WI",53713,"USA","MADISON, WI 53713 USA "]
["CREATIVE LAMINATING",22250,"CREATIVE LAMINATING","2500 PLEASANT VIEW RD #101",null,"MIDDLETON","WI",53562,"USA","MIDDLETON, WI 53562 USA "]
["CREATIVE SERVICES","UW0061","CREATIVE SERVICES","528 WARF",null,"MADISON","WI",53706,"USA","MADISON, WI 53706 USA "]
["CREATIVE VIDEO EDITING",89547,"CREATIVE VIDEO EDITING","406 WEST GATE MALL",null,"MADISON","WI",53711,"USA","MADISON, WI 53711 USA "]
["CRENLO INC EMCOR",79197,"CRENLO INC EMCOR","1600 4TH AVE NW",null,"ROCHESTER","MN",55901,"USA","ROCHESTER, MN 55901 USA "]
["CRESCENT ELECTRIC SUPPLY",12990,"CRESCENT ELECTRIC SUPPLY","1417 WRIGHT ST","PO BOX 8830","MADISON","WI",53704,"USA","MADISON, WI 53704 USA "]
["CRIBA",126444,"CRIBA","322 KING STREET W, STE 200",null,"TONONTO","ONTARIO","M5V1J2","CANADA","TONONTO, ONTARIO M5V1J2 CANADA "]
["CRONATRON WELDING SYSTEMS",124578,"CRONATRON WELDING SYSTEMS","6510 NORTHPARK BLVD",null,"CHARLOTTE","NC","28216-3899","USA","CHARLOTTE, NC 28216-3899 USA "]
["CROSS INSTRUMENTATION",130159,"CROSS INSTRUMENTATION","1621 AUTUMN BLVD",null,"CONYERS","GA",30012,"USA","CONYERS, GA 30012 USA "]
["CROWN METALS",3379,"CROWN METALS","121 E WASHINGTON",null,"MILWAUKEE","WI",53204,"USA","MILWAUKEE, WI 53204 USA "]
["CRUCIAL TECHNOLOGY",105954,"CRUCIAL TECHNOLOGY","3475 E COMMERCIAL RD",null,"MERIDIAN","ID",83642,"USA","MERIDIAN, ID 83642 USA "]
["CRYOFAB",11190,"CRYOFAB","540 N MICHIGAN AV",null,"KENILWORTH","NJ",7033,"USA","KENILWORTH, NJ 7033 USA "]
["CRYOMECH INC",75163,"CRYOMECH INC","1630 ERIE BLVD E",null,"SYRACUSE","NY",13210,"USA","SYRACUSE, NY 13210 USA "]
["CRYSTECO",1204,"CRYSTECO","180 E MAIN ST",null,"WILMINGTON","OH",45177,"USA","WILMINGTON, OH 45177 USA "]
["CRYTUR LTD",132680,"CRYTUR LTD","PALACKEHO 175","51101 TURNOV",null,"CZECH REPUBLIC",null,"USA","CZECH REPUBLIC USA "]
["CSHEMA",130314,"CSHEMA","C/O  WACHOVIA NATIONAL BANK","PO BOX 758692","BALTIMORE","MD","21275-8692","USA","BALTIMORE, MD 21275-8692 USA "]
["CST OF AMERICA, INC",119489,"CST OF AMERICA, INC","10 LAUREL AVE, SUITE 300",null,"WELLESLEY HILLS","MA",2481,"USA","WELLESLEY HILLS, MA 2481 USA "]
["CTI AUTHORITY",104551,"CTI AUTHORITY","11 COMMERCE DRIVE",null,"CRANFORD","NJ",7016,"USA","CRANFORD, NJ 7016 USA "]
["CTI CRYOGENICS",8726,"CTI CRYOGENICS",null,null,null,null,null,"USA","USA "]
["CTS",105281,"CTS","1201 CUMBERLAND AVE",null,"WEST LAFAYETTE","IN",47906,"USA","WEST LAFAYETTE, IN 47906 USA "]
["CUBIC PRECISION INC",63200,"CUBIC PRECISION INC","K&E ELECTRO OPTICAL PRODUCTS","750 HUYLER ST","TETERBORO","NJ",7608,"USA","TETERBORO, NJ 7608 USA "]
["CULLIGAN TOTAL WATER TREATMENT",3396,"CULLIGAN TOTAL WATER TREATMENT","4806 E BROADWAY",null,"MADISON","WI",53716,"USA","MADISON, WI 53716 USA "]
["CURRENT COMMUNICATIONS",21244,"CURRENT COMMUNICATIONS","2745 KENDELL AVE, SUITE B",null,"MADISON","WI",53705,"USA","MADISON, WI 53705 USA "]
["CURT'S MOBILE HOME REPAIR  LLC",131870,"CURT'S MOBILE HOME REPAIR  LLC","13 MALIBU DR",null,"MADISON","WI",53713,"USA","MADISON, WI 53713 USA "]
["CURTIS INDUSTRIES",124204,"CURTIS INDUSTRIES","2400 S 43RD ST",null,"MILWAUKEE","WI",53219,"USA","MILWAUKEE, WI 53219 USA "]
["CUSACO",103350,"CUSACO","21 MAIN STREET",null,"ASBURY PARK","NJ",7712,"USA","ASBURY PARK, NJ 7712 USA "]
["CUSTOM HEAT, LLC (WAS REHEAT)",3412,"CUSTOM HEAT, LLC (WAS REHEAT)","PO BOX 1",null,"DANVERS","MA",1923,"USA","DANVERS, MA 1923 USA "]
["CUSTOM HOSE",135809,"CUSTOM HOSE","805 66TH AV SW",null,"CEDAR RAPIDS","IA",52404,"USA","CEDAR RAPIDS, IA 52404 USA "]
["CUSTOM PRODUCTION GRINDING INC",124373,"CUSTOM PRODUCTION GRINDING INC","N56 W13500 SILVER SPRING",null,"MENOMONEE FALLS","WI",53051,"USA","MENOMONEE FALLS, WI 53051 USA "]
["CUTTER PRECISION METALS INC.",7704,"CUTTER PRECISION METALS INC.","P.O. BOX 88488",null,"SEATTLE","WA",98138,"USA","SEATTLE, WA 98138 USA "]
["CVC CHELMER VALVE COMPANY",127550,"CVC CHELMER VALVE COMPANY","THE STABLES BADDOW PARK","GT BADDOW, CHELMSFORD",null,"ESSEX","CM2 7SY","ENGLAND","ESSEX CM2 7SY ENGLAND "]
["CVI LASER,  INC",101049,"CVI LASER,  INC","200 DORADO PLACE  SE",null,"ALBUQUERQUE","NM",87192,"USA","ALBUQUERQUE, NM 87192 USA "]
["CYANTEK CORP",89133,"CYANTEK CORP","3055 OSGOOD CT",null,"FREMONT","CA",94538,"USA","FREMONT, CA 94538 USA "]
["CYBER ADVISORS INC",128274,"CYBER ADVISORS INC","11324 -- 86TH AVE N",null,"MAPLE GROVE","MN",55369,"USA","MAPLE GROVE, MN 55369 USA "]
["CYBER RESEARCH INC",51962,"CYBER RESEARCH INC","25 BUSINESS PARK DR",null,"BRANFORD","CT",6405,"USA","BRANFORD, CT 6405 USA "]
["CYBERGUYS (SEE 111165)","K00014","CYBERGUYS (SEE 111165)","11345 SUNRISE PARK DR",null,"RANCHO CORDOVA","CA",95742,"USA","RANCHO CORDOVA, CA 95742 USA "]
["CYBERZONICS",10255,"CYBERZONICS","11512 NORTH PORT WASHINGTON RO","STE 102","MEQUON","WI","52092-3440","USA","MEQUON, WI 52092-3440 USA "]
["D & C ELECTRONICS",125183,"D & C ELECTRONICS","3089 DELTONA BLVD",null,"SPRING HILL","FL","34606-3109","USA","SPRING HILL, FL 34606-3109 USA "]
["D MACHINE INC",103981,"D MACHINE INC","921 RIVER LANE",null,"LOVES PARK","IL",6111,"USA","LOVES PARK, IL 6111 USA "]
["DAEDAL INC",7547,"DAEDAL INC","PO BOX 500",null,"HARRISON CITY","PA",15636,"USA","HARRISON CITY, PA 15636 USA "]
["DAK EQUIPMENT & ENGINEERING",124783,"DAK EQUIPMENT & ENGINEERING","179 SPANGLER AVE",null,"ELMHURST","IL",60126,"USA","ELMHURST, IL 60126 USA "]
["DALCO ELECTRONICS",4750,"DALCO ELECTRONICS","233 PIONEER BLVE",null,"SPRINGBORO","OH",45066,"USA","SPRINGBORO, OH 45066 USA "]
["DALE STEVENS ENTERPRISES",105757,"DALE STEVENS ENTERPRISES","768 SHERMAN AVE",null,"THORNWOOD","NY",10594,"USA","THORNWOOD, NY 10594 USA "]
["DAMARK INTERNATIONAL INC",85344,"DAMARK INTERNATIONAL INC","7101 WINNETKA AVE N","PO BOX 29900","MINNEAPOLIS","MN",554281619,"USA","MINNEAPOLIS, MN 554281619 USA "]
["DANAHER PRECISION SYSTEMS",116427,"DANAHER PRECISION SYSTEMS","7C RAYMOND AVENUE",null,"SALEM","NH",3079,"USA","SALEM, NH 3079 USA "]
["DANAHER TOOL GROUP",32860,"DANAHER TOOL GROUP","5200 W. ARMSTRONG AVE.",null,"CHICAGO","IL",60646,"USA","CHICAGO, IL 60646 USA "]
["DANBAR SALES CO",23025,"DANBAR SALES CO","14455 N 79TH ST STE C",null,"SCOTTSDALE","AZ",85260,"USA","SCOTTSDALE, AZ 85260 USA "]
["DANFYSIK A/S",109578,"DANFYSIK A/S","MOLLENHAVEN 31","PO BOX 29","DK-4040 JYLLINGE","DENMARK",null,"DENMARK","DK-4040 JYLLINGE, DENMARK DENMARK "]
["DANIELS MANUFACTURING CORPORAT",43312,"DANIELS MANUFACTURING CORPORAT","526 THORPE RD","BOX 593872","ORLANDO","FL",328593872,"USA","ORLANDO, FL 328593872 USA "]
["DANIELSON ASSOCIATES INC",9221,"DANIELSON ASSOCIATES INC","1989A UNIVERSITY LANE",null,"LISLE","IL",60532,"USA","LISLE, IL 60532 USA "]
["DANTZ DEVELOPMENT CORPORATION",38320,"DANTZ DEVELOPMENT CORPORATION","3003 OAK ROAD, 3RD FL",null,"WALNUT CREEK","CA",94597,"USA","WALNUT CREEK, CA 94597 USA "]
["DANTZ DEVELOPMENT CORPORATION",28320,"DANTZ DEVELOPMENT CORPORATION","3003 OAK RD, 3RD FL",null,"WALNUT CREEK","CA",94597,"USA","WALNUT CREEK, CA 94597 USA "]
["DAPRA CORPORATION",125170,"DAPRA CORPORATION","66 GRANBY ST","P O BOX 260","BLOOMFIELD","CT",6002,"USA","BLOOMFIELD, CT 6002 USA "]
[{"$f":"IF($C835=\"\",\"\",$C835)","v":"DARCOID NOR CAL SEAL CO"},135830,"DARCOID NOR CAL SEAL CO","950 3 RD ST",null,"OAKLAND","CA",94531,"USA","OAKLAND, CA 94531 USA "]
["DAT TECHNOLOGIES",11903,"DAT TECHNOLOGIES","1555-B MCGAW AVE.",null,"IRVINE","CA",92614,"USA",{"$f":"IF(F836=\"\",\"\",F836&\", \")&IF(G836=\"\",\"\",G836&\" \")&IF(H836=\"\",\"\",H836&\" \")&IF(I836=\"\",\"\",I836&\" \")","v":"IRVINE, CA 92614 USA "}]
["DATA COMM WAREHOUSE",7403,"DATA COMM WAREHOUSE","1720 OAK ST",null,"LAKEWOOD","NJ",8701,"USA","LAKEWOOD, NJ 8701 USA "]
["DATA COMM WAREHOUSE",4526,"DATA COMM WAREHOUSE","47 WATER STREET",null,"SOUTH NORWALK","CT",6854,"USA","SOUTH NORWALK, CT 6854 USA "]
["DATA LINK ASSOCIATES",119014,"DATA LINK ASSOCIATES","2575 GRANT BLVD",null,"NORTH BELLMORE","NY",11710,"USA","NORTH BELLMORE, NY 11710 USA "]
["DATA TECH INSTITUTE",80445,"DATA TECH INSTITUTE","LAKEVIEW PLAZA","PO BOX 2429","CLIFTON","NJ",7015,"USA","CLIFTON, NJ 7015 USA "]
["DATACHEM SOFTWARE, INC.",24025,"DATACHEM SOFTWARE, INC.","69 MILK ST.",null,"WESTBORO","MA",1581,"USA","WESTBORO, MA 1581 USA "]
["DATAFORTH CORP",101120,"DATAFORTH CORP","3331 E. HEMISPHER LOOP",null,"TUCSON","AZ",85706,"USA","TUCSON, AZ 85706 USA "]
["DATAGRAM",106035,"DATAGRAM","17009 ALFRED AVE",null,"CERRITOS","CA",90703,"USA","CERRITOS, CA 90703 USA "]
["DATALINK",63361,"DATALINK","7423 WASHINGTON AVE S",null,"MINNEAPOLIS","MN",554352781,"USA","MINNEAPOLIS, MN 554352781 USA "]
["DATAPROBE INC",126274,"DATAPROBE INC","11 PARAMUS PL",null,"PARAMUS","NJ",7652,"USA","PARAMUS, NJ 7652 USA "]
["DATAQ INSTRUMENTS",61789,"DATAQ INSTRUMENTS","241 SPRINGSIDE DR","STE 200","AKRON","OH",44333,"USA","AKRON, OH 44333 USA "]
["DATAVIZ INC",62773,"DATAVIZ INC","35 CORPORATE DR",null,"TRUMBULL","CT",6611,"USA","TRUMBULL, CT 6611 USA "]
["DATEL INTERSIL",3560,"DATEL INTERSIL","11 CABOT BLVD",null,"MANSFIELD","MA",20481194,"USA","MANSFIELD, MA 20481194 USA "]
["DAVE JONES PLUMBING",33199,"DAVE JONES PLUMBING","2225 KILGUST RD",null,"MADISON","WI",53713,"USA","MADISON, WI 53713 USA "]
["DAVIS INSTRUMENTS MANUFACTURIN",3574,"DAVIS INSTRUMENTS MANUFACTURIN","SETON BUSINESS CTR","4701 MT HOPE DR","BALTIMORE","MD",21215,"USA","BALTIMORE, MD 21215 USA "]
["DAVLYN MANUFACTURING CO, INC",126292,"DAVLYN MANUFACTURING CO, INC","P.O. BOX 49",null,"SPRING CITY","PA",19475,"USA","SPRING CITY, PA 19475 USA "]
["DAY'S INN",113314,"DAY'S INN","4402 E BROADWAY",null,"MADISON","WI",53716,"USA","MADISON, WI 53716 USA "]
["DAYS INN",969,"DAYS INN","MINNEAPOLIS",null,"MINNEAPOLIS","MN",55414,"USA","MINNEAPOLIS, MN 55414 USA "]
["DB ENGINEERING INC",120974,"DB ENGINEERING INC","1936 LONE STAR ROAD",null,"MANSFIELD","TX",76063,"USA","MANSFIELD, TX 76063 USA "]
["DBSYSTEMS INC",129443,"DBSYSTEMS INC","2005 S. TURF SOD RD",null,"HURRICANE","UT",84737,"USA","HURRICANE, UT 84737 USA "]
["DC DRIVES",89970,"DC DRIVES","1110 NASA ONE","SUITE 304","NASSAU BAY","TX",77058,"USA","NASSAU BAY, TX 77058 USA "]
["DD SLING & SUPPLY, INC.",124168,"DD SLING & SUPPLY, INC.","11353 N WAUWATOSA RD.",null,"MEQUON","WI",53097,"USA","MEQUON, WI 53097 USA "]
["DEAN BENNETT SUPPLY",126627,"DEAN BENNETT SUPPLY","1770 E 69TH ST",null,"DENVER","CO",80229,"USA","DENVER, CO 80229 USA "]
["DEAN MEDICAL",60228,"DEAN MEDICAL","1313 FISH HATCHERY",null,"MADISON","WI",53715,"USA","MADISON, WI 53715 USA "]
["DECANIO BUILDERS SUPPLY",52146,"DECANIO BUILDERS SUPPLY","W227N937 WESTMOUND DR",null,"WAUKESHA","WI",53186,"USA","WAUKESHA, WI 53186 USA "]
["DECISION ONE CORPORATION",22122,"DECISION ONE CORPORATION","N92 W14612 ANTHONY DR",null,"MENOMONEE FALLS","WI",53051,"USA","MENOMONEE FALLS, WI 53051 USA "]
["DECKER SUPPLY",23962,"DECKER SUPPLY","1115 O'NEIL AV",null,"MADISON","WI",53708,"USA","MADISON, WI 53708 USA "]
["DECORATIVE INDUSTRIAL PLATING",139182,"DECORATIVE INDUSTRIAL PLATING","2531 N DODGE AV",null,"HELENA","MT",59601,"USA","HELENA, MT 59601 USA "]
["DEEP HOLE SPECIALISTS OF ILLIN",35033,"DEEP HOLE SPECIALISTS OF ILLIN","614 GRABLE ST",null,"ROCKFORD","IL",61109,"USA","ROCKFORD, IL 61109 USA "]
["DEL TRON PRECISION INC",79237,"DEL TRON PRECISION INC","5 TROWBRIDGE DR","BOX 505","BETHEL","CT",6801,"USA","BETHEL, CT 6801 USA "]
["DELCO WIRE & CABLE INC",126137,"DELCO WIRE & CABLE INC","499 DOUGLAS RD., E.",null,"OLDSMAR","FL",34677,"USA","OLDSMAR, FL 34677 USA "]
["DELL COMPUTER CORP.",23155,"DELL COMPUTER CORP.","1 DELL WAY",null,"ROUND ROCK","TX",78682,"USA","ROUND ROCK, TX 78682 USA "]
["DELL MARKETING",90446,"DELL MARKETING","9505 ARBORETUM BLVD",null,"AUSTIN","TX",787597299,"USA","AUSTIN, TX 787597299 USA "]
["DELL MARKETING CORP",54765,"DELL MARKETING CORP","PO BOX 9986",null,"AUSTIN","TX",78720,"USA","AUSTIN, TX 78720 USA "]
["DELORME MAPPING CO",80959,"DELORME MAPPING CO","PO BOX 298",null,"FREEPORT","ME",4032,"USA","FREEPORT, ME 4032 USA "]
["DELTA AIRLINES INC",87864,"DELTA AIRLINES INC","PO BOX 101153",null,"ATLANTA","GA",30392,"USA","ATLANTA, GA 30392 USA "]
["DELTA FLO MANUFACTURING CO INC",39409,"DELTA FLO MANUFACTURING CO INC","PO BOX 899",null,"SAN BERNARDINO","CA",92402,"USA","SAN BERNARDINO, CA 92402 USA "]
["DELTA MEDICAL SYSTEMS INC",21891,"DELTA MEDICAL SYSTEMS INC","4475 N 124TH ST",null,"BROOKFIELD","WI",53005,"USA","BROOKFIELD, WI 53005 USA "]
["DELTAPOINT INC",84660,"DELTAPOINT INC","2 HARRIS COURT","SUITE B1","MONTEREY","CA",939409962,"USA","MONTEREY, CA 939409962 USA "]
["DELTEK INC",101819,"DELTEK INC","13880 DULLES CORNER ROAD",null,"HERNDON","VA",20171,"USA","HERNDON, VA 20171 USA "]
["DELTEK SYSTEMS, INC",124323,"DELTEK SYSTEMS, INC","13880 DULLES CORNER RD",null,"HERNDON","VA","20171-4600","USA","HERNDON, VA 20171-4600 USA "]
["DELTRON INC",77818,"DELTRON INC","WISSAHICKON AVE","PO BOX 1369","NORTH WALES","PA",19454,"USA","NORTH WALES, PA 19454 USA "]
["DELTRONIX ENTERPRISES",9288,"DELTRONIX ENTERPRISES","26861 TRABUCO STE  E161C",null,"MISSION VIEJO","CA",92691,"USA","MISSION VIEJO, CA 92691 USA "]
["DEMCO INC",3645,"DEMCO INC","PO BOX 7488",null,"MADISON","WI",537077488,"USA","MADISON, WI 537077488 USA "]
["DENNIS BAHCALL RUBBER CO INC",101743,"DENNIS BAHCALL RUBBER CO INC","N1993 E FRONTAGE RD",null,"KAUKAUNA","WI",54130,"USA","KAUKAUNA, WI 54130 USA "]
["DENNY'S SHELL",21306,"DENNY'S SHELL","304 W. MAIN ST.",null,"STOUGHTON","WI",53589,"USA","STOUGHTON, WI 53589 USA "]
["DEPRECIATIONWORKS",129061,"DEPRECIATIONWORKS","3833 CANEHILL AVE",null,"LONG BEACH","CA",90808,"USA","LONG BEACH, CA 90808 USA "]
["DEPT OF BIOCHEMISTRY","UW0050","DEPT OF BIOCHEMISTRY","433 BABCOCK DRIVE",null,"MADISON","WI",53706,"USA","MADISON, WI 53706 USA "]
["DEQ TECHNICAL SALES  LLC",139342,"DEQ TECHNICAL SALES  LLC","117 E EMORY ROAD",null,"POWELL","TN",37849,"USA","POWELL, TN 37849 USA "]
["DESIGN COMPUTATION INC",77594,"DESIGN COMPUTATION INC","ROUTE 33  SHERMAN SQUARE",null,"FARMINGDALE","NJ",7727,"USA","FARMINGDALE, NJ 7727 USA "]
["DESIGN SCIENCE",73297,"DESIGN SCIENCE","4028 E BROADWAY",null,"LONG BEACH","CA",908031585,"USA","LONG BEACH, CA 908031585 USA "]
["DETROIT INDUSTRIAL TOOLS",127052,"DETROIT INDUSTRIAL TOOLS","10607 W OKLAHOMA AVE",null,"WEST ALLIS","WI",53219,"USA","WEST ALLIS, WI 53219 USA "]
["DEVAR INC",5461,"DEVAR INC","706 BOSTWICK AVE",null,"BRIDGEPORT","CT",6605,"USA","BRIDGEPORT, CT 6605 USA "]
["DGH",10612,"DGH","PO BOX 3568",null,"MANCHESTER","NY",3108,"USA","MANCHESTER, NY 3108 USA "]
["DGI SUPPLY (FORMERLY DOALL)",3799,"DGI SUPPLY (FORMERLY DOALL)","16850 W VICTOR RD",null,"NEW BERLIN","WI",53151,"USA","NEW BERLIN, WI 53151 USA "]
["DHL AIRWAYS, INC.",15468,"DHL AIRWAYS, INC.","PO BOX 78016",null,"PHOENIX","AZ","85062-8016","USA","PHOENIX, AZ 85062-8016 USA "]
["DHL WORLDWIDE EXPRESS",80108,"DHL WORLDWIDE EXPRESS","PO BOX 8542","IAS DIVISION 3","NEW YORK","NY",10043,"USA","NEW YORK, NY 10043 USA "]
["DI & ASSOCIATES",94314,"DI & ASSOCIATES","2109 LUANNE LANE",null,"MADISON","WI",53713,"USA","MADISON, WI 53713 USA "]
["DIAMETERS INC",121836,"DIAMETERS INC","16700 W RYERSON RD",null,"NEW BERLIN","WI",53151,"USA","NEW BERLIN, WI 53151 USA "]
["DIANE HOWARD",109143,"DIANE HOWARD","317 NORRIS CT. #1",null,"MADISON","WI",53703,"USA","MADISON, WI 53703 USA "]
["DICK BLICK ART MATERIALS",1882,"DICK BLICK ART MATERIALS","P O BOX 1267",null,"GALESBURG","IL",61402,"USA","GALESBURG, IL 61402 USA "]
["DICKSON COMPANY",3726,"DICKSON COMPANY","930 S WESTWOOD DR",null,"ADDISON","IL",60101,"USA","ADDISON, IL 60101 USA "]
["DICTAPHONE CORPORATION",3729,"DICTAPHONE CORPORATION","2025 S STOUGHTON RD",null,"MADISON","WI",53716,"USA","MADISON, WI 53716 USA "]
[{"$f":"IF($C899=\"\",\"\",$C899)","v":"DIEBOLT & COMPANY"},125555,"DIEBOLT & COMPANY","17 CHARLES ST",null,"OLD LYME","CT",6371,"USA","OLD LYME, CT 6371 USA "]
["DIELECTRIC CORPORATION",72133,"DIELECTRIC CORPORATION","W141 N9250 FOUNTAIN BLVD",null,"MENOMONEE FALLS","WI",53051,"USA",{"$f":"IF(F900=\"\",\"\",F900&\", \")&IF(G900=\"\",\"\",G900&\" \")&IF(H900=\"\",\"\",H900&\" \")&IF(I900=\"\",\"\",I900&\" \")","v":"MENOMONEE FALLS, WI 53051 USA "}]
["DIESEL INJECTION SERVICE, INC",3737,"DIESEL INJECTION SERVICE, INC","6167 PEPSI WAY",null,"WINDSOR","WI",53598,"USA","WINDSOR, WI 53598 USA "]
["DIETZ SUPPLY",129652,"DIETZ SUPPLY","11450 KREUTZER RD",null,"HUNTLEY","IL",60142,"USA","HUNTLEY, IL 60142 USA "]
["DIFFRACTION PRODUCTS INC",39135,"DIFFRACTION PRODUCTS INC","PO BOX 1030",null,"WOODSTOCK","IL",60098,"USA","WOODSTOCK, IL 60098 USA "]
["DIGI INTERNATIONAL",135159,"DIGI INTERNATIONAL","2900 SPAFFORD ST",null,"DAVIS","CA",95618,"USA","DAVIS, CA 95618 USA "]
["DIGI KEY CORP",3750,"DIGI KEY CORP","701 BROOKS AVE S","PO BOX 677","THIEF RIVER FALLS","MN",567010677,"USA","THIEF RIVER FALLS, MN 567010677 USA "]
["DIGIBUY",121044,"DIGIBUY","9625 W 76TH ST","STE 150","EDEN PRAIRIE","MN",55344,"USA","EDEN PRAIRIE, MN 55344 USA "]
["DIGITAL BASICS",61031,"DIGITAL BASICS","689 S CANTERBURY DR",null,"SHAKOPEE","MN",55379,"USA","SHAKOPEE, MN 55379 USA "]
["DIGITAL EQUIPMENT",15739,"DIGITAL EQUIPMENT","INVALID VENDOR  USE #3311",null,"CHICAGO","IL",60670,"USA","CHICAGO, IL 60670 USA "]
["DIGITAL EQUIPMENT CORP",41043,"DIGITAL EQUIPMENT CORP","2424 AMERICAN LN",null,"MADISON","WI",53704,"USA","MADISON, WI 53704 USA "]
["DIGITAL EQUIPMENT CORP",25108,"DIGITAL EQUIPMENT CORP","1341 WREN LANE",null,"GREEN BAY","WI","54313-6402","USA","GREEN BAY, WI 54313-6402 USA "]
["DIGITAL EQUIPMENT CORP",104420,"DIGITAL EQUIPMENT CORP","151 TAYLOR ST",null,"LITTLETON","MA",1460,"USA","LITTLETON, MA 1460 USA "]
["DIGITAL EQUIPMENT CORP",47425,"DIGITAL EQUIPMENT CORP","1 DIGITAL DR","PO BOX 9501","MERRIMACK","NH",30549501,"USA","MERRIMACK, NH 30549501 USA "]
["DIGITAL EQUIPMENT CORP",85254,"DIGITAL EQUIPMENT CORP","EDUCATIONAL SERVICES","100 NW POINT BLVD #100W","ELK GROVE VILLAGE","IL",600071018,"USA","ELK GROVE VILLAGE, IL 600071018 USA "]
["DIGITAL EQUIPMENT CORPORATION",3311,"DIGITAL EQUIPMENT CORPORATION","150 N PATRICK BLVD",null,"BROOKFIELD","WI",53045,"USA","BROOKFIELD, WI 53045 USA "]
["DIGITAL EQUIPMENT CORPORATION",46662,"DIGITAL EQUIPMENT CORPORATION","SUITE 100","2051 KILLEBREW DR","BLOOMINGTON","MN",55425,"USA","BLOOMINGTON, MN 55425 USA "]
["DIGITAL EQUIPMENT CORPORATION",34390,"DIGITAL EQUIPMENT CORPORATION","COTTON RD","PO BOX CS2008","NASHUA","NH",30612008,"USA","NASHUA, NH 30612008 USA "]
["DIGITAL INSTRUMENTS",97360,"DIGITAL INSTRUMENTS","6780 CORTONA",null,"SANTA BARBARA","CA",93117,"USA","SANTA BARBARA, CA 93117 USA "]
["DIGITAL OPTICAL INC",125647,"DIGITAL OPTICAL INC","2841 JERUSALEM AVE",null,"WANTAGH","NY",11793,"USA","WANTAGH, NY 11793 USA "]
["DIGITALLY UNIQUE CORP",126617,"DIGITALLY UNIQUE CORP","621 17TH ST",null,"DENVER","CO",80293,"USA","DENVER, CO 80293 USA "]
["DIRECT TV",19384,"DIRECT TV","2230 E IMPERIAL HWY",null,"EL SEGUNDO","CA",90245,"USA","EL SEGUNDO, CA 90245 USA "]
["DIRECTRON.COM",116378,"DIRECTRON.COM","10641 HARWIN DR","STE 502","HOUSTON","TX",77036,"USA","HOUSTON, TX 77036 USA "]
["DIRON TECHNOLOGIES",125638,"DIRON TECHNOLOGIES","4984 SIMON TRAIL",null,"WAUNAKEE","WI",53597,"USA","WAUNAKEE, WI 53597 USA "]
["DISCOVERY DESIGN",127856,"DISCOVERY DESIGN","404 PROSPECT RD",null,"WAUNAKEE","WI",53497,"USA","WAUNAKEE, WI 53497 USA "]
["DISH NETWORK",122276,"DISH NETWORK","5701 S SANTA FE DR",null,"LITTLETON","CO",80120,"USA","LITTLETON, CO 80120 USA "]
["DISPLAYS TO GO",121899,"DISPLAYS TO GO","55 BROAD COMMON RD",null,"BRISTOL","RI",2809,"USA","BRISTOL, RI 2809 USA "]
["DIST TRON",20720,"DIST TRON","N48 W14610 HAMPTON RD",null,"MENOMONEE FALLS","WI",53051,"USA","MENOMONEE FALLS, WI 53051 USA "]
["DIST TRON ENTEST LLC",134757,"DIST TRON ENTEST LLC","12410 VENTURA BLVD",null,"MACHENSNEY PARK","IL",61115,"USA","MACHENSNEY PARK, IL 61115 USA "]
["DISYS",120216,"DISYS","4151 LAFAYETTE CENTER DR","SUITE 600","CHANTILLY","VA",20151,"USA","CHANTILLY, VA 20151 USA "]
["DIVERSIFIED PLASTICS",32832,"DIVERSIFIED PLASTICS","515 W LIBERTY ST","PO BOX 2771","SUMTER","SC",29151,"USA","SUMTER, SC 29151 USA "]
["DIVERSIFIED SYSTEMS",72795,"DIVERSIFIED SYSTEMS","6800 UNIVERSITY AVE",null,"MIDDLETON","WI",53562,"USA","MIDDLETON, WI 53562 USA "]
["DIX METALS",107277,"DIX METALS","1361 BELL AVE",null,"TUSTIN","CA",92780,"USA","TUSTIN, CA 92780 USA "]
["DIXON VALVE & COUPLING",126377,"DIXON VALVE & COUPLING","N25 W23040 PAUL RD",null,"PEWAUKEE","WI",53072,"USA","PEWAUKEE, WI 53072 USA "]
["DLS ELECTRONIC SYSTEMS INC",127086,"DLS ELECTRONIC SYSTEMS INC","1250 PETERSON DR",null,"WHEELING","IL",60090,"USA","WHEELING, IL 60090 USA "]
["DLT SOLUTIONS INC",110336,"DLT SOLUTIONS INC","360 HERNDON PKWY","STE 700","HERNDON","VA",20170,"USA","HERNDON, VA 20170 USA "]
["DOA",105674,"DOA","201 S. DICKINSON",null,"MADISON","WI",53706,"USA","MADISON, WI 53706 USA "]
["DOCUMENT SOLUTIONS",117909,"DOCUMENT SOLUTIONS","213 W COTTAGE GROVE RD",null,"COTTAGE GROVE","WI",53527,"USA","COTTAGE GROVE, WI 53527 USA "]
["DOIG FLUID CONTROLS",27722,"DOIG FLUID CONTROLS","170 GREENBAY RD",null,"THIENSVILLE","WI",53092,"USA","THIENSVILLE, WI 53092 USA "]
["DOIT (MACC)","UW0005","DOIT (MACC)","1210 W. DAYTON",null,"MADISON","WI",53706,"USA","MADISON, WI 53706 USA "]
["DOIT/AMERITECH","UW0004","DOIT/AMERITECH","C/O TELECOMMUNICATIONS","1301 UNIVERSITY AVE","MADISON","WI","53715-1054","USA","MADISON, WI 53715-1054 USA "]
["DOIT/GTE TELECOMMUNICATIONS","UW0003","DOIT/GTE TELECOMMUNICATIONS","C/O TELECOMMUNICATIONS","1301 UNIVERSITY AVE.","MADISON","WI","53715-1054","USA","MADISON, WI 53715-1054 USA "]
["DORLEN PRODUCTS  INC",20552,"DORLEN PRODUCTS  INC","6615 LAYTON AV",null,"MILWAUKEE","WI",53220,"USA","MILWAUKEE, WI 53220 USA "]
["DORN HARDWARE",70361,"DORN HARDWARE","131 RICHARDS RD",null,"OREGON","WI",53575,"USA","OREGON, WI 53575 USA "]
["DORN TRUE VALUE",50030,"DORN TRUE VALUE","209 COTTAGE GROVE",null,"MADISON","WI",53716,"USA","MADISON, WI 53716 USA "]
["DOUBLE TREE HOTEL(H JOHNSON)",27431,"DOUBLE TREE HOTEL(H JOHNSON)","525 W JOHNSON ST",null,"MADISON","WI",53703,"USA","MADISON, WI 53703 USA "]
["DOUGLAS ELECTRONICS",3859,"DOUGLAS ELECTRONICS","2777 ALVARADO ST.",null,"SAN LEANDRO","CA",null,"USA","SAN LEANDRO, CA USA "]
["DOUGLAS STEWART CO",12938,"DOUGLAS STEWART CO","2402 ADVANCE RD",null,"MADISON","WI",53704,"USA","MADISON, WI 53704 USA "]
["DOVE EQUIPMENT",122334,"DOVE EQUIPMENT","W226 N900 EASTMOUND DR",null,"WAUKESHA","WI",53186,"USA","WAUKESHA, WI 53186 USA "]
["DOW CORNING CORPORATION",33792,"DOW CORNING CORPORATION","PO BOX 997",null,"MIDLAND","MI",48640,"USA","MIDLAND, MI 48640 USA "]
["DOWNING DISPLAYS",20949,"DOWNING DISPLAYS","1218 W PORT VIEW DR",null,"PORT WASHINGTON","WI",53074,"USA","PORT WASHINGTON, WI 53074 USA "]
["DR JUHAO WU",129305,"DR JUHAO WU","148 EVENING STAR CT",null,"MILPITAS","CA",95035,"USA","MILPITAS, CA 95035 USA "]
["DR. DAVID E. MONCTON",128525,"DR. DAVID E. MONCTON","45 SALISBURY RD",null,"NEWTON","MA",2458,"USA","NEWTON, MA 2458 USA "]
["DR. MARK BOWEN",135546,"DR. MARK BOWEN","5210 DENIO RD",null,"BARNET","VT",5821,"USA","BARNET, VT 5821 USA "]
["DR. S I SHKURATOV",104516,"DR. S I SHKURATOV","INSTITUTE OF ELECTROPHYSICS","34 KOMSOMOLSKAYA STR","EKATERINBURG",null,620049,"USA","EKATERINBURG, 620049 USA "]
["DR. TAI CHIANG",135738,"DR. TAI CHIANG","UNIVERSITY OF IL-URBANA","104 S. GOODWIN, M/C230","URBANA","IL",61801,"USA","URBANA, IL 61801 USA "]
["DRAWING BOARD",46173,"DRAWING BOARD","60 LOCUST AVE",null,"OAKDALE LONG ISLAND","NY",11769,"USA","OAKDALE LONG ISLAND, NY 11769 USA "]
["DREMEL ACCESSORIES",48029,"DREMEL ACCESSORIES","4915 - 21ST ST","P O BOX 1126","RACINE","WI",53406,"USA","RACINE, WI 53406 USA "]
["DREXEL INTERIORS",11904,"DREXEL INTERIORS","2126 S STOUGTHTON RD",null,"MADISON","WI",53716,"USA","MADISON, WI 53716 USA "]
["DRYDEN ENGINEERING COMPANY INC",3911,"DRYDEN ENGINEERING COMPANY INC","3350 SCOTT BLVD #18",null,"SANTA CLARA","CA",95051,"USA","SANTA CLARA, CA 95051 USA "]
["DT SOFTWARE, INC.",100705,"DT SOFTWARE, INC.","2101 CRYSTAL PLAZA ARCADE",null,"ARLINGTON","VA",22202,"USA","ARLINGTON, VA 22202 USA "]
["DUECO, INC",35212,"DUECO, INC","N4 W22610 BLUEMOUND RD",null,"WAUKESHA","WI",53186,"USA","WAUKESHA, WI 53186 USA "]
["DUET RESOURCE GROUP",125777,"DUET RESOURCE GROUP","440 W VLIET ST",null,"MILWAUKEE","WI",53212,"USA","MILWAUKEE, WI 53212 USA "]
["DUFF NORTON CO",58942,"DUFF NORTON CO","9415 PIONEER AVE","PO BOX 7010","CHARLOTTE","NC",282417010,"USA","CHARLOTTE, NC 282417010 USA "]
[{"$f":"IF($C963=\"\",\"\",$C963)","v":"DUKE SCIENTIFIC CORP"},3924,"DUKE SCIENTIFIC CORP","PO BOX 50005",null,"PALO ALTO","CA",94303,"USA","PALO ALTO, CA 94303 USA "]
["DUMORE CORP",123761,"DUMORE CORP","1030 VETERANS ST",null,"MAUSTON","WI",53948,"USA",{"$f":"IF(F964=\"\",\"\",F964&\", \")&IF(G964=\"\",\"\",G964&\" \")&IF(H964=\"\",\"\",H964&\" \")&IF(I964=\"\",\"\",I964&\" \")","v":"MAUSTON, WI 53948 USA "}]
["DUNIWAY STOCKROOM",26510,"DUNIWAY STOCKROOM","1600 N SHORELINE BLVD",null,"MOUNTAIN VIEW","CA",94043,"USA","MOUNTAIN VIEW, CA 94043 USA "]
["DUNN & BRADSTREET",128883,"DUNN & BRADSTREET","899 EATON AVE",null,"BETHLEHEM","PA",18025,"USA","BETHLEHEM, PA 18025 USA "]
["DUPLICATING SERVICES","UW0012","DUPLICATING SERVICES","30 N. MURRAY ST.",null,"MADISON","WI",53715,"USA","MADISON, WI 53715 USA "]
["DURABLE CONTROLS INC",3957,"DURABLE CONTROLS INC","PO BOX 409",null,"HARTLAND","WI",530290409,"USA","HARTLAND, WI 530290409 USA "]
["DURAQUEST, INC",126655,"DURAQUEST, INC","3901 FM 1485",null,"CONROE","TX",77306,"USA","CONROE, TX 77306 USA "]
["DWYER INSTRUMENTS INC",6156,"DWYER INSTRUMENTS INC","102 INDIANA HYW 212",null,"MICHIGAN CITY","IN",46360,"USA","MICHIGAN CITY, IN 46360 USA "]
["DWYER INSTRUMENTS INC",3987,"DWYER INSTRUMENTS INC","PO BOX 373",null,"MICHIGAN CITY","IN",46360,"USA","MICHIGAN CITY, IN 46360 USA "]
["DYER PACKAGING INC",133124,"DYER PACKAGING INC","689 EXECUTIVE DR",null,"WILLOWBROOK","IL",60527,"USA","WILLOWBROOK, IL 60527 USA "]
["DYER TECHNOLOGY",128465,"DYER TECHNOLOGY","23 EXECUTIVE DR",null,"HUDSON","NH",3051,"USA","HUDSON, NH 3051 USA "]
["DYNABRADE INC",124169,"DYNABRADE INC","8989 SHERIDAN DR",null,"CLARENCE","NY",14031,"USA","CLARENCE, NY 14031 USA "]
["DYNAK INC",3505,"DYNAK INC","33 SAGINAW DR",null,"ROCHESTER","NY","14623-3131","USA","ROCHESTER, NY 14623-3131 USA "]
["DYNALENE HEAT TRANSFER",107797,"DYNALENE HEAT TRANSFER","5250 W. COPLAY RD.",null,"WHITEHALL","PA",18052,"USA","WHITEHALL, PA 18052 USA "]
["DYNALOY LLC",128026,"DYNALOY LLC","6445 OLIVIA LN",null,"INDIANAPOLIS","IN",46226,"USA","INDIANAPOLIS, IN 46226 USA "]
["DYNAMIC COMPUTER PRODUCTS",8415,"DYNAMIC COMPUTER PRODUCTS","63 COMMERCIAL AVENUE",null,"GARDEN CITY","NY",11530,"USA","GARDEN CITY, NY 11530 USA "]
["DYNAOPTIC-MOTION CORP.",101288,"DYNAOPTIC-MOTION CORP.","23561 RIDGE ROUTE DR.","STE U","LAGUNA HILLS","CA",92653,"USA","LAGUNA HILLS, CA 92653 USA "]
["DYNAPOWER",106143,"DYNAPOWER","PO BOX 9210",null,"S. BURLINGTON","VERMONT","05407-9210","USA","S. BURLINGTON, VERMONT 05407-9210 USA "]
["E M FACILITY","UW0059","E M FACILITY","1300 UNIVERSITY AVE RM 142",null,"MADISON","WI",53706,"USA","MADISON, WI 53706 USA "]
["E-FILLIATE (CYBERGUYS)",111165,"E-FILLIATE (CYBERGUYS)","11321 WHITE ROCK RD",null,"RANCHO CORDOVA","CA",95742,"USA","RANCHO CORDOVA, CA 95742 USA "]
["EAGLE INSTRUMENT SERVICES",128944,"EAGLE INSTRUMENT SERVICES","2929 S FLOYD ST",null,"LOUISVILLE","KY",40209,"USA","LOUISVILLE, KY 40209 USA "]
["EAGLE STAINLESS",94843,"EAGLE STAINLESS","10 DISCOVERY WAY",null,"FRANKLIN","MA",2038,"USA","FRANKLIN, MA 2038 USA "]
["EARL COTTER COMPANY",126376,"EARL COTTER COMPANY","1900 \"R\" ST., P. O. BOX 81276",null,"LINCOLN","NE",68501,"USA","LINCOLN, NE 68501 USA "]
["EARLE M JORGENSEN CO",38240,"EARLE M JORGENSEN CO","PO BOX 1900",null,"SCHAUMBURG","IL",60192,"USA","SCHAUMBURG, IL 60192 USA "]
["EARTHWORKS",123097,"EARTHWORKS","24 TENISON AVE",null,"CAMBRIDGE CB1 2DY","UK",null,"USA","CAMBRIDGE CB1 2DY, UK USA "]
["EASTERN AIR DEVICES",33247,"EASTERN AIR DEVICES","1 PROGRESS DR",null,"DOVER","NH",3820,"USA","DOVER, NH 3820 USA "]
["EBTEC CORPORATION",36236,"EBTEC CORPORATION","ENERGY BEAM SCIENCES","11 BOWLES RD","AGAWAM","MA",1001,"USA","AGAWAM, MA 1001 USA "]
["ECD",76570,"ECD","13626 S FREEMAN RD",null,"MULINO","OR",97042,"USA","MULINO, OR 97042 USA "]
["ECHINAUSA CORP",133684,"ECHINAUSA CORP","1903 SCAFFOLD WAY #A",null,"ODENTON","MD",21113,"USA","ODENTON, MD 21113 USA "]
["ECHIP INC",83722,"ECHIP INC","724 YORKLYN RD","SUITE 350","HOCKESSIN","DE",197079770,"USA","HOCKESSIN, DE 197079770 USA "]
["ECI ELECTROMAGNETIC COMPONENTS",123951,"ECI ELECTROMAGNETIC COMPONENTS","53 MAIN LINE DRIVE",null,"WESTFIELD","MA",1086,"USA","WESTFIELD, MA 1086 USA "]
["ECONCO BROADCAST SERVICE",61445,"ECONCO BROADCAST SERVICE","1318 COMMERCE AVE",null,"WOODLAND","CA",95695,"USA","WOODLAND, CA 95695 USA "]
["ECONOMICS PRESS INC",32817,"ECONOMICS PRESS INC","12 DANIEL RD",null,"FAIRFIELD","NJ",70049987,"USA","FAIRFIELD, NJ 70049987 USA "]
["ECOST.COM",111308,"ECOST.COM","2555 W 190TH ST",null,"TORRANCE","CA",90504,"USA","TORRANCE, CA 90504 USA "]
["EDAL INDUSTRIES",110118,"EDAL INDUSTRIES","51 COMMERCE STREET",null,"EAST HAVEN","CT",6512,"USA","EAST HAVEN, CT 6512 USA "]
["EDER FLAG MFG CO",61615,"EDER FLAG MFG CO","1000 W RAWSON AVE",null,"OAK CREEK","WI",53154,"USA","OAK CREEK, WI 53154 USA "]
["EDGEWOOD COLLEGE",31198,"EDGEWOOD COLLEGE","1000 EDGEWOOD COLLEGE DR",null,"MADISON","WI",53711,"USA","MADISON, WI 53711 USA "]
["EDMUND INDUSTRIAL OPTICS",114758,"EDMUND INDUSTRIAL OPTICS","101 EAST GLOUCESTER PIKE",null,"BARRINGTON","NJ",8007,"USA","BARRINGTON, NJ 8007 USA "]
["EDMUND SCIENTIFIC CORP",4134,"EDMUND SCIENTIFIC CORP","EDSCORP BLDG","101 E GLOUCESTER PIKE","BARRINGTON","NJ",80071380,"USA","BARRINGTON, NJ 80071380 USA "]
["EDO WESTERN",63505,"EDO WESTERN","2654 300 WEST",null,"SALT LAKE CITY","UT",84115,"USA","SALT LAKE CITY, UT 84115 USA "]
["EDP/TRI-OPTIC",53941,"EDP/TRI-OPTIC","2550 W MIDWAY BLVD",null,"BROOMFIELD","CO",80020,"USA","BROOMFIELD, CO 80020 USA "]
["EDS MANUFACTURING",130139,"EDS MANUFACTURING","765 N TARGET RANGE RD",null,"NOGALES","AZ",85621,"USA","NOGALES, AZ 85621 USA "]
["EDUCATIONAL CREDENTIAL EVALUAT",109325,"EDUCATIONAL CREDENTIAL EVALUAT","PO BOX 514070",null,"MILWAUKEE","WI",53203,"USA","MILWAUKEE, WI 53203 USA "]
["EDUCATIONAL INNOVATIONS",118473,"EDUCATIONAL INNOVATIONS","362 MAIN AVE",null,"NORWALK","CT",6851,"USA","NORWALK, CT 6851 USA "]
["EDWARDS HIGH VACUUM CO",4199,"EDWARDS HIGH VACUUM CO","1 EDWARDS PARK","301 BALLARDVALE ST","WILMINGTON","MA",1887,"USA","WILMINGTON, MA 1887 USA "]
["EDWARDS VACUUM INC",134244,"EDWARDS VACUUM INC","6400 INDUCON CORPORATE DRIVE",null,"SANBORN","NY",14132,"USA","SANBORN, NY 14132 USA "]
["EECS/MICROFABRICATION LAB",101098,"EECS/MICROFABRICATION LAB","406 CORY HALL #1770",null,"BERKELEY","CA",94720,"USA","BERKELEY, CA 94720 USA "]
["EESCO COMMUNICATION SYSTEMS",10666,"EESCO COMMUNICATION SYSTEMS","730 SULLIVAN DRIVE",null,"FOND DU LAC","WI",54935,"USA","FOND DU LAC, WI 54935 USA "]
["EEYE DIGITAL SECURITY",122043,"EEYE DIGITAL SECURITY","1 COLUMBIA","STE 100","ALISO VIEJO","CA",92656,"USA","ALISO VIEJO, CA 92656 USA "]
["EF FULLAM INC",4983,"EF FULLAM INC","900 ALBANY SHAKER RD",null,"LATHAM","NY",12110,"USA","LATHAM, NY 12110 USA "]
["EG&G ELECTRO OPTICS",26103,"EG&G ELECTRO OPTICS","35 CONGRESS ST",null,"SALEM","MA",1970,"USA","SALEM, MA 1970 USA "]
["EG&G PARC",46007,"EG&G PARC","CN 5206",null,"PRINCETON","NJ",8543,"USA","PRINCETON, NJ 8543 USA "]
["EGGIMAN MOTOR & EQUIPMENT",4205,"EGGIMAN MOTOR & EQUIPMENT","1813 W BELTLINE HWY",null,"MADISON","WI",53713,"USA","MADISON, WI 53713 USA "]
["EIPB96",100053,"EIPB96","DONALD TENNANT, CONF. CHAIRMAN","LUCENT TECHNOLOGIES","HOLMDEL","NJ","07733-3030","USA","HOLMDEL, NJ 07733-3030 USA "]
["EIS",30397,"EIS","10448 N PORT WASHINGTON RD",null,"MEQUON","WI",53092,"USA","MEQUON, WI 53092 USA "]
["EIS INC",116369,"EIS INC","789 W BELDEN",null,"ADDISON","IL",60101,"USA","ADDISON, IL 60101 USA "]
["EKF DESIGN & DEVELOPMENT CORP",76328,"EKF DESIGN & DEVELOPMENT CORP","13965 W BURLEIGH RD",null,"BROOKFIELD","WI",53005,"USA","BROOKFIELD, WI 53005 USA "]
["EL ESSLEY MACHINING",59014,"EL ESSLEY MACHINING","PO BOX 3607",null,"OAK BROOK","IL",605223607,"USA","OAK BROOK, IL 605223607 USA "]
["ELEC MOTOR REPAIR INC",126618,"ELEC MOTOR REPAIR INC","2010 N 4TH ST",null,"MINNEAPOLIS","MN",55411,"USA","MINNEAPOLIS, MN 55411 USA "]
["ELECTRIC CONSTRUCTION, INC",85167,"ELECTRIC CONSTRUCTION, INC","2861 INDEX RD",null,"MADISON","WI",53713,"USA","MADISON, WI 53713 USA "]
["ELECTRIC MOTOR SERVICE CO",4236,"ELECTRIC MOTOR SERVICE CO","1901 WRIGHT ST",null,"MADISON","WI",53704,"USA","MADISON, WI 53704 USA "]
["ELECTRIC MOTOR WAREHOUSE",125367,"ELECTRIC MOTOR WAREHOUSE","G 1460 E. HEMPHILL",null,"BURTON","MI",48529,"USA","BURTON, MI 48529 USA "]
["ELECTRIC MOTORS UNLIMITED",4237,"ELECTRIC MOTORS UNLIMITED","1000 JONATHON DR",null,"MADISON","WI",53713,"USA","MADISON, WI 53713 USA "]
["ELECTRICAL INSULATION SUPPLIER",102606,"ELECTRICAL INSULATION SUPPLIER","1200 CHASTAIN ROAD STE 206",null,"KENNESAW","GA",30144,"USA","KENNESAW, GA 30144 USA "]
[{"$f":"IF($C1027=\"\",\"\",$C1027)","v":"ELECTRICAL TESTING LAB"},16061,"ELECTRICAL TESTING LAB","201 E THIRD ST",null,"WAUNAKEE","WI",53597,"USA","WAUNAKEE, WI 53597 USA "]
["ELECTRICAL WORLD INDUSTRIAL",106291,"ELECTRICAL WORLD INDUSTRIAL","P.O. BOX 2536",null,"NORTH CANTON","OH",44720,"USA",{"$f":"IF(F1028=\"\",\"\",F1028&\", \")&IF(G1028=\"\",\"\",G1028&\" \")&IF(H1028=\"\",\"\",H1028&\" \")&IF(I1028=\"\",\"\",I1028&\" \")","v":"NORTH CANTON, OH 44720 USA "}]
["ELECTRO INDUSTRIES",135599,"ELECTRO INDUSTRIES","1800 SHAMES DR",null,"WESTBURY","NY",11590,"USA","WESTBURY, NY 11590 USA "]
["ELECTRO INSULATION",82966,"ELECTRO INSULATION","3921 VENTURA DRIVE",null,"ARLINGTON HEIGHTS","IL",60009,"USA","ARLINGTON HEIGHTS, IL 60009 USA "]
["ELECTRO POWER LLC",125246,"ELECTRO POWER LLC","5225 W STATE ST",null,"MILWAUKEE","WI",53208,"USA","MILWAUKEE, WI 53208 USA "]
["ELECTRO RENT CORP",112973,"ELECTRO RENT CORP","2875 BRECKINRIDGE BLVD","SUITE 900","DULUTH","GA",30096,"USA","DULUTH, GA 30096 USA "]
["ELECTRO SWITCH",79073,"ELECTRO SWITCH","180 KING AVE",null,"WEYMOUTH","MA",2188,"USA","WEYMOUTH, MA 2188 USA "]
["ELECTRO-OPTICAL PRODUCTS",136089,"ELECTRO-OPTICAL PRODUCTS","62-40 FOREST AVE, 2ND FL",null,"RIDGEWOOD","NY",11385,"USA","RIDGEWOOD, NY 11385 USA "]
["ELECTROMATIC EQUIPMNET CO, INC",122242,"ELECTROMATIC EQUIPMNET CO, INC","600 OAKLAND AVE",null,"CEDARHURST","NY",11516,"USA","CEDARHURST, NY 11516 USA "]
["ELECTRON MICROSCOPY SCIENCES",4267,"ELECTRON MICROSCOPY SCIENCES","321 MORRIS RD","PO BOX 251","FORT WASHINGTON","PA",19034,"USA","FORT WASHINGTON, PA 19034 USA "]
["ELECTRONIC CONNECTOR CORP",4272,"ELECTRONIC CONNECTOR CORP","6332 S. CENTRAL AVE.",null,"CHICAGO","IL",60638,"USA","CHICAGO, IL 60638 USA "]
["ELECTRONIC EXPEDITORS INC",6722,"ELECTRONIC EXPEDITORS INC","6045 N GREEN BAY AVE",null,"MILWAUKEE","WI",532090454,"USA","MILWAUKEE, WI 532090454 USA "]
["ELECTRONIC MEASUREMENTS INC",56102,"ELECTRONIC MEASUREMENTS INC","405 ESSEX RD",null,"NEPTUNE","NJ",7753,"USA","NEPTUNE, NJ 7753 USA "]
["ELECTRONIC NEWS",100769,"ELECTRONIC NEWS","302 FIFTH AVE, 4TH FL",null,"NEW YORK","NEW YORK",10001,"USA","NEW YORK, NEW YORK 10001 USA "]
["ELECTRONIC SOLUTIONS",60530,"ELECTRONIC SOLUTIONS","6790 FLANDERS DRIVE",null,"SAN DIEGO","CA",92121,"USA","SAN DIEGO, CA 92121 USA "]
["ELECTRONICS RESEARCH INC (ERI)",116093,"ELECTRONICS RESEARCH INC (ERI)","7777 GARDNER ROAD",null,"CHANDLER","IN","47610-9219","USA","CHANDLER, IN 47610-9219 USA "]
["ELECTROSHIELD INC",120085,"ELECTROSHIELD INC","708 S HIGH ST",null,"YELLOW SPRINGS","OH",45387,"USA","YELLOW SPRINGS, OH 45387 USA "]
["ELECTROSONIC",127898,"ELECTROSONIC","1100 GORDON BAKER RD",null,"TORONTO  ONTARIO",null,"M2H 3B3","CANADA","TORONTO  ONTARIO, M2H 3B3 CANADA "]
["ELEGANT EDIBLES CATERING",91219,"ELEGANT EDIBLES CATERING","407 S. FEW STREET",null,"MADISON","WI",53703,"USA","MADISON, WI 53703 USA "]
["ELLIOT CO OF INDIANAPOLIS",128468,"ELLIOT CO OF INDIANAPOLIS","9200 ZIONSVILLE RD",null,"INDIANAPOLIS","IN",46268,"USA","INDIANAPOLIS, IN 46268 USA "]
["ELLIS WHOLESALE",4332,"ELLIS WHOLESALE","1424-1501 GILSON",null,"MADISON","WI",53715,"USA","MADISON, WI 53715 USA "]
["ELLSWORTH CORP",4328,"ELLSWORTH CORP","N117 W18711 FULTON DR","PO BOX 1002","GERMANTOWN","WI",530228202,"USA","GERMANTOWN, WI 530228202 USA "]
["ELLSWORTH WELDING",57598,"ELLSWORTH WELDING","2317 MCCOMB RD",null,"STOUGHTON","WI",53589,"USA","STOUGHTON, WI 53589 USA "]
["ELMA ENGINEERING",20882,"ELMA ENGINEERING","1066 E MEADOW CIRCLE",null,"PALO ALTO","CA",94303,"USA","PALO ALTO, CA 94303 USA "]
["ELMITEC",112570,"ELMITEC","ALBRECHT-VON-GRODDECT STR #","D-38678 CLAUSTHAL","ZELLERFELD","GERMANY","GERMANY","USA","ZELLERFELD, GERMANY GERMANY USA "]
["ELSEVIER BIOMEDICAL PRESS",44620,"ELSEVIER BIOMEDICAL PRESS","ATTN:  MS KS GO  RM 9.06","1000 AH AMSTERDAM",null,null,null,"NETHERLANDS","NETHERLANDS "]
["ELSEVIER SCIENCE",117442,"ELSEVIER SCIENCE","6277 SEA HARBOR DR",null,"ORLANDO","FL","32887-4800","USA","ORLANDO, FL 32887-4800 USA "]
["ELSEVIER SCIENCE LTD.",13504,"ELSEVIER SCIENCE LTD.","THE BOULEVARD","LANGFORD LANE","KIDLINGTON","OXFORD","OX5 1GB","ENGLAND","KIDLINGTON, OXFORD OX5 1GB ENGLAND "]
["ELSEVIER SCIENCE PUBLISHING CO",659,"ELSEVIER SCIENCE PUBLISHING CO","655 AVENUE OF AMERICAS",null,"NEW YORK","NY",10010,"USA","NEW YORK, NY 10010 USA "]
["ELSEVIER/ASTROPARTICLE PHYSICS",12568,"ELSEVIER/ASTROPARTICLE PHYSICS","PO BOX 7247 8950",null,"PHILADELPHIA","PA","19170-7682","USA","PHILADELPHIA, PA 19170-7682 USA "]
["EM COATING SERVICES",72642,"EM COATING SERVICES","6940 FARMDALE AVE",null,"NORTH HOLLYWOOD","CA",91605,"USA","NORTH HOLLYWOOD, CA 91605 USA "]
["EM INSTRUMENTS",4246,"EM INSTRUMENTS","153 N MILWAUKEE ST",null,"MILWAUKEE","WI",53202,"USA","MILWAUKEE, WI 53202 USA "]
["EMA DESIGN AUTOMATION",125505,"EMA DESIGN AUTOMATION","PO BOX 23325",null,"ROCHESTER","NY",14692,"USA","ROCHESTER, NY 14692 USA "]
["EMBASSY SUITES",125583,"EMBASSY SUITES","1000 WOODWARD PL NE",null,"ALBUQUERQUE","NM",87102,"USA","ALBUQUERQUE, NM 87102 USA "]
["EMCO HIGH VOLTAGE CO",91043,"EMCO HIGH VOLTAGE CO","11126 RIDGE RD",null,"SUTTER CREEK","CA",95685,"USA","SUTTER CREEK, CA 95685 USA "]
["EMCO INDUSTRIAL PLASTICS, INC",135536,"EMCO INDUSTRIAL PLASTICS, INC","99 COMMERCE RD",null,"CEDAR GROVE","NJ",7009,"USA","CEDAR GROVE, NJ 7009 USA "]
["EMMONS BUSINESS INTERIORS",71026,"EMMONS BUSINESS INTERIORS","4604 HAMMERSLEY RD",null,"MADISON","WI",53711,"USA","MADISON, WI 53711 USA "]
["EMMONS STATIONERY & OFFICE SUP",29721,"EMMONS STATIONERY & OFFICE SUP","601 DIVISION ST","PO BOX 128","STEVENS POINT","WI",54481,"USA","STEVENS POINT, WI 54481 USA "]
["EMOTORSTORE.COM",128550,"EMOTORSTORE.COM","352 ROOSEVELT RD",null,"GLEN ELLYN","IL",60137,"USA","GLEN ELLYN, IL 60137 USA "]
["EMPIRE CLEANING & LAWN SERVICE",107864,"EMPIRE CLEANING & LAWN SERVICE","PO BOX 668",null,"SUN PRAIRIE","WI",53590,"USA","SUN PRAIRIE, WI 53590 USA "]
["EMPIRE INSTRUMENT CO",125189,"EMPIRE INSTRUMENT CO","P O BOX 6326","135 MARINA POINT DR","BIG BEAR LAKE","CA",92315,"USA","BIG BEAR LAKE, CA 92315 USA "]
["ENCO MANUFACTURING COMPANY",4371,"ENCO MANUFACTURING COMPANY","5000 W BLOOMINGDALE",null,"CHICAGO","IL",60639,"USA","CHICAGO, IL 60639 USA "]
["ENERQUIP ELECTRO-POLISH",126486,"ENERQUIP ELECTRO-POLISH","550 E CENTRALIA ST",null,"ELKHORN","WI",53121,"USA","ELKHORN, WI 53121 USA "]
["ENGELHART SPORTS CENTER",4393,"ENGELHART SPORTS CENTER","1589 GREENWAY CROSS",null,"MADISON","WI",53713,"USA","MADISON, WI 53713 USA "]
["ENGINE SPECIALTIES",39608,"ENGINE SPECIALTIES","4307 ACKER RD",null,"MADISON","WI",53704,"USA","MADISON, WI 53704 USA "]
["ENGINEERED PACKAGING SOLUTIONS",126240,"ENGINEERED PACKAGING SOLUTIONS","433 W. ALLEN AVENUE, SUITE 106",null,"SAN DIMAS","CA",91773,"USA","SAN DIMAS, CA 91773 USA "]
["ENGINEERING AUDIOVISUAL SERV.","UW0039","ENGINEERING AUDIOVISUAL SERV.","RM 1712 ENGR HALL",null,"MADISON","WI",53706,"USA","MADISON, WI 53706 USA "]
["ENGINEERING BOOKSTORE.COM",123760,"ENGINEERING BOOKSTORE.COM","120 S 7TH ST",null,"TERRE HAUTE","IN",47807,"USA","TERRE HAUTE, IN 47807 USA "]
["ENGINEERING GEAR SYSTEMS CORP",117563,"ENGINEERING GEAR SYSTEMS CORP","PO BOX 13765",null,"MILWAUKEE","WI","53213-0765","USA","MILWAUKEE, WI 53213-0765 USA "]
["ENGINEERING OUTREACH","UW0013","ENGINEERING OUTREACH","COLLEGE OF ENGINEERING","1415 JOHNSON DRIVE","MADISON","WI","53706-1691","USA","MADISON, WI 53706-1691 USA "]
["ENGINEERING REGISTRATION","UW0032","ENGINEERING REGISTRATION","432 N LAKE ST",null,"MADISON","WI",null,"USA","MADISON, WI USA "]
["ENGMAN TAYLOR CO INC",4399,"ENGMAN TAYLOR CO INC","W142N9351 FOUNTAIN BLVD","PO BOX 9008","MENOMONEE FALLS","WI",530519008,"USA","MENOMONEE FALLS, WI 530519008 USA "]
["ENGRAVING & TROPHY SPECIALISTS",115456,"ENGRAVING & TROPHY SPECIALISTS","15 N BIRD ST",null,"SUN PRAIRIE","WI",53590,"USA","SUN PRAIRIE, WI 53590 USA "]
["ENPRO INC",84670,"ENPRO INC","121 S LOMBARD RD",null,"ADDISON","IL",60101,"USA","ADDISON, IL 60101 USA "]
["ENTEGRIS",3923,"ENTEGRIS","3500 LYMAN BLVD",null,"CHASKA","MN",55318,"USA","CHASKA, MN 55318 USA "]
["ENTERPRISE RENT A CAR",104065,"ENTERPRISE RENT A CAR","6514 ODANA RD",null,"MADISON","WI",53719,"USA","MADISON, WI 53719 USA "]
["ENTERPRISE STEELFAB",61597,"ENTERPRISE STEELFAB","101 E SNELL RD","PO BOX 2503","OSHKOSH","WI",54903,"USA","OSHKOSH, WI 54903 USA "]
["ENTHONE",109978,"ENTHONE","9809 INDUSTRIAL DRIVE",null,"BRIDGEVIEW","IL",60455,"USA","BRIDGEVIEW, IL 60455 USA "]
["ENTHONE",103090,"ENTHONE","93 MARSH HILL ROAD",null,"ORANGE","CT",6477,"USA","ORANGE, CT 6477 USA "]
["ENTHONE INC",36747,"ENTHONE INC","9809 INDUSTRIAL AVE",null,"BRIDGEVIEW","IL",60455,"USA","BRIDGEVIEW, IL 60455 USA "]
["ENTRAN DEVICES INC",69941,"ENTRAN DEVICES INC","10 WASHINGTON AVE",null,"FAIRFIELD","NJ","07004-3877","USA","FAIRFIELD, NJ 07004-3877 USA "]
["ENTRE COMPUTER CENTER",28479,"ENTRE COMPUTER CENTER","2005 WEST BELTLINE HIGHWAY",null,"MADISON","WI","53713-2337","USA","MADISON, WI 53713-2337 USA "]
["ENTRE COMPUTER CENTER",43330,"ENTRE COMPUTER CENTER","1945 W BROADWAY",null,"MADISON","WI",53713,"USA","MADISON, WI 53713 USA "]
["ENTRUST TOOL AND DESIGN",126136,"ENTRUST TOOL AND DESIGN","N58W14630 SHAWN CIRCLE",null,"MENOMONEE FALLS","WI",53051,"USA","MENOMONEE FALLS, WI 53051 USA "]
[{"$f":"IF($C1091=\"\",\"\",$C1091)","v":"ENTWISTLE METAL FABRICATING"},4407,"ENTWISTLE METAL FABRICATING","4411 TRIANGLE",null,"MCFARLAND","WI",53558,"USA","MCFARLAND, WI 53558 USA "]
["ENVIRO-TECH SERVICES",130032,"ENVIRO-TECH SERVICES","4851 SUNRISE DR  # 101",null,"MARTINEZ","CA",94553,"USA",{"$f":"IF(F1092=\"\",\"\",F1092&\", \")&IF(G1092=\"\",\"\",G1092&\" \")&IF(H1092=\"\",\"\",H1092&\" \")&IF(I1092=\"\",\"\",I1092&\" \")","v":"MARTINEZ, CA 94553 USA "}]
["ENVIRON LABORATORIES LLC",129963,"ENVIRON LABORATORIES LLC","9725 GIRARD AVE S",null,"BLOOMINGTON","MN",55431,"USA","BLOOMINGTON, MN 55431 USA "]
["ENVIRONMENTAL PROTECTION & SAF","UW0063","ENVIRONMENTAL PROTECTION & SAF","30 N MURRAY ST",null,"MADISON","WI",53715,"USA","MADISON, WI 53715 USA "]
["EO JOHNSON",1599,"EO JOHNSON","% GORDON FLESCH","2101 W BELTLINE HWY","MADISON","WI",53713,"USA","MADISON, WI 53713 USA "]
["EO JOHNSON",1595,"EO JOHNSON","% MADISON LEASING COMPANY","2009 W BELTLINE HWY","MADISON","WI",53701,"USA","MADISON, WI 53701 USA "]
["EQUIP FOR TECH & SCIENCE",119312,"EQUIP FOR TECH & SCIENCE","33 GREAT OAKS BLVD",null,"SAN JOSE","CA",95119,"USA","SAN JOSE, CA 95119 USA "]
["EQUIPMENT MANAGEMENT & CO",132940,"EQUIPMENT MANAGEMENT & CO","22824 W WINCHESTER DR",null,"CHANNAHON","IL",60410,"USA","CHANNAHON, IL 60410 USA "]
["EQUIS INTERNATIONAL INC",27804,"EQUIS INTERNATIONAL INC","3950 SOUTH 700 EAST,STE 100",null,"SALT LAKE CITY","UT",84107,"USA","SALT LAKE CITY, UT 84107 USA "]
["ERA REFRIGERATION",13623,"ERA REFRIGERATION","817 STEWART ST","PO BOX 9892","MADISON","WI",53713,"USA","MADISON, WI 53713 USA "]
["ERGO IN DEMAND, INC",123296,"ERGO IN DEMAND, INC","4900 INDUSTRY DR",null,"CENTRAL POINT","OR",97502,"USA","CENTRAL POINT, OR 97502 USA "]
["ERICSSON NETWORK TECHNOLOGIES",124919,"ERICSSON NETWORK TECHNOLOGIES","KABELVAGEN 1",null,null,"HUDIKSVALL",82482,"SWEDEN","HUDIKSVALL 82482 SWEDEN "]
["ERICSSON NETWORK TECHNOLOGIES",100096,"ERICSSON NETWORK TECHNOLOGIES","SE-824 82",null,"HUDIKSVALL",null,null,"SWEDEN","HUDIKSVALL, SWEDEN "]
["ESCO PRODUCTS",4456,"ESCO PRODUCTS","171 OAK RIDGE RD",null,"OAK RIDGE","NJ",74380155,"USA","OAK RIDGE, NJ 74380155 USA "]
["ESCO PRODUCTS",4457,"ESCO PRODUCTS","171 OAK RIDGE ROAD",null,"<OAK RIDGE","NJ","07438-0155","USA","<OAK RIDGE, NJ 07438-0155 USA "]
["ESMENA USA",125241,"ESMENA USA","10660 MILLINGTON CT",null,"CINCINNATI","OH",45242,"USA","CINCINNATI, OH 45242 USA "]
["ESSEN HAUS",83225,"ESSEN HAUS","514 E. WILSON ST",null,"MADISON","WI",53703,"USA","MADISON, WI 53703 USA "]
["ETG INC",121411,"ETG INC","6000 VENICE BLVD",null,"LOS ANGELES","CA",90034,"USA","LOS ANGELES, CA 90034 USA "]
["ETOMIC STEEL STRUCTURES INC",128222,"ETOMIC STEEL STRUCTURES INC","P O BOX 664",null,"LEWISVILLE","KY",27023,"USA","LEWISVILLE, KY 27023 USA "]
["EURO MACHINERY SPECIALISTS",117901,"EURO MACHINERY SPECIALISTS","N59W14272 BOBOLINK AVE",null,"MENOMONEE FALLS","WI",53051,"USA","MENOMONEE FALLS, WI 53051 USA "]
["EUROCONGRES CONFERENCE MGMT",117368,"EUROCONGRES CONFERENCE MGMT","ICHEP CONF","JAN VAN GOYENKADE 11","AMSTERDAM",null,"NL-1075","USA","AMSTERDAM, NL-1075 USA "]
["EUROTHERM PROCESS AUTOMATION",35587,"EUROTHERM PROCESS AUTOMATION","1 PHEASANT RUN",null,"NEWTOWN","PA",18940,"USA","NEWTOWN, PA 18940 USA "]
["EVGA",134729,"EVGA","2913 SATURN ST",null,"BREA","CA",92821,"USA","BREA, CA 92821 USA "]
["EVOLUENT",129553,"EVOLUENT","617 VIEW RIDGE DR",null,"PACIFICA","CA",94044,"USA","PACIFICA, CA 94044 USA "]
["EXACT SOFTWARE","K00030","EXACT SOFTWARE","P.O. BOX 1066",null,"CINCINNATI","OH",45264,"USA","CINCINNATI, OH 45264 USA "]
["EXACT SOFTWARE",10816,"EXACT SOFTWARE","8800 LYRA DR","STE 350","COLUMBUS","OH",43240,"USA","COLUMBUS, OH 43240 USA "]
["EXCEL PRECISION",73490,"EXCEL PRECISION","3255 SCOTT BLVD  SUITE 7E",null,"SANTA CLARA","CA",95051,"USA","SANTA CLARA, CA 95051 USA "]
["EXEL GRAND HOTEL",100023,"EXEL GRAND HOTEL","722 JOHN NOLEN DRIVE",null,"MADISON","WI",53713,"USA","MADISON, WI 53713 USA "]
["EXPOCON MGMT ASSOC INC",56576,"EXPOCON MGMT ASSOC INC","363 REEF RD","P. O. BOX 915","FAIRFIELD","CT","06430-0915","USA","FAIRFIELD, CT 06430-0915 USA "]
["EXPRESS SYSTEMS & PERIPHERALS",125479,"EXPRESS SYSTEMS & PERIPHERALS","840 HERMAN RD BUILDING 5",null,"JACKSON","NJ",8527,"USA","JACKSON, NJ 8527 USA "]
["EXTRUTECH PLASTICS INC",128268,"EXTRUTECH PLASTICS INC","5902 W. CUSTER ST",null,"MANITOWOC","WI",54220,"USA","MANITOWOC, WI 54220 USA "]
["EZ HOOK",4035,"EZ HOOK","P.O. BOX 660729",null,"ARCADIA","CA","91006-0729","USA","ARCADIA, CA 91006-0729 USA "]
["F CHART SOFTWARE",63679,"F CHART SOFTWARE","4406 FOX BLUFF RD",null,"MIDDLETON","WI",53562,"USA","MIDDLETON, WI 53562 USA "]
["FABCO EQUIPMENT",39273,"FABCO EQUIPMENT","1111 APPLEGATE RD",null,"MADISON","WI",53725,"USA","MADISON, WI 53725 USA "]
["FABCO RENTS",133856,"FABCO RENTS","901 WALSH RD",null,"MADISON","WI",53714,"USA","MADISON, WI 53714 USA "]
["FABRICATION SERVICES",109321,"FABRICATION SERVICES","JBJ BUSINESS PARK","NORTHAMPTON ROAD","BLISWORTH","NORTHAMPTON","NN73DW","ENGLAND","BLISWORTH, NORTHAMPTON NN73DW ENGLAND "]
["FACILITIES PLANNING & MANAGEME","UW0030","FACILITIES PLANNING & MANAGEME","FP&M","807 WARF","MADISON","WI","53705-2336","USA","MADISON, WI 53705-2336 USA "]
["FACSS XXII",30896,"FACSS XXII","201B BROADWAY STREET",null,"FREDERICK","MD","21701-6501","USA","FREDERICK, MD 21701-6501 USA "]
["FACTORY SUPPLIES COMPANY",70048,"FACTORY SUPPLIES COMPANY","2111 23RD AV","PO BOX 1568","ROCKFORD","IL",61110,"USA","ROCKFORD, IL 61110 USA "]
["FADAL",121625,"FADAL","121 PLUMMER ST",null,"CHATSWORTH","CA",91311,"USA","CHATSWORTH, CA 91311 USA "]
["FALMAT",122864,"FALMAT","1873 DIAMONT ST",null,"SAN MARCOS","CA",92078,"USA","SAN MARCOS, CA 92078 USA "]
["FAR WEST TECHNOLOGY INC",4580,"FAR WEST TECHNOLOGY INC","330 D SOUTH KELLOGG",null,"GOLETA","CA",93117,"USA","GOLETA, CA 93117 USA "]
["FARGO ELECTRONICS INCORP.",89447,"FARGO ELECTRONICS INCORP.","7901 FLYING CLOUD DRIVE",null,"EDEN PRAIRIE","MN",55344,"USA","EDEN PRAIRIE, MN 55344 USA "]
["FARGO TANK & STEEL CO",135557,"FARGO TANK & STEEL CO","4401 W. MAIN AVE","PO BOX 2044","FARGO","ND",58107,"USA","FARGO, ND 58107 USA "]
["FARMERS COPPER LTD",76617,"FARMERS COPPER LTD","202 37TH ST",null,"GALVERSTON","TX",77553,"USA","GALVERSTON, TX 77553 USA "]
["FARO TECHNOLOGIES INC",17232,"FARO TECHNOLOGIES INC","250 TECHYNOLOGY PARK",null,"LAKE MARY","FL",32746,"USA","LAKE MARY, FL 32746 USA "]
["FAST TRACK LOGISTICS",130537,"FAST TRACK LOGISTICS","73 MAIN ST",null,"WOODBRIDGE","NJ",7095,"USA","WOODBRIDGE, NJ 7095 USA "]
["FASTENAL",127767,"FASTENAL","1740 E MAIN ST",null,"STOUGHTON","WI",53589,"USA","STOUGHTON, WI 53589 USA "]
["FASTENAL CO",10379,"FASTENAL CO","4606 PFLAUM RD",null,"MADISON","WI",53704,"USA","MADISON, WI 53704 USA "]
["FASTENATION INC",126281,"FASTENATION INC","245 4TH ST","BLDG 1","PASSAIC","NJ",7055,"USA","PASSAIC, NJ 7055 USA "]
["FASTENER-EXPRESS.COM",124013,"FASTENER-EXPRESS.COM","23132 LA CADENA DR SUITE E",null,"LAGUNA HILLS","CA",92653,"USA","LAGUNA HILLS, CA 92653 USA "]
["FASTLINE TRAILER MFG",133933,"FASTLINE TRAILER MFG","600 S 17TH ST",null,"MARYSVILLE","KS",66508,"USA","MARYSVILLE, KS 66508 USA "]
["FAT JACKS",108423,"FAT JACKS","6207 MONONA DRIVE",null,"MONONA","WI",53716,"USA","MONONA, WI 53716 USA "]
["FED OF ENVIRONMENTAL TECH",76772,"FED OF ENVIRONMENTAL TECH","P O BOX 185",null,"MILWAUKEE","WI",53201,"USA","MILWAUKEE, WI 53201 USA "]
["FED TECH IN",111424,"FED TECH IN","4763 MUSTANG CIRCLE",null,"MOUNDS VIEW","MN",55112,"USA","MOUNDS VIEW, MN 55112 USA "]
["FEDERAL EXPRESS",29355,"FEDERAL EXPRESS","1 S. PINCKNEY",null,"MADISON","WI",53703,"USA","MADISON, WI 53703 USA "]
["FEDERAL EXPRESS CORP",47730,"FEDERAL EXPRESS CORP","PO BOX 1140  DEPT A",null,"MEMPHIS","TN",38101,"USA","MEMPHIS, TN 38101 USA "]
["FEDERAL FOAM",97452,"FEDERAL FOAM","3558 2ND STREET N",null,"MINNEAPOLIS","MN",55412,"USA","MINNEAPOLIS, MN 55412 USA "]
["FEDERAL PROCESS CORPORATION",121520,"FEDERAL PROCESS CORPORATION","4620 RICHMOND RD.",null,"CLEVELAND","OH",44128,"USA","CLEVELAND, OH 44128 USA "]
["FEHRMAN CONSTRUCTION",22953,"FEHRMAN CONSTRUCTION","5765 TWIN LANE ROAD",null,"MARSHALL","WI",53559,"USA","MARSHALL, WI 53559 USA "]
["FEICO",31171,"FEICO","19500 NW GIBBS DR  SUITE 100",null,"BEAVERTON","OR",970066907,"USA","BEAVERTON, OR 970066907 USA "]
["FERGUSON ENTERPRISES, INC.",1386,"FERGUSON ENTERPRISES, INC.","4505 TRIANGLE STREET",null,"MCFARLAND","WI",53558,"USA","MCFARLAND, WI 53558 USA "]
["FERGUSON-THRALL",6251,"FERGUSON-THRALL","4250 MCFARLAND RD",null,"LOVES PARK","IL",611114406,"USA","LOVES PARK, IL 611114406 USA "]
["FERRULES DIRECT",126793,"FERRULES DIRECT","37251 C EAST RICHARDSON LANE",null,"PURCELLVILLE","VA",20132,"USA","PURCELLVILLE, VA 20132 USA "]
[{"$f":"IF($C1155=\"\",\"\",$C1155)","v":"FEYZI, KEVAN"},556564,"FEYZI, KEVAN",null,null,null,null,null,"USA","USA "]
["FIBEROPTIC SYSTEMS INC",109601,"FIBEROPTIC SYSTEMS INC","60 MORELAND RD","UNIT A","SIMI VALLEY","CA",93065,"USA",{"$f":"IF(F1156=\"\",\"\",F1156&\", \")&IF(G1156=\"\",\"\",G1156&\" \")&IF(H1156=\"\",\"\",H1156&\" \")&IF(I1156=\"\",\"\",I1156&\" \")","v":"SIMI VALLEY, CA 93065 USA "}]
["FIBERTECH OPTICA",126945,"FIBERTECH OPTICA","330 GAGE AVE","STE 11","KITCHENER","ONTARIO","CANADA","USA","KITCHENER, ONTARIO CANADA USA "]
["FIL TECH INC",58814,"FIL TECH INC","6 PINCKNEY ST",null,"BOSTON","MA",2114,"USA","BOSTON, MA 2114 USA "]
["FILMETRICS INC",102702,"FILMETRICS INC","7675 DAGGET ST #140",null,"SAN DIEGO","CA",92111,"USA","SAN DIEGO, CA 92111 USA "]
["FILTER CONCEPTS",27008,"FILTER CONCEPTS","2624 S. ROUSSELLE ST",null,"SANTA ANA","CA",92707,"USA","SANTA ANA, CA 92707 USA "]
["FINLE TECHNOLOGIES",90878,"FINLE TECHNOLOGIES","PO BOX 261034",null,"PLANO","TX",750261034,"USA","PLANO, TX 750261034 USA "]
["FIORE COMPANIES",124991,"FIORE COMPANIES","150 EAST GILMAN ST",null,"MADISON","WI",53703,"USA","MADISON, WI 53703 USA "]
["FIRST RESPONDER PRODUCTS, INC.",130376,"FIRST RESPONDER PRODUCTS, INC.","7047 EAST GREENWAY PKWY","STE. 250","SCOTTSDALE","AZ",85254,"USA","SCOTTSDALE, AZ 85254 USA "]
["FIRST SOURCE INTL",89665,"FIRST SOURCE INTL","36 ARGONAUT","SUITE 140","ALISO VIEJO","CA",92656,"USA","ALISO VIEJO, CA 92656 USA "]
["FIRST SUPPLY",4837,"FIRST SUPPLY","6800 GISHOLT DR","PO BOX 8124","MADISON","WI",537138124,"USA","MADISON, WI 537138124 USA "]
["FIRST TECH COMPUTER",120413,"FIRST TECH COMPUTER","2640 HENNEPIN AVE SOUTH",null,"MINNEAPOLIS","MN","55408-1189","USA","MINNEAPOLIS, MN 55408-1189 USA "]
["FIRST TECHNOLOGIES",22962,"FIRST TECHNOLOGIES","PO BOX 430",null,"BIG BEND","WI","53103-0430","USA","BIG BEND, WI 53103-0430 USA "]
["FISH LUMBER COMPANY",45619,"FISH LUMBER COMPANY","1102 LUMBERMAN TRAIL",null,"MADISON","WI",53716,"USA","MADISON, WI 53716 USA "]
["FISHER SCIENTIFIC CO",4733,"FISHER SCIENTIFIC CO","1600 W GLENLAKE AVE",null,"ITASCA","IL",601431094,"USA","ITASCA, IL 601431094 USA "]
["FIVE STAR TOOL WELDING CORP",136741,"FIVE STAR TOOL WELDING CORP","12575 W CUSTER AV",null,"BUTLER","WI",53007,"USA","BUTLER, WI 53007 USA "]
["FJ KUBICHEK CO INC",28785,"FJ KUBICHEK CO INC","5033 W CAPITOL DR",null,"MILWAUKEE","WI",53216,"USA","MILWAUKEE, WI 53216 USA "]
["FJW OPTICAL SYSTEMS",4550,"FJW OPTICAL SYSTEMS","322 N WOODWORK LANE",null,"PALATINE","IL",60067,"USA","PALATINE, IL 60067 USA "]
["FLAMBEAU PLASTICS",7966,"FLAMBEAU PLASTICS","15981 VALPLAST RD",null,"MIDDLEFIELD","OH","44062-0097","USA","MIDDLEFIELD, OH 44062-0097 USA "]
["FLATWORK TECHNOLOGIES",132288,"FLATWORK TECHNOLOGIES","1997 SOUTH 5070 WEST",null,"SALT LAKE CITY","UT",84104,"USA","SALT LAKE CITY, UT 84104 USA "]
["FLECKENSTEIN, EUSTES & ASSC",123522,"FLECKENSTEIN, EUSTES & ASSC","2011 DAILEY LANE",null,"SUPERIOR","CO",80027,"USA","SUPERIOR, CO 80027 USA "]
["FLEX-A-SEAL, INC",134571,"FLEX-A-SEAL, INC","1 JACKSON ST",null,"ESSEX JUNCTION","VT",5452,"USA","ESSEX JUNCTION, VT 5452 USA "]
["FLO-CHEM VALVE CORP",116076,"FLO-CHEM VALVE CORP","655N. CENTRAL AVE, UNIT A",null,"WOOD DALE","IL",60191,"USA","WOOD DALE, IL 60191 USA "]
["FLOWLINE COMPONENTS",124011,"FLOWLINE COMPONENTS","9600 POLASKI PARK DR","STE 111","BALTIMORE","MD",21220,"USA","BALTIMORE, MD 21220 USA "]
["FLUID HANDLING INC",28110,"FLUID HANDLING INC","12130 W CARMEN AVE",null,"MILWAUKEE","WI",53225,"USA","MILWAUKEE, WI 53225 USA "]
["FLUID HOSE & COUPLING",132340,"FLUID HOSE & COUPLING","6150 DIXIE RD  UNIT 1",null,"MISSISSAUGA","ONTARIO","L5T 2E2","USA","MISSISSAUGA, ONTARIO L5T 2E2 USA "]
["FLUID SYSTEMS COMPONENTS INC",21372,"FLUID SYSTEMS COMPONENTS INC","2256 S 116TH ST","PO BOX 27437","MILWAUKEE","WI",53227,"USA","MILWAUKEE, WI 53227 USA "]
["FLUKE",105379,"FLUKE","PO BOX 9090",null,"EVERETT","WA",98206,"USA","EVERETT, WA 98206 USA "]
["FLUKE ELECT. CORP.",105371,"FLUKE ELECT. CORP.","C/O RESOURCE COMM.","PO BOX 9090","EVERETT","WA",98206,"USA","EVERETT, WA 98206 USA "]
["FLUNO CENTER",112464,"FLUNO CENTER","601 UNIVERSITY AVE",null,"MADISON","WI",53715,"USA","MADISON, WI 53715 USA "]
["FLUOR GLAS",85629,"FLUOR GLAS","PO BOX 320",null,"HOOSICK FALLS","NY",12090,"USA","HOOSICK FALLS, NY 12090 USA "]
["FLUOROWARE, INC.",8271,"FLUOROWARE, INC.","102 JONATHAN BLVD.NORTH",null,"CHASKA","MN",55318,"USA","CHASKA, MN 55318 USA "]
["FLUORTUBING USA",132568,"FLUORTUBING USA","500 INDUSTRIAL DR",null,"CAMPBELLSVILLE","KY",52418,"USA","CAMPBELLSVILLE, KY 52418 USA "]
["FLYING FISH GRAPHICS",1630,"FLYING FISH GRAPHICS","5452 HYW K",null,"BLUE MOUNDS","WI",53717,"USA","BLUE MOUNDS, WI 53717 USA "]
["FORD TOOL & MACHINING INC",126291,"FORD TOOL & MACHINING INC","P.O. BOX 2211","2205 RANGE ROAD","LOVES PARK","IL",61111,"USA","LOVES PARK, IL 61111 USA "]
["FORESTRY SUPPLIERS INC",4843,"FORESTRY SUPPLIERS INC","205 W RANKIN ST","P O BOX 8397","JACKSON","MS","39284-8397","USA","JACKSON, MS 39284-8397 USA "]
["FORT ATKINSON HOSPITAL",16931,"FORT ATKINSON HOSPITAL","611 SHERMAN AVE E",null,"FORT ATKINSON","WI",53538,"USA","FORT ATKINSON, WI 53538 USA "]
["FOSDAL HOME BAKERY",125510,"FOSDAL HOME BAKERY","243 E. MAIN ST",null,"STOUGHTON","WI",53589,"USA","STOUGHTON, WI 53589 USA "]
["FOTRONIC CORP",107247,"FOTRONIC CORP","99 WASHINGTON ST",null,"MELROSE","MA",2176,"USA","MELROSE, MA 2176 USA "]
["FOULKE RUBBER PRODUCTS, INC",125169,"FOULKE RUBBER PRODUCTS, INC","600 LINNERUD DR","P.O. BOX 85","SUN PRAIRIE","WI",53590,"USA","SUN PRAIRIE, WI 53590 USA "]
["FOX AIR SPECIALISTS LTD",124660,"FOX AIR SPECIALISTS LTD","80-84 CARR RD",null,"MT. ROSKILL","AUCKLAND,NZ",null,"USA","MT. ROSKILL, AUCKLAND,NZ USA "]
["FOX RIVER GRAPHICS",15277,"FOX RIVER GRAPHICS","9401 W. BELOIT RD. STE. 209",null,"MILWAUKEE","WI",53227,"USA","MILWAUKEE, WI 53227 USA "]
["FOX STAMP",109704,"FOX STAMP","618 AIRPORT RD",null,"MENASHA","WI",54952,"USA","MENASHA, WI 54952 USA "]
["FOX VALLEY SPRING COMPANY",94197,"FOX VALLEY SPRING COMPANY","N915 CRAFTSMEN DR",null,"GREENVILLE, WI 5494","WI",54942,"USA","GREENVILLE, WI 5494, WI 54942 USA "]
["FOX WELDING",122320,"FOX WELDING","6809 W. DONGES BAY RD., 104N",null,"MEQUON","WI",53092,"USA","MEQUON, WI 53092 USA "]
["FOX WORLD TRAVEL",119699,"FOX WORLD TRAVEL","6645 ODANA RD",null,"MADISON","WI",53719,"USA","MADISON, WI 53719 USA "]
["FRANKLIN INTERNATIONAL INSTITU",88319,"FRANKLIN INTERNATIONAL INSTITU","2200 W PARKWAY BLVD",null,"SALT LAKE CITY","UT",84119,"USA","SALT LAKE CITY, UT 84119 USA "]
["FRAUNHOFER INST FOR WERKSTOFF",113149,"FRAUNHOFER INST FOR WERKSTOFF","WINTERBERGSTRABE28",null,"DRESDEN",null,"D-01277","USA","DRESDEN, D-01277 USA "]
["FRED MIDDLETON",110482,"FRED MIDDLETON","3913 PLYMOUTH CIRCLE",null,"MADISON","WI",53705,"USA","MADISON, WI 53705 USA "]
["FRED PRYOR SEMINARS",126341,"FRED PRYOR SEMINARS","P.O. BOX 219468",null,"KANSAS CITY","MO",64121,"USA","KANSAS CITY, MO 64121 USA "]
["FRED PRYOR SEMINARS",20535,"FRED PRYOR SEMINARS","2000 JOHNSON DR","PO BOX 2951","SHAWNEE MISSION","KS",66205,"USA","SHAWNEE MISSION, KS 66205 USA "]
["FREDERICK,JASMINE",572447,"FREDERICK,JASMINE","REU",null,"STOUGHTON","WI",53589,"USA","STOUGHTON, WI 53589 USA "]
["FREELAND PRODUCTS",130883,"FREELAND PRODUCTS","75412 HWY 25",null,"COVINGTON","LA",70435,"USA","COVINGTON, LA 70435 USA "]
["FREMONT INDUSTRIES",55779,"FREMONT INDUSTRIES","4400 VALLEY IND BLVD N",null,"SHAKOPEE","MN",55379,"USA","SHAKOPEE, MN 55379 USA "]
["FRESH TRACKS MAP STORE",128501,"FRESH TRACKS MAP STORE","9380 DESERT WILLOW RD",null,"HIGHLANDS RANCH","CO",80129,"USA","HIGHLANDS RANCH, CO 80129 USA "]
["FRONTIER FS",3481,"FRONTIER FS","222 E PUEMER ST","PO BOX 359","JEFFERSON","WI",53559,"USA","JEFFERSON, WI 53559 USA "]
["FRY STEEL COMPANY",395,"FRY STEEL COMPANY","13325 MOLETTE ST","PO BOX 4028","SANTA FE SPRINGS","CA",90670,"USA","SANTA FE SPRINGS, CA 90670 USA "]
["FRYER CO",4979,"FRYER CO","11177 E MAIN ST",null,"HUNTLEY","IL",60142,"USA","HUNTLEY, IL 60142 USA "]
["FRYER MACHINE SYSTEMS",120003,"FRYER MACHINE SYSTEMS","ROBIN HILL CORP PARK",null,"PATTERSON","NY",12563,"USA","PATTERSON, NY 12563 USA "]
["FS INDUSTRIES",128477,"FS INDUSTRIES","PO BOX 72659",null,"PROVIDENCE","RI",2907,"USA","PROVIDENCE, RI 2907 USA "]
["FULL COMPASS SYSTEMS",4984,"FULL COMPASS SYSTEMS","8001 TERRACE AVE",null,"MIDDLETON","WI",53562,"USA","MIDDLETON, WI 53562 USA "]
["FUREY FILTER & PUMP",7273,"FUREY FILTER & PUMP","12300 W. CARMEN AVE",null,"MILWAUKEE","WI",53225,"USA","MILWAUKEE, WI 53225 USA "]
["FURLONG INDUSTRIAL SYSTEMS INC",5642,"FURLONG INDUSTRIAL SYSTEMS INC","W194 N11221 MCCORMICK DR",null,"GERMANTOWN","WI",53022,"USA","GERMANTOWN, WI 53022 USA "]
["FUTABA CORP",88314,"FUTABA CORP","14492 SHELDON RD","SUITE 350","PLYMOUTH","MI",48170,"USA","PLYMOUTH, MI 48170 USA "]
[{"$f":"IF($C1219=\"\",\"\",$C1219)","v":"FUTURE DIGITAL SCIENTIFIC"},111099,"FUTURE DIGITAL SCIENTIFIC","73-02 NORTHEERN BLVD.",null,"FLUSHING","NY",11372,"USA","FLUSHING, NY 11372 USA "]
["FUTURE ELECTRONICS",115736,"FUTURE ELECTRONICS","237 HYMUS BLVD",null,"POINT CLAIRE","QUEBEC","H9R 5C7","USA",{"$f":"IF(F1220=\"\",\"\",F1220&\", \")&IF(G1220=\"\",\"\",G1220&\" \")&IF(H1220=\"\",\"\",H1220&\" \")&IF(I1220=\"\",\"\",I1220&\" \")","v":"POINT CLAIRE, QUEBEC H9R 5C7 USA "}]
["FWB,INC",21496,"FWB,INC","PO BOX 15399",null,"FREMONT","CA","94539-9952","USA","FREMONT, CA 94539-9952 USA "]
["G & B MAG / SRN",111785,"G & B MAG / SRN","628 N. 2ND ST., 1ST FLOOR",null,"PHILADELPHIA","PA",19123,"USA","PHILADELPHIA, PA 19123 USA "]
["G E RENTAL & LEASE",33141,"G E RENTAL & LEASE","3500 CORPORATE WAY",null,"DULUTH","GA",30136,"USA","DULUTH, GA 30136 USA "]
["G3 VISA & PASSPORTS, INC",130860,"G3 VISA & PASSPORTS, INC","8 S MICHIGAN AVE, SUITE 1209",null,"CHICAGO","IL",60603,"USA","CHICAGO, IL 60603 USA "]
["G3 VISAS & PASSPORTS",110159,"G3 VISAS & PASSPORTS","3240 WILSON BLVD STE 150",null,"ARLINGTON","VA",22201,"USA","ARLINGTON, VA 22201 USA "]
["GALCO INDUSTRIAL ELECTRONICS",89320,"GALCO INDUSTRIAL ELECTRONICS","26010 PINEHURST DR","INELIGIBLE","MADISON HEIGHTS","MI",48071,"USA","MADISON HEIGHTS, MI 48071 USA "]
["GALIL",36034,"GALIL","C/O KOEPKE & ASSOCIATES","778 FRONTAGE ROAD STE 120","NORTHFIELD","IL",60093,"USA","NORTHFIELD, IL 60093 USA "]
["GALIL MOTION CONTROL",107256,"GALIL MOTION CONTROL","203 RAVENDALE DR.",null,"MOUNTAIN VIEW","CA",94043,"USA","MOUNTAIN VIEW, CA 94043 USA "]
["GALILEO ELECTRO OPTICS CORP",6568,"GALILEO ELECTRO OPTICS CORP","GALILEO PARK","PO BOX 550","STURBRIDGE","MA",1566,"USA","STURBRIDGE, MA 1566 USA "]
["GAMMA VACUUM",121953,"GAMMA VACUUM","12912 VENTURA CT NO. 28",null,"SHAKOPEE","MN",55379,"USA","SHAKOPEE, MN 55379 USA "]
["GANDER MOUNTAIN",114406,"GANDER MOUNTAIN","7349 WEST TOWN WAY",null,"MADISON","WI",53719,"USA","MADISON, WI 53719 USA "]
["GANTOIS INDUSTRIES",139394,"GANTOIS INDUSTRIES","25, RUDE DES 5 FRERES MOUGEOTT","BP 307",null,null,null,"USA","USA "]
["GARD SPECIALIST CO",3272,"GARD SPECIALIST CO","PO BOX 157",null,"EAGLE RIVER","WI",54521,"USA","EAGLE RIVER, WI 54521 USA "]
["GARDNER SPRING  INC",131556,"GARDNER SPRING  INC","1115 NORTH UTICA",null,"TULSA","OK","74110-4632","USA","TULSA, OK 74110-4632 USA "]
["GARDTEC  INC",105982,"GARDTEC  INC","2909 MT PLEASANT ST",null,"RACINE","WI",53404,"USA","RACINE, WI 53404 USA "]
["GARDTEC INC",105892,"GARDTEC INC","2909 MT PLEASANT ST",null,"RACINE","WI",53404,"USA","RACINE, WI 53404 USA "]
["GARLOCK HELICOFLEX",3662,"GARLOCK HELICOFLEX","2770 THE BOULEVARD",null,"COLUMBIA","SC",29209,"USA","COLUMBIA, SC 29209 USA "]
["GARY PLASTIC PACKAGING CORP",24220,"GARY PLASTIC PACKAGING CORP","770 GARRISON AVE",null,"BRONX","NY",10474,"USA","BRONX, NY 10474 USA "]
["GARY STEEL",20251,"GARY STEEL","2560 7TH ST.",null,"BERKELEY","CA",94710,"USA","BERKELEY, CA 94710 USA "]
["GASCOIGNE",109680,"GASCOIGNE","1304 S. WEST AVE","PO BOX 102","WAUKESHA","WI",53187,"USA","WAUKESHA, WI 53187 USA "]
["GATEWAY 2000",104731,"GATEWAY 2000","1414 GENNESSE ST",null,"KANSAS CITY","MO","64102-1048","USA","KANSAS CITY, MO 64102-1048 USA "]
["GATEWAY 2000",79810,"GATEWAY 2000","610 GATEWAY","PO BOX 2000","NORTH SIOUX CITY","SD",570492000,"USA","NORTH SIOUX CITY, SD 570492000 USA "]
["GAUMER COMPANY",118713,"GAUMER COMPANY","13616 HEMPSTEAD RD",null,"HOUSTON","TX",77040,"USA","HOUSTON, TX 77040 USA "]
["GAYLORD CATERING",19973,"GAYLORD CATERING","709 ATLAS AVE",null,"MADISON","WI",53714,"USA","MADISON, WI 53714 USA "]
["GE DRUCK",62724,"GE DRUCK","4 DUNHAM DRIVE",null,"NEW FAIRFIELD","CT",6812,"USA","NEW FAIRFIELD, CT 6812 USA "]
["GE SUPERABRASIVES",31436,"GE SUPERABRASIVES","GE COMPANY","6325 HUNTLEY ROAD","WORTHINGTON","OH",43085,"USA","WORTHINGTON, OH 43085 USA "]
["GELEST",28813,"GELEST","612 WILLIAM LEIGH DR.",null,"TULLYTOWN","PA",19007,"USA","TULLYTOWN, PA 19007 USA "]
["GEMINI PLASTICS INC",120867,"GEMINI PLASTICS INC","1333 VIKING LN",null,"DEPERE","WI",54115,"USA","DEPERE, WI 54115 USA "]
["GEMS SENSORS INC",67904,"GEMS SENSORS INC","1 COWLES RD",null,"PLAINVILLE","CT",6062,"USA","PLAINVILLE, CT 6062 USA "]
["GENERAL BINDING CORPORATION",5130,"GENERAL BINDING CORPORATION","5389 N 118TH COURT",null,"MILWAUKEE","WI",53225,"USA","MILWAUKEE, WI 53225 USA "]
["GENERAL COMMUNICATIONS INC",4500,"GENERAL COMMUNICATIONS INC","5157 ANTON DR",null,"MADISON","WI",53719,"USA","MADISON, WI 53719 USA "]
["GENERAL DEVICES",74777,"GENERAL DEVICES","1410S. POST RD","P.O. BOX 39100","INDIANAPOLIS","ID",46239,"USA","INDIANAPOLIS, ID 46239 USA "]
["GENERAL INDUSTRIAL SUPPLY",90831,"GENERAL INDUSTRIAL SUPPLY","1900 16TH ST",null,"RACINE","WI",53403,"USA","RACINE, WI 53403 USA "]
["GENESIS AUTOMATION",126206,"GENESIS AUTOMATION","7588 COOK RD",null,"POWELL","OH",43065,"USA","POWELL, OH 43065 USA "]
["GENEVA UPHOLSTERING CORPORATIO",124344,"GENEVA UPHOLSTERING CORPORATIO","320 S. CURTIS ST.","P.O. BOX 88","LAKE GENEVA","WI",53147,"USA","LAKE GENEVA, WI 53147 USA "]
["GERBER STORE",128421,"GERBER STORE","117 NE 8TH AVE",null,"PORTLAND","OR",97232,"USA","PORTLAND, OR 97232 USA "]
["GETZS INC",134010,"GETZS INC","218 S FRONT ST",null,"MARQUETTE","MI",49855,"USA","MARQUETTE, MI 49855 USA "]
["GEXPRO",130174,"GEXPRO","4125 TERMINAL DR",null,"MCFARLAND","WI",53558,"USA","MCFARLAND, WI 53558 USA "]
["GI SUPPLY",5015,"GI SUPPLY","701 ATLAS AVE",null,"MADISON","WI",53714,"USA","MADISON, WI 53714 USA "]
["GIBBS WIRE & STEEL","K00034","GIBBS WIRE & STEEL","3751 OLIVE RD",null,"SOUTH BEND","IN",46628,"USA","SOUTH BEND, IN 46628 USA "]
["GIBSON RESEARCH CORP",83409,"GIBSON RESEARCH CORP","22991 LACADENA DR",null,"LAGUNA HILLS","CA",92653,"USA","LAGUNA HILLS, CA 92653 USA "]
["GIDDINGS & LEWIS",25686,"GIDDINGS & LEWIS","305 W. DELAVAN DR.",null,"JANESVILLE","WI",53545,"USA","JANESVILLE, WI 53545 USA "]
["GIGAHERTZ-OPTIK INC",117732,"GIGAHERTZ-OPTIK INC","5 PERRY WAY",null,"NEWBURYPORT","MA",1950,"USA","NEWBURYPORT, MA 1950 USA "]
["GILLWARE INC.",129733,"GILLWARE INC.","8417 EXCELSIOR DRIVE","SUITE 175","MADISON","WI",53717,"USA","MADISON, WI 53717 USA "]
["GISCO",26613,"GISCO","95 N LINCOLN ST",null,"DENVER","CO",80203,"USA","DENVER, CO 80203 USA "]
["GLACIER LANDSCAPE CONTRACTORS",2488,"GLACIER LANDSCAPE CONTRACTORS","7395 HWY PD",null,"VERONA","WI",53593,"USA","VERONA, WI 53593 USA "]
["GLAS-COL",46902,"GLAS-COL","P O BOX 2128",null,"TERRE HAUTE","IN","47802-0128","USA","TERRE HAUTE, IN 47802-0128 USA "]
["GLASS NICKEL PIZZA",116115,"GLASS NICKEL PIZZA","2916 ATWOOD AVENUE",null,"MADISON","WI",53704,"USA","MADISON, WI 53704 USA "]
["GLASSMAN HIGH VOLTAGE INC",37929,"GLASSMAN HIGH VOLTAGE INC","124 W MAIN ST","P O BOX 317","HIGH BRIDGE","NJ",8829,"USA","HIGH BRIDGE, NJ 8829 USA "]
["GLEASON REEL CORP.",17819,"GLEASON REEL CORP.","600 S. CLARK","P.O. BOX 26","MAYVILLE","WI",53050,"USA","MAYVILLE, WI 53050 USA "]
["GLENAIR INC",60390,"GLENAIR INC","1211 AIR WAY",null,"GLENDALE","CA",912012497,"USA","GLENDALE, CA 912012497 USA "]
["GLOBAL COMPUTER SUPPLIES",52212,"GLOBAL COMPUTER SUPPLIES","2249 WINDSOR CT",null,"ADDISON","IL",60101,"USA","ADDISON, IL 60101 USA "]
["GLOBAL COMPUTER SUPPLIES",94211,"GLOBAL COMPUTER SUPPLIES","11 HARBOR PARK DR",null,"PORT WASHINGTON","NY",11050,"USA","PORT WASHINGTON, NY 11050 USA "]
["GLOBAL ENGINEERING DOCUMENTS",24625,"GLOBAL ENGINEERING DOCUMENTS","15 INVERNESS WAY",null,"ENGLEWOOD","CO",80112,"USA","ENGLEWOOD, CO 80112 USA "]
["GLOBAL EQUIPMENT CO",5249,"GLOBAL EQUIPMENT CO","63 HEMLOCK DR",null,"HEMPSTEAD","NY",115506620,"USA","HEMPSTEAD, NY 115506620 USA "]
["GLOBAL MICRO X PERTS",12293,"GLOBAL MICRO X PERTS","6230 COCHRAN RD.",null,"SOLON","OH",44139,"USA","SOLON, OH 44139 USA "]
["GLOBAL VILLAGE",5635,"GLOBAL VILLAGE","PO BOX 988",null,"BUFFALO","NY",14207,"USA","BUFFALO, NY 14207 USA "]
["GLOBAL WATER INSTRUMENTATION",107401,"GLOBAL WATER INSTRUMENTATION","11390 AMALGAM WAY",null,"GOLD RIVER","CA",95670,"USA","GOLD RIVER, CA 95670 USA "]
["GLOBALNET SERVICES INC",140121,"GLOBALNET SERVICES INC","11820 PARKLAWN DR  SUITE 300",null,"ROCKVILLE","MD",20852,"USA","ROCKVILLE, MD 20852 USA "]
["GLOBALONE TECHNOLOGY",132696,"GLOBALONE TECHNOLOGY","5902 N 160TH AVE",null,"OMAHA","NE",68116,"USA","OMAHA, NE 68116 USA "]
["GLOBE MANUFACTURING SALES INC",76645,"GLOBE MANUFACTURING SALES INC","1159 ROUTE 22",null,"MOUNTAINSIDE","NJ",70922896,"USA","MOUNTAINSIDE, NJ 70922896 USA "]
["GMW ASSOCIATES",70950,"GMW ASSOCIATES","PO BOX 2578",null,"REDWOOD CITY","CA",94064,"USA","REDWOOD CITY, CA 94064 USA "]
[{"$f":"IF($C1283=\"\",\"\",$C1283)","v":"GO DSP"},19047,"GO DSP","250 THE ESPLANADE","SUITE","TORONTO","ONTARIO","M5A 1J2","CANADA","TORONTO, ONTARIO M5A 1J2 CANADA "]
["GOODFELLOW CORP",85707,"GOODFELLOW CORP","VALLEYBROOK II","301 LINDEWOOD DR","MALVERN","PA",193551768,"USA",{"$f":"IF(F1284=\"\",\"\",F1284&\", \")&IF(G1284=\"\",\"\",G1284&\" \")&IF(H1284=\"\",\"\",H1284&\" \")&IF(I1284=\"\",\"\",I1284&\" \")","v":"MALVERN, PA 193551768 USA "}]
["GOOGLE",126338,"GOOGLE","909 N 20TH",null,"ST. LOUIS","MO",63106,"USA","ST. LOUIS, MO 63106 USA "]
["GOOGLEGEAR.COM",113869,"GOOGLEGEAR.COM","38897 CHERRY ST.",null,"NEWARK","CA",94560,"USA","NEWARK, CA 94560 USA "]
["GORDON ENGINEERING INC",5306,"GORDON ENGINEERING INC","501 TASMAN ST","PO BOX 8368","MADISON","WI",537088368,"USA","MADISON, WI 537088368 USA "]
["GORDON FLESCH CO INC",4757,"GORDON FLESCH CO INC","2101 W BELTLINE HWY","PO BOX 1708","MADISON","WI",537131708,"USA","MADISON, WI 537131708 USA "]
["GORDON HATCH CO",5739,"GORDON HATCH CO","N118 W18252 BUNSEN DR",null,"GERMANTOWN","WI",53022,"USA","GERMANTOWN, WI 53022 USA "]
["GOUGHS INSTITUTE OF TRAINING",132636,"GOUGHS INSTITUTE OF TRAINING","24 AMYES RD",null,"HORNBY","CHRISTCHURCH, NZ",null,"USA","HORNBY, CHRISTCHURCH, NZ USA "]
["GOVERNMENT LIQUIDATION, LLC",130533,"GOVERNMENT LIQUIDATION, LLC","15051 N KIERLAND BLVD, 3RD FL",null,"SCOTTSDALE","AZ",85254,"USA","SCOTTSDALE, AZ 85254 USA "]
["GP50 NEW YORK LIMITED",89744,"GP50 NEW YORK LIMITED","2770 LONG RD",null,"GRAND ISLAND","NY",14072,"USA","GRAND ISLAND, NY 14072 USA "]
["GRABBER PERFORMANCE GROUP",126448,"GRABBER PERFORMANCE GROUP","4600 DANVERS DR",null,"GRAND RAPIDS","MI",49512,"USA","GRAND RAPIDS, MI 49512 USA "]
["GRAINGER",5359,"GRAINGER","501 ATLAS AVE",null,"MADISON","WI",537143166,"USA","MADISON, WI 537143166 USA "]
["GRAINGER CUSTOM SOLUTIONS",108699,"GRAINGER CUSTOM SOLUTIONS","1275 TRI-STATE PARKWAY",null,"GURNEE","IL","60031-91117","USA","GURNEE, IL 60031-91117 USA "]
["GRAND GENEVA RESORT",20785,"GRAND GENEVA RESORT","7036 GRAND GENEVA WAY",null,"LAKE GENEVA","WI","53147-0130","USA","LAKE GENEVA, WI 53147-0130 USA "]
["GRANITE DIGITAL",101976,"GRANITE DIGITAL","3101 WHIPPLE ROAD",null,"UNION CITY","CA",94587,"USA","UNION CITY, CA 94587 USA "]
["GRANT ELECTRONICS",5369,"GRANT ELECTRONICS","1041 S PARK ST",null,"MADISON","WI",537151796,"USA","MADISON, WI 537151796 USA "]
["GRANVILLE PHILLIPS CO",46518,"GRANVILLE PHILLIPS CO","1989A UNIVERSITY LN",null,"LISLE","IL",60532,"USA","LISLE, IL 60532 USA "]
["GRAPHIC CONTROLS",59851,"GRAPHIC CONTROLS","189 VAN RENSSALEAR ST","P O BOX 1272","BUFFALO","NY",14240,"USA","BUFFALO, NY 14240 USA "]
["GRAPHICS SYSTEMS CORP",14348,"GRAPHICS SYSTEMS CORP","W133 N5138 CAMPBELL DR",null,"MENOMONEE FALLS","WI",53051,"USA","MENOMONEE FALLS, WI 53051 USA "]
["GRAPHICS TECHNOLOGIES INC",93079,"GRAPHICS TECHNOLOGIES INC","5555 W 78TH ST",null,"MINNEAPOLIS","MN",55439,"USA","MINNEAPOLIS, MN 55439 USA "]
["GRASEBY ANDERSON",86882,"GRASEBY ANDERSON","4801 FULTON IND BLVD",null,"ATLANTA","GA",30336,"USA","ATLANTA, GA 30336 USA "]
["GRAVOGRAPH - NEW HERMES",100388,"GRAVOGRAPH - NEW HERMES","2200 NORTHMONT PKWY",null,"DULUTH","GA",30096,"USA","DULUTH, GA 30096 USA "]
["GRAYBAR",117493,"GRAYBAR","650 S 108TH ST",null,"WEST ALLIS","WI",53214,"USA","WEST ALLIS, WI 53214 USA "]
["GRAYBAR ELECTRIC CO INC",31016,"GRAYBAR ELECTRIC CO INC","1475 S 101ST ST",null,"MILWAUKEE","WI",53214,"USA","MILWAUKEE, WI 53214 USA "]
["GRAYBAR ELECTRIC COMPANY",5387,"GRAYBAR ELECTRIC COMPANY","1301 W BADGER RD","PO BOX 2035","MADISON","WI",53713,"USA","MADISON, WI 53713 USA "]
["GRAYHILL",67988,"GRAYHILL","561 HILLGROVE AVENUE",null,"LAGRANGE","IL",60525,"USA","LAGRANGE, IL 60525 USA "]
["GRAYTEX PAPER",126648,"GRAYTEX PAPER","8723 EAKIN CEMETERY RD",null,"JUSTIN","TX",76247,"USA","JUSTIN, TX 76247 USA "]
["GREAT BIG PICTURES",5389,"GREAT BIG PICTURES","1444 E. WASHINGTON AVE",null,"MADISON","WI",53703,"USA","MADISON, WI 53703 USA "]
["GREAT LAKES COMPUTER SOURCE IN",81632,"GREAT LAKES COMPUTER SOURCE IN","4481 CASCADE RD SE",null,"GRAND RAPIDS","MI",485063632,"USA","GRAND RAPIDS, MI 485063632 USA "]
["GREAT LAKES RUBBER & SUPPLY",5396,"GREAT LAKES RUBBER & SUPPLY","6150 N FLINT RD","PO BOX 09128","MILWAUKEE","WI",532090128,"USA","MILWAUKEE, WI 532090128 USA "]
["GREAT LAKES UNDERGROUND EQUIP",126677,"GREAT LAKES UNDERGROUND EQUIP","N55 W 13787 OAK LANE",null,"MENOMONEE FALLS","WI",53051,"USA","MENOMONEE FALLS, WI 53051 USA "]
["GREEN SPRING COMPUTING",95425,"GREEN SPRING COMPUTING","1204 OBRIEN DR",null,"MENLO PARK","CA",94025,"USA","MENLO PARK, CA 94025 USA "]
["GREENBRIER & RUSSEL, INC.",104723,"GREENBRIER & RUSSEL, INC.","8383 GREENWAY BLDV STE 200",null,"MADISON","WI",53562,"USA","MADISON, WI 53562 USA "]
["GREENE TWEED MED & BIOTECH",117392,"GREENE TWEED MED & BIOTECH","2374 N PENN ROAD",null,"HATFIELD","PA",19440,"USA","HATFIELD, PA 19440 USA "]
["GREG ANDERSON PHOTOGRAPHY",101145,"GREG ANDERSON PHOTOGRAPHY","121 S BUTLER ST. #3",null,"MADISON","WI",53703,"USA","MADISON, WI 53703 USA "]
["GREG VLASAK",128987,"GREG VLASAK","2450 N. PAGE ST",null,"STOUGHTON","WI",53589,"USA","STOUGHTON, WI 53589 USA "]
["GRIMM BOOK BINDERY",5499,"GRIMM BOOK BINDERY","6880 GISHOLT DR.",null,"MADISON","WI",53713,"USA","MADISON, WI 53713 USA "]
["GRIMM BOOK BINDERY",5449,"GRIMM BOOK BINDERY","6880 GISHOLT RD",null,"MADISON","WI",53713,"USA","MADISON, WI 53713 USA "]
["GRIZZLY INDUSTRIAL  INC",68080,"GRIZZLY INDUSTRIAL  INC","PO BOX 2069",null,"BELLINGHAM","WA",98227,"USA","BELLINGHAM, WA 98227 USA "]
["GROSS AUTOMATION",135798,"GROSS AUTOMATION","3680 N 126TH ST",null,"BROOKFIELD","WI",53005,"USA","BROOKFIELD, WI 53005 USA "]
["GSI LUMONICS",123243,"GSI LUMONICS","39 MANNING RD",null,"BILLERICA","MA",1821,"USA","BILLERICA, MA 1821 USA "]
["GSI MICRO E SYSTEMS",129728,"GSI MICRO E SYSTEMS","34 PINE KNOLL DR",null,"ROCHESTER","NY",14624,"USA","ROCHESTER, NY 14624 USA "]
["GTC AUTO PARTS",5163,"GTC AUTO PARTS","1823 S PARK ST",null,"MADISON","WI",53713,"USA","MADISON, WI 53713 USA "]
["GTD INC OF ILLINOIS",128427,"GTD INC OF ILLINOIS","202 W. STATE ST.",null,"ROCKFORD","IL",61101,"USA","ROCKFORD, IL 61101 USA "]
["GTD INC OF ILLINOIS",118352,"GTD INC OF ILLINOIS","W7694 HWY V",null,"LAKE MILLS","WI",53551,"USA","LAKE MILLS, WI 53551 USA "]
["GURLEY PRECISION",41693,"GURLEY PRECISION","514 FULTON STREET",null,"TROY","NY","12181-0088","USA","TROY, NY 12181-0088 USA "]
["GUSTAVE A LARSON CO",7233,"GUSTAVE A LARSON CO","4537 PFLAUM RD",null,"MADISON","WI",53718,"USA","MADISON, WI 53718 USA "]
["GWEN'S FRAME SHOP",125107,"GWEN'S FRAME SHOP","850 JANESVILLE ST",null,"OREGON","WI",53575,"USA","OREGON, WI 53575 USA "]
["GWS SUPPLY INC",21995,"GWS SUPPLY INC","2375 W NORDALE","PO BOX 1913","APPLETON","WI",54913,"USA","APPLETON, WI 54913 USA "]
["GYPSUM SUPPLY CO",17771,"GYPSUM SUPPLY CO","5602 FEMRITE DR",null,"MADISON","WI",53718,"USA","MADISON, WI 53718 USA "]
["H & H INDUSTRIES",638,"H & H INDUSTRIES","P.O. BOX 44267","2801 SYENE ROAD","MADISON","WI",53744,"USA","MADISON, WI 53744 USA "]
["H & H INDUSTRIES",70022,"H & H INDUSTRIES","P.O. BOX 42267","3801 SYENE ROAD","MADISON","WI",53744,"USA","MADISON, WI 53744 USA "]
["H B FULLER COMPANY",130313,"H B FULLER COMPANY","5220 MAIN ST NE",null,"FRIDLEY","MN",55421,"USA","FRIDLEY, MN 55421 USA "]
["H DERKSEN",75964,"H DERKSEN","250 INDUSTRIAL DRIVE","P.O. BOX 310","OMRO","WI",54963,"USA","OMRO, WI 54963 USA "]
["HACH COMPANY",2445,"HACH COMPANY","PO BOX 389",null,"LOVELAND","CO",80539,"USA","LOVELAND, CO 80539 USA "]
["HAGEMEYER",23781,"HAGEMEYER","5660 S WESTRIDGE DR",null,"NEW BERLIN","WI",53151,"USA","NEW BERLIN, WI 53151 USA "]
["HAL SHARPE ASSOCIATES, INC",111932,"HAL SHARPE ASSOCIATES, INC","312 MOTTERSIN DRIVE",null,"CHICO","CA",95928,"USA","CHICO, CA 95928 USA "]
["HALLMAN LINDSAY PAINTS",7388,"HALLMAN LINDSAY PAINTS","PO BOX 109",null,"SUN PRAIRIE","WI",53590,"USA","SUN PRAIRIE, WI 53590 USA "]
["HALRON OIL CO INC",25800,"HALRON OIL CO INC","1618 STATE ST",null,"GREEN BAY","WI",54304,"USA","GREEN BAY, WI 54304 USA "]
["HALVERSON'S RESTAURANT",114221,"HALVERSON'S RESTAURANT","1965 BARBER DR",null,"STOUGHTON","WI",53589,"USA","STOUGHTON, WI 53589 USA "]
["HALVERSON'S RESTAURANT","K00025","HALVERSON'S RESTAURANT","1965 BARBER DRIVE",null,"STOUGHTON","WI",53589,"USA","STOUGHTON, WI 53589 USA "]
["HAM RADIO OUTLET",126363,"HAM RADIO OUTLET","224 N BROADWAY  SUITE D12",null,"SALEM","NH",3079,"USA","SALEM, NH 3079 USA "]
["HAMAMATSU CORP",6299,"HAMAMATSU CORP","250 WOOD AVE",null,"MIDDLESEX","NJ",8846,"USA","MIDDLESEX, NJ 8846 USA "]
["HAMAMATSU CORP",5604,"HAMAMATSU CORP","360 FOOTHILL RD","PO BOX 6910","BRIDGEWATER","NJ",88070910,"USA","BRIDGEWATER, NJ 88070910 USA "]
[{"$f":"IF($C1347=\"\",\"\",$C1347)","v":"HAMAMATSU CORP"},103872,"HAMAMATSU CORP","360 FOOTHILL ROAD",null,"BRIDGEWATER","NJ","08807-0910","USA","BRIDGEWATER, NJ 08807-0910 USA "]
["HAMILTON AVNET ELECTRONICS",5608,"HAMILTON AVNET ELECTRONICS","1130 THORNDALE AVE",null,"BENSENVILLE","IL",60106,"USA",{"$f":"IF(F1348=\"\",\"\",F1348&\", \")&IF(G1348=\"\",\"\",G1348&\" \")&IF(H1348=\"\",\"\",H1348&\" \")&IF(I1348=\"\",\"\",I1348&\" \")","v":"BENSENVILLE, IL 60106 USA "}]
["HAMMOND MFG CO INC",128429,"HAMMOND MFG CO INC","475 CAYUGA RD","STE 100","CHEEKTOWAGA","NY",14225,"USA","CHEEKTOWAGA, NY 14225 USA "]
["HANDISHOP INDUSTRIES INC",13998,"HANDISHOP INDUSTRIES INC","1411 N SUPERIOR AVE",null,"TOMAH","WI",54660,"USA","TOMAH, WI 54660 USA "]
["HARBOR FREIGHT - MADISON",121323,"HARBOR FREIGHT - MADISON","4716 VERONA RD",null,"MADISON","WI",53711,"USA","MADISON, WI 53711 USA "]
["HARBOR FREIGHT TOOLS",21262,"HARBOR FREIGHT TOOLS","3491 MISSION OAKS BLVD",null,"CAMARILLO","CA",93011,"USA","CAMARILLO, CA 93011 USA "]
["HARBOR HOUSE CORP APT",121058,"HARBOR HOUSE CORP APT","802 HARBOR HOUSE DRIVE",null,"MADISON","WI",53719,"USA","MADISON, WI 53719 USA "]
["HARDCAT PTY LTD",127607,"HARDCAT PTY LTD","100 WALKER ST","NORTH SYDNEY","NEW SOUTH WALES","AUSTRALIA",null,"USA","NEW SOUTH WALES, AUSTRALIA USA "]
["HARDER INC",8703,"HARDER INC","5301 VERONA RD",null,"MADISON","WI",537114420,"USA","MADISON, WI 537114420 USA "]
["HARDINGE BROS INC",5673,"HARDINGE BROS INC","441 N THIRD AVE",null,"DES PLAINES","IL",60016,"USA","DES PLAINES, IL 60016 USA "]
["HARMONIC DRIVE LLC",12777,"HARMONIC DRIVE LLC","247 LYNNFIELD ST",null,"PEABODY","MA",1960,"USA","PEABODY, MA 1960 USA "]
["HAROLD JOHNSON OPTICAL LABORAT",119207,"HAROLD JOHNSON OPTICAL LABORAT","1826 W 169TH ST",null,"GARDENA  CA  90247","CA",90247,"USA","GARDENA  CA  90247, CA 90247 USA "]
["HARRINGTON INDUSTRIAL PLASTICS",132127,"HARRINGTON INDUSTRIAL PLASTICS","10151 BUNSEN WAY",null,"LOUISVILLE","KY",40299,"USA","LOUISVILLE, KY 40299 USA "]
["HARRIS BROADCAST CORPORATION",1051,"HARRIS BROADCAST CORPORATION","3200 WISMANN LANE",null,"QUINCY","IL",62301,"USA","QUINCY, IL 62301 USA "]
["HARRIS DIAMOND CORP (DOUBLEDEE",54969,"HARRIS DIAMOND CORP (DOUBLEDEE","100 STIERLI CT",null,"MT ARLINGTON","NJ",7856,"USA","MT ARLINGTON, NJ 7856 USA "]
["HART INDUSTRIES",121876,"HART INDUSTRIES","8987 E TANQUE VERDE RD",null,"TUCSON","AZ",85749,"USA","TUCSON, AZ 85749 USA "]
["HARTWIGS SHADE SHOP",30173,"HARTWIGS SHADE SHOP","2645 MILWAUKEE ST",null,"MADISON","WI",53704,"USA","MADISON, WI 53704 USA "]
["HARVARD UNIVERSITY",101507,"HARVARD UNIVERSITY","HOLYOKE CENTER 836",null,"CAMBRIDGE","MA",2138,"USA","CAMBRIDGE, MA 2138 USA "]
["HARVARD UNIVERSITY",105232,"HARVARD UNIVERSITY","29 OXFORD STREET","PIERCE HALL RM 210A","CAMBRIDGE","MA",2138,"USA","CAMBRIDGE, MA 2138 USA "]
["HARVEY TOOL",126543,"HARVEY TOOL","430 BOSTON ST",null,"TOPSFIELD","MA",1983,"USA","TOPSFIELD, MA 1983 USA "]
["HARWIN INC",124489,"HARWIN INC","108 SECURITY PKWY BLDG. D",null,"NEW ALBANY","IN",47150,"USA","NEW ALBANY, IN 47150 USA "]
["HASTINGS AIR ENERGY CONTROL",39320,"HASTINGS AIR ENERGY CONTROL","141 W VINE ST",null,"MILWAUKEE","WI",532123993,"USA","MILWAUKEE, WI 532123993 USA "]
["HATCH BUILDING SUPPLY",11150,"HATCH BUILDING SUPPLY","5601 MANUFACTURERS DR",null,"MADISON","WI",53704,"USA","MADISON, WI 53704 USA "]
["HAVE PIG WILL TRAVEL",129655,"HAVE PIG WILL TRAVEL","3522 STATE HWY 50",null,"DELAVAN","WI",53115,"USA","DELAVAN, WI 53115 USA "]
["HAWAII AIR CARGO",136122,"HAWAII AIR CARGO","2989 UALENA ST",null,"HONOLULU","HI",96819,"USA","HONOLULU, HI 96819 USA "]
["HC POWER INC",92433,"HC POWER INC","17032 ARMSTRONG AVE",null,"IRVINE","CA",927145716,"USA","IRVINE, CA 927145716 USA "]
["HCO COMPUTER PRODUCT",91169,"HCO COMPUTER PRODUCT","17922 SKY PARK CIRCLE SUITE F",null,"IRVINE","CA",92714,"USA","IRVINE, CA 92714 USA "]
["HD SYSTEMS",83783,"HD SYSTEMS","89 CABOT CT",null,"HAUPPAUGE","NY",11788,"USA","HAUPPAUGE, NY 11788 USA "]
["HEADSOKZ INC",124062,"HEADSOKZ INC","77-899 WOLF RD #104",null,"PALM DESERT","CA",92211,"USA","PALM DESERT, CA 92211 USA "]
["HEALTH SCIENCES PRINTING SERV.","UW0016","HEALTH SCIENCES PRINTING SERV.","CLINICAL SCIENCE CENTER","MEDICAL SCIENCES CENTER","MADISON","WI",53706,"USA","MADISON, WI 53706 USA "]
["HEARST BUSINESS PUBLISHING",29485,"HEARST BUSINESS PUBLISHING","645 STEWART AVE.",null,"GARDEN CITY","MY",11530,"USA","GARDEN CITY, MY 11530 USA "]
["HEAT WAVE LABS INC",110354,"HEAT WAVE LABS INC","195 AVIATION WAY","STE 100","WATSONVILLE","CA",95076,"USA","WATSONVILLE, CA 95076 USA "]
["HEGMAN",17473,"HEGMAN","8718 MONTECELLO LANE",null,"MAPLE GROVE","MN",55369,"USA","MAPLE GROVE, MN 55369 USA "]
["HEIDEN INC.",111033,"HEIDEN INC.",null,null,null,null,null,"USA","USA "]
["HEIDENHAIN CORPORATION",17633,"HEIDENHAIN CORPORATION","115 COMMERCE DR",null,"SCHAUMBURG","IL",60173,"USA","SCHAUMBURG, IL 60173 USA "]
["HEINZEN METALS INC",97547,"HEINZEN METALS INC","1220 REMINGTON RD",null,"SCHAUMBURG","IL",60173,"USA","SCHAUMBURG, IL 60173 USA "]
["HELANDER METAL SPINNING",109775,"HELANDER METAL SPINNING","PO BOX 1824",null,"LOMBARD","IL",60148,"USA","LOMBARD, IL 60148 USA "]
["HELIX TECHNOLOGY",5372,"HELIX TECHNOLOGY","6450 DRY CREEK PKWY.",null,"LONGMONT","CO","80503-9501","USA","LONGMONT, CO 80503-9501 USA "]
["HELIX TECHNOLOGY CORPORATION",2004,"HELIX TECHNOLOGY CORPORATION","9 HAMPSHIRE ST",null,"MANSFIELD","MA",2048,"USA","MANSFIELD, MA 2048 USA "]
["HELLENBRAND WATER CONDITIONERS",37826,"HELLENBRAND WATER CONDITIONERS","509 W MAIN ST","PO BOX 187","WAUNAKEE","WI",53597,"USA","WAUNAKEE, WI 53597 USA "]
["HELLENBRAND, INC",115125,"HELLENBRAND, INC","P.O. BOX 187",null,"WAUNAKEE","WI",53597,"USA","WAUNAKEE, WI 53597 USA "]
["HELLO DIRECT",77827,"HELLO DIRECT","5884 EDEN PARK PL",null,"SAN JOSE","CA",95138,"USA","SAN JOSE, CA 95138 USA "]
["HENKEL TECHNOLOGIES",74829,"HENKEL TECHNOLOGIES","32100 STEPHENSON HIGHWAY",null,"MADISON HEIGHTS","MI",48071,"USA","MADISON HEIGHTS, MI 48071 USA "]
["HENSLEY TECHNOLOGIES, INC",129947,"HENSLEY TECHNOLOGIES, INC","9201 WARD PARKWAY",null,"KANSAS CITY","MO",64114,"USA","KANSAS CITY, MO 64114 USA "]
["HEO,HANNA",558937,"HEO,HANNA","REU",null,"STOUGHTON","WI",53589,"USA","STOUGHTON, WI 53589 USA "]
["HERGO ERGONOMIC SUPPORT SYSTEM",123269,"HERGO ERGONOMIC SUPPORT SYSTEM","56-01 55TH AVE",null,"MASPETH","NY",11378,"USA","MASPETH, NY 11378 USA "]
["HERLACHE INDUSTRIAL",5876,"HERLACHE INDUSTRIAL","1222 PARKVIEW RD",null,"GREEN BAY","WI","54307-1207","USA","GREEN BAY, WI 54307-1207 USA "]
["HERMLE USA",96232,"HERMLE USA","W134 N5235 CAMPBELL DR",null,"MENOMONEE FALLS","WI",53051,"USA","MENOMONEE FALLS, WI 53051 USA "]
["HERTZ EQUIPMENT RENTAL",126421,"HERTZ EQUIPMENT RENTAL","950 W RAWSON AVE",null,"OAK CREEK","WI",53154,"USA","OAK CREEK, WI 53154 USA "]
["HEWLETT PACKARD",128719,"HEWLETT PACKARD","301 ROCKRIMMON BLVD, S",null,"COLORADO SPRINGS","CO",80919,"USA","COLORADO SPRINGS, CO 80919 USA "]
["HEWLETT PACKARD",5904,"HEWLETT PACKARD","SUITE 100","250 N PATRICK BLVD","BROOKFIELD","WI",53045,"USA","BROOKFIELD, WI 53045 USA "]
["HEWLETT PACKARD",10494,"HEWLETT PACKARD","PO BOX 2324",null,"CUPERTINO","CA","95015-2324","USA","CUPERTINO, CA 95015-2324 USA "]
["HEWLETT PACKARD",106490,"HEWLETT PACKARD","545 ALGONQUIN ROAD",null,"ARLINGTON HEIGHTS","IL",60005,"USA","ARLINGTON HEIGHTS, IL 60005 USA "]
["HEWLETT PACKARD",21613,"HEWLETT PACKARD","10810 FARNAM DR",null,"OMAHA","NE",68154,"USA","OMAHA, NE 68154 USA "]
["HEWLETT PACKARD",29892,"HEWLETT PACKARD","8000 FOOTHILLS BLVD.",null,"ROSEVILLE","CA",95747,"USA","ROSEVILLE, CA 95747 USA "]
["HEWLETT PACKARD CO.EXPRESS",14676,"HEWLETT PACKARD CO.EXPRESS","8000 FOOTHILLS BLVD",null,"ROSEVILLE","CA",95747,"USA","ROSEVILLE, CA 95747 USA "]
["HEWLETT-PACKARD",60534,"HEWLETT-PACKARD","C/O HP DISTRIBUTION","ATTN:SCANJET FULFILLMENT","GREELEY","CO",80632,"USA","GREELEY, CO 80632 USA "]
["HEWLETT-PACKARD",100826,"HEWLETT-PACKARD","2124 BARRETT PARK DRIVE",null,"KANNESAW","GA","GA","USA","KANNESAW, GA GA USA "]
["HF WILSON ENGINEERING CO",22735,"HF WILSON ENGINEERING CO","PO BOX 2938",null,"GLEN ELLYN","IL",60137,"USA","GLEN ELLYN, IL 60137 USA "]
["HI LINE UTILITY SUPPLY",128930,"HI LINE UTILITY SUPPLY","1695 CAMBRIDGE DR",null,"ELGIN","IL",60123,"USA","ELGIN, IL 60123 USA "]
["HI-TECH OPTICAL INC",137653,"HI-TECH OPTICAL INC","3139 CHRISTY WAY",null,"SAGINAW","MI","48603-2226","USA","SAGINAW, MI 48603-2226 USA "]
["HIGH ENERGY METALS",113630,"HIGH ENERGY METALS","419 HAINES PLACE",null,"PORT TOWNSEND","WA",98368,"USA","PORT TOWNSEND, WA 98368 USA "]
["HIGH TECH TOOLING",90939,"HIGH TECH TOOLING","N8 W22520A JOHNSON DR",null,"WAUKESHA","WI",53186,"USA","WAUKESHA, WI 53186 USA "]
["HIGH TECH WELDING",88638,"HIGH TECH WELDING","R. R. 1",null,"WESTFIELD","WI",53964,"USA","WESTFIELD, WI 53964 USA "]
[{"$f":"IF($C1411=\"\",\"\",$C1411)","v":"HIGH TEXT PUBLICATIONS"},28441,"HIGH TEXT PUBLICATIONS","PO BOX 1489",null,"SOLANA BEACH","CA",92075,"USA","SOLANA BEACH, CA 92075 USA "]
["HIGH VACUUM APPARATUS",89210,"HIGH VACUUM APPARATUS","1763 SABRE ST",null,"HAYWARD","CA",94545,"USA",{"$f":"IF(F1412=\"\",\"\",F1412&\", \")&IF(G1412=\"\",\"\",G1412&\" \")&IF(H1412=\"\",\"\",H1412&\" \")&IF(I1412=\"\",\"\",I1412&\" \")","v":"HAYWARD, CA 94545 USA "}]
["HIGHER EDUCATION PUBL INC",71824,"HIGHER EDUCATION PUBL INC","SUITE 2E","2946 SLEEPY HOLLOW RD","FALLS CHURCH","VA",22042,"USA","FALLS CHURCH, VA 22042 USA "]
["HIGHLAND TECHNOLOGY",119352,"HIGHLAND TECHNOLOGY","320 JUDAH ST",null,"SAN FRANCISCO","CA",94122,"USA","SAN FRANCISCO, CA 94122 USA "]
["HILLSIDE INN AND SUITES",18745,"HILLSIDE INN AND SUITES","3748 MT DIABLO",null,"LAFAYETTE","CA",94549,"USA","LAFAYETTE, CA 94549 USA "]
["HILTON ARLINGTON",34120,"HILTON ARLINGTON","590 N. STAFFORD ST",null,"ARLINGTON","VA",22203,"USA","ARLINGTON, VA 22203 USA "]
["HISCO INC",46041,"HISCO INC","1601 WILKENING RD",null,"SCHAUMBERG","IL",60173,"USA","SCHAUMBERG, IL 60173 USA "]
["HITACHI SCIENTIFIC INSTRUMENTS",21375,"HITACHI SCIENTIFIC INSTRUMENTS","3940 N FIRST ST",null,"SAN JOSE","CA",95134,"USA","SAN JOSE, CA 95134 USA "]
["HIWIN CORP",127021,"HIWIN CORP","520 BUSINESS CENTER DR",null,"MT PROSPECT","IL",60056,"USA","MT PROSPECT, IL 60056 USA "]
["HJ ROBERTS ASSOCIATES",133282,"HJ ROBERTS ASSOCIATES","1321 BRAGG HILL RD",null,"NORWICH","VT",5055,"USA","NORWICH, VT 5055 USA "]
["HMC ELECTRONICS",39655,"HMC ELECTRONICS","33 SPRINGDALE AVE",null,"CANTON","MA",2021,"USA","CANTON, MA 2021 USA "]
["HOBBY LOBBY",116318,"HOBBY LOBBY","2351 WEST BROADWAY",null,"MONONA","WI",53713,"USA","MONONA, WI 53713 USA "]
["HOH CHEMICALS OF WISCONSIN INC",45986,"HOH CHEMICALS OF WISCONSIN INC","12635 W BURLEIGH RD",null,"BROOKFIELD","WI",53005,"USA","BROOKFIELD, WI 53005 USA "]
["HOIST DIRECT",128503,"HOIST DIRECT","123 CHARTER ST",null,"ALBERMARIE","NC",28001,"USA","ALBERMARIE, NC 28001 USA "]
["HOLIDAY INN SELECT",127689,"HOLIDAY INN SELECT","4728 CONSTITUTION AVE",null,"BATON ROUGE","LA",70808,"USA","BATON ROUGE, LA 70808 USA "]
["HOLLAENDER MFG CO",118913,"HOLLAENDER MFG CO","10285 WAYNE AVE",null,"CINCINNATI","OH",45215,"USA","CINCINNATI, OH 45215 USA "]
["HOLOGRAMS AND LASERS INTL",124986,"HOLOGRAMS AND LASERS INTL","12455 WESTPARK STE G3",null,"HOUSTON","TX",77082,"USA","HOUSTON, TX 77082 USA "]
["HOME AUTOMATION SYSTEMS INC",21121,"HOME AUTOMATION SYSTEMS INC","151 KALMUS DRIVE STE M6",null,"COSTA MESA","CA",92626,"USA","COSTA MESA, CA 92626 USA "]
["HOME DECORATORS",107278,"HOME DECORATORS","8920 PERSHALL RD",null,"HAZELWOOD","MO",63042,"USA","HAZELWOOD, MO 63042 USA "]
["HOME DEPOT",114766,"HOME DEPOT","2425 EAST SPRING DRIVE",null,"MADISON","WI",53704,"USA","MADISON, WI 53704 USA "]
["HOMETOWN INC",64860,"HOMETOWN INC","2558 ADVANCE RD",null,"MADISON","WI",53704,"USA","MADISON, WI 53704 USA "]
["HONEY WAGON SEPTIC SERVICES",4566,"HONEY WAGON SEPTIC SERVICES","330 INDUSTRIAL CIRCLE",null,"STOUGHTON","WI",53589,"USA","STOUGHTON, WI 53589 USA "]
["HONEYWELL",6056,"HONEYWELL","37 KESSEL CT SUITE 10",null,"MADISON","WI",537116233,"USA","MADISON, WI 537116233 USA "]
["HONEYWELL SENSOTEC",125571,"HONEYWELL SENSOTEC","2080 ARLINGATE LANE",null,"COLUMBUS","OH",43228,"USA","COLUMBUS, OH 43228 USA "]
["HONEYWELL SENSOTEC",123135,"HONEYWELL SENSOTEC","C/O COMTEL MIDWEST COMPANY","39830 GRAND RIVER AVE","NOVI","MI",48375,"USA","NOVI, MI 48375 USA "]
["HORIBA JOBIN YVON INC",115213,"HORIBA JOBIN YVON INC","3880 PARK AVENUE",null,"EDISON","NJ",8820,"USA","EDISON, NJ 8820 USA "]
["HOSPITAL & CLINICS","UW0015","HOSPITAL & CLINICS","RM. E5","612 CLINICAL SCIENCE CENTER","MADISON","WI",53792,"USA","MADISON, WI 53792 USA "]
["HOTWOOD'S DISTRIBUTING",130629,"HOTWOOD'S DISTRIBUTING","1104 CLAUDE RD",null,"GRAND ISLAND","NE",68802,"USA","GRAND ISLAND, NE 68802 USA "]
["HOWARD ACADEMY",131499,"HOWARD ACADEMY","194 W. MAIN ST",null,"STOUGHTON","WI",53589,"USA","STOUGHTON, WI 53589 USA "]
["HOWARD ELECTRONIC INSTRUMENTS",122195,"HOWARD ELECTRONIC INSTRUMENTS","974 SE PIONEER RD",null,"EL DORADO","KS",67042,"USA","EL DORADO, KS 67042 USA "]
["HOYA ELECTRONICS",72741,"HOYA ELECTRONICS","50 TICE BLVD",null,"WOODCLIFF LAKE","NJ",76757664,"USA","WOODCLIFF LAKE, NJ 76757664 USA "]
["HPS CORP",5695,"HPS CORP","5330 STERLING DR",null,"BOULDER","CO",80301,"USA","BOULDER, CO 80301 USA "]
["HPS VACUUM COMPONENTS",48658,"HPS VACUUM COMPONENTS","DIVISION OF MKS INSTRUMENTS IN","500 RAVINIA PL","ORLAND PARK","IL",60462,"USA","ORLAND PARK, IL 60462 USA "]
["HSC ELECTRONIC SUPPLY",122524,"HSC ELECTRONIC SUPPLY","3500 RYDER ST",null,"SANTA CLARA","CA",95051,"USA","SANTA CLARA, CA 95051 USA "]
["HSD ENGINEERING INC",110705,"HSD ENGINEERING INC","10828 BANCROFT AVE",null,"OAKLAND","CA",94603,"USA","OAKLAND, CA 94603 USA "]
["HUBBARD-HALL INC.",22574,"HUBBARD-HALL INC.","789 WOBURN ST.",null,"WILMINGTON","MA",1887,"USA","WILMINGTON, MA 1887 USA "]
["HUBER-SUHNER",75445,"HUBER-SUHNER","19 THOMPSON DR",null,"ESSEX JUNCTION","VT",5452,"USA","ESSEX JUNCTION, VT 5452 USA "]
["HUGHES CIRCUITS, INC",128686,"HUGHES CIRCUITS, INC","540 S PACIFIC ST",null,"SAN MARCOS","CA",92069,"USA","SAN MARCOS, CA 92069 USA "]
["HUGHES NETWORK SYSTEMS LLC",129707,"HUGHES NETWORK SYSTEMS LLC","11717 EXPLORATION LANE",null,"GERMANTOWN","MD",20876,"USA","GERMANTOWN, MD 20876 USA "]
["HULS AMERICA",10002,"HULS AMERICA","2731 BARTRAM RD",null,"BRISTOL","PA",19007,"USA","BRISTOL, PA 19007 USA "]
["HUMAN CONCEPTS",117185,"HUMAN CONCEPTS","3 HARBOR DR, SUITE 200",null,"SAUSALITO","CA",94965,"USA","SAUSALITO, CA 94965 USA "]
["HUMMINGBIRD COMMUNICATIONS",34204,"HUMMINGBIRD COMMUNICATIONS","706 HILLSBOROUGH",null,"RALEIGH","NC",27603,"USA","RALEIGH, NC 27603 USA "]
["HUMMINGBIRD COMMUNICATIONS LTD",1503,"HUMMINGBIRD COMMUNICATIONS LTD","2900 JOHN ST","UNIT 4",null,null,null,"CANADA","CANADA "]
["HUNT ENGINEERING",135436,"HUNT ENGINEERING","CHESTNUT COURT, BURTON ROW","BRENT KNOLL","SOMERSET",null,"TA9 4BP","ENGLAND","SOMERSET, TA9 4BP ENGLAND "]
["HUNTINGTON MECHANICAL LABS",6455,"HUNTINGTON MECHANICAL LABS","1040 L AVENIDA",null,"MOUNTAIN VIEW","CA",94043,"USA","MOUNTAIN VIEW, CA 94043 USA "]
["HUNZICKER RILEY INC",6210,"HUNZICKER RILEY INC","400 S NINE MOUND RD","PO BOX 36","VERONA","WI",53593,"USA","VERONA, WI 53593 USA "]
["HURON MACHINE PRODUCTS",5926,"HURON MACHINE PRODUCTS","228 SW 21ST TERR",null,"FORT LAUDERDALE","FL",33312,"USA","FORT LAUDERDALE, FL 33312 USA "]
["HYDRITE CHEMICAL CO",6224,"HYDRITE CHEMICAL CO","150 W DONKLE ST","BOX 247","COTTAGE GROVE","WI",535270247,"USA","COTTAGE GROVE, WI 535270247 USA "]
["HYDRO FLO PRODUCTS INC",6233,"HYDRO FLO PRODUCTS INC","3655 N 124TH ST","PO BOX 407","BROOKFIELD","WI",53005,"USA","BROOKFIELD, WI 53005 USA "]
["HYDROSEAL VALVE",121547,"HYDROSEAL VALVE","P O BOX 1382",null,"KILGORE","TX",75663,"USA","KILGORE, TX 75663 USA "]
["HYKON MFG CO",134084,"HYKON MFG CO","163 E STATE ST",null,"ALLIANCE","OH",44601,"USA","ALLIANCE, OH 44601 USA "]
["HYQUIP INC",3837,"HYQUIP INC","1811 DOLPHIN DRIVE",null,"WAUKESHA","WI",53186,"USA","WAUKESHA, WI 53186 USA "]
["HYSPAN PRECISION PRODUCTS",76667,"HYSPAN PRECISION PRODUCTS","1685 BRANDYWINE AV",null,"CHULA VISTA","CA",92011,"USA","CHULA VISTA, CA 92011 USA "]
["IATA",44830,"IATA","2000 PEEL ST",null,"MONTREAL","QUEBEC","H3A2R4","USA","MONTREAL, QUEBEC H3A2R4 USA "]
["IBASE,USA",129670,"IBASE,USA","1050 STEWART DR",null,"SUNNVALE","CA",94085,"USA","SUNNVALE, CA 94085 USA "]
["IBM",17269,"IBM","WATSON RESEARCH CENTER","P O BOX 218","YORKTOWN HEIGHTS","NY",10598,"USA","YORKTOWN HEIGHTS, NY 10598 USA "]
["IBM CORP",117367,"IBM CORP","WSCA ORDER CENTER","7100 HIGHLANDS PARKWAY","SMVRNA","GA",30062,"USA","SMVRNA, GA 30062 USA "]
["IBM DIRECT",116850,"IBM DIRECT","8123 S HARDY",null,"TEMPE","AZ",85284,"USA","TEMPE, AZ 85284 USA "]
["IBUTTONLINK",124177,"IBUTTONLINK","N8921 STONE SCHOOL RD",null,"EAST TROY","WI",53120,"USA","EAST TROY, WI 53120 USA "]
["IC EDITORS, INC.",114126,"IC EDITORS, INC.","11080 SW ALLEN BLVD. #200",null,"BEAVERTON","OR",97005,"USA","BEAVERTON, OR 97005 USA "]
["ICC INC.",23830,"ICC INC.","1144 W GROVE AVE",null,"ORANGE","CA",92665,"USA","ORANGE, CA 92665 USA "]
["ICM CORP",104125,"ICM CORP","6333 DAEDALUS DRIVE",null,"CICERO","NY",13039,"USA","CICERO, NY 13039 USA "]
["ICP",122664,"ICP","2215 SANDERS RD",null,"NORTHBROOK","IL",60062,"USA","NORTHBROOK, IL 60062 USA "]
["ICS ELECTRONICS",68413,"ICS ELECTRONICS","7034 COMMERCE CIRCLE",null,"PLEASANTON","CA",94588,"USA","PLEASANTON, CA 94588 USA "]
[{"$f":"IF($C1475=\"\",\"\",$C1475)","v":"IDEAL TOOL& MFC CO"},19003,"IDEAL TOOL& MFC CO","5615 S CLAREMONT AVE",null,"CHICAGO","IL",60636,"USA","CHICAGO, IL 60636 USA "]
["IDEAL VACUUM PROD(PCHEM LABS)",125132,"IDEAL VACUUM PROD(PCHEM LABS)","2401B PHOENIX AVE NE",null,"ALBUQUERQUE","NM",87107,"USA",{"$f":"IF(F1476=\"\",\"\",F1476&\", \")&IF(G1476=\"\",\"\",G1476&\" \")&IF(H1476=\"\",\"\",H1476&\" \")&IF(I1476=\"\",\"\",I1476&\" \")","v":"ALBUQUERQUE, NM 87107 USA "}]
["IDER",5327,"IDER","9080 TELESTAR AVE #303",null,"EL MONTE","CA",91731,"USA","EL MONTE, CA 91731 USA "]
["IEC CORPORATION",32824,"IEC CORPORATION","3100 LONGHORN BLVD.",null,"AUSTIN","TX","78758-7696","USA","AUSTIN, TX 78758-7696 USA "]
["IEEE COMPUTER SOCIETY",41707,"IEEE COMPUTER SOCIETY","10662 LOS VAQUEROS CIRCLE",null,"LOS ALAMITOS","CA",907201264,"USA","LOS ALAMITOS, CA 907201264 USA "]
["IEEE LITHOGRAPHY WORKSHOP",101108,"IEEE LITHOGRAPHY WORKSHOP","2004 SPANISH TRAIL",null,"ROANOKE","TX",76262,"USA","ROANOKE, TX 76262 USA "]
["IEEE SERVICE CENTER",63289,"IEEE SERVICE CENTER","445 HOES LN","PO BOX 1331","PISCATAWAY","NJ",88551331,"USA","PISCATAWAY, NJ 88551331 USA "]
["IEEE TRANSACTIONS ON PLASMA SC",63639,"IEEE TRANSACTIONS ON PLASMA SC","LOS ALAMOS NATIONAL LABORATORY","GROUP X-1 MAIL STOP 3531","LOS ALAMOS","NM",87545,"USA","LOS ALAMOS, NM 87545 USA "]
["IEI TECHNOLOGY USA CORP",128045,"IEI TECHNOLOGY USA CORP","515 N PUENTE ST",null,"BREA","CA",92821,"USA","BREA, CA 92821 USA "]
["IESS",101984,"IESS","VIA CINETO ROMANO,42",null,"ROME",null,null,"ITALY","ROME, ITALY "]
["IHMM",12941,"IHMM","11900 PARKLAWN DR","STE 450","ROCKVILLE","MD",20852,"USA","ROCKVILLE, MD 20852 USA "]
["IHS INC",11616,"IHS INC","15 INVERNESS WAY E",null,"ENGLEWOOD","CO",80112,"USA","ENGLEWOOD, CO 80112 USA "]
["II-VI INC",17640,"II-VI INC","375 SAXONBURG BLVD",null,"SAXONBURG","PA",16056,"USA","SAXONBURG, PA 16056 USA "]
["II-VI INC",130230,"II-VI INC","375 SAXONBURG BLVD",null,"SAXONBURG","PA",16056,"USA","SAXONBURG, PA 16056 USA "]
["IKO INTERNATIONAL INC",84598,"IKO INTERNATIONAL INC","500 E THORNDALE RD",null,"WOOD DALE","IL",60191,"USA","WOOD DALE, IL 60191 USA "]
["IKON OFFICE SOLUTIONS",28821,"IKON OFFICE SOLUTIONS","21155 WATERTOWN ROAD",null,"WAUKESHA","WI",53186,"USA","WAUKESHA, WI 53186 USA "]
["IKON OFFICE SOLUTIONS",50796,"IKON OFFICE SOLUTIONS","2800 ROYAL AVE",null,"MADISON","WI",53713,"USA","MADISON, WI 53713 USA "]
["IKON OFFICE SOLUTIONS",1460,"IKON OFFICE SOLUTIONS","23050 PAUL ROAD",null,"PEWAUKEE","WI",53072,"USA","PEWAUKEE, WI 53072 USA "]
["IKON OFFICE SOLUTIONS",34277,"IKON OFFICE SOLUTIONS","11425 W LAKE PORTE DR STE 900",null,"MILWAUKEE","WI",53224,"USA","MILWAUKEE, WI 53224 USA "]
["ILLINOIS PACKAGING & CRATING",121736,"ILLINOIS PACKAGING & CRATING","1226 MICHAEL DR","STE C","WOOD DALE","IL",60191,"USA","WOOD DALE, IL 60191 USA "]
["ILLINOIS PKG & CRATING","K00009","ILLINOIS PKG & CRATING","1226 MICHAEL DR","STE C","WOOD DALE","IL",60191,"USA","WOOD DALE, IL 60191 USA "]
["ILLINOIS PROCESS EQUIPMENT",128036,"ILLINOIS PROCESS EQUIPMENT","821 ALBION AV",null,"SCHAUMBURG","IL",60193,"USA","SCHAUMBURG, IL 60193 USA "]
["ILLINOIS TOLLWAY",128745,"ILLINOIS TOLLWAY","2700 OGDEN AVE",null,"DOWNERS GROVE","IL",60515,"USA","DOWNERS GROVE, IL 60515 USA "]
["ILLUMA DISPLAY",128876,"ILLUMA DISPLAY","PO BOX 1531",null,"BROOKFIELD","WI",53517,"USA","BROOKFIELD, WI 53517 USA "]
["IMAGINEERING, INC",122324,"IMAGINEERING, INC","180 MARTIN LANE",null,"ELK GROVE VILLAGE","IL",60007,"USA","ELK GROVE VILLAGE, IL 60007 USA "]
["IMC, INC",123032,"IMC, INC","801 ROEDER RD, SUITE 800",null,"SILVER SPRING","MD",20910,"USA","SILVER SPRING, MD 20910 USA "]
["IMDC","UW0040","IMDC","RM.113 TEACHER EDUC. BLDG",null,"MADISON","WI",53706,"USA","MADISON, WI 53706 USA "]
["IMPACT BEARING",135503,"IMPACT BEARING","1291 PUERTA DEL SOL",null,"SAN CLEMENTE","CA",92673,"USA","SAN CLEMENTE, CA 92673 USA "]
["IMS COMPANY",98249,"IMS COMPANY","10373 STAFFORD RD",null,"CHAGRIN FALLS","OH","44023-5296","USA","CHAGRIN FALLS, OH 44023-5296 USA "]
["IMSI INC",53036,"IMSI INC","1938 4TH ST",null,"SAN RAFAEL","CA",949019920,"USA","SAN RAFAEL, CA 949019920 USA "]
["IMTRON CORPORATION",98642,"IMTRON CORPORATION","6549 CITY WEST PARKWAY",null,"EDEN PRAIRIE","MN",55344,"USA","EDEN PRAIRIE, MN 55344 USA "]
["IMTS REGISTRATION",18219,"IMTS REGISTRATION","P.O. BOX 3918",null,"FREDERICK","MD",21705,"USA","FREDERICK, MD 21705 USA "]
["INACOM",53871,"INACOM","6406 ODANA RD",null,"MADISON","WI",53719,"USA","MADISON, WI 53719 USA "]
["INACOM INFORMATION SYSTEMS",35734,"INACOM INFORMATION SYSTEMS","3001 WEST BELTLINE HWY",null,"MADISON","WI",53713,"USA","MADISON, WI 53713 USA "]
["INDIUM CORPORATION OF AMERICA",6382,"INDIUM CORPORATION OF AMERICA","1676 LINCOLN AV",null,"UTICA","NY",13502,"USA","UTICA, NY 13502 USA "]
["INDUSTRIAL AUTOMATION",129310,"INDUSTRIAL AUTOMATION","18636 NORTHLINE DR",null,"CORNELIUS","NC",26031,"USA","CORNELIUS, NC 26031 USA "]
["INDUSTRIAL BEARING SERVICE",32308,"INDUSTRIAL BEARING SERVICE","1701 PEARL ST",null,"WAUKESHA","WI",53186,"USA","WAUKESHA, WI 53186 USA "]
["INDUSTRIAL ELECTRIC WIRE & CAB",9434,"INDUSTRIAL ELECTRIC WIRE & CAB","16325 W RYERSON RD",null,"NEW BERLIN","WI",531513629,"USA","NEW BERLIN, WI 531513629 USA "]
["INDUSTRIAL NETWORKING SOLUTION",135303,"INDUSTRIAL NETWORKING SOLUTION","16415 ADDISON RD   SUITE 550",null,"ADDISON","TX",75001,"USA","ADDISON, TX 75001 USA "]
["INDUSTRIAL PLATING",17691,"INDUSTRIAL PLATING","2411 6TH AVE. S.",null,"SEATTLE","WA",98134,"USA","SEATTLE, WA 98134 USA "]
["INDUSTRIAL SUPPLY CO, INC",124239,"INDUSTRIAL SUPPLY CO, INC","12905 HWY 55",null,"MINNEAPOLIS","MN",55441,"USA","MINNEAPOLIS, MN 55441 USA "]
["INDUSTRIAL TAPE & SUPPLY",128795,"INDUSTRIAL TAPE & SUPPLY","1061 KING INDUSTRIAL DR",null,"MARIETTA","GA",30062,"USA","MARIETTA, GA 30062 USA "]
["INDUSTRIAL TECTONICS  INC",6403,"INDUSTRIAL TECTONICS  INC","7222 WEST HURON RIVER DR",null,"DEXTER","MI",48130,"USA","DEXTER, MI 48130 USA "]
["INFICON",16871,"INFICON","2 TECHNOLOGY PL",null,"SYRACUSE","NY",13057,"USA","SYRACUSE, NY 13057 USA "]
["INFINEON TECHNOLOGIES",125274,"INFINEON TECHNOLOGIES","1050 ROUTE 22",null,"LEBANON","NJ",8833,"USA","LEBANON, NJ 8833 USA "]
["INFO-TECH RESEARCH GROUP",125133,"INFO-TECH RESEARCH GROUP","602 QUEENS AVE",null,"LONDON","ONTARIO","N6B 1Y8","CANADA","LONDON, ONTARIO N6B 1Y8 CANADA "]
["INFOR GLOBAL SOLUTIONS",128895,"INFOR GLOBAL SOLUTIONS","500 W MADISON SUITE 2200",null,"CHICAGO","IL",60661,"USA","CHICAGO, IL 60661 USA "]
["INFOSAT COMMUNICATIONS",131097,"INFOSAT COMMUNICATIONS","18 FAWCETT RD",null,"COQUITLAM","BRITISH COLUMBIA","V3K 6X9","CANADA","COQUITLAM, BRITISH COLUMBIA V3K 6X9 CANADA "]
["INFRARED LABORATORIES INC",18281,"INFRARED LABORATORIES INC","1808 E 17TH ST",null,"TUCSON","AZ",85719,"USA","TUCSON, AZ 85719 USA "]
["INGERSOLL RAND",6433,"INGERSOLL RAND","N58 W14686 SHAWN CIRCLE",null,"MENOMONEE FALLS","WI",53051,"USA","MENOMONEE FALLS, WI 53051 USA "]
["INGERSOLL-RAND INC",77911,"INGERSOLL-RAND INC","12311 W SILVER SPRING DR",null,"MILWAUKEE","WI",53225,"USA","MILWAUKEE, WI 53225 USA "]
["INJECTORALL ELECTRONICS",125819,"INJECTORALL ELECTRONICS","110 KEYLAND CT",null,"BOHEMIA","NY",11716,"USA","BOHEMIA, NY 11716 USA "]
["INK4LESS.COM",134289,"INK4LESS.COM","15532 SW PACIFIC HWY CIB#301",null,"TIGARD","OR",97224,"USA","TIGARD, OR 97224 USA "]
["INMAC",7562,"INMAC","860 E STATE PARKWAY",null,"SCHAUMBURG","IL",60173,"USA","SCHAUMBURG, IL 60173 USA "]
["INN ON THE PARK",26009,"INN ON THE PARK","22 S CARROLL ST",null,"MADISON","WI",53703,"USA","MADISON, WI 53703 USA "]
["INNOTEK",114241,"INNOTEK","300 SUSSEX ST",null,"PEWAUKEE","WI",53702,"USA","PEWAUKEE, WI 53702 USA "]
["INNOVATION FIRST, INC.",130278,"INNOVATION FIRST, INC.","1519 INTERSTATE 30 WEST",null,"GREENVILLE","TX",75402,"USA","GREENVILLE, TX 75402 USA "]
["INNOVATIVE SECURITY PRODUCTS",130600,"INNOVATIVE SECURITY PRODUCTS","3904 W 102ND ST",null,"OVERLAND PARK","KS",66207,"USA","OVERLAND PARK, KS 66207 USA "]
["INOC, LLC",122080,"INOC, LLC","500 SKOKIE BLVD, STE 535",null,"NORTHBROOK","IL",60062,"USA","NORTHBROOK, IL 60062 USA "]
["INSIGHT COMPUTERS",94088,"INSIGHT COMPUTERS","1912 W FOURTH ST",null,"TEMPE","AZ",85281,"USA","TEMPE, AZ 85281 USA "]
["INSIGHT ELECTRONICS",11899,"INSIGHT ELECTRONICS","1365 WILEY RD STE 142",null,"SCHAUMBURG","IL",60173,"USA","SCHAUMBURG, IL 60173 USA "]
["INSIGHT PUBLIC SECTOR",31840,"INSIGHT PUBLIC SECTOR","444 SCOTT DR",null,"BLOOMINGDALE","IL",60108,"USA","BLOOMINGDALE, IL 60108 USA "]
["INSPECTOR TOOLS",128301,"INSPECTOR TOOLS","4848 COLT ST, STE 11",null,"VENTURA","CA","93003-7732","USA","VENTURA, CA 93003-7732 USA "]
["INSPIRATION SOFTWARE INC",4612,"INSPIRATION SOFTWARE INC","2920 SW DOLPH CT SUITE 3",null,"PORTLAND","OR",97219,"USA","PORTLAND, OR 97219 USA "]
[{"$f":"IF($C1539=\"\",\"\",$C1539)","v":"INST FOR CHEM EDUC"},"UW0065","INST FOR CHEM EDUC","DEPT OF CHEMISTRY","11101 UNIVERSITY AVE","MADISON","WI",53706,"USA","MADISON, WI 53706 USA "]
["INST THEORETICAL & EXP PHYSICS",131519,"INST THEORETICAL & EXP PHYSICS","B CHEREUSHKINSKAYA, 25",null,"117259 MOSCOW","WI",null,"RUSSIA",{"$f":"IF(F1540=\"\",\"\",F1540&\", \")&IF(G1540=\"\",\"\",G1540&\" \")&IF(H1540=\"\",\"\",H1540&\" \")&IF(I1540=\"\",\"\",I1540&\" \")","v":"117259 MOSCOW, WI RUSSIA "}]
["INSTANT PHOTOGRAPHIC REPAIR",129299,"INSTANT PHOTOGRAPHIC REPAIR","7 FOREST RD",null,"RINGWOOD","NJ",7456,"USA","RINGWOOD, NJ 7456 USA "]
["INSTITUTE FOR SCIENTIFIC INFOR",6487,"INSTITUTE FOR SCIENTIFIC INFOR","3501 MARKET ST",null,"PHILADELPHIA","PA",191043389,"USA","PHILADELPHIA, PA 191043389 USA "]
["INSTITUTE OF PHYSICS PUBLISHIN",29941,"INSTITUTE OF PHYSICS PUBLISHIN","DIRAC HOUSE, TEMPLE BACK",null,"BRISTOL","UNITED KINGDOM","BS16BE","USA","BRISTOL, UNITED KINGDOM BS16BE USA "]
["INSTRUCTIONAL COMM SYSTEM","UW0066","INSTRUCTIONAL COMM SYSTEM","WISC LINE","702 LANGDON PYLE CENTER","MADISON","WI",53706,"USA","MADISON, WI 53706 USA "]
["INSTRUCTIONAL COMMUNICATION SY",123169,"INSTRUCTIONAL COMMUNICATION SY","THE PYLE CENTER","702 LANGDON ST","MADISON","WI","53706-1487","USA","MADISON, WI 53706-1487 USA "]
["INSULATOR SEAL INC",68540,"INSULATOR SEAL INC","% TECHNICAL ENGINEERING ASSOC","11307 SIBLEY DR","BURNSVILLE","MN",55337,"USA","BURNSVILLE, MN 55337 USA "]
["INSYNC, INC",121701,"INSYNC, INC","2511C BORADBENT PARKWAY",null,"ALBUQUERQUE","NM",87107,"USA","ALBUQUERQUE, NM 87107 USA "]
["INTEGRA MACHINE TOOL  LLC",15700,"INTEGRA MACHINE TOOL  LLC","2620 SOUTH 162ND ST",null,"NEW BERLIN","WI",53151,"USA","NEW BERLIN, WI 53151 USA "]
["INTEGRATED CIRCUIT ENGINEERING",91909,"INTEGRATED CIRCUIT ENGINEERING","15022 N 75TH ST",null,"SCOTTSDALE","AZ",852602476,"USA","SCOTTSDALE, AZ 852602476 USA "]
["INTEGRATED SOLUTIONS INC.",25798,"INTEGRATED SOLUTIONS INC.","944 MARCON BLVD. STE 160",null,"ALLENTOWN","PA",18103,"USA","ALLENTOWN, PA 18103 USA "]
["INTEGRIS METALS",32850,"INTEGRIS METALS","6900 S 10TH ST",null,"OAK CREEK","WI",53154,"USA","OAK CREEK, WI 53154 USA "]
["INTEL",101253,"INTEL","PO BOX 5117",null,"JANESVILLE","WI","53547-1727","USA","JANESVILLE, WI 53547-1727 USA "]
["INTELLIGENCE WARE, INC.",22378,"INTELLIGENCE WARE, INC.","5933 W. CENTURY BLVD.",null,"LOS ANGELOS","CA",90045,"USA","LOS ANGELOS, CA 90045 USA "]
["INTELLIGENT MOTION SYSTEMS INC",23137,"INTELLIGENT MOTION SYSTEMS INC","511 NORWICH AVE",null,"TAFTVILLE","CT",6380,"USA","TAFTVILLE, CT 6380 USA "]
["INTERACTIVE IMAGE TECHNOLOGIES",14410,"INTERACTIVE IMAGE TECHNOLOGIES","908 NIAGARA FALLS BLVD,STE 068",null,"NORTH TONAWANDA","NY","14120-9901","USA","NORTH TONAWANDA, NY 14120-9901 USA "]
["INTERBIZ",118957,"INTERBIZ","36549 EAGLE WAY",null,"CHICAGO","IL",60678,"USA","CHICAGO, IL 60678 USA "]
["INTERIOR INVESTMENTS",13948,"INTERIOR INVESTMENTS","502 S HIGH POINT ROAD",null,"MADISON","WI",53719,"USA","MADISON, WI 53719 USA "]
["INTERMARK (USA) INC",128523,"INTERMARK (USA) INC","1310 TULLY RD, SUITE 117",null,"SAN JOSE","CA",95122,"USA","SAN JOSE, CA 95122 USA "]
["INTERNATIONAL PUBLISHER' DIST",100771,"INTERNATIONAL PUBLISHER' DIST","PO BOX 27542",null,"NEWARK","NJ","07101-8742","USA","NEWARK, NJ 07101-8742 USA "]
["INTERNATIONAL RADIATION DETECT",20311,"INTERNATIONAL RADIATION DETECT","2545 W. 237TH ST.,SUITE I",null,"TORRANCE","CA",90505,"USA","TORRANCE, CA 90505 USA "]
["INTERNET INC",15484,"INTERNET INC","7681 SETZLER PKWY NORTH",null,"MINNEAPOLIS","MN",55445,"USA","MINNEAPOLIS, MN 55445 USA "]
["INTERPLEX TECHNOLOGIES",17720,"INTERPLEX TECHNOLOGIES","70 FULTON TERRACE",null,"NEW HAVEN","CT",6512,"USA","NEW HAVEN, CT 6512 USA "]
["INTERSTATE BATTERIES",1571,"INTERSTATE BATTERIES","2105 PARVIEW RD",null,"MIDDLETON","WI",53590,"USA","MIDDLETON, WI 53590 USA "]
["INTERSTATE PUMP & TANK",124018,"INTERSTATE PUMP & TANK","901 NIAGARA ST",null,"WAUKESHA","WI",53186,"USA","WAUKESHA, WI 53186 USA "]
["INTERWEB",34873,"INTERWEB","PO BOX 31467",null,"CHICAGO","IL","60631-0467","USA","CHICAGO, IL 60631-0467 USA "]
["INTUSOFT",89839,"INTUSOFT","PO BOX 6607",null,"SAN PEDRO","CA",907346607,"USA","SAN PEDRO, CA 907346607 USA "]
["INVENSYS",126720,"INVENSYS","38 NEPONSET AVE",null,"FOXBORO","MA",2035,"USA","FOXBORO, MA 2035 USA "]
["INXS INC",122044,"INXS INC","1220 TANGELO TERR","SUITE A21","DELRAY BEACH","FL",33444,"USA","DELRAY BEACH, FL 33444 USA "]
["IO TECH",65428,"IO TECH","PO BOX 391345","25971 CANNON RD","CLEVELAND","OH",44139,"USA","CLEVELAND, OH 44139 USA "]
["IOMEGA CORPORATION",39939,"IOMEGA CORPORATION","1821 W 4000 S",null,"ROY","UT",84067,"USA","ROY, UT 84067 USA "]
["ION SOURCE SOFTWARE",103198,"ION SOURCE SOFTWARE","PO BOX 2726",null,"IDAHO FALLS","ID",83403,"USA","IDAHO FALLS, ID 83403 USA "]
["IPSWITCH INC",101547,"IPSWITCH INC","10 MAGUIRE RD STE 220",null,"LEXINGTON","MA",2421,"USA","LEXINGTON, MA 2421 USA "]
["IRCAMERAS INC",136043,"IRCAMERAS INC","1600 PROVIDENCE HIGHWAY",null,"WALPOLE","MA",2081,"USA","WALPOLE, MA 2081 USA "]
["ISI INSULATOR SEAL INC",76474,"ISI INSULATOR SEAL INC","517 PAUL MORRIS DR",null,"ENGLEWOOD","FL",34223,"USA","ENGLEWOOD, FL 34223 USA "]
["ISLIP FLOW CONTROLS",130717,"ISLIP FLOW CONTROLS","P.O. BOX 2989",null,"BUFFALO","NY",14240,"USA","BUFFALO, NY 14240 USA "]
["ISOTEK CORP",2369,"ISOTEK CORP","566 WILBUR AVE",null,"SWANSEA","MA",2777,"USA","SWANSEA, MA 2777 USA "]
["ISP  (INTERNATIONAL SCIENTIFIC",113857,"ISP  (INTERNATIONAL SCIENTIFIC","1 BRIDGE ST.",null,"IRVINGTON","NY",10533,"USA","IRVINGTON, NY 10533 USA "]
["IT WATCHDOGS",126457,"IT WATCHDOGS","12885 RESEARCH BLVD","STE 210","AUSTIN","TX",78750,"USA","AUSTIN, TX 78750 USA "]
["IVERSON & CO",92449,"IVERSON & CO","441 N THIRD AVE",null,"DES PLAINES","IL",600161160,"USA","DES PLAINES, IL 600161160 USA "]
["IVG COLBACHINI S.P.A.",115394,"IVG COLBACHINI S.P.A.","VIA FOSSONA 132","35030 CERVARESE S CROCE","PADAVA, ITALY","ITALY",null,"USA","PADAVA, ITALY, ITALY USA "]
["IVG INDUSTRIAL HOSE INC",116781,"IVG INDUSTRIAL HOSE INC","5302 FAYETTE ST",null,"HOUSTON","TX",77056,"USA","HOUSTON, TX 77056 USA "]
["J & C MANUFACTURING CO  INC",136161,"J & C MANUFACTURING CO  INC","5907 HILLCREST DR",null,"ALLENTON","WI",53002,"USA","ALLENTON, WI 53002 USA "]
["J & K CONNECTORS",124281,"J & K CONNECTORS","19209 DES MOINES WAY SOUTH",null,"SEATTLE","WA",98148,"USA","SEATTLE, WA 98148 USA "]
["J & K SECURITY SOLUTIONS",128938,"J & K SECURITY SOLUTIONS","1605 S PARK ST",null,"MADISON","WI",53715,"USA","MADISON, WI 53715 USA "]
["J & L INDUSTRIAL SUPPLY",62185,"J & L INDUSTRIAL SUPPLY","2701 S. BUSSE RD.",null,"ELK GROVE VILLAGE","IL",60007,"USA","ELK GROVE VILLAGE, IL 60007 USA "]
["J P PATTERN",18019,"J P PATTERN","5038 N 125TH ST",null,"BUTLER","WI",53007,"USA","BUTLER, WI 53007 USA "]
["J&H MACHINE TOOL SPECIALTY",108286,"J&H MACHINE TOOL SPECIALTY","605 E ROOSEVELT RD",null,"WHEATON","IL",60187,"USA","WHEATON, IL 60187 USA "]
["JAMECO ELECTRONICS",6676,"JAMECO ELECTRONICS","1355 SHOREWAY RD",null,"BELMONT","CA",94002,"USA","BELMONT, CA 94002 USA "]
["JAMES J URBANCIC",130812,"JAMES J URBANCIC","PO BOX 180334",null,"DELAFIELD","WI",53018,"USA","DELAFIELD, WI 53018 USA "]
["JAMES RIVER TECHNICAL",117597,"JAMES RIVER TECHNICAL","4439 COX RD",null,"GLEN ALLEN","VA","23060-3326","USA","GLEN ALLEN, VA 23060-3326 USA "]
["JAMPRO ANTENNAS  INC",112458,"JAMPRO ANTENNAS  INC","6340 SKY CREEK DR",null,"SACRAMENTO","CA",95828,"USA","SACRAMENTO, CA 95828 USA "]
["JANDEL SCIENTIFIC SOFTWARE",7283,"JANDEL SCIENTIFIC SOFTWARE","2591 KERNER BLVD",null,"SAN RAFAEL","CA",94901,"USA","SAN RAFAEL, CA 94901 USA "]
["JANIS RESEARCH COMPANY",13724,"JANIS RESEARCH COMPANY","2 JEWEL DRIVE",null,"WILMINGTON","MA","01887-0696","USA","WILMINGTON, MA 01887-0696 USA "]
["JANOS OPTICAL CORP",27235,"JANOS OPTICAL CORP","RT 35","PO BOX 25","TOWNSHEND","VT",5353,"USA","TOWNSHEND, VT 5353 USA "]
["JAPAN PUBLICATIONS TRADING COM",27005,"JAPAN PUBLICATIONS TRADING COM","PO BOX 5030","TOKOYO INTERNATIONAL",null,null,null,"JAPAN","JAPAN "]
["JAPANESE JOURNAL OF APPLIED PH",5093,"JAPANESE JOURNAL OF APPLIED PH","DAINI TOYOKAIJI BLDG.,24-8","SHINBASHI 4-CHOME","MINATOKU, TOKYO",null,105,"JAPAN","MINATOKU, TOKYO, 105 JAPAN "]
["JAPANESE PRODUCTS CORP",16864,"JAPANESE PRODUCTS CORP","272 MAIN AVE.",null,"NORWALK","CT",6851,"USA","NORWALK, CT 6851 USA "]
["JARP INDUSTRIES INC",110379,"JARP INDUSTRIES INC","PO BOX 923",null,"WAUSAU","WI","54402-0923","USA","WAUSAU, WI 54402-0923 USA "]
["JASTA",32780,"JASTA","185 MARTINVALE LANE",null,"SAN JOSE","CA",95119,"USA","SAN JOSE, CA 95119 USA "]
["JC PENNEY",34587,"JC PENNEY","135 E. TOWNE MALL",null,"MADISON","WI",53717,"USA","MADISON, WI 53717 USA "]
["JC WHITNEY",74995,"JC WHITNEY","2319 S THROOP ST",null,"CHICAGO","IL",60680,"USA","CHICAGO, IL 60680 USA "]
["JDR CABLE SYSTEMS BV",123141,"JDR CABLE SYSTEMS BV","2901 AB CAPELLE A/D LJSSEL",null,null,null,null,"USA","USA "]
[{"$f":"IF($C1603=\"\",\"\",$C1603)","v":"JDR CABLE SYSTEMS INC"},119564,"JDR CABLE SYSTEMS INC","6225 W. SAM HOUSTON PKWY N",null,"HOUSTON","TX",77041,"USA","HOUSTON, TX 77041 USA "]
["JDR MICRODEVICES INC",29281,"JDR MICRODEVICES INC","2233 SAMARITAN DR",null,"SAN JOSE","CA",95124,"USA",{"$f":"IF(F1604=\"\",\"\",F1604&\", \")&IF(G1604=\"\",\"\",G1604&\" \")&IF(H1604=\"\",\"\",H1604&\" \")&IF(I1604=\"\",\"\",I1604&\" \")","v":"SAN JOSE, CA 95124 USA "}]
["JEAMAR WINCHES INC",119713,"JEAMAR WINCHES INC","1051 CLINTON ST",null,"BUFFALO","NY",14206,"USA","BUFFALO, NY 14206 USA "]
["JEAMAR WINCHES, INC.",119714,"JEAMAR WINCHES, INC.","1051 CLINTON ST.",null,"BUFFALO","NY",14206,"USA","BUFFALO, NY 14206 USA "]
["JEFFERSON FIRE AND SAFETY",6694,"JEFFERSON FIRE AND SAFETY","7617 DONNA DR",null,"MIDDLETON","WI",53562,"USA","MIDDLETON, WI 53562 USA "]
["JEFFERSON LABORATORY",124932,"JEFFERSON LABORATORY","12000 JEFFERSON AVENUE",null,"NEWPORT NEWS","VA",23606,"USA","NEWPORT NEWS, VA 23606 USA "]
["JEFFERSON SCIENCES ASSC",135637,"JEFFERSON SCIENCES ASSC","628 HOFSTADTER AVE, SUITE 5",null,"NEWPORT NEWS","VA",23606,"USA","NEWPORT NEWS, VA 23606 USA "]
["JEFFERSON SOLENOID VALVES",127081,"JEFFERSON SOLENOID VALVES","20225 NE 15TH CT",null,"MIAMI","FL",33179,"USA","MIAMI, FL 33179 USA "]
["JELIGHT COMPANY INC",90790,"JELIGHT COMPANY INC","2 MASON",null,"IRVINE","CA",92618,"USA","IRVINE, CA 92618 USA "]
["JEM",98674,"JEM","484 TAMARACK",null,"LONG LAKE","MN",55356,"USA","LONG LAKE, MN 55356 USA "]
["JEM ENGINEERING",137849,"JEM ENGINEERING","8683 CHERRY LANE",null,"LAUREL","MD",20707,"USA","LAUREL, MD 20707 USA "]
["JENKINS ELECTRIC",124034,"JENKINS ELECTRIC","5933 BROOKSHIRE BLVD",null,"CHARLOTTE","NC",28216,"USA","CHARLOTTE, NC 28216 USA "]
["JENSEN EQUIPMENT",112997,"JENSEN EQUIPMENT","4125 TERMINAL DR, STE 110",null,"MCFARLAND","WI",53558,"USA","MCFARLAND, WI 53558 USA "]
["JENSEN EQUIPMENT CO",101468,"JENSEN EQUIPMENT CO","N27 W23015 ROUNDY DR",null,"PEWAUKEE","WI",53072,"USA","PEWAUKEE, WI 53072 USA "]
["JENSEN TOOLS INC",6705,"JENSEN TOOLS INC","7815 S 46TH ST","PO BOX 50020","PHOENIX","AZ",850445399,"USA","PHOENIX, AZ 850445399 USA "]
["JEOL USA INC",6706,"JEOL USA INC","11 DEARBORN RD",null,"PEABODY","MA",19616043,"USA","PEABODY, MA 19616043 USA "]
["JEPA CONSTRUCTION",34869,"JEPA CONSTRUCTION","4915 VOGES RD",null,"MADISON","WI",53704,"USA","MADISON, WI 53704 USA "]
["JEROME TECHNOLOGY",27522,"JEROME TECHNOLOGY","PO BOX 403",null,"RARITAN","NJ",8869,"USA","RARITAN, NJ 8869 USA "]
["JERRY ROWE",130245,"JERRY ROWE","3821 SCHNEIDER DRIVE",null,"STOUGHTON","WI",53589,"USA","STOUGHTON, WI 53589 USA "]
["JET TECHNOLOGIES",57326,"JET TECHNOLOGIES","2120 S CALHOURN RD",null,"NEW BERLIN","WI",53151,"USA","NEW BERLIN, WI 53151 USA "]
["JETPCB",139787,"JETPCB","2055 JUNCTION AVE. STE 135",null,"SAN JOSE","CA",95131,"USA","SAN JOSE, CA 95131 USA "]
["JIFFY MACHINE",124299,"JIFFY MACHINE","1675 N. MAGNOLIA AVE",null,"EL CAJON","CA",92020,"USA","EL CAJON, CA 92020 USA "]
["JIM CONANT CONSTRUCTION LLC",127523,"JIM CONANT CONSTRUCTION LLC","3298 OLD STAGE RD",null,"STOUGHTON","WI",53589,"USA","STOUGHTON, WI 53589 USA "]
["JJ KELLER & ASSOC INC",6892,"JJ KELLER & ASSOC INC","TECHNICAL PUBL & REGULATORY SE","3003 W BREEZEWOOD LN","NEENAH","WI",549570368,"USA","NEENAH, WI 549570368 USA "]
["JL RICHARDS",107432,"JL RICHARDS","1015 MAIN ST",null,"OREGON","WI",53575,"USA","OREGON, WI 53575 USA "]
["JM GRIMSTAD",89058,"JM GRIMSTAD","S84 W18887 ENTERPRISE DR",null,"MUSKEGO","WI",53150,"USA","MUSKEGO, WI 53150 USA "]
["JML OPTICAL INDUSTRIES",79559,"JML OPTICAL INDUSTRIES","690 PORTLAND AV",null,"ROCHESTER","NY",146219978,"USA","ROCHESTER, NY 146219978 USA "]
["JOBIN YVON INC",6498,"JOBIN YVON INC","3880 PARK AVE",null,"EDISON","NJ",8820,"USA","EDISON, NJ 8820 USA "]
["JOBIN YVON INC",112119,"JOBIN YVON INC","3880 PARK AVE",null,"EDISON","NJ",8820,"USA","EDISON, NJ 8820 USA "]
["JOE DANIELS CONSTRUCTION",27179,"JOE DANIELS CONSTRUCTION","919 APPLEGATE RD",null,"MADISON","WI",53713,"USA","MADISON, WI 53713 USA "]
["JOHN FLUKE MFG CO",66270,"JOHN FLUKE MFG CO","PO BOX 9090 MS 216A",null,"EVERETT","WA",982069090,"USA","EVERETT, WA 982069090 USA "]
["JOHN GALLAGHER CO INC",5037,"JOHN GALLAGHER CO INC","809 PLAENERT DR",null,"MADISON","WI",53713,"USA","MADISON, WI 53713 USA "]
["JOHN MAYE CO INC",7928,"JOHN MAYE CO INC","1931 MACARTHUR RD",null,"WAUKESHA","WI",53188,"USA","WAUKESHA, WI 53188 USA "]
["JOHN S NELSON CONSULTANT, LLC",134512,"JOHN S NELSON CONSULTANT, LLC","510 VIRGINA TERRACE",null,"MADISON","WI",53726,"USA","MADISON, WI 53726 USA "]
["JOHN WILEY & SONS",27062,"JOHN WILEY & SONS","605  3RD AVE",null,"NEW YORK","NY",10158,"USA","NEW YORK, NY 10158 USA "]
["JOHN WILEY & SONS INC",33932,"JOHN WILEY & SONS INC","605 3RD AVE",null,"NEW YORK","NY",101580012,"USA","NEW YORK, NY 101580012 USA "]
["JOHNSON CONTROLS INC",6750,"JOHNSON CONTROLS INC","2400 KILGUST RD",null,"MADISON","WI",53713,"USA","MADISON, WI 53713 USA "]
["JOHNSON INSULATING CO",6740,"JOHNSON INSULATING CO","2046 PENNSYLVANIA AVE",null,"MADISON","WI",53704,"USA","MADISON, WI 53704 USA "]
["JOHNSON SALES INC",6749,"JOHNSON SALES INC","N1255 US HIGHWAY 51",null,"ARLINGTON","WI",53911,"USA","ARLINGTON, WI 53911 USA "]
["JOHNSON SCREENS",79752,"JOHNSON SCREENS","P.O. BOX 64118",null,"ST PAUL","MN",55164,"USA","ST PAUL, MN 55164 USA "]
["JOHNSTON FARGO CULVERT INC",125686,"JOHNSTON FARGO CULVERT INC","3575 - 85TH AVE",null,"ST PAUL","MN","55126-1186","USA","ST PAUL, MN 55126-1186 USA "]
["JOHNSTONE SUPPLY",32365,"JOHNSTONE SUPPLY","4237 ARGOSY ST.",null,"MADISON","WI",53714,"USA","MADISON, WI 53714 USA "]
["JT RYERSON CO",10923,"JT RYERSON CO","500 S 88TH ST","PO BOX 534","MILWAUKEE","WI",53201,"USA","MILWAUKEE, WI 53201 USA "]
["JUDAH CASTER COMPANY",130467,"JUDAH CASTER COMPANY","832 N ST",null,"LINCOLN","NE",68508,"USA","LINCOLN, NE 68508 USA "]
["JUDDS RADIATOR",75307,"JUDDS RADIATOR","1410 S. PARK",null,"MADISON","WI",53715,"USA","MADISON, WI 53715 USA "]
["JUSTROPES.COM",135558,"JUSTROPES.COM","150 STANIFORD ST    SUITE 212",null,"BOSTON","MA",2114,"USA","BOSTON, MA 2114 USA "]
["JW WINCO",111631,"JW WINCO","PO BOX 510035",null,"NEW BERLIN","WI",53151,"USA","NEW BERLIN, WI 53151 USA "]
["K-SPACE",106778,"K-SPACE","3626 W. LIBERTY RD.",null,"ANN ARBOR","MI",48103,"USA","ANN ARBOR, MI 48103 USA "]
["K-TEK INTERNATIONAL",111225,"K-TEK INTERNATIONAL","7086 SW BEVELAND ST.",null,"PORTLAND","OR",97223,"USA","PORTLAND, OR 97223 USA "]
["KADEL ENGINEERING CORP",36978,"KADEL ENGINEERING CORP","1627 E MAIN ST",null,"DANVILLE","IN",46122,"USA","DANVILLE, IN 46122 USA "]
["KAESTNERBODWAY INC",86504,"KAESTNERBODWAY INC","6333 UNIVERSITY AVE",null,"MIDDLETON","WI",53562,"USA","MIDDLETON, WI 53562 USA "]
["KAGI SHAREWARE",23514,"KAGI SHAREWARE","1442-A WALNUT STREET #392-BL",null,"BERKKLEY","CA","94709-1405","USA","BERKKLEY, CA 94709-1405 USA "]
["KAHLON, INC",108754,"KAHLON, INC","1523 N. HARMONY CIRCLE",null,"ANAHEIM","CA",92807,"USA","ANAHEIM, CA 92807 USA "]
["KAISER TOOL CO",130593,"KAISER TOOL CO","3620 CENTENNIAL DR",null,"FORT WAYNE","IN",46808,"USA","FORT WAYNE, IN 46808 USA "]
["KALSCHEUR IMPLEMENT",6849,"KALSCHEUR IMPLEMENT","1113 MAIN ST",null,"CROSS PLAINS","WI",53528,"USA","CROSS PLAINS, WI 53528 USA "]
["KAMAN INDUSTRIAL TECHNOLOGIES",120548,"KAMAN INDUSTRIAL TECHNOLOGIES","2019 S. STOUGHTON RD",null,"MADISON","WI",53716,"USA","MADISON, WI 53716 USA "]
["KARA COMPANY",47014,"KARA COMPANY","5255 DANSHER ROAD",null,"COUNTRYSIDE","IL",60525,"USA","COUNTRYSIDE, IL 60525 USA "]
["KARL LAMBRECHT CORP",7204,"KARL LAMBRECHT CORP","4204 N LINCOLN AVE",null,"CHICAGO","IL",60618,"USA","CHICAGO, IL 60618 USA "]
["KARST SPORTS",126428,"KARST SPORTS","RT 1 BOX 184",null,"SHINNSTON","WV",26431,"USA","SHINNSTON, WV 26431 USA "]
["KAVANAUGHS RESTAURANT SUPPLY",81511,"KAVANAUGHS RESTAURANT SUPPLY","3110 WATFORD WAY",null,"MADISON","WI",53713,"USA","MADISON, WI 53713 USA "]
["KAYSER AUTOMOTIVE GROUP",124912,"KAYSER AUTOMOTIVE GROUP","1411 HWY 51",null,"STOUGHTON","WI",53589,"USA","STOUGHTON, WI 53589 USA "]
["KAYSER FORD INC",6876,"KAYSER FORD INC","2303 BELTLINE HWY","PO BOX 1526","MADISON","WI",53701,"USA","MADISON, WI 53701 USA "]
["KD FASTENERS",126220,"KD FASTENERS","1440 JEFFREY DR",null,"ADDISON","IL",60101,"USA","ADDISON, IL 60101 USA "]
["KDS INC",130015,"KDS INC","8824 SHIRLEY AVENUE, UNIT #10",null,"NORTHRIDGE","CA",91324,"USA","NORTHRIDGE, CA 91324 USA "]
[{"$f":"IF($C1667=\"\",\"\",$C1667)","v":"KEEP-FILL"},125158,"KEEP-FILL","24400 NORTHLINE RD",null,"TAYLOR","MI",48180,"USA","TAYLOR, MI 48180 USA "]
["KEITHLEY",50461,"KEITHLEY","28775 AURORA RD",null,"SOLON","OH",44129,"USA",{"$f":"IF(F1668=\"\",\"\",F1668&\", \")&IF(G1668=\"\",\"\",G1668&\" \")&IF(H1668=\"\",\"\",H1668&\" \")&IF(I1668=\"\",\"\",I1668&\" \")","v":"SOLON, OH 44129 USA "}]
["KEITHLEY INSTRUMENTS INC",6887,"KEITHLEY INSTRUMENTS INC","28775 AURORA RD",null,"CLEVELAND","OH",441391891,"USA","CLEVELAND, OH 441391891 USA "]
["KELLER AMERICA  INC",133673,"KELLER AMERICA  INC","813 DILIGENCE DR     SUITE 120",null,"NEWPORT NEWS","VA",23606,"USA","NEWPORT NEWS, VA 23606 USA "]
["KELLER PRODUCTS INC",122055,"KELLER PRODUCTS INC","BOX 26",null,"LEXINGTON","MA",2420,"USA","LEXINGTON, MA 2420 USA "]
["KELLEY WILLIAMSON",122531,"KELLEY WILLIAMSON","P.O. BOX 456","290 S. DIVISION ST","WANAUKEE","WI",53597,"USA","WANAUKEE, WI 53597 USA "]
["KELLY CAMPBELL",100623,"KELLY CAMPBELL","1800 PLATT STREET, APT.4",null,"MANHATTEN","KS",66502,"USA","MANHATTEN, KS 66502 USA "]
["KEN LAUFFER & ASSOCIATES INC",126533,"KEN LAUFFER & ASSOCIATES INC","7071 S 13TH ST","STE 207","OAK CREEK","WI",53154,"USA","OAK CREEK, WI 53154 USA "]
["KENMORE LABELS",128693,"KENMORE LABELS","8810 TYLER BLVD",null,"MENTOR","OH",44060,"USA","MENTOR, OH 44060 USA "]
["KENNAMETAL INC",6908,"KENNAMETAL INC","2748 WISCONSIN AVE",null,"DOWNERS GROVE","IL",60515,"USA","DOWNERS GROVE, IL 60515 USA "]
["KENNETH CROSBY CO.",24301,"KENNETH CROSBY CO.","225 TURNPIKE ROAD","PO BOX 9112","SOUTHBOROUGH","MA",1772,"USA","SOUTHBOROUGH, MA 1772 USA "]
["KENOSHA COMPUTER CENTER",76129,"KENOSHA COMPUTER CENTER","2133 91ST ST",null,"KENOSHA","WI",53140,"USA","KENOSHA, WI 53140 USA "]
["KENRICH/EMS, INC",117717,"KENRICH/EMS, INC","W229 N591 FOSTER CT",null,"WAUKESHA","WI",53186,"USA","WAUKESHA, WI 53186 USA "]
["KENTEK CORPORATION",54649,"KENTEK CORPORATION","1 ELM ST",null,"PITTSFIELD","NH",3203,"USA","PITTSFIELD, NH 3203 USA "]
["KEPCO",47498,"KEPCO","% STAR ENGINEERING","1975 S 14TH ST","MILWAUKEE","WI",53204,"USA","MILWAUKEE, WI 53204 USA "]
["KEPCO",91417,"KEPCO","6615 SPRINKEL RD",null,"KALAMAZOO","MI",49001,"USA","KALAMAZOO, MI 49001 USA "]
["KEPCO INC",6917,"KEPCO INC","131-38 SANFORD AVE",null,"FLUSHING","NY",11352,"USA","FLUSHING, NY 11352 USA "]
["KERN ENGINEERING & MFG CORP",126150,"KERN ENGINEERING & MFG CORP","13912 MOUNTAIN AVE",null,"CHINO","CA",91710,"USA","CHINO, CA 91710 USA "]
["KESSENICHS LTD",6924,"KESSENICHS LTD","131 S FAIR OAKS AVE",null,"MADISON","WI",53704,"USA","MADISON, WI 53704 USA "]
["KEY BELLEVILLES  INC",123728,"KEY BELLEVILLES  INC","100 KEY LN",null,"LEECHBURG","PA",15656,"USA","LEECHBURG, PA 15656 USA "]
["KEY HIGH VACUUM PRODUCTS INC",6935,"KEY HIGH VACUUM PRODUCTS INC","36 SOUTHERN BLVD",null,"NESCONSET","NY",11767,"USA","NESCONSET, NY 11767 USA "]
["KEY INDUSTRIES",72843,"KEY INDUSTRIES","2325K PARKLAWN DRIVE",null,"WAUKESHA","WI",53816,"USA","WAUKESHA, WI 53816 USA "]
["KEYE PRODUCTIVITY CENTER",41990,"KEYE PRODUCTIVITY CENTER","PO BOX 27480",null,"KANSAS CITY","MO",64180,"USA","KANSAS CITY, MO 64180 USA "]
["KEYSTONE FILTER DIVISION",123334,"KEYSTONE FILTER DIVISION","2385 NORTH PENN RD",null,"HATFIELD","PA",19440,"USA","HATFIELD, PA 19440 USA "]
["KIDASA SOFTWARE",90702,"KIDASA SOFTWARE","BOX 1167",null,"MANCHACA","TX",78652,"USA","MANCHACA, TX 78652 USA "]
["KILSBY ROBERTS",59656,"KILSBY ROBERTS","11610 W NORTH AVE",null,"WAUWATOSA","WI",53226,"USA","WAUWATOSA, WI 53226 USA "]
["KIMBALL PHYSICS INC",15240,"KIMBALL PHYSICS INC","KIMBALL HILL RD",null,"WILTON","NH",3086,"USA","WILTON, NH 3086 USA "]
["KINESIS CORP",18742,"KINESIS CORP","22121 17TH AVE","STE 112","BOTHELL","WA",98021,"USA","BOTHELL, WA 98021 USA "]
["KINETIC SYSTEMS CORPORATION",6367,"KINETIC SYSTEMS CORPORATION","11 MARYKNOLL DR",null,"LOCKPORT","IL",60441,"USA","LOCKPORT, IL 60441 USA "]
["KINGBRIGHT CORP",124248,"KINGBRIGHT CORP","225 BREA CANYON RD",null,"CITY OF INDUSTRY","CA",91789,"USA","CITY OF INDUSTRY, CA 91789 USA "]
["KINGSTON TECHNOLOGY CORP",88078,"KINGSTON TECHNOLOGY CORP","17600 NEWHOPE ST",null,"FOUNTAIN VALLEY","CA",92708,"USA","FOUNTAIN VALLEY, CA 92708 USA "]
["KISTLER INSTRUMENT GROUP",43623,"KISTLER INSTRUMENT GROUP","75 JOHN GLENN DR",null,"AMHERST","NY","14228-2171","USA","AMHERST, NY 14228-2171 USA "]
["KITCHEN HEARTH",98281,"KITCHEN HEARTH","6644 MINERAL POINT RD",null,"MADISON","WI",53705,"USA","MADISON, WI 53705 USA "]
["KIYOTA CO INC",89655,"KIYOTA CO INC","2326 N CHARLES ST",null,"BALTIMORE","MD",21218,"USA","BALTIMORE, MD 21218 USA "]
["KL GROUP",106177,"KL GROUP","260 KING ST",null,"TORONTO","ONTARIO","M5A1K3","CANADA","TORONTO, ONTARIO M5A1K3 CANADA "]
["KLA TENCOR, INC",114249,"KLA TENCOR, INC","160 RIO ROBLES",null,"SAN JOSE","CA",95134,"USA","SAN JOSE, CA 95134 USA "]
["KLA-TENCOR",107120,"KLA-TENCOR","160 RIO ROBLES",null,"SAN JOSE","CA",95161,"USA","SAN JOSE, CA 95161 USA "]
["KLAUS RADIO",51475,"KLAUS RADIO","8400 N ALLEN RD",null,"PEORIA","IL",61615,"USA","PEORIA, IL 61615 USA "]
["KLAUS RADIO INC",75568,"KLAUS RADIO INC","227 BUCKLIN ST",null,"LA SALLE","IL",61301,"USA","LA SALLE, IL 61301 USA "]
["KLEEN SWEEP",124210,"KLEEN SWEEP","8409 N US HWY 14",null,"EVANSVILLE","WI",53536,"USA","EVANSVILLE, WI 53536 USA "]
["KLEENMARK DISTRIBUTION",5028,"KLEENMARK DISTRIBUTION","1206 ANN ST",null,"MADISON","WI",53713,"USA","MADISON, WI 53713 USA "]
["KLEIN DICKERT",45521,"KLEIN DICKERT","2100 INDUSTRIAL DRIVE",null,"MADISON","WI",53713,"USA","MADISON, WI 53713 USA "]
["KLEIN DICKERT CO",6989,"KLEIN DICKERT CO","1124 REGENT ST","PO BOX 9410","MADISON","WI",537150410,"USA","MADISON, WI 537150410 USA "]
["KLEIN DICKERT GLASS",36021,"KLEIN DICKERT GLASS","1406 EMIL ST","BOX 9410","MADISON","WI",537150410,"USA","MADISON, WI 537150410 USA "]
["KLINKE CLEANERS",6213,"KLINKE CLEANERS","4518 MONONA DRIVE",null,"MADISON","WI","53716-1098","USA","MADISON, WI 53716-1098 USA "]
["KLINKE CLEANERS",62143,"KLINKE CLEANERS","4518 MONONA DRIVE",null,"MADISON","WI",53716,"USA","MADISON, WI 53716 USA "]
["KM TOOL SUPPLY",80564,"KM TOOL SUPPLY","P O BOX 1270",null,"MENOMONEE FALLS","WI",53052,"USA","MENOMONEE FALLS, WI 53052 USA "]
["KNIVES & BLADES",33637,"KNIVES & BLADES","11411 W. THEODORE TRECKER WAY",null,"MILWAUKEE","WI",53214,"USA","MILWAUKEE, WI 53214 USA "]
["KNOX COMPANY",132644,"KNOX COMPANY","1601 W DEER VALLEY RD",null,"PHOENIX","AZ",85027,"USA","PHOENIX, AZ 85027 USA "]
["KOBOLD INSTRUMENTS INC",103340,"KOBOLD INSTRUMENTS INC","1801 PARKWAY VIEW DR",null,"PITTSBURG","PA",15205,"USA","PITTSBURG, PA 15205 USA "]
["KOCH CRYSTAL FINISHING",81512,"KOCH CRYSTAL FINISHING","630 SUGAR LANE",null,"ELYRIA","OH",44035,"USA","ELYRIA, OH 44035 USA "]
["KOHLS",41061,"KOHLS","2501 W. BROADWAY",null,"MADISON","WI",53713,"USA","MADISON, WI 53713 USA "]
["KOHLS","KOHLS","KOHLS","2501 W. BROADWAY",null,"MADISON","WI",53705,"USA","MADISON, WI 53705 USA "]
["KONECRANES",134966,"KONECRANES","S40 W24160 ROCKWOOD WAY",null,"WAUKESHA","WI",53186,"USA","WAUKESHA, WI 53186 USA "]
["KONICA BUSINESS MACHINES",10904,"KONICA BUSINESS MACHINES","SUITE 106","2870 UNIVERSITY AVE","MADISON","WI",537053611,"USA","MADISON, WI 537053611 USA "]
["KOOL VIEW CO INC",7036,"KOOL VIEW CO INC","2503A W BELTLINE HWY",null,"MADISON","WI",53713,"USA","MADISON, WI 53713 USA "]
["KOOP,EMILY",572610,"KOOP,EMILY","REU",null,"STOUGHTON","WI",53589,"USA","STOUGHTON, WI 53589 USA "]
["KORAL LABS",126996,"KORAL LABS","7412 CENTRAL AVE N.E.",null,"MINNEAPOLIS","MN",55423,"USA","MINNEAPOLIS, MN 55423 USA "]
["KR MACHINE INC",123381,"KR MACHINE INC","15322 EICKS RD",null,"DURAND","IL",61024,"USA","DURAND, IL 61024 USA "]
["KRAFT INC",128323,"KRAFT INC","N4370 STATE RD 73",null,"COLUMBUS","WI",53925,"USA","COLUMBUS, WI 53925 USA "]
["KRANZ INC",7055,"KRANZ INC","2200 DEKOVEN AVE",null,"RACINE","WI",53403,"USA","RACINE, WI 53403 USA "]
["KRAYDEN INC",117161,"KRAYDEN INC","491 E 124TH AVE",null,"DENVER","CO",80241,"USA","DENVER, CO 80241 USA "]
["KREGER",5996,"KREGER","1818 S PARK ST",null,"MADISON","WI",53711,"USA","MADISON, WI 53711 USA "]
["KREL LABS",3075,"KREL LABS","388 N AVERS AVE",null,"CHICAGO","IL",60624,"USA","CHICAGO, IL 60624 USA "]
[{"$f":"IF($C1731=\"\",\"\",$C1731)","v":"KREX COMPUTERS"},105279,"KREX COMPUTERS","9320 N WAUKEGAN RD",null,"MORTON GROVE","WI",60053,"USA","MORTON GROVE, WI 60053 USA "]
["KROHN HITE CORP",7068,"KROHN HITE CORP","AVON INDUSTRIAL PARK","255 BODWELL ST","AVON","MA",2322,"USA",{"$f":"IF(F1732=\"\",\"\",F1732&\", \")&IF(G1732=\"\",\"\",G1732&\" \")&IF(H1732=\"\",\"\",H1732&\" \")&IF(I1732=\"\",\"\",I1732&\" \")","v":"AVON, MA 2322 USA "}]
["KUGLER OF AMERICA LTD",127418,"KUGLER OF AMERICA LTD","48 SOUTH RD UNIT 1",null,"SOMERS","CT",6071,"USA","SOMERS, CT 6071 USA "]
["KULITE TUNGSTEN",67735,"KULITE TUNGSTEN","160 E UNION AVE",null,"EAST RUTHERFORD","NJ",7073,"USA","EAST RUTHERFORD, NJ 7073 USA "]
["KURT LESKER CO",7334,"KURT LESKER CO","1515 WORTHINGTON AVE",null,"CLAIRTON","PA",15025,"USA","CLAIRTON, PA 15025 USA "]
["KURT WORKHOLDING MFG",131314,"KURT WORKHOLDING MFG","1325 QUINCY ST NE",null,"MINNEAPOLIS","MN",55413,"USA","MINNEAPOLIS, MN 55413 USA "]
["L & L FOODS","K00026","L & L FOODS","315 INVESTMENT CRT",null,"VERONA","WI",53593,"USA","VERONA, WI 53593 USA "]
["L & L HEATING",130201,"L & L HEATING","2180 SANDHILL RD",null,"OREGON","WI",53575,"USA","OREGON, WI 53575 USA "]
["L COM DATA PRODUCTS",65605,"L COM DATA PRODUCTS","1755 OSGOOD ST",null,"NORTH ANDOVER","MA",1845,"USA","NORTH ANDOVER, MA 1845 USA "]
["L&L FOODS",7096,"L&L FOODS","315 INVESTMENT COURT",null,"VERONA","WI",53593,"USA","VERONA, WI 53593 USA "]
["LA CIE LTD",76730,"LA CIE LTD","8700 SW CREEK SIDE PL",null,"BEAVERTON","OR",97005,"USA","BEAVERTON, OR 97005 USA "]
["LAB LINE INSTRUMENT CO",7123,"LAB LINE INSTRUMENT CO","15TH & BLOOMINGDALE AVE","1 LABLINE PLAZA","MELROSE PARK","IL",60160,"USA","MELROSE PARK, IL 60160 USA "]
["LAB SAFETY SUPPLY CO",7130,"LAB SAFETY SUPPLY CO","3430 PALMER DR","PO BOX 1368","JANESVILLE","WI",535471368,"USA","JANESVILLE, WI 535471368 USA "]
["LABARGE INC",133103,"LABARGE INC","2222 EAST PENSAR DR",null,"APPLETON","WI",54911,"USA","APPLETON, WI 54911 USA "]
["LACO TECHNOLOGIES",120818,"LACO TECHNOLOGIES","139 WEST 2260 SOUTH",null,"SALT LAKE CITY","UT",84115,"USA","SALT LAKE CITY, UT 84115 USA "]
["LADYBUG TECHNOLOGIES",136862,"LADYBUG TECHNOLOGIES","3317 CHANATE RD  SUITE 2F",null,"SANTA ROSA","CA",95404,"USA","SANTA ROSA, CA 95404 USA "]
["LAHEY COMPUTER SYSTEMS INC",67235,"LAHEY COMPUTER SYSTEMS INC","917 TAHOE BLVD  SUITE 203","PO BOX 6091","INCLINE VILLAGE","NV",894506091,"USA","INCLINE VILLAGE, NV 894506091 USA "]
["LAIPAC TECHNOLOGY, INC",135556,"LAIPAC TECHNOLOGY, INC","50 W BEAVER CREEK RD",null,"RICHMOND HILL","ONTARIO","L4B1G5","CANADA","RICHMOND HILL, ONTARIO L4B1G5 CANADA "]
["LAIRD PLASTICS",1722,"LAIRD PLASTICS","3674 KINSMAN BLVD",null,"MADISON","WI",53704,"USA","MADISON, WI 53704 USA "]
["LAKE CITY GLASS INC",7173,"LAKE CITY GLASS INC","3501 E WASHINGTON AVE",null,"MADISON","WI",53704,"USA","MADISON, WI 53704 USA "]
["LAKE LAWN RESORT",36534,"LAKE LAWN RESORT","2400 E. GENEVA ST",null,"DELAVAN","WI",53115,"USA","DELAVAN, WI 53115 USA "]
["LAKESHORE CRYOTRONICS",7180,"LAKESHORE CRYOTRONICS","64 E WALNUT ST",null,"WESTERVILLE","OH",430812399,"USA","WESTERVILLE, OH 430812399 USA "]
["LAMBDA AMERICAS INC",112558,"LAMBDA AMERICAS INC","405 ESSEX RD.",null,"NEPTUNE","NJ",7753,"USA","NEPTUNE, NJ 7753 USA "]
["LAMBDA ELECTRONICS CORP",7201,"LAMBDA ELECTRONICS CORP","515 BROAD HOLLOW RD",null,"MELVILLE LI","NY",117473700,"USA","MELVILLE LI, NY 117473700 USA "]
["LANCAST",15012,"LANCAST","10 NORTHERN BLVD. UNIT 5",null,"AMHERST","NH",3051,"USA","AMHERST, NH 3051 USA "]
["LAND INFRARED",65912,"LAND INFRARED","2525 PEARL BUCK RD",null,"BRISTOL","PA",19007,"USA","BRISTOL, PA 19007 USA "]
["LANDA CLEARY TRAVEL",101346,"LANDA CLEARY TRAVEL","132 W. MAIN STREET",null,"WAUNAKEE","WI",53597,"USA","WAUNAKEE, WI 53597 USA "]
["LANDMARK COOPERATIVE",124543,"LANDMARK COOPERATIVE","203 W. COTTAGE GROVE RD",null,"COTTAGE GROVE","WI",53527,"USA","COTTAGE GROVE, WI 53527 USA "]
["LANDSTAR LOGISTICS",124106,"LANDSTAR LOGISTICS","4346 BEILFUSS DR",null,"MADISON","WI",53704,"USA","MADISON, WI 53704 USA "]
["LANE'S BAKERY",7219,"LANE'S BAKERY","448 S PARK ST",null,"MADISON","WI",53715,"USA","MADISON, WI 53715 USA "]
["LANGUAGE SYSTEMS CORP",78673,"LANGUAGE SYSTEMS CORP","441 CARLISLE DR",null,"HERNDON","VA",220704802,"USA","HERNDON, VA 220704802 USA "]
["LANIER WORLDWIDE",56090,"LANIER WORLDWIDE","15710 W CLEVELAND AVE",null,"NEW BERLIN","WI",53151,"USA","NEW BERLIN, WI 53151 USA "]
["LANSMONT CORPORATION",123287,"LANSMONT CORPORATION","17 MANDEVILLE COURT",null,"MONTEREY","CA","93940-5745","USA","MONTEREY, CA 93940-5745 USA "]
["LAPEYRE STAIR, INC",123035,"LAPEYRE STAIR, INC","P.O. BOX 50699",null,"NEW ORLEANS","LA",50699,"USA","NEW ORLEANS, LA 50699 USA "]
["LAPMASTER LLC",22617,"LAPMASTER LLC","6400 W. OAKTON ST",null,"MORTON GROVE","IL",60463,"USA","MORTON GROVE, IL 60463 USA "]
["LAPPIN ELECTRIC",7228,"LAPPIN ELECTRIC",null,null,null,null,null,"USA","USA "]
["LAPPIN ELECTRIC",13591,"LAPPIN ELECTRIC","2722 PROGRESS RD",null,"MADISON","WI",53716,"USA","MADISON, WI 53716 USA "]
["LAPTOPS FOR LESS",116326,"LAPTOPS FOR LESS","2995 WHITE STAR AVE",null,"ANAHEIM","CA",92806,"USA","ANAHEIM, CA 92806 USA "]
["LARK ENGINEERING COMPANY",139812,"LARK ENGINEERING COMPANY","27282 CALLE ARROYO",null,"SAN JUAN CAPISTRANO","CA",92675,"USA","SAN JUAN CAPISTRANO, CA 92675 USA "]
["LARSEN ASSOCIATES",7231,"LARSEN ASSOCIATES","10855 W. POTTER ROAD",null,"WAUWATOSA","WI",53226,"USA","WAUWATOSA, WI 53226 USA "]
["LARSEN ELECTRONIC GLASS",125850,"LARSEN ELECTRONIC GLASS","2840 BAY RD",null,"REDWOOD CITY","CA",94063,"USA","REDWOOD CITY, CA 94063 USA "]
["LASCAR ELECTRONICS",126161,"LASCAR ELECTRONICS","3750 W. 26TH ST",null,"ERIE","PA",16506,"USA","ERIE, PA 16506 USA "]
["LASER INSTITUTE OF AMERICA",7986,"LASER INSTITUTE OF AMERICA","13501 INGENUITY DR  SUITE 128",null,"ORLANDO","FL",32826,"USA","ORLANDO, FL 32826 USA "]
["LASER MACHINE INC",79899,"LASER MACHINE INC","500 LASER DR",null,"SOMERSET","WI",54025,"USA","SOMERSET, WI 54025 USA "]
["LASER RESEARCH OPTICS",127189,"LASER RESEARCH OPTICS","120 CORLISS ST",null,"PROVIDENCE","RI",2904,"USA","PROVIDENCE, RI 2904 USA "]
["LASER WEST",20171,"LASER WEST","PO BOX 148",null,"EAGLE","WI",53119,"USA","EAGLE, WI 53119 USA "]
["LASERSHARP INC",127282,"LASERSHARP INC","111 W 19TH ST",null,"HASTINGS","MN",55033,"USA","HASTINGS, MN 55033 USA "]
["LASHEN ELECTRONICS INC",126896,"LASHEN ELECTRONICS INC","21 BROADWAY",null,"DENVILLE","NJ",7834,"USA","DENVILLE, NJ 7834 USA "]
["LATITUDE",106357,"LATITUDE","429 VENTURE CT",null,"VERONA","WI",53593,"USA","VERONA, WI 53593 USA "]
["LATTICE PRESS",94512,"LATTICE PRESS","BOX 340",null,"SUNSET BEACH","CA",90742,"USA","SUNSET BEACH, CA 90742 USA "]
["LAUREL ELECTRONICS   INC",129445,"LAUREL ELECTRONICS   INC","3183 AIRWAY AVE","SUITE  G","COSTA MESA","CA",92626,"USA","COSTA MESA, CA 92626 USA "]
["LAUREN PUBLISHING CO",9625,"LAUREN PUBLISHING CO","BERKSHIRE COMMON","PO BOX 4949","PITTSFIELD","MA",12024949,"USA","PITTSFIELD, MA 12024949 USA "]
["LAURUS TECHNOLOGIES",127573,"LAURUS TECHNOLOGIES","1015 HAWTHORN DR",null,"ITASCA","IL",60143,"USA","ITASCA, IL 60143 USA "]
["LAWRENCE BERKELEY LAB",46015,"LAWRENCE BERKELEY LAB","BUSINESS SERVICES DIVISION","1 CYCLOTRON RD","BERKELEY","CA",94720,"USA","BERKELEY, CA 94720 USA "]
["LAWRENCE LIVERMORE NATL LAB",74538,"LAWRENCE LIVERMORE NATL LAB","P.O. BOX 808 L-795","7000 EAST AVE","LIVERMORE","CA",94550,"USA","LIVERMORE, CA 94550 USA "]
["LAYCO INC",125897,"LAYCO INC","116-C SOUTH 109TH EAST PLACE",null,"TULSA","OK",74128,"USA","TULSA, OK 74128 USA "]
["LEADER TECH",79615,"LEADER TECH","12420 RACE TRACK RD",null,"TAMPA","FL",33626,"USA","TAMPA, FL 33626 USA "]
["LEAK DETECTION SYSTEMS",27355,"LEAK DETECTION SYSTEMS","980P SUNSHINE LANE",null,"ALTAMONTE SPRINGS","FL",32714,"USA","ALTAMONTE SPRINGS, FL 32714 USA "]
["LEARNING TECHNOLOGIES INC",89127,"LEARNING TECHNOLOGIES INC","40 CAMERON AVE",null,"SOMERVILLE","MA",2144,"USA","SOMERVILLE, MA 2144 USA "]
["LEBOW COMPANY",7288,"LEBOW COMPANY","5960 MANDARIN DR  #C",null,"GOLETA","CA",931173372,"USA","GOLETA, CA 931173372 USA "]
["LECLANCHE CAPACITORS",129026,"LECLANCHE CAPACITORS","1400 YVERDON",null,null,"SWITZERLAND",null,"USA","SWITZERLAND USA "]
["LEE COMPANY",87084,"LEE COMPANY","9701 W HIGGINS RD","SUITE 380","ROSEMONT","IL",60018,"USA","ROSEMONT, IL 60018 USA "]
["LEE SPRING COMPANY",7309,"LEE SPRING COMPANY","1462 62ND ST",null,"BROOKLYN","NY",11219,"USA","BROOKLYN, NY 11219 USA "]
["LEE VALLEY TOOLS LTD",113157,"LEE VALLEY TOOLS LTD","12 E RIVER ST",null,"OGDENSBURG","NY",13669,"USA","OGDENSBURG, NY 13669 USA "]
[{"$f":"IF($C1795=\"\",\"\",$C1795)","v":"LEEDS PRECISION INSTRUMENTS"},35899,"LEEDS PRECISION INSTRUMENTS","801 BOONE AVE N",null,"MINNEAPOLIS","MN",554270800,"USA","MINNEAPOLIS, MN 554270800 USA "]
["LEHMAN SCIENTIFIC",114296,"LEHMAN SCIENTIFIC","85 SUNNY DRIVE",null,"WRIGHTSVILLE","PA","17368-9081","USA",{"$f":"IF(F1796=\"\",\"\",F1796&\", \")&IF(G1796=\"\",\"\",G1796&\" \")&IF(H1796=\"\",\"\",H1796&\" \")&IF(I1796=\"\",\"\",I1796&\" \")","v":"WRIGHTSVILLE, PA 17368-9081 USA "}]
["LEICA CAMBRIDGE LTD",24773,"LEICA CAMBRIDGE LTD",null,null,"CAMBRIDGE",null,"CB1 3QH","ENGLAND","CAMBRIDGE, CB1 3QH ENGLAND "]
["LEICA GEOSYSTEMS",103753,"LEICA GEOSYSTEMS","5051 PEACH TREE CORNERS CIR","SUITE 250","NORCROSS","GA",30092,"USA","NORCROSS, GA 30092 USA "]
["LEICA INC",14471,"LEICA INC","111 DEER LAKE RD",null,"DEERFIELD","IL",60015,"USA","DEERFIELD, IL 60015 USA "]
["LENOVA GROUP LIMITED",127281,"LENOVA GROUP LIMITED","1 MANHATTANVILLE RD., STE. PH",null,"PURCHASE","NY","10577-2100","USA","PURCHASE, NY 10577-2100 USA "]
["LENOVA GROUP LIMITED",125972,"LENOVA GROUP LIMITED","1 MANHATTANVILLE RD","STE PH","PURCHASE","NY",10577,"USA","PURCHASE, NY 10577 USA "]
["LENOVO DIRECT",125695,"LENOVO DIRECT","8123 S HARDY DR",null,"TEMPE","AZ",85284,"USA","TEMPE, AZ 85284 USA "]
["LENZKES CLAMPING TOOLS  INC",129081,"LENZKES CLAMPING TOOLS  INC","825 RADFORD RD",null,"CHRISTIANSBURG","VA",24068,"USA","CHRISTIANSBURG, VA 24068 USA "]
["LERDAHL ASSOCIATES",19815,"LERDAHL ASSOCIATES","7182 HWY 14","PO BOX 62058","MIDDLETON","WI",53562,"USA","MIDDLETON, WI 53562 USA "]
["LESMAN INSTRUMENT CO",94550,"LESMAN INSTRUMENT CO","7127 N GREEN BAY RD",null,"MILWAUKEE","WI",53209,"USA","MILWAUKEE, WI 53209 USA "]
["LESMAN INSTRUMENTS",115607,"LESMAN INSTRUMENTS","5160 N 125TH ST",null,"BUTLER","WI","53007-1332","USA","BUTLER, WI 53007-1332 USA "]
["LETTERCRAFT PRESS INC",58761,"LETTERCRAFT PRESS INC","3202 WATFORD WAY",null,"MADISON","WI",53713,"USA","MADISON, WI 53713 USA "]
["LEVEL-13 INC.",102843,"LEVEL-13 INC.","1500 PERIMETER PARKWAY,STE 400",null,"HUNTSVILLE","AL",35806,"USA","HUNTSVILLE, AL 35806 USA "]
["LEXINGTON HEATH BOOKS",7344,"LEXINGTON HEATH BOOKS","125 SPRING ST",null,"LEXINGTON","MA",2173,"USA","LEXINGTON, MA 2173 USA "]
["LEXMARK INTERNATIONAL INC.",25687,"LEXMARK INTERNATIONAL INC.","16655 W BLUEMOUND ROAD",null,"BROOKFIELD","WI",53005,"USA","BROOKFIELD, WI 53005 USA "]
["LEYBOLD INC",13942,"LEYBOLD INC","3125 N WILKE RD SUITE F",null,"ARLINGTON HEIGHTS","IL",60004,"USA","ARLINGTON HEIGHTS, IL 60004 USA "]
["LEYBOLD INFICON",97493,"LEYBOLD INFICON","2 TECHNOLOGY PLACE",null,"EAST SYRACUSE","NY",130579714,"USA","EAST SYRACUSE, NY 130579714 USA "]
["LIBRARY TECHNOLOGY GROUP","UW0058","LIBRARY TECHNOLOGY GROUP","MEMORIAL LIBRARY, RM 312F",null,"MADISON","WI",53706,"USA","MADISON, WI 53706 USA "]
["LICONIX",57493,"LICONIX","3281 SCOTT BLVD",null,"SANTA CLARA","CA",95054,"USA","SANTA CLARA, CA 95054 USA "]
["LIEBOVICH BROTHERS",7170,"LIEBOVICH BROTHERS","2116 PRESTON ST",null,"ROCKFORD","IL",61102,"USA","ROCKFORD, IL 61102 USA "]
["LIGHTHOUSE FIBER",128954,"LIGHTHOUSE FIBER","334 CORNELLIA ST, STE 530",null,"PLATTSBURGH","NY",12901,"USA","PLATTSBURGH, NY 12901 USA "]
["LIGHTING SPECIALISTS",66707,"LIGHTING SPECIALISTS","518 TASMAN  SUITE F",null,"MADISON","WI",53714,"USA","MADISON, WI 53714 USA "]
["LIN ENGINEERING",125391,"LIN ENGINEERING","1990 RUSSELL AV",null,"SANTA CLARA","CA",95054,"USA","SANTA CLARA, CA 95054 USA "]
["LINC SYSTEMS",121805,"LINC SYSTEMS","1402 CHASE CT",null,"CARMEL","IN",46032,"USA","CARMEL, IN 46032 USA "]
["LINCOLN FABRICATION & WELDING",128294,"LINCOLN FABRICATION & WELDING","P.O. BOX 83678",null,"LINCOLN","NE",68501,"USA","LINCOLN, NE 68501 USA "]
["LINDE LLC",23653,"LINDE LLC","2100 WESTERN CT  STE 100",null,"LISLE","IL",60532,"USA","LISLE, IL 60532 USA "]
["LINDE/AGA GAS",107005,"LINDE/AGA GAS","11927 W SILVER SPRING DRIVE",null,"MILWAUKEE","WI",53225,"USA","MILWAUKEE, WI 53225 USA "]
["LINEAR TECHNOLOGY",122954,"LINEAR TECHNOLOGY","1630 MC CARTHY BLVD",null,"MILPITAS","CA",95035,"USA","MILPITAS, CA 95035 USA "]
["LINK INSTRUMENTS",135482,"LINK INSTRUMENTS","17A DANIEL RD EAST",null,"FAIRFIELD","NJ",7004,"USA","FAIRFIELD, NJ 7004 USA "]
["LINUX SHOPPING MALL",103842,"LINUX SHOPPING MALL","PO BOX 460190",null,"AURORA","CO",80046,"USA","AURORA, CO 80046 USA "]
["LIQUID AIR CORP",29976,"LIQUID AIR CORP","SUITE 300","220 W REMINGTON BLVD","BOLINGBROOK","IL",60440,"USA","BOLINGBROOK, IL 60440 USA "]
["LIQUID CARBONIC SPEC GAS CORP",34093,"LIQUID CARBONIC SPEC GAS CORP","640 E POLK",null,"MILWAUKEE","WI",53202,"USA","MILWAUKEE, WI 53202 USA "]
["LIQUID HELIUM & NITROGEN FAC.","UW0001","LIQUID HELIUM & NITROGEN FAC.","CAMPUS",null,"MADISON","WI",null,"USA","MADISON, WI USA "]
["LITTLE BEAVER INC",126739,"LITTLE BEAVER INC","2009 S HOUSTON",null,"LIVINGSTON","TX",77351,"USA","LIVINGSTON, TX 77351 USA "]
["LITTLE FALLS ALLOY  INC",137895,"LITTLE FALLS ALLOY  INC","171-191 CALDWELL AV",null,"PATERSON","NJ",7501,"USA","PATERSON, NJ 7501 USA "]
["LITTON POLY SCIENTIFIC",11423,"LITTON POLY SCIENTIFIC","1213 N. MAIN ST.",null,"BLACKSBURG","VA","24060-3100","USA","BLACKSBURG, VA 24060-3100 USA "]
["LOBECCA CATERING",89403,"LOBECCA CATERING","6308 MONONA DR",null,"MADISON","WI",53716,"USA","MADISON, WI 53716 USA "]
["LOCKER GROUP",124433,"LOCKER GROUP","PO BOX 58604",null,"GREENMOUNT","NZ",1730,"USA","GREENMOUNT, NZ 1730 USA "]
["LOGIC SYSTEMS",13550,"LOGIC SYSTEMS","11380 W. THEODORE TRECKER WAY",null,"WEST ALLIS","WI",53214,"USA","WEST ALLIS, WI 53214 USA "]
["LONN MANUFACTURING",7441,"LONN MANUFACTURING","PO BOX 26469",null,"INDIANAPOLIS","IN",46226,"USA","INDIANAPOLIS, IN 46226 USA "]
["LOTUS DEVELOPMENT",4062,"LOTUS DEVELOPMENT","400 RIVERPARK DR",null,"NORTH READING","MA",1864,"USA","NORTH READING, MA 1864 USA "]
["LOTUS DEVELOPMENT CORP",98215,"LOTUS DEVELOPMENT CORP","UPGRADE CENTER M","440 LINCOLN ST","WORCESTER","MA",16530100,"USA","WORCESTER, MA 16530100 USA "]
["LOTUS DEVELOPMENT CORP.",32951,"LOTUS DEVELOPMENT CORP.","PO BOX 25367",null,"ROCHESTER","NY","14625-0367","USA","ROCHESTER, NY 14625-0367 USA "]
["LOUISIANA LEADERSHIP INSTITUTE",127716,"LOUISIANA LEADERSHIP INSTITUTE","5763 HOOPER RD",null,"BATON ROUGE","LA",70811,"USA","BATON ROUGE, LA 70811 USA "]
["LOUISIANA STATE UNIVERSITY",126481,"LOUISIANA STATE UNIVERSITY","CAMD","6980 JEFFERSON HWY","BATON ROUGE","LA",70806,"USA","BATON ROUGE, LA 70806 USA "]
["LOWELL HALL GUEST CENTER",94719,"LOWELL HALL GUEST CENTER","610 LANGDON",null,"MADISON","WI",53703,"USA","MADISON, WI 53703 USA "]
["LSI CONSULTING",104674,"LSI CONSULTING","W236 S7050 BIG BEND DR",null,"BIG BEND","WI",53103,"USA","BIG BEND, WI 53103 USA "]
["LSU UNION ART GALLERY",127779,"LSU UNION ART GALLERY","RAPHAEL SEMMES RD",null,"BATON ROUGE","LA",70803,"USA","BATON ROUGE, LA 70803 USA "]
["LUCAS LEDEX INC",7303,"LUCAS LEDEX INC","PO BOX 427",null,"VANDALIA","OH",453770427,"USA","VANDALIA, OH 453770427 USA "]
["LUCAS MILHAUPT INC",19094,"LUCAS MILHAUPT INC","5656 S PENNSYLVANIA AVE",null,"CUDAHY","WI",53110,"USA","CUDAHY, WI 53110 USA "]
["LUCAS PRECISION",59025,"LUCAS PRECISION","13020 ST. CLAIR AVE.",null,"CLEVELAND","OH",44108,"USA","CLEVELAND, OH 44108 USA "]
["LUCAS SCHAEVITZ",97990,"LUCAS SCHAEVITZ","7905 NORTH ROUTE 130",null,"PENNSAUKEN","NJ",81101489,"USA","PENNSAUKEN, NJ 81101489 USA "]
["LUDLUM MEASUREMENTS  INC",17773,"LUDLUM MEASUREMENTS  INC","501 OAK ST","PO BOX 810","SWEETWATER","TX",79556,"USA","SWEETWATER, TX 79556 USA "]
["LUGARU SOFTWARE LTD",60100,"LUGARU SOFTWARE LTD","5824 FORBES AVENUE",null,"PITSSBURGH","PA",15217,"USA","PITSSBURGH, PA 15217 USA "]
["LUXEL CORP",7518,"LUXEL CORP","PO BOX 1879",null,"FRIDAY HARBOR","WA",98250,"USA","FRIDAY HARBOR, WA 98250 USA "]
["LYCO COMPUTER",49796,"LYCO COMPUTER","PO BOX 5088",null,"JERSEY SHORE","PA",17740,"USA","JERSEY SHORE, PA 17740 USA "]
["LYTRON",121062,"LYTRON","55 DRAGON CT",null,"WOBURN","MA",1801,"USA","WOBURN, MA 1801 USA "]
["M/A-COM GAAS MATERIALS",102707,"M/A-COM GAAS MATERIALS","100 CHELMSFORD STREET",null,"LOWELL","MA",1853,"USA","LOWELL, MA 1853 USA "]
["MAC XTRA",9752,"MAC XTRA","1075 BELLEVUE WAY NE,STE 114",null,"BELLEVUE","WA",98004,"USA","BELLEVUE, WA 98004 USA "]
["MAC ZONE",65698,"MAC ZONE","17411 NE UNION HALL RD SUITE 1",null,"REDMOND","WA",980526716,"USA","REDMOND, WA 980526716 USA "]
["MACGALAXY",2076,"MACGALAXY","2701 UNIVERSITY AVE",null,"MADISON","WI",53705,"USA","MADISON, WI 53705 USA "]
["MACHINE TOOL BEARINGS & ACCS",133898,"MACHINE TOOL BEARINGS & ACCS","590 BONNIE LANE",null,"ELK GROVE VILLAGE","IL",60007,"USA","ELK GROVE VILLAGE, IL 60007 USA "]
["MACHINE TOOL ENGINEERING",126175,"MACHINE TOOL ENGINEERING","2916 HWY. 18, P. O. BOX 94",null,"CHARLES CITY","IA",50616,"USA","CHARLES CITY, IA 50616 USA "]
[{"$f":"IF($C1859=\"\",\"\",$C1859)","v":"MACHINE TOOL SERVICE"},131750,"MACHINE TOOL SERVICE","PO BOX 247",null,"BIG BEND","WI",53103,"USA","BIG BEND, WI 53103 USA "]
["MACHINERY & FACTORY IND SUPPLY",23449,"MACHINERY & FACTORY IND SUPPLY","1021 SIXTH ST",null,"RACINE","WI",53401,"USA",{"$f":"IF(F1860=\"\",\"\",F1860&\", \")&IF(G1860=\"\",\"\",G1860&\" \")&IF(H1860=\"\",\"\",H1860&\" \")&IF(I1860=\"\",\"\",I1860&\" \")","v":"RACINE, WI 53401 USA "}]
["MACMALL",9679,"MACMALL","2645 MARICOPA ST",null,"TORRANCE","CA","90503-5144","USA","TORRANCE, CA 90503-5144 USA "]
["MACROMEDIA",62293,"MACROMEDIA","600 TOWNSEND ST",null,"SAN FRANCISCO","CA",94103,"USA","SAN FRANCISCO, CA 94103 USA "]
["MACROMEDIA ORDER CENTER",14642,"MACROMEDIA ORDER CENTER","PO BOX 4100",null,"CRAWFORDSVILLE","IN",47933,"USA","CRAWFORDSVILLE, IN 47933 USA "]
["MACWAREHOUSE",73125,"MACWAREHOUSE","1720 OAK ST","PO BOX 3014","LAKEWOOD","NJ",87013014,"USA","LAKEWOOD, NJ 87013014 USA "]
["MADISON AREA SAFETY COUNCIL",70976,"MADISON AREA SAFETY COUNCIL","601 E WASHINGTON AVE",null,"MADISON","WI",53703,"USA","MADISON, WI 53703 USA "]
["MADISON AREA TECHNICAL COLLEGE",7630,"MADISON AREA TECHNICAL COLLEGE","211 N CARROLL ST",null,"MADISON","WI",53703,"USA","MADISON, WI 53703 USA "]
["MADISON BLOCK & STONE",108774,"MADISON BLOCK & STONE","5813 N HIGHWAY 51",null,"MADISON","WI",53704,"USA","MADISON, WI 53704 USA "]
["MADISON GAS & ELECTRIC",7661,"MADISON GAS & ELECTRIC","PO BOX 1231",null,"MADISON","WI",53701,"USA","MADISON, WI 53701 USA "]
["MADISON LEASING CO INC",7666,"MADISON LEASING CO INC","2009 W BELTLINE HWY","PO BOX 1129","MADISON","WI",53701,"USA","MADISON, WI 53701 USA "]
["MADISON METROPOLITAN SCHOOL DI",30873,"MADISON METROPOLITAN SCHOOL DI","545 W DAYTON ST",null,"MADISON","WI",53703,"USA","MADISON, WI 53703 USA "]
["MADISON MOTORSPORTS LLC",124070,"MADISON MOTORSPORTS LLC","2313 S. STOUGHTON ROAD",null,"MADISON","WI",53716,"USA","MADISON, WI 53716 USA "]
["MADISON OFFICE MACHINES",13483,"MADISON OFFICE MACHINES","4816 TRIANGLE ST",null,"MCFARLAND","WI",53558,"USA","MCFARLAND, WI 53558 USA "]
["MADISON PC USERS GROUP",77775,"MADISON PC USERS GROUP","PO BOX 2598",null,"MADISON","WI",537012598,"USA","MADISON, WI 537012598 USA "]
["MADISON TAXI",71792,"MADISON TAXI","1403 GILSON ST",null,"MADISON","WI",53715,"USA","MADISON, WI 53715 USA "]
["MADISON TIMES WEEKLY NEWSPAPER",65348,"MADISON TIMES WEEKLY NEWSPAPER","100 S BALDWIN ST","PO BOX 304","MADISON","WI",53703,"USA","MADISON, WI 53703 USA "]
["MAGELLAN INDUSTRIAL TRADING",129002,"MAGELLAN INDUSTRIAL TRADING","227 WILSON AVE",null,"SOUTH NORWALK","CT",6854,"USA","SOUTH NORWALK, CT 6854 USA "]
["MAGNETIC SHIELD DIVISON",9936,"MAGNETIC SHIELD DIVISON","PERFECTION MICA COMPANY","740 N THOMAS DR","BENSENVILLE","IL","`Y106","USA","BENSENVILLE, IL `Y106 USA "]
["MAGNETICS INC",17510,"MAGNETICS INC","P O BOX 11422",null,"PITTSBURGH","PA",15238,"USA","PITTSBURGH, PA 15238 USA "]
["MAGTROL  INC",108278,"MAGTROL  INC","72 GARDENVILLE PKWY",null,"BUFFALO","NY",14224,"USA","BUFFALO, NY 14224 USA "]
["MAI/PRIME PARTS",121348,"MAI/PRIME PARTS","5736 N MICHIGAN RD",null,"INDIANAPOLIS","IN",46228,"USA","INDIANAPOLIS, IN 46228 USA "]
["MAIN STREET KITCHEN",114195,"MAIN STREET KITCHEN","334 E. MAIN ST",null,"STOUGHTON","WI",53589,"USA","STOUGHTON, WI 53589 USA "]
["MAJOR SURPLUS & SURVIVAL",124296,"MAJOR SURPLUS & SURVIVAL","435 W. ALONDRA BLVD",null,"GARDENA","CA",90248,"USA","GARDENA, CA 90248 USA "]
["MAKEPEACE,ANDREW",572612,"MAKEPEACE,ANDREW","REU",null,"STOUGHTON","WI",53589,"USA","STOUGHTON, WI 53589 USA "]
["MALLINCKRODT BAKER INC",1510,"MALLINCKRODT BAKER INC","222 RED SCHOOL LANE",null,"PHILLIPSBURG","NJ",8865,"USA","PHILLIPSBURG, NJ 8865 USA "]
["MALLINCKRODT CHEMICAL",7752,"MALLINCKRODT CHEMICAL","PO BOX 800",null,"PARIS","KY",40362,"USA","PARIS, KY 40362 USA "]
["MANDEL METALS",1536,"MANDEL METALS","11400 ADDISON ST",null,"FRANKLIN PARK","IL",60131,"USA","FRANKLIN PARK, IL 60131 USA "]
["MANDT SANDFILL",101914,"MANDT SANDFILL","2050 COUNTY TRUNK MM",null,"OREGON","WI",53575,"USA","OREGON, WI 53575 USA "]
["MANEY PUBLISHING",124601,"MANEY PUBLISHING","875 MASSACHUSETTS AVE","7TH FL","CAMBRIDGE","MA",2139,"USA","CAMBRIDGE, MA 2139 USA "]
["MANTECH INTERNATIONAL CORP",123140,"MANTECH INTERNATIONAL CORP","GSFC CODE 540.5",null,"GREENBELT","MD",20771,"USA","GREENBELT, MD 20771 USA "]
["MANUFACTURERS NEWS INC",48072,"MANUFACTURERS NEWS INC","1633 CENTRAL ST",null,"EVANSTON","IL",60201,"USA","EVANSTON, IL 60201 USA "]
["MAR FRE MFG",113082,"MAR FRE MFG","2541 DUKANE DRIVE",null,"ST CHARLES","IL",60174,"USA","ST CHARLES, IL 60174 USA "]
["MARCEL DEKKER INC",3627,"MARCEL DEKKER INC","270 MADISON AVE",null,"NEW YORK","NY",10016,"USA","NEW YORK, NY 10016 USA "]
["MARCO PROMOTIONAL PRODUCTS",111511,"MARCO PROMOTIONAL PRODUCTS","2640 COMMERCE DRIVE",null,"HARRISBURG","PA",17110,"USA","HARRISBURG, PA 17110 USA "]
["MARCO RUBBER",136055,"MARCO RUBBER","PO BOX 1150","35 WOODWORKERS WAY","SEABROOK","NH",3874,"USA","SEABROOK, NH 3874 USA "]
["MARCONI APPLIED TECHNOLOGY",115600,"MARCONI APPLIED TECHNOLOGY","4 WESTCHESTER PLAZA",null,"ELMSFORD","NV","10523-1482","USA","ELMSFORD, NV 10523-1482 USA "]
["MARKING METHODS INC",122384,"MARKING METHODS INC","301 S RAYMOND AVE",null,"ALHAMBRA","CA","91803-1531","USA","ALHAMBRA, CA 91803-1531 USA "]
["MARLIN P JONES & ASSOC INC",38757,"MARLIN P JONES & ASSOC INC","P O BOX 530400",null,"LAKE PARK","FL",33403,"USA","LAKE PARK, FL 33403 USA "]
["MARLING LUMBER COMPANY",7809,"MARLING LUMBER COMPANY","1801 E WASHINGTON","PO BOX 7668","MADISON","WI",537077668,"USA","MADISON, WI 537077668 USA "]
["MARSH ELECTRONICS",127789,"MARSH ELECTRONICS","N1042 TOWER VIEW DR",null,"GREENVILLE","WI",54942,"USA","GREENVILLE, WI 54942 USA "]
["MARSH ELECTRONICS",623,"MARSH ELECTRONICS","1563 S 101ST ST",null,"MILWAUKEE","WI",53214,"USA","MILWAUKEE, WI 53214 USA "]
["MARTEK POWER",130404,"MARTEK POWER","1111 KNOX STREET",null,"TORRANCE","CA",90502,"USA","TORRANCE, CA 90502 USA "]
["MARTEN MACHINING",5828,"MARTEN MACHINING","6800 HILLCREST DRIVE",null,"STEVENS POINT","WI",54481,"USA","STEVENS POINT, WI 54481 USA "]
["MARTIN GLASS",72373,"MARTIN GLASS","2330 ATWOOD AVE",null,"MADISON","WI",53704,"USA","MADISON, WI 53704 USA "]
["MASSACHUSETTS INSTITUTE OF TEN",128720,"MASSACHUSETTS INSTITUTE OF TEN","OFFICE OF SPONSORED PROGRAMS","77 MASSACHUSETTS AVE E19-750","CAMBRIDGE","MA",92139,"USA","CAMBRIDGE, MA 92139 USA "]
["MASSLOAD TECHNOLOGIES",127042,"MASSLOAD TECHNOLOGIES","301 47TH ST E",null,"SASKATOON SK","SASKATCHEWAN","S7K 5H2","CANADA","SASKATOON SK, SASKATCHEWAN S7K 5H2 CANADA "]
["MASTER DISTRIBUTORS",122607,"MASTER DISTRIBUTORS","MERLIN LUSCHEN","2165 RED OAK COURT","STOUGHTON","WI",53589,"USA","STOUGHTON, WI 53589 USA "]
["MASTER DISTRIBUTORS",34223,"MASTER DISTRIBUTORS","PO BOX 25662",null,"LOS ANGELES","CA",90025,"USA","LOS ANGELES, CA 90025 USA "]
["MASTER GRAPHICS",7881,"MASTER GRAPHICS","810 W BADGER RD","BOX 9508","MADISON","WI",53715,"USA","MADISON, WI 53715 USA "]
["MASTERGRAPHICS, INC",126134,"MASTERGRAPHICS, INC","20633 WATERTOWN CT",null,"WAUKESHA","WI",53186,"USA","WAUKESHA, WI 53186 USA "]
["MATECK GMBH",125979,"MATECK GMBH","IM LANGENBROICH 20","D52428","JUELICH",null,null,"GERMANY","JUELICH, GERMANY "]
["MATERIAL AND TECHNOLOGIES CORP",100904,"MATERIAL AND TECHNOLOGIES CORP","341 SHEAFE ROAD",null,"POUGHKEEPSIE","NY",12601,"USA","POUGHKEEPSIE, NY 12601 USA "]
["MATERIALS RESEARCH SOCIETY",55246,"MATERIALS RESEARCH SOCIETY","9800 MCKNIGHT RD STE 327",null,"PITTSBURGH","PA",15237,"USA","PITTSBURGH, PA 15237 USA "]
["MATERIALS SCIENCE CENTER","UW0024","MATERIALS SCIENCE CENTER","RM 1103 ERB","1500 JOHNSON DRIVE","MADISON","WI",53706,"USA","MADISON, WI 53706 USA "]
["MATHEMATICA JOURNAL",8015,"MATHEMATICA JOURNAL","600 HARRISON",null,"SAN FRANCISCO","CA",94107,"USA","SAN FRANCISCO, CA 94107 USA "]
["MATHESON GAS PRODUCTS INC",7906,"MATHESON GAS PRODUCTS INC","PO BOX 96",null,"JOLIET","IL",60434,"USA","JOLIET, IL 60434 USA "]
["MATHESON TRI-GAS",121461,"MATHESON TRI-GAS","166 KEYSTONE DRIVE",null,"MONTGOMERYVILLE","PA",18936,"USA","MONTGOMERYVILLE, PA 18936 USA "]
["MATHISON METALFAB INC",90489,"MATHISON METALFAB INC","W246 S3245 INDUSTRIAL LN","PO BOX 1486","WAUKESHA","WI",531871486,"USA","WAUKESHA, WI 531871486 USA "]
["MATHSOFT",100393,"MATHSOFT","2525 N ELSTON AVE",null,"CHICAGO","IL","60647-2003","USA","CHICAGO, IL 60647-2003 USA "]
["MATHSOFT",64431,"MATHSOFT","201 BROADWAY",null,"CAMBRIDGE","MA",2139,"USA","CAMBRIDGE, MA 2139 USA "]
["MATHSOFT INC",97488,"MATHSOFT INC","201 BROADWAY",null,"CAMBRIDGE","MA",21391955,"USA","CAMBRIDGE, MA 21391955 USA "]
["MATHWORKS INC",55912,"MATHWORKS INC","24 PRIME PARK WAY",null,"NATICK","MA",17601250,"USA","NATICK, MA 17601250 USA "]
["MAUTZ PAINT",120918,"MAUTZ PAINT","939 E WASHINGTON AVE",null,"MADISON","WI",53562,"USA","MADISON, WI 53562 USA "]
[{"$f":"IF($C1923=\"\",\"\",$C1923)","v":"MAUTZ PAINT CO"},7923,"MAUTZ PAINT CO","939 E WASHINGTON AVE","PO BOX 7068","MADISON","WI",53707,"USA","MADISON, WI 53707 USA "]
["MAX TOOL",125636,"MAX TOOL","834 W. CIENEGA AVE",null,"SAN DIMAS","CA",91773,"USA",{"$f":"IF(F1924=\"\",\"\",F1924&\", \")&IF(G1924=\"\",\"\",G1924&\" \")&IF(H1924=\"\",\"\",H1924&\" \")&IF(I1924=\"\",\"\",I1924&\" \")","v":"SAN DIMAS, CA 91773 USA "}]
["MAX-GAIN SYSTEMS",121433,"MAX-GAIN SYSTEMS","221 GREENCREST CT",null,"MARIETTA","GA",30068,"USA","MARIETTA, GA 30068 USA "]
["MAXIM INTEGRATED PRODUCTS",11075,"MAXIM INTEGRATED PRODUCTS","120 SAN GABRIEL DRIVE",null,"SUNNYVALE","CA",94086,"USA","SUNNYVALE, CA 94086 USA "]
["MAXWELL LABORATORIES BROBECK",87893,"MAXWELL LABORATORIES BROBECK","4905 CENTRAL AVENUE",null,"RICHMOND","CA",94804,"USA","RICHMOND, CA 94804 USA "]
["MAYCO INDUSTRIES",132013,"MAYCO INDUSTRIES","18 WEST OXMOOR RD",null,"BIRMINGHAM","AL",35209,"USA","BIRMINGHAM, AL 35209 USA "]
["MC SALES INC",125949,"MC SALES INC","P.O. BOX 30","825 MARKET ST","OREGON","WI",53575,"USA","OREGON, WI 53575 USA "]
["MCALLISTER TECHNICAL SERVICES",74766,"MCALLISTER TECHNICAL SERVICES","NGA 12/17/91","PER BID RM 92 0285","BERKELEY","CA",94710,"USA","BERKELEY, CA 94710 USA "]
["MCDONOUGH MFG CO",126781,"MCDONOUGH MFG CO","340 MELBY ST","P.O. BOX 510","EAU CLAIRE","WI",54701,"USA","EAU CLAIRE, WI 54701 USA "]
["MCFARLAND METALS INC",77810,"MCFARLAND METALS INC","4121 TERMINAL DR","BOX 45","MCFARLAND","WI",53558,"USA","MCFARLAND, WI 53558 USA "]
["MCGINNIS TOOL",24049,"MCGINNIS TOOL","2109 SPRING ST",null,"CROSS PLAINS","WI",53528,"USA","CROSS PLAINS, WI 53528 USA "]
["MCGRAW HILL BOOK COMPANY",7976,"MCGRAW HILL BOOK COMPANY","PRINCETON RD","PO BOX 400","HIGHTSTOWN","NJ",8520,"USA","HIGHTSTOWN, NJ 8520 USA "]
["MCI",71584,"MCI","1105 TOUSON","P O BOX 696","JANESVILLE","WI",53547,"USA","JANESVILLE, WI 53547 USA "]
["MCJUNKIN RED MAN",123570,"MCJUNKIN RED MAN","1215 HYLAND AVE",null,"KAUKAUNA","WI",54130,"USA","KAUKAUNA, WI 54130 USA "]
["MCM ELECTRONIC PARTS",41534,"MCM ELECTRONIC PARTS","650 CONGRESS PARK DR",null,"CENTERVILLE","OH",454594072,"USA","CENTERVILLE, OH 454594072 USA "]
["MCM ELECTRONICS",8437,"MCM ELECTRONICS","650 CONGRESS PARK DR",null,"CENTERVILLE","OH",45459,"USA","CENTERVILLE, OH 45459 USA "]
["MCMAHON SALES INC",94363,"MCMAHON SALES INC","SUITE 453","400 N EXECUTIVE DR","BROOKFIELD","WI",53005,"USA","BROOKFIELD, WI 53005 USA "]
["MCMASTER CARR",7989,"MCMASTER CARR","PO BOX 7690",null,"CHICAGO","IL",606807690,"USA","CHICAGO, IL 606807690 USA "]
["MCMASTER UNIVERSITY",33106,"MCMASTER UNIVERSITY","1200 MAIN ST W",null,"HAMILTON","ONTARIO","L8S4M4","CANADA","HAMILTON, ONTARIO L8S4M4 CANADA "]
["MCNICHOLS COMPANY",59538,"MCNICHOLS COMPANY","1951 LIVELY BLVD.",null,"ELK GROVE VILLAGE","IL",60007,"USA","ELK GROVE VILLAGE, IL 60007 USA "]
["MCQUAY SERVICE",71719,"MCQUAY SERVICE","545 W LAKE ST",null,"ELMHURST","IL",60126,"USA","ELMHURST, IL 60126 USA "]
["MDC",56825,"MDC","%TECHNICAL ENGINEERING","11307 SIBLEY DR","BURNSVILLE","MN",55337,"USA","BURNSVILLE, MN 55337 USA "]
["MDC VACUUM PRODUCTS",7543,"MDC VACUUM PRODUCTS","23842 CABOT BLVD",null,"HAYWARD","CA",945451651,"USA","HAYWARD, CA 945451651 USA "]
["MDS","UW0007","MDS",null,null,"MADISON","WI",53706,"USA","MADISON, WI 53706 USA "]
["MEADOWLARK OPTICS",89954,"MEADOWLARK OPTICS","7460 WELD COUNTY RD 1",null,"LONGMONT","CO",805049470,"USA","LONGMONT, CO 805049470 USA "]
["MEASUREMENT COMPUTING",114646,"MEASUREMENT COMPUTING","16 COMMERCE BLVD",null,"MIDDLEBORO","MA",2346,"USA","MIDDLEBORO, MA 2346 USA "]
["MEASUREMENT SPECIALTIES INC",125996,"MEASUREMENT SPECIALTIES INC","14 ELMWOOD TERRACE",null,"WEST CALDWELL","NJ",7006,"USA","WEST CALDWELL, NJ 7006 USA "]
["MECHANICAL TECHNOLOGY INC",28666,"MECHANICAL TECHNOLOGY INC","968 ALBANY SHAKEY RD",null,"LATHAM","NY",12110,"USA","LATHAM, NY 12110 USA "]
["MECHTRONICS NUCLEAR",8013,"MECHTRONICS NUCLEAR","1701 N 25TH AVE",null,"MELROSE PARK","IL",60160,"USA","MELROSE PARK, IL 60160 USA "]
["MEDCO",114723,"MEDCO","340 E HOWARD ST",null,"DES PLAINES","IL",60018,"USA","DES PLAINES, IL 60018 USA "]
["MEDICAL ILLUSTRATION/PHOTOGRAP","UW0037","MEDICAL ILLUSTRATION/PHOTOGRAP","CSC","600 HIGHLAND","MADISON","WI",53792,"USA","MADISON, WI 53792 USA "]
["MEDICAL SCHOOL","UW0068","MEDICAL SCHOOL","UW-MADISON",null,"MADISON","WI",53706,"USA","MADISON, WI 53706 USA "]
["MEDICAL SCHOOL, EM FACILITY","UW0046","MEDICAL SCHOOL, EM FACILITY","1300 UNIVERSITY AVE",null,"MADISON","WI",null,"USA","MADISON, WI USA "]
["MEDICAL SCIENCES","UW0049","MEDICAL SCIENCES","BARDEEN LAB, RM. 142",null,"MADISON","WI",53706,"USA","MADISON, WI 53706 USA "]
["MEFAS, INC",124178,"MEFAS, INC","105 NORTH POINTE",null,"LAKE FOREST","CA",92630,"USA","LAKE FOREST, CA 92630 USA "]
["MEGA HAUS",23841,"MEGA HAUS","2201 PINE DR.",null,"DICKINSON","TX",77539,"USA","DICKINSON, TX 77539 USA "]
["MEGAHAUS",100266,"MEGAHAUS","2201 PINE DRIVE",null,"DICKINSON","TX",77539,"USA","DICKINSON, TX 77539 USA "]
["MEGATRENDS TECHNOLOGIES",103886,"MEGATRENDS TECHNOLOGIES","501 JEFFERSON BLVD",null,"WARWICK","RI",2886,"USA","WARWICK, RI 2886 USA "]
["MEI RESEARCH CORPORATION",124777,"MEI RESEARCH CORPORATION","43178 BUSINESS PARK DR","STE 100","TEMECULA","CA",92590,"USA","TEMECULA, CA 92590 USA "]
["MELCO BOP INC",124096,"MELCO BOP INC","4001 WEST COUNTY RD",null,"ODESSA","TX",79764,"USA","ODESSA, TX 79764 USA "]
["MELLER OPTICS INC",8133,"MELLER OPTICS INC","PO BOX 6001",null,"PROVIDENCE","RI",2940,"USA","PROVIDENCE, RI 2940 USA "]
["MELLES GRIOT",3172,"MELLES GRIOT","1770 KETTERING ST",null,"IRVINE","CA",92714,"USA","IRVINE, CA 92714 USA "]
["MEMORIAL LIBRARY","UW0043","MEMORIAL LIBRARY","728 STATE STREET","RM. 339","MADISON","WI",53706,"USA","MADISON, WI 53706 USA "]
["MEMORY & CPU WAREHOUSE",103160,"MEMORY & CPU WAREHOUSE","8361 E EVANS ROAD STE 105",null,"SCOTTSDALE","AZ",85260,"USA","SCOTTSDALE, AZ 85260 USA "]
["MEMORY 4 LESS",24244,"MEMORY 4 LESS","2622 W LINCOLN","STE 204","ANAHEIM","CA",92801,"USA","ANAHEIM, CA 92801 USA "]
["MEMORY EXPO",127228,"MEMORY EXPO","2530 BERRYESSA RD","STE 235","SAN JOSE","CA",95132,"USA","SAN JOSE, CA 95132 USA "]
["MEMORY EXPRESS",10128,"MEMORY EXPRESS","15140 FOX VALLEY BLDV",null,"CITY OF INDUSTRY","CA",91744,"USA","CITY OF INDUSTRY, CA 91744 USA "]
["MEMORY WORLD",31733,"MEMORY WORLD","3070 BRISTOL PIKE PL.STE 213",null,"BENSALEM","WI",19020,"USA","BENSALEM, WI 19020 USA "]
["MENARDS LUMBER",46960,"MENARDS LUMBER","6401 COPPS AVE",null,"MADISON","WI",53716,"USA","MADISON, WI 53716 USA "]
["MENTOR GRAPHICS",63610,"MENTOR GRAPHICS","8005 SW BOECHMAN RD",null,"WILSONVILLE","OR",97070,"USA","WILSONVILLE, OR 97070 USA "]
["MENTOR GRAPHICS",2334,"MENTOR GRAPHICS","PO BOX 75471",null,"CHICAGO","IL","60675-5471","USA","CHICAGO, IL 60675-5471 USA "]
["MERCOTAC INC",128464,"MERCOTAC INC","6195 CORTE DEL CEDRO #100",null,"CARLSBAD","CA",92011,"USA","CARLSBAD, CA 92011 USA "]
["MERIT PUMP & EQUIPMENT CO",119368,"MERIT PUMP & EQUIPMENT CO","975 LINCOLN WAY WEST","P O BOX 960","WOOSTER","OH",44691,"USA","WOOSTER, OH 44691 USA "]
["MERITLINE.COM",124197,"MERITLINE.COM","166666 E JOHNSON DR",null,"CITY OF INDUSTRY","CA",91745,"USA","CITY OF INDUSTRY, CA 91745 USA "]
["MESSNER INC",8183,"MESSNER INC","ATTN: DICK CAYO","1326 E WASHINGTON AVE","MADISON","WI",537030709,"USA","MADISON, WI 537030709 USA "]
["MESUR MATIC ELECTRONICS",59854,"MESUR MATIC ELECTRONICS","10 COLONIAL RD","SUITE 6","SALEM","MA",1970,"USA","SALEM, MA 1970 USA "]
["MET ONE",63818,"MET ONE","481 CALIFORNIA AVE",null,"GRANTS PASS","OR",97526,"USA","GRANTS PASS, OR 97526 USA "]
["META CREATIONS CORP",32806,"META CREATIONS CORP","6303 CARPINTERIA AVE",null,"CARPENTERIA","CA",93013,"USA","CARPENTERIA, CA 93013 USA "]
["META SOFTWARE",72786,"META SOFTWARE","1300 WHITE OAKS RD",null,"CAMPBELL","CA",95008,"USA","CAMPBELL, CA 95008 USA "]
["METAL EXPRESS",96122,"METAL EXPRESS","W229 N2464 JOSEPH RD.",null,"WAUKEHSA","WI",53186,"USA","WAUKEHSA, WI 53186 USA "]
["METAL FINISHING SUPPLY CO",40562,"METAL FINISHING SUPPLY CO","21575 DORAL RD","P O BOX 526","BROOKFIELD","WI",53008,"USA","BROOKFIELD, WI 53008 USA "]
["METAL FLEX WELDED BELLOWS INC",35372,"METAL FLEX WELDED BELLOWS INC","PO BOX 513",null,"DERBY LINE","VT",5830,"USA","DERBY LINE, VT 5830 USA "]
["METAL SKILLS PLUS, LLC",123554,"METAL SKILLS PLUS, LLC","600 BURTON RD",null,"DEFOREST","WI",53532,"USA","DEFOREST, WI 53532 USA "]
["METAL SUPERMARKETS",126785,"METAL SUPERMARKETS","3194 MARKET ST, UNIT E",null,"GREEN BAY","WI",54304,"USA","GREEN BAY, WI 54304 USA "]
[{"$f":"IF($C1987=\"\",\"\",$C1987)","v":"METAL TREATERS, INC"},"K00023","METAL TREATERS, INC","859 PRIOR AVEN NORTH",null,"ST. PAUL","MN",55104,"USA","ST. PAUL, MN 55104 USA "]
["METALS & SERVICES CO.",93780,"METALS & SERVICES CO.","330 W. NORTH AVE.",null,"ADDISON","IL",60101,"USA",{"$f":"IF(F1988=\"\",\"\",F1988&\", \")&IF(G1988=\"\",\"\",G1988&\" \")&IF(H1988=\"\",\"\",H1988&\" \")&IF(I1988=\"\",\"\",I1988&\" \")","v":"ADDISON, IL 60101 USA "}]
["METKO, KARISSA","METKOK","METKO, KARISSA",null,null,null,null,null,"USA","USA "]
["METRIC & MULTISTANDARD",66506,"METRIC & MULTISTANDARD","261 SHORE CT",null,"BURR RIDGE","IL",60527,"USA","BURR RIDGE, IL 60527 USA "]
["METRO",124971,"METRO","1001 CENTRE POINTE DR",null,"LA VERGNE","TN",37086,"USA","LA VERGNE, TN 37086 USA "]
["METROPOLITAN CRANE & HOIST CO",117323,"METROPOLITAN CRANE & HOIST CO","3825 W MILL RD",null,"MILWAUKEE","WI",53209,"USA","MILWAUKEE, WI 53209 USA "]
["METROTEK",123494,"METROTEK","6880 46TH AVE. N. SUITE 100",null,"ST. PETERSBURG","FL","33709-4751","USA","ST. PETERSBURG, FL 33709-4751 USA "]
["METUCHEN CAPACITORS INC",73907,"METUCHEN CAPACITORS INC","P.O. BOX 399",null,"HOLMDEL","NJ",7733,"USA","HOLMDEL, NJ 7733 USA "]
["MEYER INSTRUMENTS",104014,"MEYER INSTRUMENTS","1304 LANGHAM CREEK STE 235",null,"HOUSTON","TX",77084,"USA","HOUSTON, TX 77084 USA "]
["MH&W INTERNATIONAL CORP",79626,"MH&W INTERNATIONAL CORP","74 LEIGHTON PLACE",null,"MAHWAH","NJ",7430,"USA","MAHWAH, NJ 7430 USA "]
["MI TECH METALS INC",60572,"MI TECH METALS INC","1340 N SENATE AVE",null,"INDIANAPOLIS","IN",46202,"USA","INDIANAPOLIS, IN 46202 USA "]
["MICRO AGE COMPUTERS",53977,"MICRO AGE COMPUTERS","7475 MINERAL POINT RD",null,"MADISON","WI",53717,"USA","MADISON, WI 53717 USA "]
["MICRO EDGE",10309,"MICRO EDGE","P.O. BOX 18038",null,"RALEIGH","NC",27619,"USA","RALEIGH, NC 27619 USA "]
["MICRO FASTENERS",124203,"MICRO FASTENERS","24 COKESBURY RD","STE 2","LEBANON","NJ",8833,"USA","LEBANON, NJ 8833 USA "]
["MICRO FIRMWARE",24595,"MICRO FIRMWARE","330 W GRAY ST  STE 120",null,"NORMAN","OK","73069-7111","USA","NORMAN, OK 73069-7111 USA "]
["MICRO GLASS INC",8717,"MICRO GLASS INC","6200 E. MALLOY RD",null,"EAST SYRACUSE","NY",13057,"USA","EAST SYRACUSE, NY 13057 USA "]
["MICRO HELP INC",76648,"MICRO HELP INC","4636 HUNTRIDGE DR",null,"ROSWELL","GA",300752012,"USA","ROSWELL, GA 300752012 USA "]
["MICRO LOGIC CORP",73299,"MICRO LOGIC CORP","PO BOX 70",null,"HACKENSACK","NJ",7602,"USA","HACKENSACK, NJ 7602 USA "]
["MICRO PHOTONICS",117680,"MICRO PHOTONICS","4972 MEDICAL CENTER CIR","PO BOX 3129","ALLENTOWN","PA",18106,"USA","ALLENTOWN, PA 18106 USA "]
["MICRO SYSTEMS WARETHOUSE",17668,"MICRO SYSTEMS WARETHOUSE","1720 OAK ST","PO BOX 848","LAKEWOOD","NJ","08701-9904","USA","LAKEWOOD, NJ 08701-9904 USA "]
["MICROCAL INC",93448,"MICROCAL INC","22 INDUSTRIAL DR E",null,"NORTH HAMPTON","MA",1060,"USA","NORTH HAMPTON, MA 1060 USA "]
["MICROCHEM CORP",100187,"MICROCHEM CORP","1254 CHESTNUT STREET",null,"NEWTON","MA","02164-1418","USA","NEWTON, MA 02164-1418 USA "]
["MICROFLEX",12361,"MICROFLEX","PO BOX 1865",null,"SAN FRANCISCO","CA",94083,"USA","SAN FRANCISCO, CA 94083 USA "]
["MICROFLEX MEDICAL CORP",34473,"MICROFLEX MEDICAL CORP","PO BOX 1865",null,"SAN FRANCISCO","CA",94083,"USA","SAN FRANCISCO, CA 94083 USA "]
["MICROGRAFX, INC.",18249,"MICROGRAFX, INC.","P.O. BOX 120",null,"BUFFALO","NY",14207,"USA","BUFFALO, NY 14207 USA "]
["MICROHELP, INC.",102624,"MICROHELP, INC.","9395 CABOT DRIVE",null,"SAN DIEGO","CA",92196,"USA","SAN DIEGO, CA 92196 USA "]
["MICROLITHOGRAPHY WORLD PUB.",21530,"MICROLITHOGRAPHY WORLD PUB.","PO BOX 1050",null,"TULSA","OK",74101,"USA","TULSA, OK 74101 USA "]
["MICRON ELECTRONICS",9808,"MICRON ELECTRONICS","900 E. KARCHER RD",null,"NAMPA","IDAHO",83687,"USA","NAMPA, IDAHO 83687 USA "]
["MICROSOFT",21497,"MICROSOFT","PO BOX 3021",null,"BOTHELL","WA","98041-3021","USA","BOTHELL, WA 98041-3021 USA "]
["MICROSOFT CORPORATION",76213,"MICROSOFT CORPORATION","1 LINCOLN CTR","SUIE 440","OAK BROOK TERRACE","IL",60181,"USA","OAK BROOK TERRACE, IL 60181 USA "]
["MICROSOFT DEVELOPER NETWORK",23476,"MICROSOFT DEVELOPER NETWORK","PO BOX 51813",null,"BOULDER","CO","80322-1813","USA","BOULDER, CO 80322-1813 USA "]
["MICROSOFT EXCEL OFFER",47369,"MICROSOFT EXCEL OFFER","PO BOX 290",null,"BUFFALO","NY",14207,"USA","BUFFALO, NY 14207 USA "]
["MICROSOFT HOME",21339,"MICROSOFT HOME","PO BOX 22810",null,"SALT LAKE CITY","UT","84122-9911","USA","SALT LAKE CITY, UT 84122-9911 USA "]
["MICROSOFT OFFICE",30094,"MICROSOFT OFFICE","PO BOX 958",null,"BUFFALO","NY","14207-0958","USA","BUFFALO, NY 14207-0958 USA "]
["MICROSOFT PRESS",23021,"MICROSOFT PRESS","PO BOX 141875",null,"AUSTIN","TX","78714-1875","USA","AUSTIN, TX 78714-1875 USA "]
["MICROSOFT SYSTEMS JOURNAL",85085,"MICROSOFT SYSTEMS JOURNAL","PO BOX 1903",null,"MARION","OH",43306,"USA","MARION, OH 43306 USA "]
["MICROSOFT TECHNET",5950,"MICROSOFT TECHNET","PO BOX 51812",null,"BOULDER","CO","80322-1812","USA","BOULDER, CO 80322-1812 USA "]
["MICROSOFT WORD FOR WINDOWS",13388,"MICROSOFT WORD FOR WINDOWS","PO BOX 3021",null,"BOTHELL","WA",98041,"USA","BOTHELL, WA 98041 USA "]
["MICROSURFACE CORP",5502,"MICROSURFACE CORP","570 W GORE RD",null,"MORRIS","IL",60450,"USA","MORRIS, IL 60450 USA "]
["MICROTECH",67633,"MICROTECH","PO BOX 27083",null,"SEATTLE","WA",98125,"USA","SEATTLE, WA 98125 USA "]
["MICROWAREHOUSE",3226,"MICROWAREHOUSE","1720 OAK ST","PO BOX 3014","LAKEWOOD","NJ",87013014,"USA","LAKEWOOD, NJ 87013014 USA "]
["MICROWAVE COMPONENTS INC",59414,"MICROWAVE COMPONENTS INC","3171 DOMINICA TERR",null,"STUART","FL",33497,"USA","STUART, FL 33497 USA "]
["MICROWAVE DEVELOPMENT LAB",33664,"MICROWAVE DEVELOPMENT LAB","10 MICHIGAN DRIVE",null,"NATICK","MA",1760,"USA","NATICK, MA 1760 USA "]
["MICROWAVE DISTRIBUTORS",72970,"MICROWAVE DISTRIBUTORS","500 JOHNSON AVE","STE A","BOHEMIA","NY",11716,"USA","BOHEMIA, NY 11716 USA "]
["MICROWAY",38035,"MICROWAY","PO BOX 79",null,"KINGSTON","MA",2364,"USA","KINGSTON, MA 2364 USA "]
["MID VALLEY INDUSTRIES",114719,"MID VALLEY INDUSTRIES","1151 DELANGLADE ST",null,"KAUKAUNA","WI",54130,"USA","KAUKAUNA, WI 54130 USA "]
["MID WISCONSIN GLASS & MIRROR",139345,"MID WISCONSIN GLASS & MIRROR","5809 MAIN STREET","PO BOX 32","MCFARLAND","WI",53558,"USA","MCFARLAND, WI 53558 USA "]
["MID-ATLANTIC ENGINE SUPPLY",126657,"MID-ATLANTIC ENGINE SUPPLY","P O BOX 2270",null,"CINNAMINSON","NJ",8077,"USA","CINNAMINSON, NJ 8077 USA "]
["MID-STATE INSTRUMENTS",132684,"MID-STATE INSTRUMENTS","1329 CHORRO ST",null,"SAN LUIS OBISPO","CA",93401,"USA","SAN LUIS OBISPO, CA 93401 USA "]
["MID-STATES PARTS",15018,"MID-STATES PARTS","9710 INDUSTRIAL DRIVE",null,"BRIDGEVIEW","IL",60455,"USA","BRIDGEVIEW, IL 60455 USA "]
["MIDAMERCO INC",8324,"MIDAMERCO INC","3225 KINGSLEY WAY",null,"MADISON","WI",53713,"USA","MADISON, WI 53713 USA "]
["MIDDLE WEST MFG CORP",90544,"MIDDLE WEST MFG CORP","BOBKE DIV","PO BOX 322","MENOMINEE FALLS","WI",53051,"USA","MENOMINEE FALLS, WI 53051 USA "]
["MIDDLETON MACHINING",120165,"MIDDLETON MACHINING","7629 DONNA DR",null,"MIDDLETON","WI",53562,"USA","MIDDLETON, WI 53562 USA "]
["MIDDLETON POWER CENTER",72823,"MIDDLETON POWER CENTER","3230 PARMENTER STREET",null,"MIDDLETON","WI",53562,"USA","MIDDLETON, WI 53562 USA "]
["MIDDLETON TRAVEL",107765,"MIDDLETON TRAVEL","6700 UNIVERSITY AVE",null,"MIDDLETON","WI",53562,"USA","MIDDLETON, WI 53562 USA "]
["MIDLAND PLASTICS",4499,"MIDLAND PLASTICS","6360 COPPS AVE",null,"MADISON","WI",53716,"USA","MADISON, WI 53716 USA "]
["MIDNIGHT SOFTWARE INC","K00020","MIDNIGHT SOFTWARE INC","P O BOX 77352",null,"SEATTLE","WA",98177,"USA","SEATTLE, WA 98177 USA "]
["MIDNIGHT SOFTWARE, INC",129198,"MIDNIGHT SOFTWARE, INC","P.O. BOX 77352",null,"SEATTLE","WA",77352,"USA","SEATTLE, WA 77352 USA "]
["MIDORI KAGAKU CO., LTE.",114083,"MIDORI KAGAKU CO., LTE.","2-27-8 MINAMI-IKELBUKURO",null,"TOSHIMA-KU","TOKYO","171-0022","USA","TOSHIMA-KU, TOKYO 171-0022 USA "]
["MIDWEST AIR",75470,"MIDWEST AIR",null,null,null,"IL",60433,"USA","IL 60433 USA "]
["MIDWEST ASSOCIATED INC",11058,"MIDWEST ASSOCIATED INC","6376 COPPS AVE",null,"MADISON","WI",537163761,"USA","MADISON, WI 537163761 USA "]
["MIDWEST ASSOCIATES","K00012","MIDWEST ASSOCIATES","6376 COPPS AVENUE",null,"MADISON","WI",null,"USA","MADISON, WI USA "]
["MIDWEST COMPUTER WORKS",84965,"MIDWEST COMPUTER WORKS","160 LEXINGTON DR","BLDG A","BUFFALO GROVE","IL",60090,"USA","BUFFALO GROVE, IL 60090 USA "]
["MIDWEST EXPRESS",67264,"MIDWEST EXPRESS","6744 HOWELL AVE HQ-7",null,"OAK CREEK","WI",53154,"USA","OAK CREEK, WI 53154 USA "]
[{"$f":"IF($C2051=\"\",\"\",$C2051)","v":"MIDWEST FILTER"},125742,"MIDWEST FILTER","2810 BULLARD DR",null,"LAKE FOREST","IL",60045,"USA","LAKE FOREST, IL 60045 USA "]
["MIDWEST FLEXIBLE HOSE INC",133173,"MIDWEST FLEXIBLE HOSE INC","5181 N 125TH ST",null,"BUTLER","WI",53007,"USA",{"$f":"IF(F2052=\"\",\"\",F2052&\", \")&IF(G2052=\"\",\"\",G2052&\" \")&IF(H2052=\"\",\"\",H2052&\" \")&IF(I2052=\"\",\"\",I2052&\" \")","v":"BUTLER, WI 53007 USA "}]
["MIDWEST GRINDING",107272,"MIDWEST GRINDING","7725 W TOWER AVE",null,"MILWAUKEE","WI",53233,"USA","MILWAUKEE, WI 53233 USA "]
["MIDWEST HOSE & SPECIALTY","K00011","MIDWEST HOSE & SPECIALTY","1421 S.E. 29TH ST","P. O. BOX 96558","OKLAHOMA CITY","OK",73143,"USA","OKLAHOMA CITY, OK 73143 USA "]
["MIDWEST MEMORY",107241,"MIDWEST MEMORY","474 SPRINGBORO PIKE",null,"MIAMISBURG","OH",45342,"USA","MIAMISBURG, OH 45342 USA "]
["MIDWEST METAL PRODUCTS",121792,"MIDWEST METAL PRODUCTS","800 - 66TH AVE SW",null,"CEDAR RAPIDS","IA",52404,"USA","CEDAR RAPIDS, IA 52404 USA "]
["MIDWEST MICRO PERIPHIALS",43997,"MIDWEST MICRO PERIPHIALS","6910 UW ROUTE 36 E",null,"FLETCHER","OH",45326,"USA","FLETCHER, OH 45326 USA "]
["MIDWEST PUMP & EQUIPMENT",127848,"MIDWEST PUMP & EQUIPMENT","2300 S 7TH ST",null,"LINCOLN","NE",68502,"USA","LINCOLN, NE 68502 USA "]
["MIDWEST SAFETY SUPPLY",127543,"MIDWEST SAFETY SUPPLY","100 BUSINESS PARK CIR STE 103",null,"STOUGHTON","WI",53589,"USA","STOUGHTON, WI 53589 USA "]
["MIDWEST SERVICE EQUIPMENT",126550,"MIDWEST SERVICE EQUIPMENT","17800 W NATIONAL AVE",null,"NEW BERLIN","WI",53151,"USA","NEW BERLIN, WI 53151 USA "]
["MIDWEST SPECIALTIES, INC",125019,"MIDWEST SPECIALTIES, INC","851 INDUSTRIAL DR",null,"WAPAKONETA","OH","45895-9239","USA","WAPAKONETA, OH 45895-9239 USA "]
["MIDWEST STEEL WORKS, INC",130167,"MIDWEST STEEL WORKS, INC","749 N. STREET",null,"LINCOLN","NE",68508,"USA","LINCOLN, NE 68508 USA "]
["MIDWEST SYSTEMS INC",15130,"MIDWEST SYSTEMS INC","2800 SOUTHCROSS DR W",null,"BURNSVILLE","MN",55337,"USA","BURNSVILLE, MN 55337 USA "]
["MIDWEST TECH SERVICES INC",11841,"MIDWEST TECH SERVICES INC","7101 S ADAMS ST","UNIT 8","WILLOWBROOK","IL",60521,"USA","WILLOWBROOK, IL 60521 USA "]
["MIDWEST TECHNOLOGIES",101201,"MIDWEST TECHNOLOGIES","743 N THOMPSON #204",null,"MADISON","WI",53704,"USA","MADISON, WI 53704 USA "]
["MIDWEST TECHNOLOGY SALES",115095,"MIDWEST TECHNOLOGY SALES","210 LIBERTY ST",null,"FOX RIVER GROVE","IL",60021,"USA","FOX RIVER GROVE, IL 60021 USA "]
["MIDWEST TUNGSTEN SERVICE",4240,"MIDWEST TUNGSTEN SERVICE","7101 S. ADAMS #6",null,"IL",60521,60521,"USA","IL, 60521 60521 USA "]
["MIDWEST VACUUM",52536,"MIDWEST VACUUM","600 W CUMMINGS PK",null,"WOBURN","MO",1801,"USA","WOBURN, MO 1801 USA "]
["MILIO'S SANDWICHES",114832,"MILIO'S SANDWICHES","2125 MCCOMB ROAD","SUITE 110","STOUGHTON","WI",53585,"USA","STOUGHTON, WI 53585 USA "]
["MILLARD UTILITY METAL SERVICE",13067,"MILLARD UTILITY METAL SERVICE","110 ASIA PLACE",null,"CARLSTADT","NJ",70722412,"USA","CARLSTADT, NJ 70722412 USA "]
["MILLENNIUM OPTICS",130096,"MILLENNIUM OPTICS","6657 COCHRAN RD",null,"SOLON","OH",44139,"USA","SOLON, OH 44139 USA "]
["MILLENNIUM THREE CORP",37754,"MILLENNIUM THREE CORP","11 INSIGHT DR","BOX 775","PLATTEVILLE","WI",53818,"USA","PLATTEVILLE, WI 53818 USA "]
["MILLER BRADFORD & RISBERG",112623,"MILLER BRADFORD & RISBERG","4626 DUTCH MILL RD",null,"MADISON","WI",53716,"USA","MADISON, WI 53716 USA "]
["MILLIPORE CORP",79350,"MILLIPORE CORP","MILLIGEN BIOSEARCH DIV","186 MIDDLESEX TURNPIKE","BURLINGTON","MA",1803,"USA","BURLINGTON, MA 1803 USA "]
["MILLIPORE CORP/WATERS HPLC",13495,"MILLIPORE CORP/WATERS HPLC","NORTH AMERICAN SALES SUBSIDIAR","397 WILLIAMS ST","MARLBOROUGH","MA",17529162,"USA","MARLBOROUGH, MA 17529162 USA "]
["MILTON PROPANE",101113,"MILTON PROPANE","3992 E VINCENT ST",null,"MILTON","WI",53563,"USA","MILTON, WI 53563 USA "]
["MILW JRNL & SENTINEL",45490,"MILW JRNL & SENTINEL","333 W STATE ST","PO BOX 661","MILWAUKEE","WI",53201,"USA","MILWAUKEE, WI 53201 USA "]
["MILWAUKEE ELECTRIC TOOL CORPOR",25676,"MILWAUKEE ELECTRIC TOOL CORPOR","13135 W LISBON RD",null,"BROOKFIELD","WI",53005,"USA","BROOKFIELD, WI 53005 USA "]
["MILWAUKEE INDUSTRIAL TOOLS INC",15192,"MILWAUKEE INDUSTRIAL TOOLS INC","12040A W FEERICK ST",null,"WAUWATOSA","WI",53222,"USA","WAUWATOSA, WI 53222 USA "]
["MILWAUKEE INSULATION CO INC",66857,"MILWAUKEE INSULATION CO INC","2823 INDEX RD",null,"MADISON","WI",53713,"USA","MADISON, WI 53713 USA "]
["MILWAUKEE PUBLIC MUSEUM",16039,"MILWAUKEE PUBLIC MUSEUM","800 W WELLS ST",null,"MILWAUKEE","WI",53233,"USA","MILWAUKEE, WI 53233 USA "]
["MILWAUKEE STOVE & FURNACE SUPP",8494,"MILWAUKEE STOVE & FURNACE SUPP","5518 FEMRITE DRIVE",null,"MADISON","WI",53718,"USA","MADISON, WI 53718 USA "]
["MINARIK AUTOMATION & CONTROL",75824,"MINARIK AUTOMATION & CONTROL","1261 WILEY RD",null,"SCHAUMBURG","IL",60173,"USA","SCHAUMBURG, IL 60173 USA "]
["MINDRUM PRECISION INC",117363,"MINDRUM PRECISION INC","10000 FOURTH ST",null,"RANCHO CUCAMONGA","CA","91730-5793","USA","RANCHO CUCAMONGA, CA 91730-5793 USA "]
["MINERALOGICAL RESEARCH CO",124468,"MINERALOGICAL RESEARCH CO","15840 E ALTA VISTA WAY",null,"SAN JOSE","CA",95127,"USA","SAN JOSE, CA 95127 USA "]
["MINERALOGICAL RESEARCH CO","K00028","MINERALOGICAL RESEARCH CO","15840 E. ALTA VISTA WAY",null,"SAN JOSE","CA",95127,"USA","SAN JOSE, CA 95127 USA "]
["MINERALOGICAL SOCIETY OF AMER",98766,"MINERALOGICAL SOCIETY OF AMER","1015 18TH ST NW","STE 601","WASHINGTON","DC",20036,"USA","WASHINGTON, DC 20036 USA "]
["MINI CIRCUITS",111922,"MINI CIRCUITS","PO BOX 3501666",null,"BROOKLYN","NY","11235-0003","USA","BROOKLYN, NY 11235-0003 USA "]
["MINI CIRCUITS LABORATORY",11127,"MINI CIRCUITS LABORATORY","13 NEPTUNE AVE","PO BOX 350166","BROOKLYN","NY",11235,"USA","BROOKLYN, NY 11235 USA "]
["MINIOPTIC TECHNOLOGY  INC",137285,"MINIOPTIC TECHNOLOGY  INC","923 CORONADO DR",null,"ARCADIA","CA",91007,"USA","ARCADIA, CA 91007 USA "]
["MINITEC FRAMING SYSTEMS",110478,"MINITEC FRAMING SYSTEMS","100 RAWSON RD","STE 228","VICTOR","NY",14564,"USA","VICTOR, NY 14564 USA "]
["MINNEAPOLIS HILTON & TOWERS",34918,"MINNEAPOLIS HILTON & TOWERS","1001 MARQUETTE AVENUE SOUTH",null,"MINNEAPOLIS","MN",55403,"USA","MINNEAPOLIS, MN 55403 USA "]
["MINNEAPOLIS STAR & TRIBUNE",59605,"MINNEAPOLIS STAR & TRIBUNE","425 PORTLAND AVE S","PO BOX 1255","MINNEAPOLIS","MN",55440,"USA","MINNEAPOLIS, MN 55440 USA "]
["MINNESOTA COMPUTERS CORP",126714,"MINNESOTA COMPUTERS CORP","9909 S SHORE DR",null,"MINNEAPOLIS","MN",55441,"USA","MINNEAPOLIS, MN 55441 USA "]
["MINNESOTA WIRE & CABLE",124437,"MINNESOTA WIRE & CABLE","1835 ENERGY PARK DR",null,"ST PAUL","MN",55108,"USA","ST PAUL, MN 55108 USA "]
["MISCO INC",35758,"MISCO INC","1 MISCO PLAZA","PO BOX 420 T83","HOLMDEL","NJ",7733,"USA","HOLMDEL, NJ 7733 USA "]
["MITCHELL PACE & ASSOCIATES",8546,"MITCHELL PACE & ASSOCIATES","2675 S CALHOUN RD",null,"NEW BERLIN","WI",53151,"USA","NEW BERLIN, WI 53151 USA "]
["MITEQ,INC",22769,"MITEQ,INC","100 DAVIDS DR",null,"HAUPPAUGE","NY",11788,"USA","HAUPPAUGE, NY 11788 USA "]
["MITSUBISHI ELECTRONICS",26618,"MITSUBISHI ELECTRONICS","ATTN:  PARTS DEPARTMENT","5665 PLAZA DRIVE","CYPRESS","CA",90630,"USA","CYPRESS, CA 90630 USA "]
["MITUTOYO",1494,"MITUTOYO","958 CORPORATE BLVD",null,"AURORA","IL",60504,"USA","AURORA, IL 60504 USA "]
["MK DIAMOND PRODUCTS INC",17191,"MK DIAMOND PRODUCTS INC","1315 STORM PKWY",null,"TORRANCE","CA","90501-5041","USA","TORRANCE, CA 90501-5041 USA "]
["MKS INSTRUMENTS INC",7567,"MKS INSTRUMENTS INC","6 SHATTUCK RD",null,"ANDOVER","MA",1810,"USA","ANDOVER, MA 1810 USA "]
["MKS SPECTRA PRODUCTS",80677,"MKS SPECTRA PRODUCTS","380 WOODVIEW AVENUE",null,"MORGAN HILL","CA",95037,"USA","MORGAN HILL, CA 95037 USA "]
["MNJ TECHNOLOGIES DIRECT INC",126697,"MNJ TECHNOLOGIES DIRECT INC","1025 E BUSCH PKWY",null,"BUFFALO GROVE","IL",60089,"USA","BUFFALO GROVE, IL 60089 USA "]
["MODERN PLASTIC DESIGN",84013,"MODERN PLASTIC DESIGN","6360 COPPS AVE",null,"MADISON","WI",53716,"USA","MADISON, WI 53716 USA "]
["MODULAR PIPING",69535,"MODULAR PIPING","5160 N 125TH ST",null,"BUTLER","WI",53007,"USA","BUTLER, WI 53007 USA "]
["MOLECULAR PROBES INC",6047,"MOLECULAR PROBES INC","PO BOX 22010",null,"EUGENE","OR",974020414,"USA","EUGENE, OR 974020414 USA "]
["MONOCRYSTALS COMPANY",35927,"MONOCRYSTALS COMPANY","3593 MEDINA RD., #151",null,"MEDINA","OH",44256,"USA","MEDINA, OH 44256 USA "]
["MONONA TERRACE CONVENTION CTR",103040,"MONONA TERRACE CONVENTION CTR","1 JOHN NOLEN DR",null,"MADISON","WI",53703,"USA","MADISON, WI 53703 USA "]
["MONOPRICE.COM",91730,"MONOPRICE.COM","11701 6TH ST",null,"RANCHO CUCAMONGA","CA",91730,"USA","RANCHO CUCAMONGA, CA 91730 USA "]
["MONTCLAIR FIBER OPTICS",92413,"MONTCLAIR FIBER OPTICS","2320 PLEASANT VIEW ROAD",null,"MIDDLTON","WI",53562,"USA","MIDDLTON, WI 53562 USA "]
["MONTCO SILICON TECH",115746,"MONTCO SILICON TECH","500 S MAIN ST",null,"SPRING CITY","PA",19475,"USA","SPRING CITY, PA 19475 USA "]
["MOONTRAIL",128953,"MOONTRAIL","5400 BANDERA RD, #117",null,"SAN ANTONIO","TX",78238,"USA","SAN ANTONIO, TX 78238 USA "]
["MOORE OIL",58742,"MOORE OIL","4033 W. CUSTER AVE.",null,"MILWAUKEE","WI",53209,"USA","MILWAUKEE, WI 53209 USA "]
[{"$f":"IF($C2115=\"\",\"\",$C2115)","v":"MORGAN MATROC INC."},60764,"MORGAN MATROC INC.","232 FORBES ROAD",null,"BEDFORD","OH",44146,"USA","BEDFORD, OH 44146 USA "]
["MORGRIDGE DISCOVERY CENTER","UW0081","MORGRIDGE DISCOVERY CENTER","330 N ORCHARD ST",null,"MADISON","WI",53715,"USA",{"$f":"IF(F2116=\"\",\"\",F2116&\", \")&IF(G2116=\"\",\"\",G2116&\" \")&IF(H2116=\"\",\"\",H2116&\" \")&IF(I2116=\"\",\"\",I2116&\" \")","v":"MADISON, WI 53715 USA "}]
["MORRIS MATERIAL HANDLING",22578,"MORRIS MATERIAL HANDLING","S40W24160 ROCKWOOD WAY",null,"WAUKESHA","WI",53186,"USA","WAUKESHA, WI 53186 USA "]
["MORSE, ROBERT",138216,"MORSE, ROBERT","1010 WILDER AV  STE 603",null,"HONOLULU","HI",96822,"USA","HONOLULU, HI 96822 USA "]
["MORTICE KERN SYSTEMS, INC.",14213,"MORTICE KERN SYSTEMS, INC.","PO BOX 728",null,"BUFFALO","NY","14240-9912","USA","BUFFALO, NY 14240-9912 USA "]
["MOTION INDUSTRIES",13859,"MOTION INDUSTRIES","PO BOX 14516",null,"MADISON","WI",537140516,"USA","MADISON, WI 537140516 USA "]
["MOTOT SYSTEMS  INC",128653,"MOTOT SYSTEMS  INC","501 TECHNICENTER DR  SUITE 501",null,"MILFORD","OH","45150-2772","USA","MILFORD, OH 45150-2772 USA "]
["MOUSER ELECTRONICS",54748,"MOUSER ELECTRONICS","2401 HWY 287 NORTH","PO BOX 699","MANSFIELD","TX",76063,"USA","MANSFIELD, TX 76063 USA "]
["MPB",75286,"MPB","MINIATURE PRECISION BEARING DI","PRECISION PARK","KEENE","NH",34310547,"USA","KEENE, NH 34310547 USA "]
["MPF PRODUCTS, INC",118132,"MPF PRODUCTS, INC","3046 BRAMLETT CHURCH RD",null,"GRAY COURT","SC",29645,"USA","GRAY COURT, SC 29645 USA "]
["MSC INDUSTRIAL SUPPLY",14135,"MSC INDUSTRIAL SUPPLY","6700 DISCOVERY BLVD",null,"MABLETON","CA",30059,"USA","MABLETON, CA 30059 USA "]
["MSC INDUSTRIAL SUPPLY CO",80449,"MSC INDUSTRIAL SUPPLY CO","N677 COMMUNICATIONS DR",null,"APPLETON","WI",54914,"USA","APPLETON, WI 54914 USA "]
["MTI CORP",1663,"MTI CORP","945 CORPORATE BLVD",null,"AURORA","IL",60504,"USA","AURORA, IL 60504 USA "]
["MTI CORPORATION",114932,"MTI CORPORATION","2700 RYDIN RD","UNIT D","RICHMOND","CA",94804,"USA","RICHMOND, CA 94804 USA "]
["MTI INSTRUMENTS",79766,"MTI INSTRUMENTS","967 ALBANY SHAKER RD",null,"LATHAM","NY",12110,"USA","LATHAM, NY 12110 USA "]
["MTL DISTRUBUTION",128300,"MTL DISTRUBUTION","1816 RAILROAD ST",null,"CORONA","CA",92880,"USA","CORONA, CA 92880 USA "]
["MU SHIELD CO",7578,"MU SHIELD CO","5 SPRINGFIELD RD","PO BOX 439","GOFFSTOWN","NH",3045,"USA","GOFFSTOWN, NH 3045 USA "]
["MUELLER IMPLEMENT",111382,"MUELLER IMPLEMENT","4633 HWY 138",null,"OREGON","WI",53575,"USA","OREGON, WI 53575 USA "]
["MUELLER SALES CORP",5966,"MUELLER SALES CORP","3725 N 126TH ST",null,"BROOKFIELD","WI",53005,"USA","BROOKFIELD, WI 53005 USA "]
["MULLARKEY ASSOCIATES INC",24435,"MULLARKEY ASSOCIATES INC","12346 S KEELER AVE",null,"ALSIP","IL",60803,"USA","ALSIP, IL 60803 USA "]
["MULTIWAVE",36147,"MULTIWAVE","17901 E AJAX CIRCLE",null,"CITY OF INDUSTRY","CA",91748,"USA","CITY OF INDUSTRY, CA 91748 USA "]
["MUPAC CORPORATION",37343,"MUPAC CORPORATION","10 MUPAC DR",null,"BROCKTON","MA",2401,"USA","BROCKTON, MA 2401 USA "]
["MURRAY CORPORATION",130576,"MURRAY CORPORATION","260 SCHILLING CIRCLE",null,"HUNT VALLEY","MD",21031,"USA","HUNT VALLEY, MD 21031 USA "]
["MWAVE",78668,"MWAVE","17901 AJAC",null,"INDUSTRY","CA",91748,"USA","INDUSTRY, CA 91748 USA "]
["MWK INDUSTRIES",80273,"MWK INDUSTRIES","1269 POMONA RD",null,"CORONA","CA",91720,"USA","CORONA, CA 91720 USA "]
["MWS WIRE INDUSTRIES",36345,"MWS WIRE INDUSTRIES","31200 CEDAR VALLEY",null,"WESTLAKE VILLAGE","CA",91362,"USA","WESTLAKE VILLAGE, CA 91362 USA "]
["NACR",130841,"NACR","3344 HIGHWAY 149",null,"EAGAN","MN",55121,"USA","EAGAN, MN 55121 USA "]
["NAGARAJAN,SATYAKAMAR",572613,"NAGARAJAN,SATYAKAMAR","REU",null,"STOUGHTON","WI",53589,"USA","STOUGHTON, WI 53589 USA "]
["NAGASE CALIFORNIA",113289,"NAGASE CALIFORNIA","710 LAKEWAY, STE 135",null,"SUNNYVALE","CA",94086,"USA","SUNNYVALE, CA 94086 USA "]
["NAL RESEARCH",134940,"NAL RESEARCH","9300 W COURTHOUSE RD",null,"MANASSAS","VA",20110,"USA","MANASSAS, VA 20110 USA "]
["NALCO CHEMICAL CO",8798,"NALCO CHEMICAL CO","20935 SWENSON DR SUITE 420",null,"WAUKESHA","WI",531862006,"USA","WAUKESHA, WI 531862006 USA "]
["NALCO DIVERSIFIED TECHNOLOGIES",109408,"NALCO DIVERSIFIED TECHNOLOGIES","PO BOX 73078",null,"CHICAGO","IL","60673-7078","USA","CHICAGO, IL 60673-7078 USA "]
["NAME TAG  INC",129458,"NAME TAG  INC","175 WEST 2700 SOUTH  SUITE 101",null,"SALT LAKE CITY","UT",84115,"USA","SALT LAKE CITY, UT 84115 USA "]
["NANA TRAINING SYSTEMS",130415,"NANA TRAINING SYSTEMS","341 W TUDOR RD, SUITE 202",null,"ANCHORAGE","AK","US","USA","ANCHORAGE, AK US USA "]
["NANMAC CORPORATION",84540,"NANMAC CORPORATION","911 MAYHEW ST",null,"FRAMINGHAM","MA",1701,"USA","FRAMINGHAM, MA 1701 USA "]
["NANOFILM",108755,"NANOFILM","2641 TOWNSGATE ROAD",null,"WESTLAKE VILLAGE","CA",91361,"USA","WESTLAKE VILLAGE, CA 91361 USA "]
["NANOMETRICS INC",92038,"NANOMETRICS INC","310 DEGUIGNE DR",null,"SUNNYVALE","CA",940863906,"USA","SUNNYVALE, CA 940863906 USA "]
["NANOMOTION  INC",129540,"NANOMOTION  INC","1 COMAC LOOP       SUITE 14B",null,"RONKONKOMA","NY",11779,"USA","RONKONKOMA, NY 11779 USA "]
["NANOTECH AMERICA",124279,"NANOTECH AMERICA","313 S. JUPITER RD, SUITE 105",null,"ALLEN","TX",75002,"USA","ALLEN, TX 75002 USA "]
["NASA GODDARD SPACE FLIGHT",60981,"NASA GODDARD SPACE FLIGHT",null,null,null,null,null,"USA","USA "]
["NASCO",8805,"NASCO","901 JANESVILLE AVE",null,"FORT ATKINSON","WI",53538,"USA","FORT ATKINSON, WI 53538 USA "]
["NASHUA CORP",80090,"NASHUA CORP","% XEROGRAPHIC SUPPLY OF WI","2242C BLUE MOUND RD","WAUKESHA","WI",53186,"USA","WAUKESHA, WI 53186 USA "]
["NATIONAL BRONZE & METALS, INC.",28263,"NATIONAL BRONZE & METALS, INC.","PO BOX 800818",null,"HOUSTON","TX",77280,"USA","HOUSTON, TX 77280 USA "]
["NATIONAL CONTROLS LLC",127293,"NATIONAL CONTROLS LLC","P O BOX 455",null,"OSCEOLA","MO",64776,"USA","OSCEOLA, MO 64776 USA "]
["NATIONAL ELECTROSTATICS CORP",8955,"NATIONAL ELECTROSTATICS CORP","GRABER RD","PO BOX 310","MIDDLETON","WI",53562,"USA","MIDDLETON, WI 53562 USA "]
["NATIONAL FIRE PROTECTION ASSOC",8968,"NATIONAL FIRE PROTECTION ASSOC","PO BOX 9146",null,"QUINCY","MA",2269,"USA","QUINCY, MA 2269 USA "]
["NATIONAL FIVE DIGIT ZIP CODE D",61394,"NATIONAL FIVE DIGIT ZIP CODE D","ADDRESS INFORMATION CENTER","6060 PRINANCY PARKWAY","MEMPHIS","TN",381889980,"USA","MEMPHIS, TN 381889980 USA "]
["NATIONAL INFORMATION DATA CENT",8299,"NATIONAL INFORMATION DATA CENT","PO BOX 2977",null,"WASHINGTON","DC",200132977,"USA","WASHINGTON, DC 200132977 USA "]
["NATIONAL INST STANDARDS & TECH",132616,"NATIONAL INST STANDARDS & TECH","NIST, CALIBRATION SERVICES","100 BUREAU DR, MS 2300","GAITHERSBURG","MD",20899,"USA","GAITHERSBURG, MD 20899 USA "]
["NATIONAL INSTITUTE OF STANDARD",66647,"NATIONAL INSTITUTE OF STANDARD","BLDG 101 RM A807","RT 270 & QUINCE ORCHARD RD","GAITHERSBURG","MD",20899,"USA","GAITHERSBURG, MD 20899 USA "]
["NATIONAL INSTRUMENTS",11530,"NATIONAL INSTRUMENTS","2226 HENNEPIN AVE STE 109",null,"MINNEAPOLIS","MN",55403,"USA","MINNEAPOLIS, MN 55403 USA "]
["NATIONAL INSTRUMENTS",44410,"NATIONAL INSTRUMENTS","6504 BRIDGE POINT PKWY",null,"AUSTIN","TX",787305039,"USA","AUSTIN, TX 787305039 USA "]
["NATIONAL MAGNETICS GROUP",126650,"NATIONAL MAGNETICS GROUP","1210 WIN DR",null,"BETHLEHEM","PA","18017-7061","USA","BETHLEHEM, PA 18017-7061 USA "]
["NATIONAL PARTITIONS",120623,"NATIONAL PARTITIONS","340 W 78TH RD",null,"HIALEAH","FL",33014,"USA","HIALEAH, FL 33014 USA "]
["NATIONAL PRECISION BEARING","K00006","NATIONAL PRECISION BEARING","8152 304TH AVE SE","P O BOX 613","PRESTON","WA",98050,"USA","PRESTON, WA 98050 USA "]
["NATIONAL PRESS PUBLICATIONS IN",72549,"NATIONAL PRESS PUBLICATIONS IN","6901 W 63RD ST","PO BOX 2949","SHAWNEE MISSION","KS",66201,"USA","SHAWNEE MISSION, KS 66201 USA "]
["NATIONAL SAFETY COUNCIL",9041,"NATIONAL SAFETY COUNCIL","1121 SPRING LAKE DR","P.O. BOX 429","ITASCA","IL",60143,"USA","ITASCA, IL 60143 USA "]
["NATIONAL SEMICONDUCTOR",458838,"NATIONAL SEMICONDUCTOR","2900 SEMICONDUCTOR DRIVE",null,"SANTA CLARA","CA",950051,"USA","SANTA CLARA, CA 950051 USA "]
["NATIONAL UTILITIES",9079,"NATIONAL UTILITIES","P.O. BOX 26066","12040 W FEERICK ST","MILWAUKEE","WI",53226,"USA","MILWAUKEE, WI 53226 USA "]
["NATIONWIDE PAPERS",8653,"NATIONWIDE PAPERS","2402 VONDRON RD",null,"MADISON","WI",53704,"USA","MADISON, WI 53704 USA "]
["NATL SOC OF BLACK PHYSICISTS",124784,"NATL SOC OF BLACK PHYSICISTS","6704G LEE HWY",null,"ARLINGTON","VA",22205,"USA","ARLINGTON, VA 22205 USA "]
["NAVITAR, INC.",93667,"NAVITAR, INC.","200 COMMERCE DRIVE",null,"ROCHESTER","NY",14623,"USA","ROCHESTER, NY 14623 USA "]
["NCURA",35436,"NCURA","1 DUPONT CIR NW","STE 220","WASHINGTON","DC",20036,"USA","WASHINGTON, DC 20036 USA "]
["NEC INFORMATION SYSTEMS INC",89936,"NEC INFORMATION SYSTEMS INC","C/O MICROAGE OF GREEN BAY","12450 FAIRLAKES CIRCLE","FAIRFAX","VA",22033,"USA","FAIRFAX, VA 22033 USA "]
[{"$f":"IF($C2179=\"\",\"\",$C2179)","v":"NECO CORPORATION"},9112,"NECO CORPORATION","600 S BLVD","PO BOX 189","BARABOO","WI",53913,"USA","BARABOO, WI 53913 USA "]
["NEDCO ELECTRONICS","K00007","NEDCO ELECTRONICS","2325 BLUEMOUND RD","STE D","WAUKESHA","WI",53186,"USA",{"$f":"IF(F2180=\"\",\"\",F2180&\", \")&IF(G2180=\"\",\"\",G2180&\" \")&IF(H2180=\"\",\"\",H2180&\" \")&IF(I2180=\"\",\"\",I2180&\" \")","v":"WAUKESHA, WI 53186 USA "}]
["NEEDHAMS ELECTRONICS",5484,"NEEDHAMS ELECTRONICS","4630 BELOIT DR.",null,"SACRAMENTO","CA",95838,"USA","SACRAMENTO, CA 95838 USA "]
["NEELS TRAILER OUTLET",128060,"NEELS TRAILER OUTLET","P.O. BOX 145","310 S. 4TH ST","ELMWOOD","NE",68349,"USA","ELMWOOD, NE 68349 USA "]
["NEFF ENGINEERING CO INC",9117,"NEFF ENGINEERING CO INC","5960 N GREEN BAY AVE",null,"MILWAUKEE","WI",53209,"USA","MILWAUKEE, WI 53209 USA "]
["NEGUS CONTAINER CO",9118,"NEGUS CONTAINER CO","114 N BEDFORD ST",null,"MADISON","WI",53703,"USA","MADISON, WI 53703 USA "]
["NEHA",57120,"NEHA","720 S COLORADO BLVD","STE 970-S","DENVER","CO",80246,"USA","DENVER, CO 80246 USA "]
["NEHER ELECTRIC SUPPLY",9119,"NEHER ELECTRIC SUPPLY","3629 N TEUTONIA AVE",null,"MILWAUKEE","WI",53206,"USA","MILWAUKEE, WI 53206 USA "]
["NELCO PRODUCTS, INC.",133998,"NELCO PRODUCTS, INC.","22 RIVERSIDE DRIVE",null,"PEMBROKE","MA",2359,"USA","PEMBROKE, MA 2359 USA "]
["NELSON CONTAINER CORP",27812,"NELSON CONTAINER CORP","W180N1192 RIVER LANE",null,"GERMANTOWN","WI",53022,"USA","GERMANTOWN, WI 53022 USA "]
["NELSON CONTAINER CORP",207812,"NELSON CONTAINER CORP","W180N1192 RIVER LANE",null,"GERMANTOWN","WI",53022,"USA","GERMANTOWN, WI 53022 USA "]
["NELSON MUD JACKING",112053,"NELSON MUD JACKING","6207 RENEE COUUT",null,"MCFARLAND","WI",53558,"USA","MCFARLAND, WI 53558 USA "]
["NEP ELECTRONICS INC",15639,"NEP ELECTRONICS INC","2604 S 162ND ST",null,"NEW BERLIN","WI",53151,"USA","NEW BERLIN, WI 53151 USA "]
["NERDS",117988,"NERDS","19077 W DIXIE HWY",null,"NORTH MIAMI BEACH","FL",33180,"USA","NORTH MIAMI BEACH, FL 33180 USA "]
["NERDS NET",116256,"NERDS NET","19077 W DIXIE HWY",null,"NORTH MIAMI BEACH","FL",33180,"USA","NORTH MIAMI BEACH, FL 33180 USA "]
["NET EXPRESS",100057,"NET EXPRESS","4910 LOWRY ROAD",null,"UNION CITY","CA",94587,"USA","UNION CITY, CA 94587 USA "]
["NET MANAGE",23315,"NET MANAGE","2340 130TH AVE NE",null,"BELLEVUE","WA",98005,"USA","BELLEVUE, WA 98005 USA "]
["NET.DREAMS",100874,"NET.DREAMS","6050 COMMERCE BLVD.STE 108",null,"ROHNERT PARK","CA",94928,"USA","ROHNERT PARK, CA 94928 USA "]
["NETECH CORPORATION",135767,"NETECH CORPORATION","8215 GREENWAY BLVD",null,"MIDDLETON","WI",53562,"USA","MIDDLETON, WI 53562 USA "]
["NETMOTION, INC.",131107,"NETMOTION, INC.","4160 TECHNOLOGY DR.",null,"FREMONT","CA",94538,"USA","FREMONT, CA 94538 USA "]
["NETSYS-AMERICA,LLC",128002,"NETSYS-AMERICA,LLC","3233 SUPERIOR LANE, SUITE B3",null,"BOWIE","MD",20715,"USA","BOWIE, MD 20715 USA "]
["NETWORK ASSOCIATES",34101,"NETWORK ASSOCIATES","3000 OCEAN PARK BLVD.STE 2001",null,"SANTA MONICA","CA",90405,"USA","SANTA MONICA, CA 90405 USA "]
["NETWORK INSTRUMENTS",126282,"NETWORK INSTRUMENTS","8800 W HWY 7","4TH FL","MINNEAPOLIS","MN",55426,"USA","MINNEAPOLIS, MN 55426 USA "]
["NETWORK SOLUTIONS",109568,"NETWORK SOLUTIONS","12525 BECKLEY ST.",null,"GRANGER","IL",46530,"USA","GRANGER, IL 46530 USA "]
["NEURAL WARE INC",81395,"NEURAL WARE INC","PENN CENTER WEST","BLDG IV  SUITE 227","PITTSBURGH","PA",15276,"USA","PITTSBURGH, PA 15276 USA "]
["NEUROVE$T JOURNAL",32557,"NEUROVE$T JOURNAL","PO BOX 764",null,"HAYMARKET","VA","22069-0764","USA","HAYMARKET, VA 22069-0764 USA "]
["NEW AGE INDUSTRIES",85160,"NEW AGE INDUSTRIES","145 JAMES WAY",null,"SOUTHAMPTON","PA",18966,"USA","SOUTHAMPTON, PA 18966 USA "]
["NEW ENGLAND AFFILIATED TECH",59912,"NEW ENGLAND AFFILIATED TECH","620 ESSEX STREET",null,"LAWRENCE","MA",1841,"USA","LAWRENCE, MA 1841 USA "]
["NEW ENGLAND COMPUTER EXCHANGE",23775,"NEW ENGLAND COMPUTER EXCHANGE","20-24 GOULD STREET",null,"READING","MA",1867,"USA","READING, MA 1867 USA "]
["NEW ENGLAND TECHNI-COIL",110711,"NEW ENGLAND TECHNI-COIL","147 MIDDLE RD",null,"TUFTONBORO","NH",3816,"USA","TUFTONBORO, NH 3816 USA "]
["NEW FOCUS",91494,"NEW FOCUS","340 PIONEER WAY",null,"MOUNTAIN VIEW","CA",94941,"USA","MOUNTAIN VIEW, CA 94941 USA "]
["NEW MICROS INC",73915,"NEW MICROS INC","1601 CHALK HILL RD",null,"DALLAS","TX",75212,"USA","DALLAS, TX 75212 USA "]
["NEW PIG CORPORATION",67498,"NEW PIG CORPORATION","ONE PORK AVE",null,"TIPTON","PA",16684,"USA","TIPTON, PA 16684 USA "]
["NEWARK ELECTRONICS",43071,"NEWARK ELECTRONICS","6000 GISHOLT DR",null,"MADISON","WI",537134816,"USA","MADISON, WI 537134816 USA "]
["NEWEGG.COM",117514,"NEWEGG.COM","132 S 6TH AVE",null,"LA PUENTE","CA",91746,"USA","LA PUENTE, CA 91746 USA "]
["NEWPORT ELECTRONICS",93996,"NEWPORT ELECTRONICS","2229 S YALE ST",null,"SANTA ANA","CA",92704,"USA","SANTA ANA, CA 92704 USA "]
["NEWPORT RICHARDSON INC",81621,"NEWPORT RICHARDSON INC","705 ST PAUL ST",null,"ROCHESTER","NY",14605,"USA","ROCHESTER, NY 14605 USA "]
["NEWPORT ROCHESTER, INC",126980,"NEWPORT ROCHESTER, INC","705 ST PAUL ST",null,"ROCHESTER","NY",14605,"USA","ROCHESTER, NY 14605 USA "]
["NEWPORT/KLINGER",9235,"NEWPORT/KLINGER","1791 DEERE AVE",null,"IRVINE","CA",92714,"USA","IRVINE, CA 92714 USA "]
["NEXTEL COMMUNICATIONS",123034,"NEXTEL COMMUNICATIONS","P.O. BOX 4181",null,"CAROL STREAM","IL","60197-4181","USA","CAROL STREAM, IL 60197-4181 USA "]
["NIAGARA PLASTICS",124298,"NIAGARA PLASTICS","7090 EDINBORO RD",null,"ERIE","PA","16509-4497","USA","ERIE, PA 16509-4497 USA "]
["NIKON INC",36593,"NIKON INC","1300 WALT WHITMAN RD",null,"MELVILLE","NY",11747,"USA","MELVILLE, NY 11747 USA "]
["NILES & ASSOCIATES",72300,"NILES & ASSOCIATES","2000 HEARST ST",null,"BERKELEY","CA",94709,"USA","BERKELEY, CA 94709 USA "]
["NILFISK OF AMERICA",33128,"NILFISK OF AMERICA","300 TECHNOLOGY DR",null,"MALVERN","PA",19355,"USA","MALVERN, PA 19355 USA "]
["NIOWAVE INC",132666,"NIOWAVE INC","1012 N WALNUT ST",null,"LANSING","MI",48906,"USA","LANSING, MI 48906 USA "]
["NIST",114317,"NIST","100 BUREAU DR, STOP 1624",null,"GAITHERSBURG","MD",20899,"USA","GAITHERSBURG, MD 20899 USA "]
["NIST",102791,"NIST",null,null,"GAITHERSBURG","MD",20899,"USA","GAITHERSBURG, MD 20899 USA "]
["NISUS WRITER PRINTED MANUAL",14069,"NISUS WRITER PRINTED MANUAL","PO BOX 1300",null,"SOLANA BEACH","CA",92075,"USA","SOLANA BEACH, CA 92075 USA "]
["NONFERROUS METALS CORPORATION",17140,"NONFERROUS METALS CORPORATION","P.O. BOX 2595",null,"WATERBURY","CT",6723,"USA","WATERBURY, CT 6723 USA "]
["NONN FLOORING",76112,"NONN FLOORING","PO BOX 620743",null,"MIDDLETON","WI",535620743,"USA","MIDDLETON, WI 535620743 USA "]
["NOR CAL PRODUCTS",63220,"NOR CAL PRODUCTS","% MIDWEST VACUUM INC","201 E OGDEN AV  SUITE 15","HINSDALE","IL",60521,"USA","HINSDALE, IL 60521 USA "]
["NOR CAL PRODUCTS INC",31804,"NOR CAL PRODUCTS INC","1967 S OREGON","PO BOX 518","YREKA","CA",96097,"USA","YREKA, CA 96097 USA "]
["NORMAN EQUIPMENT CO",91464,"NORMAN EQUIPMENT CO","3250 FOREST VIEW RD",null,"ROCKFORD","IL",61109,"USA","ROCKFORD, IL 61109 USA "]
["NORMAN EQUIPMENT COMPANY",45820,"NORMAN EQUIPMENT COMPANY","16150 W ROGERS DR","PO BOX 7","NEW BERLIN","WI",53150,"USA","NEW BERLIN, WI 53150 USA "]
["NORMAN EQUIPMENT COMPANY",9314,"NORMAN EQUIPMENT COMPANY","9850 INDUSTRIAL DR",null,"BRIDGEVIEW","IL",60455,"USA","BRIDGEVIEW, IL 60455 USA "]
["NORMAN FILTER COMPANY",130403,"NORMAN FILTER COMPANY","9850 S INDUSTRIAL DR",null,"BRIDGEVIEW","IL",60455,"USA","BRIDGEVIEW, IL 60455 USA "]
["NORTH AMERICAN HOGANAS",131160,"NORTH AMERICAN HOGANAS","101 BRIDGE ST",null,"JOHNSTOWN","PA",15902,"USA","JOHNSTOWN, PA 15902 USA "]
["NORTH SHORE SAFETY LTD",124574,"NORTH SHORE SAFETY LTD","6942 SPINACH DR",null,"MENTOR","OH",44060,"USA","MENTOR, OH 44060 USA "]
["NORTHERN BATTERY",44532,"NORTHERN BATTERY","235 BONNIE RD",null,"COTTAGE GROVE","WI",53527,"USA","COTTAGE GROVE, WI 53527 USA "]
["NORTHERN BATTERY WAREHOUSE",44352,"NORTHERN BATTERY WAREHOUSE","2023 S STOUGHTON RD",null,"MADISON","WI",53716,"USA","MADISON, WI 53716 USA "]
["NORTHERN PLATING CO",9372,"NORTHERN PLATING CO","1401 NORTHERN COURT",null,"MADISON","WI",53703,"USA","MADISON, WI 53703 USA "]
["NORTHERN SLED WORKS",126449,"NORTHERN SLED WORKS","P O BOX 61171",null,"FAIRBANKS","AK",99706,"USA","FAIRBANKS, AK 99706 USA "]
["NORTHERN TOOL & EQUIPMENT",117211,"NORTHERN TOOL & EQUIPMENT","P.O. BOX 1499",null,"BURNSVILLE","MN","55337-0499","USA","BURNSVILLE, MN 55337-0499 USA "]
["NORTHROP AWNING CO",135160,"NORTHROP AWNING CO","411 S PEARL ST",null,"JANESVILLE","WI",53548,"USA","JANESVILLE, WI 53548 USA "]
[{"$f":"IF($C2243=\"\",\"\",$C2243)","v":"NORTHWEST AIR"},8809,"NORTHWEST AIR",null,null,null,null,null,"USA","USA "]
["NORTHWEST AIRLINES",36023,"NORTHWEST AIRLINES","51010 NORTHWEST DR C9000",null,"ST PAUL","MN",55111,"USA",{"$f":"IF(F2244=\"\",\"\",F2244&\", \")&IF(G2244=\"\",\"\",G2244&\" \")&IF(H2244=\"\",\"\",H2244&\" \")&IF(I2244=\"\",\"\",I2244&\" \")","v":"ST PAUL, MN 55111 USA "}]
["NORTHWEST TECHNICAL",23059,"NORTHWEST TECHNICAL","2249 DIAMOND POINT ROAD",null,"SEQUIM","WA",98382,"USA","SEQUIM, WA 98382 USA "]
["NORTHWESTERN INDUSTRIAL",15857,"NORTHWESTERN INDUSTRIAL","16205 W. ROGERS DRIVE","P.O. BOX 51163","NEW BERLIN","WI","53151-0163","USA","NEW BERLIN, WI 53151-0163 USA "]
["NORTHWOODS LASER",34739,"NORTHWOODS LASER","N7371 ONESTI RD",null,"WITTENBERG","WI",54499,"USA","WITTENBERG, WI 54499 USA "]
["NORWAY LABS",127957,"NORWAY LABS","8269 SW CIRRUS DR",null,"BEAVERTON","OR",97008,"USA","BEAVERTON, OR 97008 USA "]
["NOTARY BOND RENEWAL",3727,"NOTARY BOND RENEWAL","PO BOX 698",null,"NEENAH","WI",54957,"USA","NEENAH, WI 54957 USA "]
["NOTARY RECORDS",94353,"NOTARY RECORDS","OFFICE OF THE SEC. OF STATE","PO BOX 7848","MADISON","WI","53707-7848","USA","MADISON, WI 53707-7848 USA "]
["NOTT CO",77909,"NOTT CO","1720 NEW BRIGHTON BLVD",null,"MINNEAPOLIS","MN",55413,"USA","MINNEAPOLIS, MN 55413 USA "]
["NOVAMAX INTERNATIONAL",131058,"NOVAMAX INTERNATIONAL","8200 S QUEBEC ST",null,"ENGLEWOOD","CO",80112,"USA","ENGLEWOOD, CO 80112 USA "]
["NOW SOFTWARE INC.",28021,"NOW SOFTWARE INC.","PO BOX 6265",null,"SALINAS","CA","93912-9868","USA","SALINAS, CA 93912-9868 USA "]
["NPX DESIGNS, INC",128360,"NPX DESIGNS, INC","1420 W. EDGEWATER AVE, #3",null,"CHICAGO","IL",60660,"USA","CHICAGO, IL 60660 USA "]
["NSK CORPORATION",37779,"NSK CORPORATION","420 W WRIGHTWOOD AVE",null,"ELMHURST","IL",60126,"USA","ELMHURST, IL 60126 USA "]
["NSPE",88350,"NSPE","PO BOX 96163",null,"WASHINGTON","DC",200906163,"USA","WASHINGTON, DC 200906163 USA "]
["NTH GENERATION COMPUTING",16271,"NTH GENERATION COMPUTING","11409 W. BERNARDO COURT",null,"SAN DIEGO","CALIF",92127,"USA","SAN DIEGO, CALIF 92127 USA "]
["NU HORIZONS ELECTRONICS",111023,"NU HORIZONS ELECTRONICS","1300 WOODFIELD RD, SUITE 302",null,"SCHAUMBURG","IL",60173,"USA","SCHAUMBURG, IL 60173 USA "]
["NU-CONCEPT SYSTEMS INC",56875,"NU-CONCEPT SYSTEMS INC","900 OLD BETHLEHEM PIKE","P O BOX 587","COLMAR","PA",18915,"USA","COLMAR, PA 18915 USA "]
["NULOGIC",97365,"NULOGIC","475 HILLSIDE AVE",null,"NEEDHAM","MA",2194,"USA","NEEDHAM, MA 2194 USA "]
["NUMERICAL RECIPES",7232,"NUMERICAL RECIPES","P O BOX 243",null,"CAMBRIDGE","MA",2238,"USA","CAMBRIDGE, MA 2238 USA "]
["NUMERIDEX",55414,"NUMERIDEX","PO BOX 11000",null,"WHEELING","IL",60090,"USA","WHEELING, IL 60090 USA "]
["NUSIL TECHNOLOGY",125883,"NUSIL TECHNOLOGY","1050 CINDY LA",null,"CARPINTERIA","CA",93013,"USA","CARPINTERIA, CA 93013 USA "]
["NUSPECTRA MULTIMEDIA INC",125968,"NUSPECTRA MULTIMEDIA INC","2325 3RD ST","STE 339","SAN FRANCISCO","CA",94107,"USA","SAN FRANCISCO, CA 94107 USA "]
["O & A TOOLS SPECIALTIES",29321,"O & A TOOLS SPECIALTIES","503 S. NINE MOUND RD.",null,"VERONA","WI",53593,"USA","VERONA, WI 53593 USA "]
["O'REILLY & ASSOCIATES",77885,"O'REILLY & ASSOCIATES","1005 GRAVENSTEIN HWY., N.",null,"SEBASTOPOL","CA",95472,"USA","SEBASTOPOL, CA 95472 USA "]
["O-RINGS WEST INC",128506,"O-RINGS WEST INC","1111 N 98TH ST","STE 3","SEATTLE","WA",98103,"USA","SEATTLE, WA 98103 USA "]
["OBJECTSPACE, INC.",24425,"OBJECTSPACE, INC.","14881 QUORUM DRIVE, STE 400",null,"DALLAS","TX",75240,"USA","DALLAS, TX 75240 USA "]
["OC MICRO SUPPLY",129418,"OC MICRO SUPPLY","946 ALLE AMANECER #D",null,"SAN CLEMENTE","CA",92673,"USA","SAN CLEMENTE, CA 92673 USA "]
["OCEAN OPTICS INC",13850,"OCEAN OPTICS INC","P O BOX 2249",null,"DUNEDIN","FL","34697-2294","USA","DUNEDIN, FL 34697-2294 USA "]
["OCI VACUUM MICROENGINEERING",122351,"OCI VACUUM MICROENGINEERING","340 SASKATOON ST",null,"LONDON","ONTARIO","N5W4R3","USA","LONDON, ONTARIO N5W4R3 USA "]
["OFFICE DEPOT",92942,"OFFICE DEPOT","676 S WHITNEY WAY",null,"MADISON","WI",53711,"USA","MADISON, WI 53711 USA "]
["OFFICE DEPOT",101001,"OFFICE DEPOT","4016 E WASHINGTON",null,"MADISON","WI",53704,"USA","MADISON, WI 53704 USA "]
["OFFICE DEPOT",96291,"OFFICE DEPOT","2200 OLD GERMANTOWN RD",null,"DELRAY BEACH","FL",33445,"USA","DELRAY BEACH, FL 33445 USA "]
["OFFICE FURNITURE RESOURCES",113486,"OFFICE FURNITURE RESOURCES","8787 W. BROWN DEER RD",null,"MILWAUKEE","WI",53224,"USA","MILWAUKEE, WI 53224 USA "]
["OFFICE MAX",4741,"OFFICE MAX","7341 WEST TOWNE WAY",null,"MADISON","WI",53719,"USA","MADISON, WI 53719 USA "]
["OFFICE OF BUDGET PLAN & ANALYS","UW0076","OFFICE OF BUDGET PLAN & ANALYS","500 LINCOLN DRIVE",null,"MADISON","WI",53706,"USA","MADISON, WI 53706 USA "]
["OFFICE OF HUMAN RESOURCES","UW0028","OFFICE OF HUMAN RESOURCES","PROFESSIONAL DEVELOPMENT &","TRAINING","MADISON","WI",53706,"USA","MADISON, WI 53706 USA "]
["OFFICE OF STATE EMPLOYMENT REL",123709,"OFFICE OF STATE EMPLOYMENT REL","101 E WILSON ST     4TH FLOOR",null,"MADISON","WI",53707,"USA","MADISON, WI 53707 USA "]
["OFFICE OF THE SECRETARY OF STA",13994,"OFFICE OF THE SECRETARY OF STA","30 W MIFFLIN  9TH FLOOR",null,"MADISON","WI",53703,"USA","MADISON, WI 53703 USA "]
["OFFICE TECHNOLOGY",103953,"OFFICE TECHNOLOGY","605 S 24TH AVE STE 24",null,"WAUSAU","WI",54401,"USA","WAUSAU, WI 54401 USA "]
["OIL EQUIPMENT",9554,"OIL EQUIPMENT","4701 LEIN RD",null,"MADISON","WI",53704,"USA","MADISON, WI 53704 USA "]
["OMEGA ENGINEERING INC",9603,"OMEGA ENGINEERING INC","1 OMEGA DR","BOX 4047","STAMFORD","CT",69070047,"USA","STAMFORD, CT 69070047 USA "]
["OMNI CONTROLS INC",106013,"OMNI CONTROLS INC","5309 TECHNOLOGY DR",null,"TAMPA","FL",33647,"USA","TAMPA, FL 33647 USA "]
["OMNI DEVELOPMENT, INC.",130277,"OMNI DEVELOPMENT, INC.","2707 NE BLAKELEY STREET",null,"SEATTLE","WA",98105,"USA","SEATTLE, WA 98105 USA "]
["OMNI LOS ANGELES HOTEL",106341,"OMNI LOS ANGELES HOTEL","930 WILSHIRE BLVD",null,"LOS ANGELES","CA",90017,"USA","LOS ANGELES, CA 90017 USA "]
["OMNI PRO ELECTRONICS",20113,"OMNI PRO ELECTRONICS","826 FOSTER AVE",null,"BENSENVILLE","IL",60106,"USA","BENSENVILLE, IL 60106 USA "]
["ON LINE INSTRUMENT SYSTEMS",23563,"ON LINE INSTRUMENT SYSTEMS","ROUTE 2","PO BOX 111","JEFFERSON","GA",30549,"USA","JEFFERSON, GA 30549 USA "]
["ON-TRAK PHOTONICS",109547,"ON-TRAK PHOTONICS","20321 LAKE FOREST DR.STE D-2",null,"LAKE FOREST","CA",92630,"USA","LAKE FOREST, CA 92630 USA "]
["ONDEO NALCO COMPANY",51431,"ONDEO NALCO COMPANY",null,null,"NAPERVILLE","IL",60563,"USA","NAPERVILLE, IL 60563 USA "]
["ONLINECOMPONENTS.COM",131381,"ONLINECOMPONENTS.COM","1220 OLYMPIC BLVD",null,"SANTA MONICA","CA",90404,"USA","SANTA MONICA, CA 90404 USA "]
["ONPOINT LASERS, INC.",119792,"ONPOINT LASERS, INC.","6780 VERMAR TERRACE",null,"EDEN PRAIRIE","MN",55346,"USA","EDEN PRAIRIE, MN 55346 USA "]
["OPEN VENDOR",16908,"OPEN VENDOR","UNKNOWN",null,"CATCHITALL","WI",0,"USA","CATCHITALL, WI 0 USA "]
["OPHIR OPTRONICS INC",95408,"OPHIR OPTRONICS INC","21 MAIN ST",null,"NORTH READING","MA",1864,"USA","NORTH READING, MA 1864 USA "]
["OPTI-FORMS, INC",13777,"OPTI-FORMS, INC","42310 WINCHESTER ROAD",null,"TEMECULA","CA",null,"USA","TEMECULA, CA USA "]
["OPTICAL FIBER COMPONENTS INC.",24305,"OPTICAL FIBER COMPONENTS INC.","24 KEEWAYDIN DRIVE",null,"SALEM","NH","03079-2860","USA","SALEM, NH 03079-2860 USA "]
["OPTICAL SOCIETY OF AMERICA",9697,"OPTICAL SOCIETY OF AMERICA","2010 MASSACHUSETTS AVE NW",null,"WASHINGTON","DC","20036-1023","USA","WASHINGTON, DC 20036-1023 USA "]
["OPTICAL SOCIETY OF AMERICA",9627,"OPTICAL SOCIETY OF AMERICA","2010 MASSACHUSETTS AVE NW",null,"WASHINGTON","DC",20036,"USA","WASHINGTON, DC 20036 USA "]
["OPTICAL SOCIETY OF AMERICA",44512,"OPTICAL SOCIETY OF AMERICA","335 E 45TH ST",null,"NEW YORK","NY",10017,"USA","NEW YORK, NY 10017 USA "]
["OPTICAL ZONU",140048,"OPTICAL ZONU","15028 DELANO ST",null,"VAN HUYS","CA",91411,"USA","VAN HUYS, CA 91411 USA "]
["OPTICS PLANET, INC",120020,"OPTICS PLANET, INC","3150 COMMERCIAL AV",null,"NORTHBROOK","IL",60062,"USA","NORTHBROOK, IL 60062 USA "]
["OPTIMUM DESIGN",80883,"OPTIMUM DESIGN","1706 GRAFTON RD",null,"MADISON","WI",53716,"USA","MADISON, WI 53716 USA "]
["OPTO SIGMA CORP",107080,"OPTO SIGMA CORP","2001 DEERE AVE",null,"SANTA ANA","CA",92705,"USA","SANTA ANA, CA 92705 USA "]
["OPTOTECHNIK",51316,"OPTOTECHNIK","37191 KATLENBERG",null,"LINDAU",null,null,"GERMANY","LINDAU, GERMANY "]
["ORANGE RESEARCH",128313,"ORANGE RESEARCH","140 CASCADE BLVD",null,"MILFORD","CT",6460,"USA","MILFORD, CT 6460 USA "]
["ORBITAL SCIENCE",45890,"ORBITAL SCIENCE","2771 N GAREY AVE",null,"POMONA","CA",91767,"USA","POMONA, CA 91767 USA "]
[{"$f":"IF($C2307=\"\",\"\",$C2307)","v":"ORBITAL SOFTWARE, INC."},28336,"ORBITAL SOFTWARE, INC.","1330 NORTH 148 PLAZA",null,"OMAHA","NE",68154,"USA","OMAHA, NE 68154 USA "]
["ORIENTAL MOTORS USA",120159,"ORIENTAL MOTORS USA","1555 N BASSWOOD RD",null,"SCHAUMBURG","IL",60173,"USA",{"$f":"IF(F2308=\"\",\"\",F2308&\", \")&IF(G2308=\"\",\"\",G2308&\" \")&IF(H2308=\"\",\"\",H2308&\" \")&IF(I2308=\"\",\"\",I2308&\" \")","v":"SCHAUMBURG, IL 60173 USA "}]
["ORTECH, INC",129088,"ORTECH, INC","17220 NAILSWORTH WAY",null,"DALLAS","TX",75252,"USA","DALLAS, TX 75252 USA "]
["OSBORN INTERNATIONAL",126234,"OSBORN INTERNATIONAL","5501 HAMILTON AVENUE",null,"CLEVELAND","OH",44114,"USA","CLEVELAND, OH 44114 USA "]
["OSI OPTO ELECTRONICS",19580,"OSI OPTO ELECTRONICS","12525 CHADRON AVE",null,"HAWTHORNE","CA",90250,"USA","HAWTHORNE, CA 90250 USA "]
["OSMIC INC",106986,"OSMIC INC","1788  NORTHWOOD DRIVE",null,"TROY","MI",48084,"USA","TROY, MI 48084 USA "]
["OTEK CORPORATION",70470,"OTEK CORPORATION","4016 E TENNESSEE ST",null,"TUCSON","AZ",85714,"USA","TUCSON, AZ 85714 USA "]
["OUTOKUMPU AMERICAN BRASS",19919,"OUTOKUMPU AMERICAN BRASS","70 SAYRE STREET","PO BOX 981","BUFFALO","NY",14240,"USA","BUFFALO, NY 14240 USA "]
["OVENS OF BRITTANY CATERING",73659,"OVENS OF BRITTANY CATERING","1 S PICKNEY ST",null,"MADISON","WI",53703,"USA","MADISON, WI 53703 USA "]
["OVERHEAD DOOR CO OF MADISON",9698,"OVERHEAD DOOR CO OF MADISON","917 WATSON AVE",null,"MADISON","WI",53713,"USA","MADISON, WI 53713 USA "]
["OVERHEAD MATERIAL HANDLING",65355,"OVERHEAD MATERIAL HANDLING","7747 S 6TH ST",null,"OAK CREEK","WI",53154,"USA","OAK CREEK, WI 53154 USA "]
["OWEN WELDING",120866,"OWEN WELDING","107 SHOO STREET",null,"BROOKLYN","WI",53521,"USA","BROOKLYN, WI 53521 USA "]
["OXFORD UNIVERSITY PRESS",9711,"OXFORD UNIVERSITY PRESS","2001 EVANS RD",null,"CARY","NC",275139903,"USA","CARY, NC 275139903 USA "]
["PACATLANTIC LLC",132236,"PACATLANTIC LLC","2222 FRANCISCO DR STE 510-199",null,"EL DORADO HILLS","CA",95762,"USA","EL DORADO HILLS, CA 95762 USA "]
["PACIFIC MICRO",96117,"PACIFIC MICRO","201 SAN ANTONIO CIR C250",null,"MOUNTAIN VIEW","CA",94040,"USA","MOUNTAIN VIEW, CA 94040 USA "]
["PACKAGING AIDS CORPORATION",9750,"PACKAGING AIDS CORPORATION","P O BOX 9144","25 TIBURON ST","SAN RAFAEL","CA",94912,"USA","SAN RAFAEL, CA 94912 USA "]
["PACKAGING TAPE INC",17558,"PACKAGING TAPE INC","4900 W STUART","P O BOX 569","WAUSAU","WI",54402,"USA","WAUSAU, WI 54402 USA "]
["PACTEC SECOND SOURCE",137372,"PACTEC SECOND SOURCE","8000 NE PARKWAY DR   STE 200",null,"VANCOUVER","WA",98662,"USA","VANCOUVER, WA 98662 USA "]
["PADGETT-THOMPSON",29644,"PADGETT-THOMPSON","PO BOX410",null,"SARANAC LAKE","NY","12983-0410","USA","SARANAC LAKE, NY 12983-0410 USA "]
["PAGE COMPUTERS",1867,"PAGE COMPUTERS","4665 MELROSE AVE",null,"LOS ANGELES","CA","90029-3342","USA","LOS ANGELES, CA 90029-3342 USA "]
["PALISADE CORP",74898,"PALISADE CORP","31 DECKER RD",null,"NEWFIELD","NY",14867,"USA","NEWFIELD, NY 14867 USA "]
["PALLETONE OF WI",77662,"PALLETONE OF WI","310 PORTLAND RD",null,"WATERLOO","WI",53594,"USA","WATERLOO, WI 53594 USA "]
["PALMONE INC",124063,"PALMONE INC","400 N. MCCARTHY BLVD",null,"MILPITAS","CA",95035,"USA","MILPITAS, CA 95035 USA "]
["PALTECH ENTERPRISES OF IL",121598,"PALTECH ENTERPRISES OF IL","860 E JACKSON ST",null,"BELVIDERE","IL",61008,"USA","BELVIDERE, IL 61008 USA "]
["PALTECH ENTERPRISES OF IL (ARR",126651,"PALTECH ENTERPRISES OF IL (ARR","860 E. JACKSON  ST.",null,"BELVIDERE","IL",61008,"USA","BELVIDERE, IL 61008 USA "]
["PANATEK",66507,"PANATEK","2358 HASSELL RD STE E",null,"HOFFMAN ESTATES","IL",60195,"USA","HOFFMAN ESTATES, IL 60195 USA "]
["PANERA BREAD",117348,"PANERA BREAD","2760 CAHILL MAIN",null,"MADISON","WI",53719,"USA","MADISON, WI 53719 USA "]
["PAPER DIRECT",16131,"PAPER DIRECT","1025 E WOODMEN RD",null,"COLORADO SPRINGS","CO",80920,"USA","COLORADO SPRINGS, CO 80920 USA "]
["PAR ENTERPRISES",103358,"PAR ENTERPRISES","2349 E OAKTON STREET",null,"ARLINGTON HEIGHTS","IL",60005,"USA","ARLINGTON HEIGHTS, IL 60005 USA "]
["PARA TECH COATING",105266,"PARA TECH COATING","35 ARGONAUT",null,"ALISO VIEJO","CA",92656,"USA","ALISO VIEJO, CA 92656 USA "]
["PARADIGM ATTRACTIONS",125664,"PARADIGM ATTRACTIONS","3622 ASPEN LA",null,"CANTON","MI",48188,"USA","CANTON, MI 48188 USA "]
["PARAGON CORP",8648,"PARAGON CORP","PO BOX 628035",null,"MIDDLETON","WI","53562-8035","USA","MIDDLETON, WI 53562-8035 USA "]
["PARAGON DEVELOPMENT SYSTEMS IN",91152,"PARAGON DEVELOPMENT SYSTEMS IN","1823 EXECUTIVE DRIVE",null,"OCONOMOWOC","WI",53066,"USA","OCONOMOWOC, WI 53066 USA "]
["PARAGON TECHNOLOGY",107477,"PARAGON TECHNOLOGY","1800 CHAFLIN","SUITE 170","MANHATTAN","KS",66502,"USA","MANHATTAN, KS 66502 USA "]
["PARK PRINTING/BRANDBOXX",61469,"PARK PRINTING/BRANDBOXX","550 E VERONA AVE",null,"VERONA","WI",53593,"USA","VERONA, WI 53593 USA "]
["PARKER HANNIFIN",110544,"PARKER HANNIFIN","100 AMES POND",null,"JEKSBURG","PA",1876,"USA","JEKSBURG, PA 1876 USA "]
["PARKER HANNIFIN CORP",57431,"PARKER HANNIFIN CORP","FILTRATION & SEPARATION DIV","242 NECK RD","HAVERHILL","MA",1835,"USA","HAVERHILL, MA 1835 USA "]
["PARKER STEEL (ONLINEMETALS.COM",106991,"PARKER STEEL (ONLINEMETALS.COM","1819 STARR AVE.",null,"TOLEDO","OH",43605,"USA","TOLEDO, OH 43605 USA "]
["PARKING & TRANSPORTATION","UW0010","PARKING & TRANSPORTATION","610 WALNUT",null,"MADISON","WI",53706,"USA","MADISON, WI 53706 USA "]
["PAROSCIENTIFIC INC",24570,"PAROSCIENTIFIC INC","4500 148TH AVE NE",null,"REDMOND","WA",98052,"USA","REDMOND, WA 98052 USA "]
["PARTNERS DATA SYSTEMS  INC",12258,"PARTNERS DATA SYSTEMS  INC","3663 VIA MERCADO",null,"LA MESA","CA",97128,"USA","LA MESA, CA 97128 USA "]
["PARTS EXPRESS",84706,"PARTS EXPRESS","725 PLEASANT VALLEY DR",null,"SPRINGBORO","OH",45066,"USA","SPRINGBORO, OH 45066 USA "]
["PARTS MART",133656,"PARTS MART","3900 SUNSET DR",null,"MOSINEE","WI",54455,"USA","MOSINEE, WI 54455 USA "]
["PARTS NOW",94442,"PARTS NOW","3517 W. BELTLINE HWY",null,"MADISON","WI",53713,"USA","MADISON, WI 53713 USA "]
["PARTSTORE",125188,"PARTSTORE","204 ENTERPRISE DR",null,"KINGSTON","NY",12401,"USA","KINGSTON, NY 12401 USA "]
["PASCO",9848,"PASCO","10101 FOOTHILLS BLVD",null,"ROSEVILLE","CA",95747,"USA","ROSEVILLE, CA 95747 USA "]
["PASQUALS/CIRCOLO CATERING",131629,"PASQUALS/CIRCOLO CATERING","100 CROSS COUNTRY RD",null,"VERONA","WI",53593,"USA","VERONA, WI 53593 USA "]
["PASTERNACK ENTERPRISES",9853,"PASTERNACK ENTERPRISES","PO BOX 16759",null,"IRVINE","CA",927136759,"USA","IRVINE, CA 927136759 USA "]
["PC CONNECTION",41585,"PC CONNECTION","6 MILL ST",null,"MARLOW","NH",3456,"USA","MARLOW, NH 3456 USA "]
["PC MAGAZINE",44759,"PC MAGAZINE","P.O. BOX 51524",null,"BOULDER","CO",80323,"USA","BOULDER, CO 80323 USA "]
["PC MALL",105751,"PC MALL","2555 W 190TH ST",null,"TORRANCE","CA",90504,"USA","TORRANCE, CA 90504 USA "]
["PC MALL",28508,"PC MALL","2645 MARICOPA ST",null,"TORRANCE","CA",90503,"USA","TORRANCE, CA 90503 USA "]
["PC MARKET",134845,"PC MARKET","4364 CRANWOOD PARKWAY",null,"WARRENSVILLE HEIGHT","OH",44128,"USA","WARRENSVILLE HEIGHT, OH 44128 USA "]
["PC POWER & COOLING INC",67170,"PC POWER & COOLING INC","5995 AVENIDA ENCINAS",null,"CARLSBAD","CA",920089513,"USA","CARLSBAD, CA 920089513 USA "]
["PC SERVICE SOURCE",32005,"PC SERVICE SOURCE","2350 VALLEY VIEW LANE",null,"DALLAS","TX",75234,"USA","DALLAS, TX 75234 USA "]
["PC SOLUTIONS",13822,"PC SOLUTIONS","13400 BISHOPS LANE","SUITE 270","BROOKFIELD","WI",53005,"USA","BROOKFIELD, WI 53005 USA "]
["PC ZONE",91529,"PC ZONE","18005 NE 68TH ST   STE A110",null,"REDMOND","WA",98052,"USA","REDMOND, WA 98052 USA "]
["PCI MICRO",124595,"PCI MICRO","19233 SAN JOSE AVE",null,"CITY OF INDUSTRY","CA",91748,"USA","CITY OF INDUSTRY, CA 91748 USA "]
["PCS COMPLEAT, INC.",8199,"PCS COMPLEAT, INC.","34 ST. MARTIN DRIVE",null,"MARLBOROUGH","MA",1752,"USA","MARLBOROUGH, MA 1752 USA "]
["PDQ STORE #132",130534,"PDQ STORE #132","2400 ROBY ROAD",null,"STOUGHTON","WI",53589,"USA","STOUGHTON, WI 53589 USA "]
["PDQ TOOLING",64236,"PDQ TOOLING","P O BOX 585",null,"CUDAHY","WI",53110,"USA","CUDAHY, WI 53110 USA "]
["PEARSON ELECTRONICS INC",14754,"PEARSON ELECTRONICS INC","4009 TRANSPORT ST",null,"PALO ALTO","CA",94303,"USA","PALO ALTO, CA 94303 USA "]
["PECA PRODUCTS",62387,"PECA PRODUCTS","1441 PLAINFIELD AV",null,"JANESVILLE","WI",53545,"USA","JANESVILLE, WI 53545 USA "]
["PEI GENESIS",112716,"PEI GENESIS","800 HART RD STE 260",null,"BARRINGTON","IL",60016,"USA","BARRINGTON, IL 60016 USA "]
[{"$f":"IF($C2371=\"\",\"\",$C2371)","v":"PEI GENESIS"},80891,"PEI GENESIS","3275 N ARLINGTON HEIGHTS RD","SUITE 404","ARLINGTON HEIGHTS","IL",60004,"USA","ARLINGTON HEIGHTS, IL 60004 USA "]
["PELLITTERI WASTE SYSTEMS",119527,"PELLITTERI WASTE SYSTEMS","PO BOX 259426",null,"MADISON","WI",53725,"USA",{"$f":"IF(F2372=\"\",\"\",F2372&\", \")&IF(G2372=\"\",\"\",G2372&\" \")&IF(H2372=\"\",\"\",H2372&\" \")&IF(I2372=\"\",\"\",I2372&\" \")","v":"MADISON, WI 53725 USA "}]
["PENN STAINLESS PRODUCTS INC",128308,"PENN STAINLESS PRODUCTS INC","190 KELLY RD","P.O. BOX 9001","QUAKERTOWN","PA",18951,"USA","QUAKERTOWN, PA 18951 USA "]
["PENNSYLVANIA STATE UNIVERSITY",999985,"PENNSYLVANIA STATE UNIVERSITY","RESEARCH OFFICE","513 THOMAS BLDG","UNIVERSITY PARK","PA",16802,"USA","UNIVERSITY PARK, PA 16802 USA "]
["PENSAR ELECTRONIC SOLUTIONS",92545,"PENSAR ELECTRONIC SOLUTIONS","2222 E. PENSAR DR",null,"APPLETON","WI",54915,"USA","APPLETON, WI 54915 USA "]
["PENTA LABS",17511,"PENTA LABS","9740 COZYCROFT AVE",null,"CHATSWORTH","CA",91311,"USA","CHATSWORTH, CA 91311 USA "]
["PEORIA PUMP INC",119809,"PEORIA PUMP INC","1308 N.E. ADAMS",null,"PEORIA","IL",61603,"USA","PEORIA, IL 61603 USA "]
["PER MAR SECURITY & RESEARCH CO",58711,"PER MAR SECURITY & RESEARCH CO","425 W 2ND ST","PO BOX 4227","DAVENPORT","IA",52805,"USA","DAVENPORT, IA 52805 USA "]
["PERKIN ELMER OPTOELECTRONICS",129058,"PERKIN ELMER OPTOELECTRONICS","35 CONGRESS ST     SUITE 2021",null,"SALEM","MA",1970,"USA","SALEM, MA 1970 USA "]
["PERKINS OIL COMPANY INC",36625,"PERKINS OIL COMPANY INC","905 DEMPSEY RD",null,"MADISON","WI",537143097,"USA","MADISON, WI 537143097 USA "]
["PERRY INTERNATIONAL",24554,"PERRY INTERNATIONAL","100 WEST MONROE",null,"CHICAGO","IL",60603,"USA","CHICAGO, IL 60603 USA "]
["PERRY TECHNOLOGY CORP",120819,"PERRY TECHNOLOGY CORP","PO BOX 21","29 INDUSTRIAL PARK ROAD","NEW HARTFORD","CT",6057,"USA","NEW HARTFORD, CT 6057 USA "]
["PFEIFFER VACUUM TECHNOLOGY",101785,"PFEIFFER VACUUM TECHNOLOGY","24 TRAFALGAR SQUARE",null,"NASHUA","NH","03063-1988","USA","NASHUA, NH 03063-1988 USA "]
["PHIL'S TRACTOR SUPPLY",28173,"PHIL'S TRACTOR SUPPLY","925 APPLEGATE RD",null,"MADISON","WI",53713,"USA","MADISON, WI 53713 USA "]
["PHILIPS ELECTRONICS INSTRUMENT",103594,"PHILIPS ELECTRONICS INSTRUMENT","5110 MCGINNIS FERRY RD",null,"ALPHARETTA","GA",30202,"USA","ALPHARETTA, GA 30202 USA "]
["PHILIPS MEDICAL",13147,"PHILIPS MEDICAL","5550 PRAIRIE STONE PKWY STE 15",null,"HOFFMAN ESTATES","IL",60192,"USA","HOFFMAN ESTATES, IL 60192 USA "]
["PHILIPS SCIENTIFIC",9275,"PHILIPS SCIENTIFIC","100 PROVIDENCE PIKE",null,"SLATERSVILLE","RI","02876-2078","USA","SLATERSVILLE, RI 02876-2078 USA "]
["PHILLIPS SAFETY",126055,"PHILLIPS SAFETY","700 CEDAR AVE",null,"MIDDLESEX","NJ",8846,"USA","MIDDLESEX, NJ 8846 USA "]
["PHILLIPS SCIENTIFIC",70119,"PHILLIPS SCIENTIFIC","305 ISLAND RD",null,"MAHWAH","NJ",7430,"USA","MAHWAH, NJ 7430 USA "]
["PHOTO EXPRESS",92223,"PHOTO EXPRESS","7830 MINERAL POINT RD",null,"MADISON","WI",53717,"USA","MADISON, WI 53717 USA "]
["PHOTO EXPRESS",52781,"PHOTO EXPRESS","5517 ODANA RD",null,"MADISON","WI",53711,"USA","MADISON, WI 53711 USA "]
["PHOTO MEDIA","UW0011","PHOTO MEDIA","45 NORTH CHARTER",null,"MADISON","WI",53715,"USA","MADISON, WI 53715 USA "]
["PHOTOART HOUSE",45005,"PHOTOART HOUSE","207 COTTAGE GROVE RD",null,"MADISON","WI",53716,"USA","MADISON, WI 53716 USA "]
["PHOTON SCIENCES INTERNATIONAL",17248,"PHOTON SCIENCES INTERNATIONAL","6870 S. PLUMER AVE",null,"TUCSON","AZ",85706,"USA","TUCSON, AZ 85706 USA "]
["PHOTONIS USA, INC",113800,"PHOTONIS USA, INC","STURBRIDGE BUS. PARK","PO BOX 550","STURBRIDGE","MA",1566,"USA","STURBRIDGE, MA 1566 USA "]
["PHYSICAL OPTICS CORPORATION",94838,"PHYSICAL OPTICS CORPORATION","20600 GRAMERCY PL","BLDG 100","TORRANCE","CA","90501-1821","USA","TORRANCE, CA 90501-1821 USA "]
["PHYSICAL PLANT","UW0006","PHYSICAL PLANT",null,null,"MADISON","WI",53706,"USA","MADISON, WI 53706 USA "]
["PHYSICAL SCIENCES LAB","UW0009","PHYSICAL SCIENCES LAB","3725 SCHNEIDER DRIVE",null,"STOUGHTON","WI","53589-3098","USA","STOUGHTON, WI 53589-3098 USA "]
["PHYSICS EQUIPMENT",15640,"PHYSICS EQUIPMENT","4323 STONEWALL AVE",null,"DOWNERS GROVE","IL",60515,"USA","DOWNERS GROVE, IL 60515 USA "]
["PHYSICS SHOP","UW0008","PHYSICS SHOP","1210 W. DAYTON",null,"MADISON","WI",53706,"USA","MADISON, WI 53706 USA "]
["PHYSIK INSTRUMENTE, L.P.",22624,"PHYSIK INSTRUMENTE, L.P.","16 ALBERT ST",null,"AUBURN","MA",1501,"USA","AUBURN, MA 1501 USA "]
["PI TAPE",130731,"PI TAPE","PO BOX 463087",null,"ESCONDIDO","CA",92046,"USA","ESCONDIDO, CA 92046 USA "]
["PIC DESIGN CORP",10077,"PIC DESIGN CORP","BENSON RD","PO BOX 1004","MIDDLEBURY","CT",6762,"USA","MIDDLEBURY, CT 6762 USA "]
["PICK N SAVE",112305,"PICK N SAVE",null,null,"MCFARLAND","WI",null,"USA","MCFARLAND, WI USA "]
["PICK N SAVE",81087,"PICK N SAVE","1750 HIGHWAY 51 W","PO BOX 328","STOUGHTON","WI",53589,"USA","STOUGHTON, WI 53589 USA "]
["PICOSECOND PULSE LABS",54751,"PICOSECOND PULSE LABS","2500 55TH ST",null,"BOULDER","CO",80301,"USA","BOULDER, CO 80301 USA "]
["PIEPHO MOVING & STORAGE",136598,"PIEPHO MOVING & STORAGE","1300 OAK FOREST DR",null,"ONALASKA","WI",54650,"USA","ONALASKA, WI 54650 USA "]
["PIERSON PRODUCTS, INC",6569,"PIERSON PRODUCTS, INC","419 S ARCH ST",null,"JANESVILLE","WI",53545,"USA","JANESVILLE, WI 53545 USA "]
["PIEZO SYSTEMS INC",14193,"PIEZO SYSTEMS INC","186 MASSACHUSETTS AVE",null,"CAMBRIDGE","MA",2139,"USA","CAMBRIDGE, MA 2139 USA "]
["PIEZOMAX, INC",113052,"PIEZOMAX, INC","505 SOUTH ROSA ROAD",null,"MADISON","WI",53719,"USA","MADISON, WI 53719 USA "]
["PIEZOSYSTEM JENA INC",119771,"PIEZOSYSTEM JENA INC","2B ROSENFELD DR",null,"HOPEDALE","MA",1747,"USA","HOPEDALE, MA 1747 USA "]
["PIKE TECHNOLOGIES",93467,"PIKE TECHNOLOGIES","2919 COMMERCE PARK DR",null,"MADISON","WI",53719,"USA","MADISON, WI 53719 USA "]
["PILGRIM CLEANERS",111463,"PILGRIM CLEANERS","7475 MINERAL POINT ROAD",null,"MADISON","WI",null,"USA","MADISON, WI USA "]
["PIONEER ELECTRONICS",47035,"PIONEER ELECTRONICS","DEPT 49592",null,"LOS ANGELES","CA",90088,"USA","LOS ANGELES, CA 90088 USA "]
["PIONEER METAL FINISHING",36090,"PIONEER METAL FINISHING","486 GLOBE AV",null,"GREEN BAY","WI",54304,"USA","GREEN BAY, WI 54304 USA "]
["PIONEER PRODUCTS INC",128449,"PIONEER PRODUCTS INC","1150 TAYLOR ST",null,"ELYRIA","OH",44035,"USA","ELYRIA, OH 44035 USA "]
["PITNEY BOWES",96261,"PITNEY BOWES","47 PARK PLACE",null,"APPLETON","WI",54915,"USA","APPLETON, WI 54915 USA "]
["PITNEY BOWES INC",10122,"PITNEY BOWES INC","ATTN:  KERRY LEA DESAUTEL FELL","PO BOX 44789","MADISON","WI",537444789,"USA","MADISON, WI 537444789 USA "]
["PITNEY BOWES SUPPLIES",104633,"PITNEY BOWES SUPPLIES","27 WATERVIEW DR",null,"SHELTON","CT",6484,"USA","SHELTON, CT 6484 USA "]
["PITTMAN CORPORATION",29502,"PITTMAN CORPORATION","343 GODSHALL DR","PO BOX 3","HARLEYSVILLE","PA",194380003,"USA","HARLEYSVILLE, PA 194380003 USA "]
["PIZZA HUT",125516,"PIZZA HUT","149 HWY 51",null,"STOUGHTON","WI",53589,"USA","STOUGHTON, WI 53589 USA "]
["PIZZA HUT","K00013","PIZZA HUT","1424 HWY 51",null,"STOUGHTON","WI",53589,"USA","STOUGHTON, WI 53589 USA "]
["PIZZA PIT",116520,"PIZZA PIT","1060 W MAIN STREET","SUITE 1","STOUGHTON","WI",53589,"USA","STOUGHTON, WI 53589 USA "]
["PIZZA PIT",85545,"PIZZA PIT","1614 MONROE ST",null,"MADISON","WI",53715,"USA","MADISON, WI 53715 USA "]
["PIZZA PIT (SWADFOUR LLC)",133550,"PIZZA PIT (SWADFOUR LLC)","1060 W. MAIN ST",null,"STOUGHTON","WI",53589,"USA","STOUGHTON, WI 53589 USA "]
["PLANET BATTERY",122538,"PLANET BATTERY","44 BAKER ST.",null,"PROVIDENCE","RI",2905,"USA","PROVIDENCE, RI 2905 USA "]
["PLAS-TECH COATING, INC",134101,"PLAS-TECH COATING, INC","1000 N. FIVE POINTS RD",null,"WEST CHESTER","PA",19380,"USA","WEST CHESTER, PA 19380 USA "]
["PLASCORE",8343,"PLASCORE","615 N. FAIRVIEW ST.",null,"ZEELAND","MI",49464,"USA","ZEELAND, MI 49464 USA "]
["PLASMA THERM",53698,"PLASMA THERM","136 ROUTE 73",null,"VOORHEES","NJ",8043,"USA","VOORHEES, NJ 8043 USA "]
["PLASTIC CAPACITORS INC",14032,"PLASTIC CAPACITORS INC","2623 N PULASKI ROAD",null,"CHICAGO","IL",60639,"USA","CHICAGO, IL 60639 USA "]
["PLASTINETICS",89255,"PLASTINETICS","PO BOX 207",null,"TOTOWA","NJ",7511,"USA","TOTOWA, NJ 7511 USA "]
["PLUMBING SUPPLY.COM",126671,"PLUMBING SUPPLY.COM","994 E. 20TH ST.",null,"CHICO","CA",95928,"USA","CHICO, CA 95928 USA "]
["PLYMOUTH FOAM PRODUCTS",84481,"PLYMOUTH FOAM PRODUCTS","1800 SUNSET DR",null,"PLYMOUTH","WI",53075,"USA","PLYMOUTH, WI 53075 USA "]
["POLAR WIRE PRODUCTS INC",126067,"POLAR WIRE PRODUCTS INC","7941 BRAYTON DR",null,"ANCHORAGE","AK",99507,"USA","ANCHORAGE, AK 99507 USA "]
[{"$f":"IF($C2435=\"\",\"\",$C2435)","v":"POLAR WIRE PRODUCTS, INC"},126076,"POLAR WIRE PRODUCTS, INC","7941 BRAYTON DR",null,"ANCHORAGE","ALASKA",99507,"USA","ANCHORAGE, ALASKA 99507 USA "]
["POLISHING CORPORATION OF AMERI",68961,"POLISHING CORPORATION OF AMERI","442 MARTIN AV",null,"SANTA CLARA","CA",95050,"USA",{"$f":"IF(F2436=\"\",\"\",F2436&\", \")&IF(G2436=\"\",\"\",G2436&\" \")&IF(H2436=\"\",\"\",H2436&\" \")&IF(I2436=\"\",\"\",I2436&\" \")","v":"SANTA CLARA, CA 95050 USA "}]
["POLOLU CORPORATION",127494,"POLOLU CORPORATION","6000 S. EASTERN AVE, SUITE 12D",null,"LAS VEGAS","NV",89119,"USA","LAS VEGAS, NV 89119 USA "]
["POLY SOFTWARE INTERNATIONAL",7390,"POLY SOFTWARE INTERNATIONAL","PO BOX 526368",null,"SALT LAKE CITY","UT",84152,"USA","SALT LAKE CITY, UT 84152 USA "]
["POLYCOM",12431,"POLYCOM","4750 WILLOW RD.",null,"PLEASANTON","CA",94588,"USA","PLEASANTON, CA 94588 USA "]
["POLYFET RF DEVICES",130157,"POLYFET RF DEVICES","1110 AVEHIDA ACASO",null,"CAMARILLO","CA",93012,"USA","CAMARILLO, CA 93012 USA "]
["POLYPHASER CORPORATION",23816,"POLYPHASER CORPORATION","PO BOX 9000",null,"MINDEN","NY","89423-9000","USA","MINDEN, NY 89423-9000 USA "]
["POLYSCIENCE CORP",20593,"POLYSCIENCE CORP","7800 N MERRIMAC AVE",null,"NILES","IL",60648,"USA","NILES, IL 60648 USA "]
["POLYSCIENCES, INC",10195,"POLYSCIENCES, INC","400 VALLEY RD",null,"WARRINGTON","PA",18976,"USA","WARRINGTON, PA 18976 USA "]
["POLYSI TECHNOLOGIES,  INC",129862,"POLYSI TECHNOLOGIES,  INC","5108 REX MCLEOD DR",null,"SANFORD","NC",27330,"USA","SANFORD, NC 27330 USA "]
["POLYTEC OPTRONICS INC",37835,"POLYTEC OPTRONICS INC","3001 REDHILL AV  BLDG 5","SUITE 102","COSTA MESA","CA",92626,"USA","COSTA MESA, CA 92626 USA "]
["POLYTRON DEVICES INC",10198,"POLYTRON DEVICES INC","RIVER ST STATION","PO BOX 398","PATTERSON","NJ",7544,"USA","PATTERSON, NJ 7544 USA "]
["POMPS TIRE",68727,"POMPS TIRE","2301 KILGUST RD",null,"MONONA","WI",53715,"USA","MONONA, WI 53715 USA "]
["POPE SCIENTIFIC INC",10206,"POPE SCIENTIFIC INC","N90W14337 COMMERCE AVE","PO BOX 495","MENOMONEE FALLS","WI",53051,"USA","MENOMONEE FALLS, WI 53051 USA "]
["POSITRONIC INDUSTRIES",74608,"POSITRONIC INDUSTRIES","423 N CAMPBELL","BOX 8247","SPRINGFIELD","MO",65801,"USA","SPRINGFIELD, MO 65801 USA "]
["POSTAGE BY PHONE SYSTEMS",32078,"POSTAGE BY PHONE SYSTEMS","BOX 7900071",null,"ST LOUIS","MO",631790071,"USA","ST LOUIS, MO 631790071 USA "]
["POSTMASTER","UW0017","POSTMASTER","245 E. MAIN STREET",null,"STOUGHTON","WI",53589,"USA","STOUGHTON, WI 53589 USA "]
["POTTER FORM & TIE",6728,"POTTER FORM & TIE","2309 ADVANCE ROAD",null,"MADISON","WI",53704,"USA","MADISON, WI 53704 USA "]
["POWELL ELECTRONICS",57142,"POWELL ELECTRONICS","7705 INDUSTRIAL DR SUITE C",null,"SPRING GROVE","IL",60081,"USA","SPRING GROVE, IL 60081 USA "]
["POWELL'S SURPLUS",129430,"POWELL'S SURPLUS","3109 125TH AVE NE",null,"LAKE STEVENS","WA",98258,"USA","LAKE STEVENS, WA 98258 USA "]
["POWER ELECTRONICS INT'L",113409,"POWER ELECTRONICS INT'L","561-8 PLATE DRIVE",null,"EAST DUNDEE","IL","60118-2467","USA","EAST DUNDEE, IL 60118-2467 USA "]
["POWER MANAGEMENT SOLUTIONS",119220,"POWER MANAGEMENT SOLUTIONS","1431 SECOND ST N",null,"WISCONSIN RAPIDS","WI",54495,"USA","WISCONSIN RAPIDS, WI 54495 USA "]
["POWER MATION DIV",32325,"POWER MATION DIV","W238 N1690 ROCKWOOD DR",null,"WAUKESHA","WI",531881111,"USA","WAUKESHA, WI 531881111 USA "]
["POWER ON SOFTWARE",113909,"POWER ON SOFTWARE","6525 W. CAMPUS OVAL, SUITE 130",null,"NEW ALBANY","OH",43054,"USA","NEW ALBANY, OH 43054 USA "]
["POWER PROS",23820,"POWER PROS","105 CROMWELL CT.",null,"RALEIGH","NC",27614,"USA","RALEIGH, NC 27614 USA "]
["POWER QUALITY INC",127317,"POWER QUALITY INC","642 E 39TH PL, #5",null,"YUMA","AZ",85365,"USA","YUMA, AZ 85365 USA "]
["POWER QUALITY INC","K00002","POWER QUALITY INC","642 E 39TH PL #5",null,"YUMA","AZ",85365,"USA","YUMA, AZ 85365 USA "]
["POWER TEN INC",111263,"POWER TEN INC","120 KNOWLES DR",null,"LOS GATOS","CA",95032,"USA","LOS GATOS, CA 95032 USA "]
["POWERFUL SIGNAL",136209,"POWERFUL SIGNAL","5259 W WHEELER WAY",null,"HURRICANE","UT",84737,"USA","HURRICANE, UT 84737 USA "]
["POWERSCAN",107974,"POWERSCAN","2079 S. 55TH ST.",null,"WEST ALLIS","WI",53219,"USA","WEST ALLIS, WI 53219 USA "]
["POWERTEC INDUSTRIAL CORP",12785,"POWERTEC INDUSTRIAL CORP","3958 AIRWAY DR","P O BOX 2650","ROCK HILL","SC",29732,"USA","ROCK HILL, SC 29732 USA "]
["POWERWERX INC",127014,"POWERWERX INC","401 S HARBOR BLVD","STE. F-320","LA HABRA","CA",90631,"USA","LA HABRA, CA 90631 USA "]
["PRAXAIR",5854,"PRAXAIR","1426 PARKSIDE DR",null,"MADISON","WI",53704,"USA","MADISON, WI 53704 USA "]
["PRAXAIR",38338,"PRAXAIR","200 S HAWLEY RD","PO BOX 14247","MILWAUKEE","WI",53214,"USA","MILWAUKEE, WI 53214 USA "]
["PRAXAIR DISTRIBUTION INC",128974,"PRAXAIR DISTRIBUTION INC","1210 NANCE",null,"LINCOLN","NE",68521,"USA","LINCOLN, NE 68521 USA "]
["PREAMBLE INSTRUMENTS",104338,"PREAMBLE INSTRUMENTS","6700 SW 105TH AVE STE 216",null,"BEAVERTON","OR",97008,"USA","BEAVERTON, OR 97008 USA "]
["PRECISION CONTROL PRODUCTS",10287,"PRECISION CONTROL PRODUCTS","2913 LATHAM DR","PO BOX 9540","MADISON","WI",53715,"USA","MADISON, WI 53715 USA "]
["PRECISION DRIVE & CONTROL",82980,"PRECISION DRIVE & CONTROL","PO BOX 512",null,"MONROE","WI",53566,"USA","MONROE, WI 53566 USA "]
["PRECISION EXTRUSIONS",103291,"PRECISION EXTRUSIONS","720 E GREEN STREET",null,"BENSENVILLE","IL",60106,"USA","BENSENVILLE, IL 60106 USA "]
["PRECISION LASER SERVICES INC",78976,"PRECISION LASER SERVICES INC","314 E WALLACE ST","PO BOX 10863","FORT WAYNE","IN",46803,"USA","FORT WAYNE, IN 46803 USA "]
["PRECISION MEASUREMENT PRODUCTS",79010,"PRECISION MEASUREMENT PRODUCTS","510 W MARKET LOOP STE 202",null,"WEST DUNDEE","IL",60118,"USA","WEST DUNDEE, IL 60118 USA "]
["PRECISION OPTICAL",51848,"PRECISION OPTICAL","869 W 17TH ST",null,"COSTA MESA","CA",92627,"USA","COSTA MESA, CA 92627 USA "]
["PRECISION PLUS VACUUM PARTS IN",81381,"PRECISION PLUS VACUUM PARTS IN","30 TROY RD",null,"WHIPPANY","NJ",7981,"USA","WHIPPANY, NJ 7981 USA "]
["PRECISION STEEL",29843,"PRECISION STEEL","3500 N. WOLF ROAD",null,"FRANKLIN PARK","IL",60131,"USA","FRANKLIN PARK, IL 60131 USA "]
["PRECISION TECHNOLOGIES INC",124684,"PRECISION TECHNOLOGIES INC","1500 MIDWAY CT","BLDG 103 WEST","ELK GROVE VILLAGE","IL",60007,"USA","ELK GROVE VILLAGE, IL 60007 USA "]
["PREFERRED PUMP",138307,"PREFERRED PUMP","3672 30TH ST SE",null,"ST CLOUD","MN",56304,"USA","ST CLOUD, MN 56304 USA "]
["PREMIA CORPORATION",5129,"PREMIA CORPORATION","1075 NW MURRAY BLVD,STE 268",null,"PORTLAND","OR",97229,"USA","PORTLAND, OR 97229 USA "]
["PREMIER METAL PRODUCTS",125449,"PREMIER METAL PRODUCTS","55 WALNUT ST, SUITE 201",null,"NORWOOD","NJ",7648,"USA","NORWOOD, NJ 7648 USA "]
["PREMIUM WATERS",13545,"PREMIUM WATERS","2244 S CALHOUN ROAD",null,"NEW BERLIN","WI",53151,"USA","NEW BERLIN, WI 53151 USA "]
["PRESSURE SYSTEMS",103647,"PRESSURE SYSTEMS","34 RESEARCH DRIVE",null,"HAMPTON","VA",23666,"USA","HAMPTON, VA 23666 USA "]
["PRICE ENGINEERING CO INC",10334,"PRICE ENGINEERING CO INC","22577 JOHNSON DR",null,"WAUKESHA","WI",53186,"USA","WAUKESHA, WI 53186 USA "]
["PRICE WHEELER CORP",127325,"PRICE WHEELER CORP","BRICK WALL DIVISION","3800 31ST ST","SAN DIEGO","CA",92104,"USA","SAN DIEGO, CA 92104 USA "]
["PRIME QUARTER STEAK HOUSE",83800,"PRIME QUARTER STEAK HOUSE","3520 E WASHINGTON AVE",null,"MADISON","WI",53704,"USA","MADISON, WI 53704 USA "]
["PRIMETOOLS LLC",126463,"PRIMETOOLS LLC","12814 SE 31ST AVE",null,"MILWAUKIE","OR",97222,"USA","MILWAUKIE, OR 97222 USA "]
["PRINCETON DIRECT",106492,"PRINCETON DIRECT","135 VILLAGE BLVD",null,"PRINCETON","NJ",8540,"USA","PRINCETON, NJ 8540 USA "]
["PRINCETON INSTRUMENTS",20174,"PRINCETON INSTRUMENTS","15 DISCOVERY WAY",null,"ACTON","MA",1720,"USA","ACTON, MA 1720 USA "]
["PRINTREX",127776,"PRINTREX","276 E GISH RD",null,"SAN JOSE","CA","95112-4703","USA","SAN JOSE, CA 95112-4703 USA "]
["PRIZE IMPRESSIONS",129584,"PRIZE IMPRESSIONS","174 E MAIN ST",null,"STOUGHTON","WI",53589,"USA","STOUGHTON, WI 53589 USA "]
["PRO CARD OPEN VENDOR","PC0000","PRO CARD OPEN VENDOR",null,null,null,null,null,"USA","USA "]
["PROBE TECHNOLOGY",105306,"PROBE TECHNOLOGY","2424 WALSH AVE",null,"SANTA CLARA","CA",95051,"USA","SANTA CLARA, CA 95051 USA "]
["PROBLEM SOLVING PRODUCTS, INC",132633,"PROBLEM SOLVING PRODUCTS, INC","7108 S ALTON WAY",null,"CENTENNIAL","CO",80112,"USA","CENTENNIAL, CO 80112 USA "]
["PROCD",9379,"PROCD","222 ROSEWOOD DR",null,"DANVERS","MA",1923,"USA","DANVERS, MA 1923 USA "]
["PROCESS & MECHANICAL SYSTEMS",112375,"PROCESS & MECHANICAL SYSTEMS","712 ROSE DR",null,"HARTLAND","WI",53029,"USA","HARTLAND, WI 53029 USA "]
["PROCON PRODUCTS",65103,"PROCON PRODUCTS","910 RIDGELY RD",null,"MURFREESBORO","TN",37130,"USA","MURFREESBORO, TN 37130 USA "]
[{"$f":"IF($C2499=\"\",\"\",$C2499)","v":"PRODUCTION SERVICES INC"},90980,"PRODUCTION SERVICES INC","132 ESSEX RD",null,"ELK GROVE VILLAGE","IL",60007,"USA","ELK GROVE VILLAGE, IL 60007 USA "]
["PRODUCTIVITY INC",79153,"PRODUCTIVITY INC","W226 N767 EASTMOUND DR",null,"WAUKESHA","WI",53186,"USA",{"$f":"IF(F2500=\"\",\"\",F2500&\", \")&IF(G2500=\"\",\"\",G2500&\" \")&IF(H2500=\"\",\"\",H2500&\" \")&IF(I2500=\"\",\"\",I2500&\" \")","v":"WAUKESHA, WI 53186 USA "}]
["PRODUCTIVITY QUALITY",130315,"PRODUCTIVITY QUALITY","15200 25TH AVE N STE 104",null,"PLYMOUTH","MN",55447,"USA","PLYMOUTH, MN 55447 USA "]
["PROFESSIONAL BINDING PRODUCTS",108438,"PROFESSIONAL BINDING PRODUCTS","280 N WESTLAKE BLVD","STE 110","WESTLAKE VILLAGE","CA",91362,"USA","WESTLAKE VILLAGE, CA 91362 USA "]
["PROFESSIONAL EQUIPMENT",130634,"PROFESSIONAL EQUIPMENT","P.O. BOX 5197",null,"JANESVILLE","WI",53547,"USA","JANESVILLE, WI 53547 USA "]
["PROFESSIONAL PLASTICS",130499,"PROFESSIONAL PLASTICS","6606 E 47TH AV",null,"DENVER","CO",80216,"USA","DENVER, CO 80216 USA "]
["PROFESSIONAL PLASTICS,  INC",133929,"PROFESSIONAL PLASTICS,  INC","3242 UNION RD",null,"CHEEKTOWAGA","NY",14227,"USA","CHEEKTOWAGA, NY 14227 USA "]
["PROFESSIONAL SYSTEMS GROUP",75847,"PROFESSIONAL SYSTEMS GROUP","5402 DOUGLAS AVE",null,"RACINE","WI",53402,"USA","RACINE, WI 53402 USA "]
["PROFESSIONAL TOOL MFG",128942,"PROFESSIONAL TOOL MFG","210 HERSEY ST",null,"ASHLAND","OR",97520,"USA","ASHLAND, OR 97520 USA "]
["PROGRAMMER'S PARADISE",74613,"PROGRAMMER'S PARADISE","1157 SHREWSBURY AVE",null,"SHREWSBURY","NJ","07702-4321","USA","SHREWSBURY, NJ 07702-4321 USA "]
["PROGRESSIVE IMAGE",74622,"PROGRESSIVE IMAGE","10617 W OKLAHOMA AV",null,"MILWAUKEE","WI",53227,"USA","MILWAUKEE, WI 53227 USA "]
["PROGRESSIVE STEEL TREATING INC",80729,"PROGRESSIVE STEEL TREATING INC","922T LAWN DR",null,"ROCKFORD","IL",61111,"USA","ROCKFORD, IL 61111 USA "]
["PROHANCE TECHNOLOGIES, INC.",21610,"PROHANCE TECHNOLOGIES, INC.","1172-D ASTER AVENUE",null,"SUNNNYVALE","CA",94086,"USA","SUNNNYVALE, CA 94086 USA "]
["PROSPECT FASTENER CORP",134478,"PROSPECT FASTENER CORP","1295 KYLE CRT",null,"WAUCONDA","IL",60084,"USA","WAUCONDA, IL 60084 USA "]
["PROTECTION TECHNOLOGY GROUP",136224,"PROTECTION TECHNOLOGY GROUP","10701 N AIRPORT RD",null,"HAYDEN","ID",83835,"USA","HAYDEN, ID 83835 USA "]
["PROTEL TECHNOLOGY INC",4632,"PROTEL TECHNOLOGY INC","151 BERNAL RD",null,"SAN JOSE","CA",95119,"USA","SAN JOSE, CA 95119 USA "]
["PROTEUS INDUSTRIES  INC",21686,"PROTEUS INDUSTRIES  INC","340 PIONEER WAY",null,"MOUNTAIN VIEW","CA",94041,"USA","MOUNTAIN VIEW, CA 94041 USA "]
["PROVANTAGE CORPORATION",57994,"PROVANTAGE CORPORATION","7249 WHIPPLE AVE NW",null,"NORTH CANTON","OH",447207143,"USA","NORTH CANTON, OH 447207143 USA "]
["PTB SALES",112628,"PTB SALES","875 N TODD AVE",null,"AZUSA","CA",91702,"USA","AZUSA, CA 91702 USA "]
["PUBLISHERS TOOLBOX",90659,"PUBLISHERS TOOLBOX","6606 CARLSBAD DR",null,"MADISON","WI",53705,"USA","MADISON, WI 53705 USA "]
["PUBLISHING PERFECTION",82274,"PUBLISHING PERFECTION","W88 N16444 MAIN ST","PO BOX 307","MENOMONEE FALLS","WI",53051,"USA","MENOMONEE FALLS, WI 53051 USA "]
["PULSAR PHYSICS",136358,"PULSAR PHYSICS","BURGHSTRAAT 47","5614 BC EINDHOVEN",null,null,null,"NETHERLANDS","NETHERLANDS "]
["PUMP SPECIALTIES INC",95303,"PUMP SPECIALTIES INC","9428 W 47TH ST",null,"BROOKFIELD","IL",60513,"USA","BROOKFIELD, IL 60513 USA "]
["PUMPBIZ INC",128893,"PUMPBIZ INC","1935 SHERMER AVE",null,"NORTHBROOK","IL",60062,"USA","NORTHBROOK, IL 60062 USA "]
["PUMPS & EQUIPMENT",10506,"PUMPS & EQUIPMENT","817 MAYFAIR AVE",null,"MADISON","WI",53714,"USA","MADISON, WI 53714 USA "]
["PURCHASE POWER (PITNEY BOWES)",114488,"PURCHASE POWER (PITNEY BOWES)","PO BOX 856042",null,"LOUISVILLE","KY","40285-6042","USA","LOUISVILLE, KY 40285-6042 USA "]
["PURE TECH INC",74206,"PURE TECH INC","COMMERCE DR","PO BOX 1319","CARMEL","NY",10512,"USA","CARMEL, NY 10512 USA "]
["PUREAIRE MONITORING SYSTEMS, I",138565,"PUREAIRE MONITORING SYSTEMS, I","557 CAPITAL DR",null,"LAKE ZURICH","IL",60047,"USA","LAKE ZURICH, IL 60047 USA "]
["QC SUPPLY",106383,"QC SUPPLY","574 ROAD 11 OR PO BOX 581",null,"SCHUYLER","NE",68661,"USA","SCHUYLER, NE 68661 USA "]
["QUADTECH",44701,"QUADTECH","5 CLOCK TOWER PL","STE 210 EAST","MAYNARD","MA",1754,"USA","MAYNARD, MA 1754 USA "]
["QUAL LINE FENCE CORP",29924,"QUAL LINE FENCE CORP","801 S DIVISION ST",null,"WAUNAKEE","WI",53597,"USA","WAUNAKEE, WI 53597 USA "]
["QUALCOMM INC",80776,"QUALCOMM INC","10555 SORRENTO VALLEY RD",null,"SAN DIEGO","CA",921211617,"USA","SAN DIEGO, CA 921211617 USA "]
["QUALITY ACE HARDWARE",10535,"QUALITY ACE HARDWARE","1201 S PARK ST",null,"MADISON","WI",53715,"USA","MADISON, WI 53715 USA "]
["QUALITY BEARINGS",126479,"QUALITY BEARINGS","2101 JERICHO TURNPIKE",null,"NEW HYDE PARK","NY",11040,"USA","NEW HYDE PARK, NY 11040 USA "]
["QUALITY CALIBRATION SERVICE",122401,"QUALITY CALIBRATION SERVICE","10205 GREENFIELD AVE.",null,"WEST ALLIS","WI",53214,"USA","WEST ALLIS, WI 53214 USA "]
["QUALITY INN & SUITES",121988,"QUALITY INN & SUITES","2969 CAHILL MAIN",null,"MADISON","WI",53711,"USA","MADISON, WI 53711 USA "]
["QUALITY MACHINING",18027,"QUALITY MACHINING","1001 UNIEK DRIVE",null,"WAUNAKEE","WI",53597,"USA","WAUNAKEE, WI 53597 USA "]
["QUANTAR TECHNOLOGY",94283,"QUANTAR TECHNOLOGY","3004 MISSION ST",null,"SANTA CRUZ","CA",95060,"USA","SANTA CRUZ, CA 95060 USA "]
["QUANTRAD SENSOR",109391,"QUANTRAD SENSOR","2360 OWEN ST",null,"SANTA CLARA","CA",95054,"USA","SANTA CLARA, CA 95054 USA "]
["QUANTUM MECHANIX INC",20510,"QUANTUM MECHANIX INC","105 S JONES ST","P O BOX 69","BARNEVELD","WI",53507,"USA","BARNEVELD, WI 53507 USA "]
["QUANTUM SILICONES, INC",128549,"QUANTUM SILICONES, INC","8021 REYCAN RD",null,"RICHMOND","VA",23237,"USA","RICHMOND, VA 23237 USA "]
["QUARTERDECK OFFICE SYSTEMS",58320,"QUARTERDECK OFFICE SYSTEMS","150 PICA BLVD",null,"SANTA MONICA","CA",904059852,"USA","SANTA MONICA, CA 904059852 USA "]
["QUARTZ SCIENTIFIC INC",10545,"QUARTZ SCIENTIFIC INC","819 EAST ST","PO BOX 1031","FAIRPORT HARBOR","OH",44077,"USA","FAIRPORT HARBOR, OH 44077 USA "]
["QUEST SOFTWARE",128415,"QUEST SOFTWARE","5 POLARIS WAY",null,"ALISO VIEJO","CA",92656,"USA","ALISO VIEJO, CA 92656 USA "]
["QUICKPARTS",137087,"QUICKPARTS","301 PERIMETER CENTER NORTH",null,"ATLANTA","GA",30346,"USA","ATLANTA, GA 30346 USA "]
["QUINTRONIX",11358,"QUINTRONIX","2439 F INDUSTRIAL PKWAY W",null,"HAYWARD","CA",94545,"USA","HAYWARD, CA 94545 USA "]
["R & B WAGNER",18455,"R & B WAGNER","PO BOX 423",null,"BUTLER","WI",53007,"USA","BUTLER, WI 53007 USA "]
["R E SMITH",127000,"R E SMITH","4311 R E SMITH DR",null,"HAMILTON","OH",45011,"USA","HAMILTON, OH 45011 USA "]
["R J HILL LABORATORIES LIMITED",126984,"R J HILL LABORATORIES LIMITED","1 CLYDE ST","PRIVATE BAG 3205","HAMILTON","NEW ZEALAND",null,"USA","HAMILTON, NEW ZEALAND USA "]
["R W BECKETT CORP",126310,"R W BECKETT CORP","P O BOX 1289",null,"ELYRIA","OH",44036,"USA","ELYRIA, OH 44036 USA "]
["R.E. MICHEL COMPANY",126471,"R.E. MICHEL COMPANY","109 N KENTUCKY AVE",null,"EVANSVILLE","IN",47711,"USA","EVANSVILLE, IN 47711 USA "]
["RABBIT SEMICONDUCTOR",126523,"RABBIT SEMICONDUCTOR","2900 SPAFFORD ST",null,"DAVIS","CA","95616-6800","USA","DAVIS, CA 95616-6800 USA "]
["RADIABEAM TECHNOLOGIES LLC",128263,"RADIABEAM TECHNOLOGIES LLC","1717 STEWART ST",null,"SANTA MONICA","CA",90404,"USA","SANTA MONICA, CA 90404 USA "]
["RADIATION SAFETY INFORMATION",106806,"RADIATION SAFETY INFORMATION","OAK RIDGE NATIONAL LAB","PO BOX 2008","OAK RIDGE","TN","37831-6362","USA","OAK RIDGE, TN 37831-6362 USA "]
["RADIO RESEARCH INSTRUMENT CO I",87553,"RADIO RESEARCH INSTRUMENT CO I","584 N MAIN ST",null,"WATERBURY","CT",67043506,"USA","WATERBURY, CT 67043506 USA "]
["RADIO SHACK",108152,"RADIO SHACK","2380 JACKSON",null,"STOUGHTON","WI",53589,"USA","STOUGHTON, WI 53589 USA "]
["RADIO SHACK-COMMERCIAL",119558,"RADIO SHACK-COMMERCIAL","300 W. 3RD ST STE 1400",null,"FORT WORTH","TX",76102,"USA","FORT WORTH, TX 76102 USA "]
["RAHN GRANITE SURFACE PLATE CO.",5660,"RAHN GRANITE SURFACE PLATE CO.","75 HOLIDAY DRIVE",null,"ENGLEWOOD","OH","45322-2706","USA","ENGLEWOOD, OH 45322-2706 USA "]
["RAINBOW SYMPHONY INC",24923,"RAINBOW SYMPHONY INC","6860 CANBY AVE","STE 120","RESEDA","CA",91335,"USA","RESEDA, CA 91335 USA "]
["RAMARKABLE PRODUCTS",29076,"RAMARKABLE PRODUCTS","245 PEGASUS AVE",null,"NORTHVALE","NJ","07647-9971","USA","NORTHVALE, NJ 07647-9971 USA "]
["RAMESH MOTORSPORTS",133299,"RAMESH MOTORSPORTS","P.O. BOX 27",null,"LAND O' LAKES","WI",54540,"USA","LAND O' LAKES, WI 54540 USA "]
["RAMSEY ELECTRONICS",58990,"RAMSEY ELECTRONICS","590 FISHERS STATION DR",null,"VICTOR","NY",14564,"USA","VICTOR, NY 14564 USA "]
["RAMTRONICS",32217,"RAMTRONICS","67 JEFRYN BLVD E",null,"DEER PARK","NY",11729,"USA","DEER PARK, NY 11729 USA "]
["RAND MCNALLY & COMPANY",10617,"RAND MCNALLY & COMPANY","8255 N CENTRAL PARK AVE",null,"SKOKIE","IL",600762970,"USA","SKOKIE, IL 600762970 USA "]
[{"$f":"IF($C2563=\"\",\"\",$C2563)","v":"RANDALL PRESS INC"},9033,"RANDALL PRESS INC","1859 MONROE ST",null,"MADISON","WI",53711,"USA","MADISON, WI 53711 USA "]
["RANDALL SUPPLY",39265,"RANDALL SUPPLY","N24 W22935 JOSEPH RD",null,"WAUKESHA","WI",53186,"USA",{"$f":"IF(F2564=\"\",\"\",F2564&\", \")&IF(G2564=\"\",\"\",G2564&\" \")&IF(H2564=\"\",\"\",H2564&\" \")&IF(I2564=\"\",\"\",I2564&\" \")","v":"WAUKESHA, WI 53186 USA "}]
["RANOR INC",102674,"RANOR INC","BELLA DR","PO BOX 458","WESTMINSTER","MA",1473,"USA","WESTMINSTER, MA 1473 USA "]
["RAY DREAM, INC",5228,"RAY DREAM, INC","1804 N. SHORE DR.",null,"MOUNTAIN VIEW","CA",94043,"USA","MOUNTAIN VIEW, CA 94043 USA "]
["RBD ENTERPRISES",95354,"RBD ENTERPRISES","16256 W 78TH ST","SUITE 228","EDEN PRAIRIE","MN",55346,"USA","EDEN PRAIRIE, MN 55346 USA "]
["RBD INSTRUMENTS",135602,"RBD INSTRUMENTS","2437 NE TWINN KNOLLS DR, STE 2",null,"BEND","OR",97701,"USA","BEND, OR 97701 USA "]
["RD MATHIS CO",7908,"RD MATHIS CO","2840 GUNDRY AVE","PO BOX 6187","LONG BEACH","CA",90806,"USA","LONG BEACH, CA 90806 USA "]
["RDR ELECTRONICS",135497,"RDR ELECTRONICS","7045 S. FULTON ST",null,"CENTENNIAL","CO",80112,"USA","CENTENNIAL, CO 80112 USA "]
["REASON",131116,"REASON","901 E CLIFF RD","SUITE 101","BURNSVILLE","MN",55337,"USA","BURNSVILLE, MN 55337 USA "]
["REBSTOCK MACHINE TOOL",32943,"REBSTOCK MACHINE TOOL","210 N HIGH ST",null,"MAYVILLE","WI",53050,"USA","MAYVILLE, WI 53050 USA "]
["RECREATIONAL EQUIPMENT INC",10656,"RECREATIONAL EQUIPMENT INC","(REI)","P O BOX 1700","SUMNER","WA",98390,"USA","SUMNER, WA 98390 USA "]
["RED HAT SOFTWARE",31297,"RED HAT SOFTWARE","25 SYLVAN ROAD SOUTH,STE F1",null,"WESTPORT","CT",6880,"USA","WESTPORT, CT 6880 USA "]
["RED HAT SOFTWARE INC",101518,"RED HAT SOFTWARE INC","25 SYLVAN RD., S.","SUITE F","WESTPORT","CT",6880,"USA","WESTPORT, CT 6880 USA "]
["REDUCT SYSTEMS INC",17213,"REDUCT SYSTEMS INC","4010 PASQUA ST STE 402",null,"REGINA","SASKATCHEWAN","S4P","CANADA","REGINA, SASKATCHEWAN S4P CANADA "]
["REEL-O-MATIC",104938,"REEL-O-MATIC","6408 S EASTERN AVE",null,"OKLAHOMA CITY","OK",73149,"USA","OKLAHOMA CITY, OK 73149 USA "]
["REFLEX ANALYTICAL CORP",107917,"REFLEX ANALYTICAL CORP","PO BOX 119",null,"RIDGEWOOD","NJ",7451,"USA","RIDGEWOOD, NJ 7451 USA "]
["REFRIGERATION HARDWARE SUPPLY",128469,"REFRIGERATION HARDWARE SUPPLY","632 FORESIGHT CIR",null,"GRAND JUNCTION","CO",81505,"USA","GRAND JUNCTION, CO 81505 USA "]
["REGAL TECHNOLOGY",102297,"REGAL TECHNOLOGY","PO BOX 21207",null,"COLUMBUS","OH",43221,"USA","COLUMBUS, OH 43221 USA "]
["REID TOOL SUPPLY CO",10690,"REID TOOL SUPPLY CO","2265 BLACK CREEK RD",null,"MUSKEGON","MI",49444,"USA","MUSKEGON, MI 49444 USA "]
["REINDERS TURF & IRRIGATION",7682,"REINDERS TURF & IRRIGATION","4217 NEKOOSA TRAIL",null,"MADISON","WI",53714,"USA","MADISON, WI 53714 USA "]
["RELAY SPECIALTIES INC",65344,"RELAY SPECIALTIES INC","17 RARITAN RD",null,"OAKLAND","NJ",7436,"USA","OAKLAND, NJ 7436 USA "]
["RELEX SOFTWARE CORP",121622,"RELEX SOFTWARE CORP","540 PELLIS RD",null,"GREENSBURG","PA",15601,"USA","GREENSBURG, PA 15601 USA "]
["RELIABLE",12982,"RELIABLE","PO BOX 1502",null,"OTTAWA","IL",61350,"USA","OTTAWA, IL 61350 USA "]
["REM ELECTRONICS SUPPLY CO","K00015","REM ELECTRONICS SUPPLY CO","P O BOX 831",null,"WARREN","OH","44482-0831","USA","WARREN, OH 44482-0831 USA "]
["REMARKABLE PRODUCTS INC",39076,"REMARKABLE PRODUCTS INC","245 PEGASUS AVE",null,"NORTHVALE","NJ",76470922,"USA","NORTHVALE, NJ 76470922 USA "]
["REMCOM INC",111320,"REMCOM INC","315 S ALLEN ST, SUITE 222",null,"STATE COLLEGE","PA",16801,"USA","STATE COLLEGE, PA 16801 USA "]
["RENISHAW, INC",127126,"RENISHAW, INC","5277 TRILLIUM BLVD",null,"HOFFMAN ESTATES","IL",60192,"USA","HOFFMAN ESTATES, IL 60192 USA "]
["REPLEX PLASTICS",137215,"REPLEX PLASTICS","11 MOUNT VERNON AV",null,"MOUNT VERNON","OH",43050,"USA","MOUNT VERNON, OH 43050 USA "]
["REPUBLIC LAGUN MACHINE TOOL CO",63166,"REPUBLIC LAGUN MACHINE TOOL CO","100 EAST CARSON",null,"CARSON","CA",90749,"USA","CARSON, CA 90749 USA "]
["RESEARCH METAL FOILS",94645,"RESEARCH METAL FOILS","1172 ASTER AVE SUITE C",null,"SUNNYVALE","CA",94086,"USA","SUNNYVALE, CA 94086 USA "]
["RESEARCH SYSTEMS INC",62670,"RESEARCH SYSTEMS INC","777 29TH ST SUITE 302",null,"BOULDER","CO",80303,"USA","BOULDER, CO 80303 USA "]
["RESONETICS MICROMACHING TECH",120353,"RESONETICS MICROMACHING TECH","4 BUD WAY #21",null,"NASHUA","NH",3063,"USA","NASHUA, NH 3063 USA "]
["RESOURCE DATA SYSTEMS",25561,"RESOURCE DATA SYSTEMS","3000 DUNDEE RD  SUITE 215",null,"NORTHBROOK","IL",60062,"USA","NORTHBROOK, IL 60062 USA "]
["REYNOLDS ADVANCED MATERIALS",32247,"REYNOLDS ADVANCED MATERIALS","5346 EAST AV",null,"COUNTRYSIDE","IL",60525,"USA","COUNTRYSIDE, IL 60525 USA "]
["REYNOLDS TRANSFER & STORAGE",3030,"REYNOLDS TRANSFER & STORAGE","725 E MIFFLIN ST",null,"MADISON","WI",53703,"USA","MADISON, WI 53703 USA "]
["RF PARTS INC",131776,"RF PARTS INC","435 S PACIFIC ST",null,"SAN MARCOS","CA",92078,"USA","SAN MARCOS, CA 92078 USA "]
["RFS ELECTRONICS",133779,"RFS ELECTRONICS","2880 GOLD TAILINGS COURT",null,"RANCHO CORDOVA","CA",95670,"USA","RANCHO CORDOVA, CA 95670 USA "]
["RICHARD E ELA COMPANY",4220,"RICHARD E ELA COMPANY","744 WILLIAMSON ST","PO BOX 1108","MADISON","WI",537031108,"USA","MADISON, WI 537031108 USA "]
["RICHARDSON ELECTRONICS",10770,"RICHARDSON ELECTRONICS","40W267 KESLINGER RD",null,"LA FOX","IL",60147,"USA","LA FOX, IL 60147 USA "]
["RICKS LAWN & GARDEN SERVICE",94625,"RICKS LAWN & GARDEN SERVICE","714 TAYLOR LN","BOX 524","STOUGHTON","WI",53589,"USA","STOUGHTON, WI 53589 USA "]
["RICOH BUSINESS SOLUTIONS",4591,"RICOH BUSINESS SOLUTIONS","2524 TOOD DR",null,"MADISON","WI",53713,"USA","MADISON, WI 53713 USA "]
["RICOH BUSINESS SOLUTIONS",129535,"RICOH BUSINESS SOLUTIONS","5315 WALL ST STE 175",null,"MADISON","WI",53718,"USA","MADISON, WI 53718 USA "]
["RIDGE EQUIPMENT CO",135499,"RIDGE EQUIPMENT CO","1393 PROGRESS WAY, SUITE 909",null,"ELDERSBURG","MD",21784,"USA","ELDERSBURG, MD 21784 USA "]
["RILEY VALVE SERVICES INC",10787,"RILEY VALVE SERVICES INC","2145 S 170TH ST",null,"NEW BERLIN","WI",53151,"USA","NEW BERLIN, WI 53151 USA "]
["RITCHIE ENGINEERING CO",22389,"RITCHIE ENGINEERING CO","10950 HAMPSHIRE AVE. SO.",null,"BLOOMINGTON","MN",55438,"USA","BLOOMINGTON, MN 55438 USA "]
["RITE TRACK EQUIPMENT SERVICES,",27213,"RITE TRACK EQUIPMENT SERVICES,","9854 CRESCENT PARK DR.",null,"WEST CHESTER","OH",45069,"USA","WEST CHESTER, OH 45069 USA "]
["RITEWAY LEASING & BUS CO",10797,"RITEWAY LEASING & BUS CO","4212 ROBERTSON RD",null,"MADISON","WI",53714,"USA","MADISON, WI 53714 USA "]
["RITTER ENGINEERING",10800,"RITTER ENGINEERING","3515 N 124TH ST","PO BOX 467","BROOKFIELD","WI",53005,"USA","BROOKFIELD, WI 53005 USA "]
["RITTER ENGINEERING",108041,"RITTER ENGINEERING","3948A COMMERCIAL AVE",null,"MADISON","WI",53714,"USA","MADISON, WI 53714 USA "]
["RITTER TECHNOLOGY",124778,"RITTER TECHNOLOGY","N29W23721 WOODGATE COURT W","SUITE 100","PEWAUKEE","WI",53072,"USA","PEWAUKEE, WI 53072 USA "]
["RITZ CAMERA",101071,"RITZ CAMERA","6711 RITZ WAY",null,"BELTSVILLE","MD",20705,"USA","BELTSVILLE, MD 20705 USA "]
["RIVERS METAL PRODUCTS, INC.",130722,"RIVERS METAL PRODUCTS, INC.","3100 NORTH 38TH STREET",null,"LINCOLN","NE","68504-1998","USA","LINCOLN, NE 68504-1998 USA "]
["RJ LEE GROUP",16960,"RJ LEE GROUP","515 PLEASANT VALLEY RD.",null,"TRAFFORD","PA",15085,"USA","TRAFFORD, PA 15085 USA "]
["ROBERT GREEN FARMS",130233,"ROBERT GREEN FARMS","3777 SCHNEIDER DRIVE",null,"STOUGHTON","WI",53589,"USA","STOUGHTON, WI 53589 USA "]
["ROBERTSON GEOLOGGING (USA) INC",126547,"ROBERTSON GEOLOGGING (USA) INC","11115 MILLS RD","STE 117","CYPRESS","TX",77429,"USA","CYPRESS, TX 77429 USA "]
["ROCHESTER CORPORATION",128382,"ROCHESTER CORPORATION","9450 CLAREWOOD",null,"HOUSTON","TX",77003,"USA","HOUSTON, TX 77003 USA "]
["ROCK OF AGES CORP",55281,"ROCK OF AGES CORP","INDUSTRIAL PRODUCTS DIV DEPT A","PO BOX 482","BARRE","VT",5641,"USA","BARRE, VT 5641 USA "]
["ROCK-N-RESCUE",123592,"ROCK-N-RESCUE","125 WEINEL'S LANE",null,"VALENCIA","PA","16059-0213","USA","VALENCIA, PA 16059-0213 USA "]
["ROCK-N-RESCUE",123952,"ROCK-N-RESCUE","P.O. BOX 213",null,"VALENCIA","PA",16059,"USA","VALENCIA, PA 16059 USA "]
["ROCKFORD CENTRAL PLASTICS",125551,"ROCKFORD CENTRAL PLASTICS","6715 W. STATE ST",null,"ROCKFORD","IL",61102,"USA","ROCKFORD, IL 61102 USA "]
["ROCKFORD RIGGING PRODUCTS",33323,"ROCKFORD RIGGING PRODUCTS","5401 MAINSAIL DR",null,"ROSCOE","IL",61073,"USA","ROSCOE, IL 61073 USA "]
["ROCKMOUNT NASSAU",124758,"ROCKMOUNT NASSAU","11909 NE 95TH ST","P O BOX 2909","VANCOUVER","WA",98668,"USA","VANCOUVER, WA 98668 USA "]
["ROCKWARE INC",79836,"ROCKWARE INC","2221 EAST ST","STE 101","GOLDEN","CO",80401,"USA","GOLDEN, CO 80401 USA "]
["ROCKWELL AUTOMATION",125899,"ROCKWELL AUTOMATION","1201 S 2ND ST",null,"MILWAUKEE","WI",53204,"USA","MILWAUKEE, WI 53204 USA "]
[{"$f":"IF($C2627=\"\",\"\",$C2627)","v":"ROCKY MOUNTAIN LASERS"},128611,"ROCKY MOUNTAIN LASERS","5385 QUEBEC ST",null,"COMMERCE CITY","CO",80022,"USA","COMMERCE CITY, CO 80022 USA "]
["ROCOM CORP",69589,"ROCOM CORP","5957 ENGINEER DR",null,"HUNTINGTON BEACH","CA",92649,"USA",{"$f":"IF(F2628=\"\",\"\",F2628&\", \")&IF(G2628=\"\",\"\",G2628&\" \")&IF(H2628=\"\",\"\",H2628&\" \")&IF(I2628=\"\",\"\",I2628&\" \")","v":"HUNTINGTON BEACH, CA 92649 USA "}]
["ROENT DEK HANDELS GMBH",131264,"ROENT DEK HANDELS GMBH","IM VOGELSHAAG 8","D65779 KELKHEIM RUPPERTSHAIN",null,"GERMANY",null,"GERMANY","GERMANY GERMANY "]
["ROGAN'S SHOES",130592,"ROGAN'S SHOES","1740 EGAN RD",null,"MADISON","WI",53704,"USA","MADISON, WI 53704 USA "]
["ROHDE & SCHWARZ",125426,"ROHDE & SCHWARZ","8661A ROBERT FULTON DR",null,"COLUMBIA","MD","21046-2265","USA","COLUMBIA, MD 21046-2265 USA "]
["ROITHNER LASERTECHNIK",121748,"ROITHNER LASERTECHNIK","76 WIEDNER HAUPTSTRASSE",null,"VIENNA","AUSTRIA","A-1040","USA","VIENNA, AUSTRIA A-1040 USA "]
["ROLERTRAC DIVISION",9663,"ROLERTRAC DIVISION","PO BOX 1627",null,"HUTCHINSON","KN","67504-1627","USA","HUTCHINSON, KN 67504-1627 USA "]
["ROLYN OPTICS COMPANY",10856,"ROLYN OPTICS COMPANY","706 ARROWGRAND CIRCLE",null,"COVINA","CA",917222199,"USA","COVINA, CA 917222199 USA "]
["ROMACK, INC",123261,"ROMACK, INC","5583 MOORETOWN ROAD",null,"WILLIAMSBURG","VA",23188,"USA","WILLIAMSBURG, VA 23188 USA "]
["RON WITHERSPOON",107191,"RON WITHERSPOON","380 INDUSTRIAL STREET",null,"CAMPBELL","CA",95008,"USA","CAMPBELL, CA 95008 USA "]
["RONSBERG TECHNOLOGY PARTNERS",132952,"RONSBERG TECHNOLOGY PARTNERS","7301 OHNS LN  STE 205",null,"EDINA","MN",55439,"USA","EDINA, MN 55439 USA "]
["ROPEWORKS",130864,"ROPEWORKS","8587 WHITE FIR ST     SUITE A3",null,"RENO","NV",89523,"USA","RENO, NV 89523 USA "]
["ROSCOR INC",71406,"ROSCOR INC","11350 W THEODORE TRECKER WAY",null,"WEST ALLIS","WI",53214,"USA","WEST ALLIS, WI 53214 USA "]
["ROSE BOPLA ENCLOSURES",70623,"ROSE BOPLA ENCLOSURES","A POENIX MECANO CO",null,"FREDERICK","MD",21701,"USA","FREDERICK, MD 21701 USA "]
["ROSE MILL CO",131946,"ROSE MILL CO","100 BROOK ST",null,"WEST HARTFORD","CT",6110,"USA","WEST HARTFORD, CT 6110 USA "]
["ROSEBURG TRACTOR & MACHINERY",122961,"ROSEBURG TRACTOR & MACHINERY","142 DEADY CROSSING",null,"SUTHERLIN","OR",97479,"USA","SUTHERLIN, OR 97479 USA "]
["ROSENBAUM CRUSHING & EXCAVATE",135021,"ROSENBAUM CRUSHING & EXCAVATE","972 STATE RD 138",null,"STOUGHTON","WI",53589,"USA","STOUGHTON, WI 53589 USA "]
["ROTARY SYSTEMS, INC.",128491,"ROTARY SYSTEMS, INC.","14440 AZURITE STREET NW",null,"MINNEAPOLIS","MN",55303,"USA","MINNEAPOLIS, MN 55303 USA "]
["ROXTER MANUFACTURING CORP",125665,"ROXTER MANUFACTURING CORP","1011 40TH AVENUE",null,"LONG ISLAND CITY","NY",11101,"USA","LONG ISLAND CITY, NY 11101 USA "]
["ROYALTY AMERICA CORP",19191,"ROYALTY AMERICA CORP","26701 RICHMOND ROAD",null,"BEDFORD HEIGHTS","OH","441446-1449","USA","BEDFORD HEIGHTS, OH 441446-1449 USA "]
["ROYCE AEROSPACE MATERIALS SALE",15016,"ROYCE AEROSPACE MATERIALS SALE","144 MILBAR BLVD",null,"FARMINGDALE","NY",11735,"USA","FARMINGDALE, NY 11735 USA "]
["RSA INC",122800,"RSA INC","481 E DIVISION ST","SUITE 600","FOND DU LAC","WI",54935,"USA","FOND DU LAC, WI 54935 USA "]
["RUNDLE SPENCE",10907,"RUNDLE SPENCE","2800 INDUSTRIAL DR",null,"MADISON","WI",53713,"USA","MADISON, WI 53713 USA "]
["RUSKA INSTRUMENT CORPORATION",19268,"RUSKA INSTRUMENT CORPORATION","PO BOX 630009",null,"HOUSTON","TX",77063,"USA","HOUSTON, TX 77063 USA "]
["RUSSELL CONSULTING",17864,"RUSSELL CONSULTING","1134 WINSTON DR",null,"MADISON","WI",53711,"USA","MADISON, WI 53711 USA "]
["RUTLAND CONCRETE CONSTRUCTION",137433,"RUTLAND CONCRETE CONSTRUCTION","3930 CTY TK A",null,"STOUGHTON","WI",53589,"USA","STOUGHTON, WI 53589 USA "]
["RUUD LIGHTING",65569,"RUUD LIGHTING","PO BOX 37",null,"RACINE","WI",53401,"USA","RACINE, WI 53401 USA "]
["RYAN ENTERPRISE",24553,"RYAN ENTERPRISE","1465 LINNET ROAD","PO BOX 3100","WRIGHTWOOD","CA","92397-3100","USA","WRIGHTWOOD, CA 92397-3100 USA "]
["S O S TECHNOLOGIES",125541,"S O S TECHNOLOGIES","5080 N. ELSTON AVENUE",null,"CHICAGO","IL",60630,"USA","CHICAGO, IL 60630 USA "]
["S.W. ANDERSON CO",11685,"S.W. ANDERSON CO","P.O. BOX 460",null,"DOWNERS GROVE","IL",60515,"USA","DOWNERS GROVE, IL 60515 USA "]
["SAE ORDER DEPT",2021,"SAE ORDER DEPT","400 COMMONWEALTH DR","DEPT 2549","WARRENDALE","PA",150960001,"USA","WARRENDALE, PA 150960001 USA "]
["SAES GETTERS",17187,"SAES GETTERS","1122 E CHEYENNE MOUNTAIN BLVD",null,"COLORADO SPRINGS","CO",80906,"USA","COLORADO SPRINGS, CO 80906 USA "]
["SAES PURE GAS",8990,"SAES PURE GAS","4175 SANTA FE RD",null,"SAN LUIS OBISPO","CA",93401,"USA","SAN LUIS OBISPO, CA 93401 USA "]
["SAFETY CONNECTION",124731,"SAFETY CONNECTION","6032 FIELDSTONE AVE","STE H","BATON ROUGE","LA",70809,"USA","BATON ROUGE, LA 70809 USA "]
["SAFETY KLEEN CORP",24379,"SAFETY KLEEN CORP","777 BIG TIMBER RD",null,"ELGIN","IL",60120,"USA","ELGIN, IL 60120 USA "]
["SAFETY KLEEN CORP",76872,"SAFETY KLEEN CORP","2325 DANIELS ST",null,"MADISON","WI",53704,"USA","MADISON, WI 53704 USA "]
["SAFETY SHORT PRODUCTION INC",83439,"SAFETY SHORT PRODUCTION INC","2960 23RD ST N",null,"LA PORTE","TX",77571,"USA","LA PORTE, TX 77571 USA "]
["SAINSBURY POOL & SPA",130709,"SAINSBURY POOL & SPA","1740 E MAIN STREET","SUITE B","STOUGHTON","WI",53589,"USA","STOUGHTON, WI 53589 USA "]
["SAINT-GOBAIN CERAMICS",119703,"SAINT-GOBAIN CERAMICS","6801 COCHRAN RD",null,"SOLON","OH",44139,"USA","SOLON, OH 44139 USA "]
["SAINT-GOBAIN CERAMICS",125067,"SAINT-GOBAIN CERAMICS","10 AIRPORT PARK RD",null,"EAST GRANBY","CT",6026,"USA","EAST GRANBY, CT 6026 USA "]
["SAL INC",50833,"SAL INC","SUSS DRIVE","PO BOX 130","WATERBURY CENTER","VT","05677-0130","USA","WATERBURY CENTER, VT 05677-0130 USA "]
["SAL, INC.",25050,"SAL, INC.","21 GREGORY DRIVE",null,"SOUTH BURLINGTON","VT",5403,"USA","SOUTH BURLINGTON, VT 5403 USA "]
["SAMTEC",80105,"SAMTEC","810 PROGRESS BLVD","PO BOX 1147","NEW ALBANY","IN",47150,"USA","NEW ALBANY, IN 47150 USA "]
["SAMUEL GOLDWASSER",133974,"SAMUEL GOLDWASSER","415 CYNWYD RD",null,"BALA-CYNWYD","PA",19004,"USA","BALA-CYNWYD, PA 19004 USA "]
["SANBORN TUBE SALES OF WIS",12923,"SANBORN TUBE SALES OF WIS","21475 DORAL RD","P O BOX 2202","WAUKESHA","WI",53187,"USA","WAUKESHA, WI 53187 USA "]
["SANDMEYER STEEL",113583,"SANDMEYER STEEL","ONE SANDMEYER LANE",null,"PHILADELPHIA","PA",19116,"USA","PHILADELPHIA, PA 19116 USA "]
["SANDVIK MATERIAL TECH",135691,"SANDVIK MATERIAL TECH","8618 W LITTLE YORK, STE 100",null,"HOUSTON","TX",77040,"USA","HOUSTON, TX 77040 USA "]
["SANDVIK MATERIAL TECHNOLOGY",135632,"SANDVIK MATERIAL TECHNOLOGY","PO BOX 1220",null,"SCRANTON","PA",18501,"USA","SCRANTON, PA 18501 USA "]
["SANLO MANUFACTURING CO. INC.",122222,"SANLO MANUFACTURING CO. INC.","400 STATE HWY 212","PO BOX 242","MICHIGAN CITY","IN",46361,"USA","MICHIGAN CITY, IN 46361 USA "]
["SANMINA-SCI CORP",132403,"SANMINA-SCI CORP","2000 RINGWOOD DR",null,"SAN JOSE","CA",95131,"USA","SAN JOSE, CA 95131 USA "]
["SAPPHIRE SYSTEMS",113207,"SAPPHIRE SYSTEMS","200 SOUTH EXECUTIVE DRIVE","STE 101","BROOKFIELD","WI",53005,"USA","BROOKFIELD, WI 53005 USA "]
["SAS INSTITUTE INC",13512,"SAS INSTITUTE INC","SAS CAMPUS DRIVE",null,"CARY","NC",275138000,"USA","CARY, NC 275138000 USA "]
["SAUNDERS IND. SUPPLY INC.",22020,"SAUNDERS IND. SUPPLY INC.","916 S. 10TH ST",null,"MANITOWOC","WI","54220-4508","USA","MANITOWOC, WI 54220-4508 USA "]
["SBS TECHNOLOGIES",117110,"SBS TECHNOLOGIES","1284 CORPORATE CENTER",null,"ST PAUL","MN","55121-1245","USA","ST PAUL, MN 55121-1245 USA "]
["SCANAM TRANSPORT",126688,"SCANAM TRANSPORT","768 S. CENTRAL AVE.","SUITE 200","ATLANTA","GA",30354,"USA","ATLANTA, GA 30354 USA "]
["SCANNER MASTER",130338,"SCANNER MASTER","19 WILLOW ST.",null,"NATICK","MA",1760,"USA","NATICK, MA 1760 USA "]
["SCARBROUGH INTERNATIONAL LTD",92092,"SCARBROUGH INTERNATIONAL LTD","1350 MICHAEL DR. SUITE C",null,"WOOD DALE","IL",60191,"USA","WOOD DALE, IL 60191 USA "]
["SCHAFFNER EMC INC",125774,"SCHAFFNER EMC INC","52 MAYFIELD AVE",null,"EDISON","NJ",8837,"USA","EDISON, NJ 8837 USA "]
["SCHLEUNIGER, INC",133187,"SCHLEUNIGER, INC","87 COLIN DR",null,"MANCHESTER","NH",3103,"USA","MANCHESTER, NH 3103 USA "]
["SCHMIDTS AUTO SERVICE",11111,"SCHMIDTS AUTO SERVICE","39 N PARK ST",null,"MADISON","WI",53715,"USA","MADISON, WI 53715 USA "]
["SCHNEEBERGER INC",69584,"SCHNEEBERGER INC","7 DEANGELO DR",null,"BEDFORD","MA",1730,"USA","BEDFORD, MA 1730 USA "]
["SCHOOL OF VETERINARY MEDICINE","UW0045","SCHOOL OF VETERINARY MEDICINE","2015 LINDEN DRIVE",null,"MADISON","WI",53706,"USA","MADISON, WI 53706 USA "]
["SCHOOL-PAK",107806,"SCHOOL-PAK","P. O. BOX 18415",null,"MILWAUKEE","WI",53218,"USA","MILWAUKEE, WI 53218 USA "]
["SCHOTT GLASS TECHNOLOGIES INC",11155,"SCHOTT GLASS TECHNOLOGIES INC","400 YORK AVE",null,"DURYEA","PA",18642,"USA","DURYEA, PA 18642 USA "]
[{"$f":"IF($C2691=\"\",\"\",$C2691)","v":"SCHROEDER MOVING SYSTEMS"},13271,"SCHROEDER MOVING SYSTEMS","15700 W LINCOLN AV",null,"NEW BERLIN","WI",53151,"USA","NEW BERLIN, WI 53151 USA "]
["SCHROEDER MOVING SYSTEMS INC",121080,"SCHROEDER MOVING SYSTEMS INC","2720 E WINSLOW AVE",null,"APPLETON","WI",54911,"USA",{"$f":"IF(F2692=\"\",\"\",F2692&\", \")&IF(G2692=\"\",\"\",G2692&\" \")&IF(H2692=\"\",\"\",H2692&\" \")&IF(I2692=\"\",\"\",I2692&\" \")","v":"APPLETON, WI 54911 USA "}]
["SCHROFF INC",61977,"SCHROFF INC","170 COMMERCE DR",null,"WARWICK","RI",2886,"USA","WARWICK, RI 2886 USA "]
["SCI-TECH SOFTWARE FOR SCIENCE",15982,"SCI-TECH SOFTWARE FOR SCIENCE","2525 NORTH ELSTON AVENUE",null,"CHICAGO","IL",60647,"USA","CHICAGO, IL 60647 USA "]
["SCIENCE",102577,"SCIENCE","1200 NEW YORK AVE NW","STE 911","WASHINGTON","DC",20005,"USA","WASHINGTON, DC 20005 USA "]
["SCIENCE KIT & BOREAL LAB",59772,"SCIENCE KIT & BOREAL LAB","777 E. PARK DR.","P O BOX 5003","TONAWANDA","NY",14150,"USA","TONAWANDA, NY 14150 USA "]
["SCIENTIFIC ALLOYS INC",76992,"SCIENTIFIC ALLOYS INC","379T OLD HOPKINTON RD","PO BOX 523","WESTERLY","RI",2891,"USA","WESTERLY, RI 2891 USA "]
["SCIENTIFIC AMERICAN",78969,"SCIENTIFIC AMERICAN","PO BOX 3187",null,"HARLAN","IA",51593,"USA","HARLAN, IA 51593 USA "]
["SCIENTIFIC ANSWERS & SOLUTIONS",111868,"SCIENTIFIC ANSWERS & SOLUTIONS","5719 MERLIN",null,"MADISON","WI",53711,"USA","MADISON, WI 53711 USA "]
["SCIENTIFIC INSTRUMENT SERVICES",18906,"SCIENTIFIC INSTRUMENT SERVICES","1027 OLD YORK RD",null,"RINGOES","NJ",85511039,"USA","RINGOES, NJ 85511039 USA "]
["SCIENTIFIC PRODUCTS",94611,"SCIENTIFIC PRODUCTS","1290 COMBERMERE ST",null,"TROY","MI",43083,"USA","TROY, MI 43083 USA "]
["SCIENTIFIC SOFTWARE",59821,"SCIENTIFIC SOFTWARE","3497 SCHOOL ROAD",null,"MURRYSVILLE","PA",15668,"USA","MURRYSVILLE, PA 15668 USA "]
["SCIENTIFICS",114939,"SCIENTIFICS","60 PEARCE AVE",null,"TONAWANDA","NY",14150,"USA","TONAWANDA, NY 14150 USA "]
["SCMS INC",133066,"SCMS INC","10201 RODNEY BLVD",null,";INEVILLE","NC",28134,"USA",";INEVILLE, NC 28134 USA "]
["SCOT INDUSTRIES, INC",102979,"SCOT INDUSTRIES, INC","2277 NORTH ST","P.O. BOX 46","EAST TROY","WI",53120,"USA","EAST TROY, WI 53120 USA "]
["SCOTCHMAN INDUSTRIES",84448,"SCOTCHMAN INDUSTRIES","180 E. HWY. 14,  P. O. BOX 850",null,"PHILIP","SD",57567,"USA","PHILIP, SD 57567 USA "]
["SCOTT'S PASTRY SHOPPE INC",50493,"SCOTT'S PASTRY SHOPPE INC","6637 UNIVERSITY AVE",null,"MIDDLETON","WI",53562,"USA","MIDDLETON, WI 53562 USA "]
["SCS CASES",93800,"SCS CASES","8401 73RD AVENUE","SUITE 63","BROOKLYN PARK","MN",55428,"USA","BROOKLYN PARK, MN 55428 USA "]
["SEA BOX  INC",118575,"SEA BOX  INC","802 INDUSTRIAL HIGHWAY",null,"EAST RIVERTON","NJ",8077,"USA","EAST RIVERTON, NJ 8077 USA "]
["SEA BOX, INC",118943,"SEA BOX, INC","802 INDUSTRIAL HIGHWAY",null,"EAST RIVERTON","NJ","08077-1910","USA","EAST RIVERTON, NJ 08077-1910 USA "]
["SEA CON",83108,"SEA CON","1240 VERNON WAY",null,"EL CAJON","CA",92020,"USA","EL CAJON, CA 92020 USA "]
["SEARS",11303,"SEARS","53 WEST TOWNE MALL",null,"MADISON","WI",537191019,"USA","MADISON, WI 537191019 USA "]
["SEARS",122058,"SEARS","P O BOX 14588",null,"DES MOINES","IA",50306,"USA","DES MOINES, IA 50306 USA "]
["SEARS CONTRACT SALES",26850,"SEARS CONTRACT SALES","300 E KEMPER RD",null,"CINCINNATI","OH",45246,"USA","CINCINNATI, OH 45246 USA "]
["SEARS EAST TOWNE MALL",45972,"SEARS EAST TOWNE MALL","43 EAST TOWNE MALL",null,"MADISON","WI",53704,"USA","MADISON, WI 53704 USA "]
["SEARS POWER & HAND TOOLS",101618,"SEARS POWER & HAND TOOLS","3737 GRADER STREET, STE 110",null,"GARLAND","TX",75041,"USA","GARLAND, TX 75041 USA "]
["SEASIDE SOFTWARE INC",67670,"SEASIDE SOFTWARE INC","PO BOX 1428",null,"PERRY","FL",32347,"USA","PERRY, FL 32347 USA "]
["SECO SEALS INC",121543,"SECO SEALS INC","BOX 1461",null,"COSTA MESA","CA",92626,"USA","COSTA MESA, CA 92626 USA "]
["SECRETARIAT MICRO PROCESS 95",26992,"SECRETARIAT MICRO PROCESS 95","5 16 9 HONKOMAGONE","BUNKYO KU","TOKYO 113",null,null,"JAPAN","TOKYO 113, JAPAN "]
["SEE 122324","K00004","SEE 122324","180 MARTIN LA",null,"ELK GROVE VILLAGE","IL",60007,"USA","ELK GROVE VILLAGE, IL 60007 USA "]
["SEHI PROCOMP COMPUTER PROD INC",68829,"SEHI PROCOMP COMPUTER PROD INC","72 W MAPLE RD",null,"TROY","MI",48084,"USA","TROY, MI 48084 USA "]
["SEIKO INSTRUMENTS",76212,"SEIKO INSTRUMENTS","GRAPHIC DEVICES & SYSTEMS","1130 RINGWOOD COURT","SAN JOSE","CA",951311726,"USA","SAN JOSE, CA 951311726 USA "]
["SEIKO INSTRUMENTS INC",30725,"SEIKO INSTRUMENTS INC","PO BOX 690",null,"BUFFALO","NY",14207,"USA","BUFFALO, NY 14207 USA "]
["SEIKO INSTRUMENTS USA INC",88180,"SEIKO INSTRUMENTS USA INC","1144 RINGWOOD CT",null,"SAN JOSE","CA",95131,"USA","SAN JOSE, CA 95131 USA "]
["SEIMENS",3171,"SEIMENS","10 TECHNOLOGY DRIVE",null,"LOWELL","MA",1851,"USA","LOWELL, MA 1851 USA "]
["SEKO",129359,"SEKO","1100 ARLINGTON HEIGHTS RD","SUITE 600","ITASCA","IL",60143,"USA","ITASCA, IL 60143 USA "]
["SELCO PORDUCTS CO.",15112,"SELCO PORDUCTS CO.","7580 STAGE ROAD",null,"BUENA PARK","CA","90621-1299","USA","BUENA PARK, CA 90621-1299 USA "]
["SELTZNER DOOR SERVICE",137028,"SELTZNER DOOR SERVICE","1663 GREENWAY RD.",null,"SUN PRAIRIE","WI",53590,"USA","SUN PRAIRIE, WI 53590 USA "]
["SEMCO INC",126727,"SEMCO INC","7695 US HWY 287 N",null,"LAMAR","CO",81052,"USA","LAMAR, CO 81052 USA "]
["SEMI",88711,"SEMI","805 E MIDDLEFIELD RD",null,"MOUNTAIN VIEW","CA",94043,"USA","MOUNTAIN VIEW, CA 94043 USA "]
["SEMICONDUCTOR RESEARCH CORP",101623,"SEMICONDUCTOR RESEARCH CORP","PO BOX 12053",null,"DURHAM","NC",27709,"USA","DURHAM, NC 27709 USA "]
["SEMITOOL INC.",21279,"SEMITOOL INC.","655 W.RESERVE DR.",null,"KALISPELL","MT",59901,"USA","KALISPELL, MT 59901 USA "]
["SEMIX INC.",18058,"SEMIX INC.","4160 TECHNOLOGY DRIVE",null,"FREMONT","CA",94538,"USA","FREMONT, CA 94538 USA "]
["SENCORE INC",23071,"SENCORE INC","3200 SENCORE DR",null,"SIOUX FALLS","SD",57107,"USA","SIOUX FALLS, SD 57107 USA "]
["SENIOR FLEXONICS",121938,"SENIOR FLEXONICS","815 FORESTWOOD DR",null,"ROMEOVILLE","IL",60446,"USA","ROMEOVILLE, IL 60446 USA "]
["SENSOR ELECTRONIC TECHNOLOGY",127500,"SENSOR ELECTRONIC TECHNOLOGY","1195 ATLAS RD",null,"COLUMBIA","SC",29209,"USA","COLUMBIA, SC 29209 USA "]
["SENTRY AIR SYSTEMS, INC",125763,"SENTRY AIR SYSTEMS, INC","6999 WEST LITTLE YORK, STE P1",null,"HOUSTON","TX",77040,"USA","HOUSTON, TX 77040 USA "]
["SERGENIANS FLOOR COVERINGS",18679,"SERGENIANS FLOOR COVERINGS","2805 W BELTLINE HWY",null,"MADISON","WI",53713,"USA","MADISON, WI 53713 USA "]
["SERTEC INC",133144,"SERTEC INC","3050 FOSTORIA CIRCLE",null,"DANVILLE","CA",94526,"USA","DANVILLE, CA 94526 USA "]
["SERVER SUPPLY",133055,"SERVER SUPPLY","3100 47TH AVE",null,"LONG ISLAND CITY","NY",11101,"USA","LONG ISLAND CITY, NY 11101 USA "]
["SERVER TECHNOLOGY",135335,"SERVER TECHNOLOGY","1040 SANDHILL DR",null,"RENO","NV",89521,"USA","RENO, NV 89521 USA "]
["SERVICE ELECTRONICS CORPORATIO",40090,"SERVICE ELECTRONICS CORPORATIO","208 INDUSTRIAL DR","PO BOX 66","VERONA","WI",53593,"USA","VERONA, WI 53593 USA "]
["SERVICE SUPPLY",104171,"SERVICE SUPPLY","2775 S 167TH ST",null,"NEW BERLIN","WI",53151,"USA","NEW BERLIN, WI 53151 USA "]
["SERVICE-MANUALS.NET","K00010","SERVICE-MANUALS.NET","UNKNOWN",null,"UNKNOWN","UNKNOWN",null,"USA","UNKNOWN, UNKNOWN USA "]
["SERVO SYSTEMS CO",52,"SERVO SYSTEMS CO","115 MAIN RD","PO BOX 97","MONTVILLE","NJ",70459299,"USA","MONTVILLE, NJ 70459299 USA "]
["SES RESEARCH CO",14209,"SES RESEARCH CO","6008 W 34TH ST","STE H","HOUSTON","TX",77092,"USA","HOUSTON, TX 77092 USA "]
["SESC",105872,"SESC","SGN EURISYS SERVICES CORP","PO BOX 840","RICHLAND","WA",9352,"USA","RICHLAND, WA 9352 USA "]
["SESO",126730,"SESO","305 RUE LOUIS ARMAND","POLE DACTIVITES DAIX-EN-PROVEN","FRANCE",null,null,"USA","FRANCE, USA "]
["SETON IDENTIFICATION & SAFETY",3791,"SETON IDENTIFICATION & SAFETY","20 THOMPSON RD.",null,"BRANFORD","CT",6405,"USA","BRANFORD, CT 6405 USA "]
["SETRA SYSTEMS INC",57388,"SETRA SYSTEMS INC","159 SWANSON RD",null,"BOXBOROUGH","MA",1719,"USA","BOXBOROUGH, MA 1719 USA "]
["SEWELL DIRECT",128059,"SEWELL DIRECT","1467 W 105 N, SUITE L",null,"OREM","UT","84-58","USA","OREM, UT 84-58 USA "]
["SHAPEWARE CORPORATION",11536,"SHAPEWARE CORPORATION","P.O. 22063",null,"DENVER","CO",80222,"USA","DENVER, CO 80222 USA "]
["SHARP ELECTRONICS CORP",128311,"SHARP ELECTRONICS CORP","C/O GORDON FLESCH CO","2675 RESEARCH PARK DR","MADISON","WI",53711,"USA","MADISON, WI 53711 USA "]
["SHARP ELECTRONICS CORP",70751,"SHARP ELECTRONICS CORP","C/O GORDON FLESCH CO","SHARP PLAZA, GOVERNMENT SALES","MAHWAH","NJ",7430,"USA","MAHWAH, NJ 7430 USA "]
[{"$f":"IF($C2755=\"\",\"\",$C2755)","v":"SHAVLIK TECHNOLOGIES LLC"},119124,"SHAVLIK TECHNOLOGIES LLC","2665 LONG LAKE RD","STE 400","ROSEVILLE","MN",55113,"USA","ROSEVILLE, MN 55113 USA "]
["SHECOM COMPUTERS",87318,"SHECOM COMPUTERS","22755 SAVI RANCH PKWY G",null,"YORBA LINDA","CA",92686,"USA",{"$f":"IF(F2756=\"\",\"\",F2756&\", \")&IF(G2756=\"\",\"\",G2756&\" \")&IF(H2756=\"\",\"\",H2756&\" \")&IF(I2756=\"\",\"\",I2756&\" \")","v":"YORBA LINDA, CA 92686 USA "}]
["SHEEHY SCIENTIFIC CONSULTING",129304,"SHEEHY SCIENTIFIC CONSULTING","292 SOUND RD",null,"WADING RIVER","NY",11792,"USA","WADING RIVER, NY 11792 USA "]
["SHERATON INN",23247,"SHERATON INN","706 JOHN NOLEN DR",null,"MADISON","WI",537131496,"USA","MADISON, WI 537131496 USA "]
["SHERATON NEW YORK HOTEL & TWR",119708,"SHERATON NEW YORK HOTEL & TWR","811 7TH AVENUE",null,"NEW YORK","NY",10019,"USA","NEW YORK, NY 10019 USA "]
["SHERWIN WILLIAMS",54063,"SHERWIN WILLIAMS","1946 S STOUGHTON RD",null,"MADISON","WI",53714,"USA","MADISON, WI 53714 USA "]
["SHI INTERNATIONAL CORP",123710,"SHI INTERNATIONAL CORP","33 KNIGHTSBRIDGE RD",null,"PISCATAWAY","NJ","08854 3925","USA","PISCATAWAY, NJ 08854 3925 USA "]
["SHINE A BLIND",13590,"SHINE A BLIND","5308 MONONA DR",null,"MADISON","WI",53716,"USA","MADISON, WI 53716 USA "]
["SHIP","UW0057","SHIP","1552 UNIVERSITY AVE",null,"MADISON","WI",53726,"USA","MADISON, WI 53726 USA "]
["SHIPLEY COMPANY INC",75003,"SHIPLEY COMPANY INC","91 BARTLETT ST",null,"MARLBORO","MA",1752,"USA","MARLBORO, MA 1752 USA "]
["SHIREEN INC",135718,"SHIREEN INC","7636A STANDISH PL",null,"ROCKVILLE","MD",20855,"USA","ROCKVILLE, MD 20855 USA "]
["SHOPKO",46660,"SHOPKO","2101 BROADWAY",null,"MADISON","WI",53716,"USA","MADISON, WI 53716 USA "]
["SHORT COURSE DORM","UW0079","SHORT COURSE DORM","116 AG HALL",null,"MADISON","WI",53706,"USA","MADISON, WI 53706 USA "]
["SHOW ME CABLES",128312,"SHOW ME CABLES","18079 EDISON AVE",null,"CHESTERFIELD","MO",63005,"USA","CHESTERFIELD, MO 63005 USA "]
["SHREVE SYSTEMS",89302,"SHREVE SYSTEMS","3804 KAREN LANE",null,"BOSSLER CITY","LA",71112,"USA","BOSSLER CITY, LA 71112 USA "]
["SIC MCPHERSON",7997,"SIC MCPHERSON","530 MAIN ST",null,"ACTON","MA",1720,"USA","ACTON, MA 1720 USA "]
["SID HARVEY INDUSTRIES",5729,"SID HARVEY INDUSTRIES","2819 INDEX RD",null,"MADISON","WI",53713,"USA","MADISON, WI 53713 USA "]
["SID HARVEY INDUSTRIES INC",123417,"SID HARVEY INDUSTRIES INC","650 ALLEN RD, BLDG 4","STORE 191","CARLISLE","PA",17013,"USA","CARLISLE, PA 17013 USA "]
["SIEKERT & BAUM INC",18224,"SIEKERT & BAUM INC","4320 N 124TH ST","PO BOX 13428","MILWAUKEE","WI",52222,"USA","MILWAUKEE, WI 52222 USA "]
["SIEMENS INDUSTRY",136917,"SIEMENS INDUSTRY","3460 MEIER RD STE 3",null,"MADISON","WI",53718,"USA","MADISON, WI 53718 USA "]
["SIEMENS(U.S.FILTER RECOVERY)",127020,"SIEMENS(U.S.FILTER RECOVERY)","2430 ROSE PLACE",null,"ROSEVILLE","MN",55113,"USA","ROSEVILLE, MN 55113 USA "]
["SIERRA MONITOR CORP.",87285,"SIERRA MONITOR CORP.","1991 TAROB CT.",null,"MILPITAS","CA",95035,"USA","MILPITAS, CA 95035 USA "]
["SIGMA ALDRICH",11470,"SIGMA ALDRICH",null,null,"ST LOUIS","MO",63178,"USA","ST LOUIS, MO 63178 USA "]
["SIGMA ALDRICH",74306,"SIGMA ALDRICH","3050T SPRUCE ST",null,"ST LOUIS","MO",63103,"USA","ST LOUIS, MO 63103 USA "]
["SIGNATONE CORPORATION",68616,"SIGNATONE CORPORATION","393 TOMKINS CT J",null,"GILROY","CA",95020,"USA","GILROY, CA 95020 USA "]
["SIGNATURE GRAPHICS",97505,"SIGNATURE GRAPHICS","5936 ODANA RD",null,"MADISON","WI",53719,"USA","MADISON, WI 53719 USA "]
["SIGNS BY TOMORROW",10055,"SIGNS BY TOMORROW","4707 LIEN RD",null,"MADISON","WI","53704-3616","USA","MADISON, WI 53704-3616 USA "]
["SILICON QUEST INTERNATI0NAL",93174,"SILICON QUEST INTERNATI0NAL","2904 SCOTT BLVD",null,"SANTA CLARA","CA",95054,"USA","SANTA CLARA, CA 95054 USA "]
["SILICON SENSE INC","K00003","SILICON SENSE INC","110 DANIEL WEBSTER HWY",null,"NASHUA","NH",3060,"USA","NASHUA, NH 3060 USA "]
["SILICON SPECIALISTS",103699,"SILICON SPECIALISTS","2487 INDUSTRIAL PKWY W",null,"HAYWARD","CA",94545,"USA","HAYWARD, CA 94545 USA "]
["SILICON VALLEY GROUP",92350,"SILICON VALLEY GROUP","CORPORATE TRACK SYSTEMS DIV","541 E TRIMBLE RD","SAN JOSE","CA",95131,"USA","SAN JOSE, CA 95131 USA "]
["SILICON VALLEY MICROELECTRONIC",24776,"SILICON VALLEY MICROELECTRONIC","1445 KOLL CIR STE 107",null,"SAN JOSE","CA",95112,"USA","SAN JOSE, CA 95112 USA "]
["SILK SCIENTIFIC INC",82235,"SILK SCIENTIFIC INC","PO BOX 533",null,"OREM","UT",84059,"USA","OREM, UT 84059 USA "]
["SILK SCREEN ADVERTISING CO",1103,"SILK SCREEN ADVERTISING CO","4906 ELLESTAD DR",null,"MADISON","WI",53716,"USA","MADISON, WI 53716 USA "]
["SILSON LTD",114386,"SILSON LTD","JBJ BUSINESS PARK","NORTHAMPTON RD","BISWORTH","NORTHAMPTON","NN73DW","USA","BISWORTH, NORTHAMPTON NN73DW USA "]
["SILVERADO CAFE",108422,"SILVERADO CAFE","101 SILVERADO DRIVE",null,"STOUGHTON","WI",53589,"USA","STOUGHTON, WI 53589 USA "]
["SILVERADO SOFTWARE & CONSULTIN",16068,"SILVERADO SOFTWARE & CONSULTIN","18700 BEACH BLVD, STE 200-210",null,"HUNTINGTON BEACH","CA",92648,"USA","HUNTINGTON BEACH, CA 92648 USA "]
["SILVERTHIN BEARING GROUP",135927,"SILVERTHIN BEARING GROUP","9785 CRESCENT CENTER DR","BUILDING #301","RANCHO CUCAMONGA","CA",91730,"USA","RANCHO CUCAMONGA, CA 91730 USA "]
["SIMON & SCHUSTER",23656,"SIMON & SCHUSTER","PO BOX 11074",null,"DES MOINES","IA","50336-1074","USA","DES MOINES, IA 50336-1074 USA "]
["SIMONE ENGINEERING INC",11503,"SIMONE ENGINEERING INC","12121 CORPORATE PKWY",null,"MEQUON","WI",53092,"USA","MEQUON, WI 53092 USA "]
["SIMONSON BROS OF WI, INC",48491,"SIMONSON BROS OF WI, INC","3106 COMMERCIAL AVE",null,"MADISON","WI",53714,"USA","MADISON, WI 53714 USA "]
["SIMUTECH GROUP",134953,"SIMUTECH GROUP","2700 RIVER ROAD    SUITE 301",null,"DES PLAINES","IL",60018,"USA","DES PLAINES, IL 60018 USA "]
["SIOUX CORP",128794,"SIOUX CORP","ONE SIOUX PLAZA",null,"BERESFORD","SD",57004,"USA","BERESFORD, SD 57004 USA "]
["SITE SERVICES",9583,"SITE SERVICES","690 ALDO AVE",null,"SANTA CLARA","CA","95084-2207","USA","SANTA CLARA, CA 95084-2207 USA "]
["SITECH",16974,"SITECH","218 BOSTON ST. SUITE 105",null,"TOPSFIELD","MA",1983,"USA","TOPSFIELD, MA 1983 USA "]
["SIVERS IMA AB",124923,"SIVERS IMA AB","164 OLD COUNTRY RD",null,"NEW IPSWICH","NH",3071,"USA","NEW IPSWICH, NH 3071 USA "]
["SKC COMMUNICATIONS PRODUCTS",12722,"SKC COMMUNICATIONS PRODUCTS","8320 HEDGE LANE TERRACE",null,"SHAWNEE MISSION","KS",66227,"USA","SHAWNEE MISSION, KS 66227 USA "]
["SKILLPATH INC",86938,"SKILLPATH INC","PO BOX 2768",null,"MISSION","KS",662012768,"USA","MISSION, KS 662012768 USA "]
["SKY 1 TECHNOLOGIES",34749,"SKY 1 TECHNOLOGIES","437 CHESTNUT ST",null,"PHILADELPHIA","PA",19106,"USA","PHILADELPHIA, PA 19106 USA "]
["SKY SCIENTIFIC",78279,"SKY SCIENTIFIC","PO BOX 184",null,"SKYFOREST","CA",92385,"USA","SKYFOREST, CA 92385 USA "]
["SKYLINE ADVANCE TECHNOLOGY",118701,"SKYLINE ADVANCE TECHNOLOGY","8725 W. HIGGINS RD, SUITE 110",null,"CHICAGO","IL",60631,"USA","CHICAGO, IL 60631 USA "]
["SLICKEDIT INC",126230,"SLICKEDIT INC","3000 AERIAL CENTER PKWY","STE 120","MORRISVILLE","NC",27560,"USA","MORRISVILLE, NC 27560 USA "]
["SLINDE'S INTERIOR  INC",93264,"SLINDE'S INTERIOR  INC","200 WEST MAIN ST",null,"STOUGHTON","WI",53589,"USA","STOUGHTON, WI 53589 USA "]
["SMALL PARTS INC",11555,"SMALL PARTS INC","13980 NW 58TH CT","PO BOX 4650","MIAMI LAKES","FL",330140650,"USA","MIAMI LAKES, FL 330140650 USA "]
["SMALLEY STEEL RING CO.",47057,"SMALLEY STEEL RING CO.","555 OAKWOOD LA.",null,"LAKE ZURICH","IL",60047,"USA","LAKE ZURICH, IL 60047 USA "]
["SMARACT GMBH",137052,"SMARACT GMBH","FLOETENSTRASSE 70",null,"OLDENBURG",null,26125,"GERMANY","OLDENBURG, 26125 GERMANY "]
["SMC",20169,"SMC","80 ARKAY DR.",null,"HAUPPAUGE","N.Y.",11788,"USA","HAUPPAUGE, N.Y. 11788 USA "]
["SMC PNEUMATICS",35255,"SMC PNEUMATICS","14191 MYFORD RD",null,"TUSTIN","CA",92680,"USA","TUSTIN, CA 92680 USA "]
["SMITH OPTICS",133925,"SMITH OPTICS","280 NORTHWOOD WAY",null,"KETCHUM","ID",83340,"USA","KETCHUM, ID 83340 USA "]
["SMITH TOOLING CO.",16583,"SMITH TOOLING CO.","206 MAIN STREET",null,"MANASQUAN","NJ",8736,"USA","MANASQUAN, NJ 8736 USA "]
["SMITH,JASON",572614,"SMITH,JASON","REU",null,"STOUGHTON","WI",53589,"USA","STOUGHTON, WI 53589 USA "]
["SMOKEY JON'S BBQ",114194,"SMOKEY JON'S BBQ","2310 PACKERS AVENUE",null,"MADISON","WI",53704,"USA","MADISON, WI 53704 USA "]
["SMOKY JON'S #1 BBQ",10356,"SMOKY JON'S #1 BBQ","2310 PACKERS AV",null,"MADISON","WI",53704,"USA","MADISON, WI 53704 USA "]
["SNAP ON TOOLS CORPORATION",11586,"SNAP ON TOOLS CORPORATION","16555 W LINCOLN","PO BOX 52046","NEW BERLIN","WI",53151,"USA","NEW BERLIN, WI 53151 USA "]
[{"$f":"IF($C2819=\"\",\"\",$C2819)","v":"SNAPON TOOLS"},26447,"SNAPON TOOLS","16555 W LINCOLN","PO BOX 46","NEW BERLIN","WI",53151,"USA","NEW BERLIN, WI 53151 USA "]
["SNOW IMPLEMENTS",126280,"SNOW IMPLEMENTS","E 5299 W PIONEER RD",null,"IRONWOOD","MI",49938,"USA",{"$f":"IF(F2820=\"\",\"\",F2820&\", \")&IF(G2820=\"\",\"\",G2820&\" \")&IF(H2820=\"\",\"\",H2820&\" \")&IF(I2820=\"\",\"\",I2820&\" \")","v":"IRONWOOD, MI 49938 USA "}]
["SNYDER NEWELL INC.",23888,"SNYDER NEWELL INC.","MILLER FREEMAN","PO BOX 7046","SAN FRANCISCO","CA",94120,"USA","SAN FRANCISCO, CA 94120 USA "]
["SOCIETY FOR APPLIED SPECTROSCO",34113,"SOCIETY FOR APPLIED SPECTROSCO","C/O NALCO CHEMICAL CO","ONE NALCO CENTER","NAPERVILLE","IL",null,"USA","NAPERVILLE, IL USA "]
["SOCIETY OF MANUFACTURING ENGIN",11623,"SOCIETY OF MANUFACTURING ENGIN","PO BOX 930",null,"DEARBORN","MI",481280930,"USA","DEARBORN, MI 481280930 USA "]
["SOCIETY OF RESEARCH ADMINISTRA",28291,"SOCIETY OF RESEARCH ADMINISTRA","DEPT 3393",null,"WASHINGTON","DC","20042-3393","USA","WASHINGTON, DC 20042-3393 USA "]
["SOCIETY OF WOMEN ENGINEERS",118730,"SOCIETY OF WOMEN ENGINEERS","230 E OHIO ST","STE 400","CHICAGO","IL","60611-3265","USA","CHICAGO, IL 60611-3265 USA "]
["SOFTBLOX, INC",101480,"SOFTBLOX, INC","1201 W. PEACHTREE ST.",null,"ATLANTA","GA",30309,"USA","ATLANTA, GA 30309 USA "]
["SOFTMART",91960,"SOFTMART","OAKLANDS CORPORATE CENTER","467 CREAMERY WAY","EXTON","PA",193412508,"USA","EXTON, PA 193412508 USA "]
["SOFTWARE ETC",80179,"SOFTWARE ETC","WEST TOWNE MALL  #C80","GAMMON & MINERAL POINT RDS","MADISON","WI",53719,"USA","MADISON, WI 53719 USA "]
["SOFTWARE ONE",56122,"SOFTWARE ONE","15740 W CLEVELAND AVE","PO BOX 51944","NEW BERLIN","WI",531510944,"USA","NEW BERLIN, WI 531510944 USA "]
["SOFTWARE SPECTRUM",72868,"SOFTWARE SPECTRUM","2140 MERRITT DR",null,"GARLAND","TX",75041,"USA","GARLAND, TX 75041 USA "]
["SOIL & PLANT ANALYSIS LAB","UW0047","SOIL & PLANT ANALYSIS LAB","5711 MINERAL POINT RD",null,"MADISON","WI",53705,"USA","MADISON, WI 53705 USA "]
["SOLAR ATMOSPHERES",131049,"SOLAR ATMOSPHERES","30 INDUSTRIAL RD",null,"HERMITAGE","PA",16148,"USA","HERMITAGE, PA 16148 USA "]
["SOLITEC INC",78761,"SOLITEC INC","3902 BURTON DR",null,"SANTA CLARA","CA",95054,"USA","SANTA CLARA, CA 95054 USA "]
["SONIC MILL",107153,"SONIC MILL","7500 BLUEWATER RD NW",null,"ALBUQUERQUE","NM",87121,"USA","ALBUQUERQUE, NM 87121 USA "]
["SONY",61670,"SONY","47047 VAN DAM ST",null,"LONG ISLAND CITY","NY",53706,"USA","LONG ISLAND CITY, NY 53706 USA "]
["SONY ELECTRONICS",119065,"SONY ELECTRONICS","1501 GRUNDYS LN",null,"BRISTOL","PA",19007,"USA","BRISTOL, PA 19007 USA "]
["SORENSEN CO",69500,"SORENSEN CO","% SWITCHCRAFT INC","5555 N ELSTON AV","CHICAGO","IL",60630,"USA","CHICAGO, IL 60630 USA "]
["SOUTH BAY CABLE CORP",122863,"SOUTH BAY CABLE CORP","P.O. BOX 67",null,"IDYLLWILD","CA",92549,"USA","IDYLLWILD, CA 92549 USA "]
["SOUTHERN COPPER & SUPPLY",119032,"SOUTHERN COPPER & SUPPLY","875 YEAGER PKWY","PO BOX 570","PELHAM","AL",35124,"USA","PELHAM, AL 35124 USA "]
["SOUTHLAND ELECTRICAL SUPPLY",134552,"SOUTHLAND ELECTRICAL SUPPLY","147 N MAIN STREET",null,"BURLINGTON","NC",27216,"USA","BURLINGTON, NC 27216 USA "]
["SOUTHWIRE",30654,"SOUTHWIRE","RT 61 S",null,"OSCEOLA","AR",72370,"USA","OSCEOLA, AR 72370 USA "]
["SPACE MANAGEMENT","UW0021","SPACE MANAGEMENT","RM. 807 WARF BLDG",null,"MADISON","WI",53706,"USA","MADISON, WI 53706 USA "]
["SPACE SCIENCE & ENGINEERING","UW0067","SPACE SCIENCE & ENGINEERING","1225 W DAYTON",null,"MADISON","WI",53706,"USA","MADISON, WI 53706 USA "]
["SPACE SCIENCE & ENGINEERING","UW0002","SPACE SCIENCE & ENGINEERING",null,null,"MADISON","WI",null,"USA","MADISON, WI USA "]
["SPACECRAFT COMPONENTS",128546,"SPACECRAFT COMPONENTS","3040 N CLAYTON ST",null,"NORTH LAS VEGAS","NV",89032,"USA","NORTH LAS VEGAS, NV 89032 USA "]
["SPARK FUN ELECTRONICS",124491,"SPARK FUN ELECTRONICS","P O BOX 17063",null,"BOULDER","CO","80308-0063","USA","BOULDER, CO 80308-0063 USA "]
["SPARTAN LASER",107966,"SPARTAN LASER","4501 TRIANGLE ST",null,"MC FARLAND","WI",53558,"USA","MC FARLAND, WI 53558 USA "]
["SPARTAN TECHNOLOGIES",105079,"SPARTAN TECHNOLOGIES","1500A HIGGINS RD",null,"ELK GROVE VILLAGE","IL",60007,"USA","ELK GROVE VILLAGE, IL 60007 USA "]
["SPAWR INDUSTRIES INC",98672,"SPAWR INDUSTRIES INC","2051 SPAWR CIR",null,"LAKE HAVASU CITY","AZ",86403,"USA","LAKE HAVASU CITY, AZ 86403 USA "]
["SPECIALIZED PRODUCTS CO",52820,"SPECIALIZED PRODUCTS CO","3131 PREMIER DR",null,"IRVING","TX",75063,"USA","IRVING, TX 75063 USA "]
["SPECIALTY STEEL & FORGE",63826,"SPECIALTY STEEL & FORGE","26 LAW DRIVE",null,"FAIRFIELD","NJ",70043293,"USA","FAIRFIELD, NJ 70043293 USA "]
["SPECIALTY STEEL SUPPLY",133638,"SPECIALTY STEEL SUPPLY","16623 ALDINE WESTFIELD RD",null,"HOUSTON","TX",77032,"USA","HOUSTON, TX 77032 USA "]
["SPECIALTY UNDERWRITERS LLC",65011,"SPECIALTY UNDERWRITERS LLC","9867 S 20TH ST",null,"OAK CREEK","WI",53154,"USA","OAK CREEK, WI 53154 USA "]
["SPECTRA GASES INC",37781,"SPECTRA GASES INC","277 COIT ST",null,"IRVINGTON","NJ",7111,"USA","IRVINGTON, NJ 7111 USA "]
["SPECTRA LOGIC CORPORATION",122131,"SPECTRA LOGIC CORPORATION","1700 N 55TH ST",null,"BOULDER","CO","80301-2725","USA","BOULDER, CO 80301-2725 USA "]
["SPECTRA TEST  EQUIPMENT",117645,"SPECTRA TEST  EQUIPMENT","625 NATIONAL AV",null,"MOUNTAIN VIEW","CA",94043,"USA","MOUNTAIN VIEW, CA 94043 USA "]
["SPECTRA-PHYSICS",9657,"SPECTRA-PHYSICS","250 LONG BEACH BLVD","PO BOX 872","STRATFORD","CT",64970872,"USA","STRATFORD, CT 64970872 USA "]
["SPECTRA-PHYSICS",115147,"SPECTRA-PHYSICS","705 ST PAUL ST",null,"ROCHESTER","NY",14605,"USA","ROCHESTER, NY 14605 USA "]
["SPECTRACOM",134283,"SPECTRACOM","95 METHODIST HILL DR",null,"ROCHESTER","NY",14623,"USA","ROCHESTER, NY 14623 USA "]
["SPECTRAL INSTRUMENTS",36305,"SPECTRAL INSTRUMENTS","1802 W. GRANT RD. STE 120",null,"TUSCON","AZ",85745,"USA","TUSCON, AZ 85745 USA "]
["SPECTRAL PRODUCTS",121002,"SPECTRAL PRODUCTS","111 HIGHLAND DR",null,"PUTNAM","CT",6260,"USA","PUTNAM, CT 6260 USA "]
["SPECTRAL SYSTEMS INC",78306,"SPECTRAL SYSTEMS INC","50 S BUCKHOUT ST",null,"IRVINGTON","NY",10533,"USA","IRVINGTON, NY 10533 USA "]
["SPECTRONIC INSTRUMENTS",62239,"SPECTRONIC INSTRUMENTS","820 LINDEN AVE",null,"ROCHESTER","NY",14625,"USA","ROCHESTER, NY 14625 USA "]
["SPECTRUM MAGNETICS",137357,"SPECTRUM MAGNETICS","1210 FIRST STATE BLVD","FIRST STATE INDUSTRIAL PARK","WILMINGTON","DE","19804-3561","USA","WILMINGTON, DE 19804-3561 USA "]
["SPECTRUM MICROWAVE",125145,"SPECTRUM MICROWAVE","2707 BLACK LAKE PL",null,"PHILADELPHIA","PA",19154,"USA","PHILADELPHIA, PA 19154 USA "]
["SPEEDCOM",127417,"SPEEDCOM","48434 MILMONT DR",null,"FREMONT","CA",94538,"USA","FREMONT, CA 94538 USA "]
["SPEEDY METALS",121533,"SPEEDY METALS","16655 W VICTOR RD",null,"NEW BERLIN","WI",53151,"USA","NEW BERLIN, WI 53151 USA "]
["SPELLMAN HIGH VOLTAGE CORP",125649,"SPELLMAN HIGH VOLTAGE CORP","1 COMMERCE PARK",null,"VALHALLA","NY",10595,"USA","VALHALLA, NY 10595 USA "]
["SPELLMAN HIGH VOLTAGE ELECTRIC",13173,"SPELLMAN HIGH VOLTAGE ELECTRIC","7 FAIRCHILD AVE",null,"PLAINVIEW","NY",11803,"USA","PLAINVIEW, NY 11803 USA "]
["SPIE",10960,"SPIE","PO BOX 10","1000 20TH ST","BELLINGHAM","WA",98227,"USA","BELLINGHAM, WA 98227 USA "]
["SPINDLE MATE CO",127631,"SPINDLE MATE CO","P.O. BOX 202",null,"BUFFALO CREEK","CO",80425,"USA","BUFFALO CREEK, CO 80425 USA "]
["SPINDLER & HOYER INC",79875,"SPINDLER & HOYER INC","459 FORTUNE BLVD",null,"MILFORD","MA",17571745,"USA","MILFORD, MA 17571745 USA "]
["SPORTS PRODUCTS INC",72125,"SPORTS PRODUCTS INC","4756 N. MURPHY RD",null,"OREGON","WI",53575,"USA","OREGON, WI 53575 USA "]
["SPRAYING SYSTEMS CO",87191,"SPRAYING SYSTEMS CO","% JAY C COX & ASSOCIATES","2825 N MAYFAIR RD","MILWAUKEE","WI",53222,"USA","MILWAUKEE, WI 53222 USA "]
["SPRAYING SYSTEMS CO",45365,"SPRAYING SYSTEMS CO","NORTH AVENUE AND SCHMALE ROAD","PO BOX 7900","WHEATON","IL",60187,"USA","WHEATON, IL 60187 USA "]
["SPRINGER VERLAG NEW YORK INC",11790,"SPRINGER VERLAG NEW YORK INC","44 HARTZ WAY","PO BOX 2485","SECAUCUS","NJ",70962491,"USA","SECAUCUS, NJ 70962491 USA "]
["SPSS INC",11212,"SPSS INC","444 N MICHIGAN AVE",null,"CHICAGO","IL",606113962,"USA","CHICAGO, IL 606113962 USA "]
["SPYGLASS INC",88114,"SPYGLASS INC","1800 WOODFIELD DR",null,"SAVOY","IL",61874,"USA","SAVOY, IL 61874 USA "]
["SQUIRES WATERJETTING SERVICES",120983,"SQUIRES WATERJETTING SERVICES","PO BOX 485","620 DELCO DRIVE","CLINTON","WI",53525,"USA","CLINTON, WI 53525 USA "]
["SRA",18111,"SRA","DEPARTMENT 3393",null,"WASHINGTON","DC","20042-3393","USA","WASHINGTON, DC 20042-3393 USA "]
["SRA",23239,"SRA","DEPARTMENT 3393",null,"WASHINGTON","DC","20042-3393","USA","WASHINGTON, DC 20042-3393 USA "]
["SRA WESTERN",10373,"SRA WESTERN","C/O THOMAS M. KORMOS","MICHIGAN STATE UNIVERSITY","EAST LANSING","MI","48824-1322","USA","EAST LANSING, MI 48824-1322 USA "]
[{"$f":"IF($C2883=\"\",\"\",$C2883)","v":"SRI INTERNATIONAL"},11799,"SRI INTERNATIONAL","333 RAVENSWOOD AVE","PO BOX 2767","MENLO PARK","CA",94025,"USA","MENLO PARK, CA 94025 USA "]
["SS WHITE INDUSTRIAL PRODUCTS",35881,"SS WHITE INDUSTRIAL PRODUCTS","151 OLD NEW BRUNSWICK RD",null,"PISCATAWAY","NJ",8854,"USA",{"$f":"IF(F2884=\"\",\"\",F2884&\", \")&IF(G2884=\"\",\"\",G2884&\" \")&IF(H2884=\"\",\"\",H2884&\" \")&IF(I2884=\"\",\"\",I2884&\" \")","v":"PISCATAWAY, NJ 8854 USA "}]
["SSA GLOBAL TECHNOLOGIES",118902,"SSA GLOBAL TECHNOLOGIES","500 WEST MADISON STE 1600",null,"CHICAGO","IL",60661,"USA","CHICAGO, IL 60661 USA "]
["ST CROIX MACHINE TOOL",131261,"ST CROIX MACHINE TOOL","404 LASER DR",null,"SOMERSET","WI",54025,"USA","SOMERSET, WI 54025 USA "]
["STA TRAVEL",106157,"STA TRAVEL","MEMORIAL UNION","800 LANGDON ST","MADISON","WI",53706,"USA","MADISON, WI 53706 USA "]
["STAEHLE PRECISION CORP",117200,"STAEHLE PRECISION CORP","W4129 N. POINT RD",null,"BROWNSVILLE","WI","53006-1214","USA","BROWNSVILLE, WI 53006-1214 USA "]
["STAFF ELECTRIC CO",40715,"STAFF ELECTRIC CO","6328 MONONA DR",null,"MADISON","WI",53716,"USA","MADISON, WI 53716 USA "]
["STAINLESS FLOW TECHNOLOGIES",120910,"STAINLESS FLOW TECHNOLOGIES","1020 BEIER ROAD",null,"RIPON","WI",54971,"USA","RIPON, WI 54971 USA "]
["STAINLESS TUBULAR PRODUCTS",93584,"STAINLESS TUBULAR PRODUCTS","19 AUDREY PLACE",null,"FAIRFIELD","NJ",7004,"USA","FAIRFIELD, NJ 7004 USA "]
["STAINLESS UNLIMITED INC",123572,"STAINLESS UNLIMITED INC","PO BOX 510","1330 E MAIN ST","OMRO","WI",54963,"USA","OMRO, WI 54963 USA "]
["STANDARD ELECTRIC",120637,"STANDARD ELECTRIC","2750 AGRICULTURE DR",null,"MADISON","WI",53718,"USA","MADISON, WI 53718 USA "]
["STANDARD WELDED BELLOWS",9850,"STANDARD WELDED BELLOWS","375 TURNPIKE RD",null,"WINDSOR LOCKS","CT",6096,"USA","WINDSOR LOCKS, CT 6096 USA "]
["STANFORD LINEAR ACCELERATOR",11836,"STANFORD LINEAR ACCELERATOR","PO BOX 4349",null,"STANFORD","CA",94305,"USA","STANFORD, CA 94305 USA "]
["STANFORD RESEARCH SYSTEMS INC",41566,"STANFORD RESEARCH SYSTEMS INC","1290 D REAMWOOD AV",null,"SUNNYVALE","CA",94089,"USA","SUNNYVALE, CA 94089 USA "]
["STANGENES INDUSTRIES INC",84093,"STANGENES INDUSTRIES INC","1052 E MEADOW CIRCLE",null,"PALO ALTO","CA",94303,"USA","PALO ALTO, CA 94303 USA "]
["STAPLES",121564,"STAPLES","4538 VERONA RD",null,"MADISON","WI",53716,"USA","MADISON, WI 53716 USA "]
["STAPLES",114787,"STAPLES","500 STAPLES DR",null,"FRAMINGHAM","MA",1701,"USA","FRAMINGHAM, MA 1701 USA "]
["STAPLES",116582,"STAPLES","6580 MONONA DR",null,"MADISON","WI",53716,"USA","MADISON, WI 53716 USA "]
["STAPLES, INC",96813,"STAPLES, INC","100 PENNSYLVANIA AVE",null,"FARMINGHAM","MA",1701,"USA","FARMINGHAM, MA 1701 USA "]
["STAR NINE TECHNOLOGIES",22841,"STAR NINE TECHNOLOGIES","2550 9TH ST. #112",null,"BERKELEY","CA",94710,"USA","BERKELEY, CA 94710 USA "]
["STAR PHOTO SERVICE WILLIAMSON",11851,"STAR PHOTO SERVICE WILLIAMSON","924 WILLIAMSON ST",null,"MADISON","WI",53703,"USA","MADISON, WI 53703 USA "]
["STAR-ODDI",131059,"STAR-ODDI","VATNAGARDAR 14","101 REYKJAVIK","REYKJAVIK","ICELAND",null,"USA","REYKJAVIK, ICELAND USA "]
["STARFIRE SYSTEMS, INC",75887,"STARFIRE SYSTEMS, INC","9825 S 45TH ST",null,"FRANKLIN","WI",53132,"USA","FRANKLIN, WI 53132 USA "]
["STARLITE INDUSTRIES",72628,"STARLITE INDUSTRIES","1111 LANCASTER  AVE",null,"ROSEMONT","PA",19010,"USA","ROSEMONT, PA 19010 USA "]
["STARNET COMMUNICATIONS",15501,"STARNET COMMUNICATIONS","1270 OAKMEAD PKWY #301",null,"SUNNYVALE","CA",94085,"USA","SUNNYVALE, CA 94085 USA "]
["STARRETT CO",44385,"STARRETT CO","165 CRESCENT ST",null,"ATHOL","MA",1331,"USA","ATHOL, MA 1331 USA "]
["STARRETT, TRU-STONE TECH DIV",131555,"STARRETT, TRU-STONE TECH DIV","1101 PROSPER DR","PO BOX 430","WAITE PARK","MN",56387,"USA","WAITE PARK, MN 56387 USA "]
["STAT MEDICAL SUPPLY CO",126689,"STAT MEDICAL SUPPLY CO","4894 S 300 W","STE B","MURRAY","UT",84107,"USA","MURRAY, UT 84107 USA "]
["STATE ELECTRICAL SUPPLY",126461,"STATE ELECTRICAL SUPPLY","509 W. MILWAUKEE ST",null,"JANESVILLE","WI",53548,"USA","JANESVILLE, WI 53548 USA "]
["STATE HISTORICAL SOCIETY",13973,"STATE HISTORICAL SOCIETY","816 STATE STREET",null,"MADISON","WI",53706,"USA","MADISON, WI 53706 USA "]
["STATE LABORATORY OF HYGEINE","UW0062","STATE LABORATORY OF HYGEINE","2601 AGRICULTURE",null,"MADISON","WI",53707,"USA","MADISON, WI 53707 USA "]
["STATE MACHINE TOOL CO",3866,"STATE MACHINE TOOL CO","2242D W BLUEMOUND RD",null,"WAUKESHA","WI",53186,"USA","WAUKESHA, WI 53186 USA "]
["STATE OF WI DEPT OF ADMINISTRA",61580,"STATE OF WI DEPT OF ADMINISTRA","PO DRAWER 622",null,"MILWAUKEE","WI",53293,"USA","MILWAUKEE, WI 53293 USA "]
["STATIC SPECIALISTS CO INC",124029,"STATIC SPECIALISTS CO INC","1371-4 CHURCH ST",null,"BOHEMIA","NY",11716,"USA","BOHEMIA, NY 11716 USA "]
["STAYONLINE.COM",125328,"STAYONLINE.COM","P.O. BOX 90787",null,"RALEIGH","NC",27675,"USA","RALEIGH, NC 27675 USA "]
["STBS",10085,"STBS","C/O GORDON & BREACH SCIENCE","820 TOWN CENTER DR","LONGHORNE","PA",19047,"USA","LONGHORNE, PA 19047 USA "]
["STD ELECTRIC",11813,"STD ELECTRIC","222 N EMMBER LA",null,"MILWAUKEE","WI",53223,"USA","MILWAUKEE, WI 53223 USA "]
["STEENBOCKS ON ORCHARD",136211,"STEENBOCKS ON ORCHARD","330 N ORCHARD ST",null,"MADISON","WI",53715,"USA","MADISON, WI 53715 USA "]
["STELLAR SOFTWARE",73137,"STELLAR SOFTWARE","PO BOX 10183",null,"BERKELEY","CA",94709,"USA","BERKELEY, CA 94709 USA "]
["STERLING ELECTRONICS",3176,"STERLING ELECTRONICS","2050 ALGONQUIN RD","SUITE 608","SCHAUMBURG","IL",60173,"USA","SCHAUMBURG, IL 60173 USA "]
["STERLING LABS",105650,"STERLING LABS","4600 N RONALD ST",null,"HARWOOD HEIGHTS","IL",60656,"USA","HARWOOD HEIGHTS, IL 60656 USA "]
["STEWART JOHNSON CO.",21033,"STEWART JOHNSON CO.","1002 MOBILE ST",null,"LAKE GENEVA","WI",53147,"USA","LAKE GENEVA, WI 53147 USA "]
["STOCK DRIVE PRODUCTS",4128,"STOCK DRIVE PRODUCTS","2101 JERICHO TURNPIKE",null,"NEW HYDE PARK","NY",11040,"USA","NEW HYDE PARK, NY 11040 USA "]
["STOCKHOLM UNIVERSITY",130213,"STOCKHOLM UNIVERSITY","ALBANOVA UNIVERSITY CENTRE","SE-106 91 STOCKHOLM","STOCKHOLM",null,null,"SWEDEN","STOCKHOLM, SWEDEN "]
["STODDARD'S COUNTRY GROVE MARKE",16862,"STODDARD'S COUNTRY GROVE MARKE","205 E COTTAGE GROVE ROAD",null,"COTTAGE GROVE","WI","53527-9620","USA","COTTAGE GROVE, WI 53527-9620 USA "]
["STONER INC",127338,"STONER INC","1070 ROBERT FULTON HWY",null,"QUARRYVILLE","PA",17566,"USA","QUARRYVILLE, PA 17566 USA "]
["STORAGE & HANDLING SYSTEMS",14231,"STORAGE & HANDLING SYSTEMS","6320 MONONA DR",null,"MADISON","WI",53716,"USA","MADISON, WI 53716 USA "]
["STORAGEIT SOLUTIONS",130897,"STORAGEIT SOLUTIONS","720 INDUSTRIAL DR STE 108",null,"CARY","IL",60013,"USA","CARY, IL 60013 USA "]
["STOUGHTON LUMBER CO",59426,"STOUGHTON LUMBER CO","556 E MAIN",null,"STOUGHTON","WI",53589,"USA","STOUGHTON, WI 53589 USA "]
["STOUGHTON NEWSPAPERS",84429,"STOUGHTON NEWSPAPERS","PO BOX 577",null,"STOUGHTON","WI",535890577,"USA","STOUGHTON, WI 535890577 USA "]
["STOUGHTON TRUCKING INC",136805,"STOUGHTON TRUCKING INC","1901 ACADEMY ST",null,"STOUGHTON","WI",53589,"USA","STOUGHTON, WI 53589 USA "]
["STOUGHTON UTILITIES",130373,"STOUGHTON UTILITIES","600 S FOURTH ST",null,"STOUGHTON","WI",53589,"USA","STOUGHTON, WI 53589 USA "]
["STRANCO PRODUCTS",126647,"STRANCO PRODUCTS","650 S SCHMIDT RD",null,"BOLINGBROOK","IL",60440,"USA","BOLINGBROOK, IL 60440 USA "]
["STRANCO PRODUCTS",17164,"STRANCO PRODUCTS","650 S SCHMIDT RD",null,"BOLINGBROOK","IL",60440,"USA","BOLINGBROOK, IL 60440 USA "]
["STRIPMASTER",9444,"STRIPMASTER","6001 FEMRITE DRIVE",null,"MADISON","WI",53704,"USA","MADISON, WI 53704 USA "]
["STRIPPIT INC",53150,"STRIPPIT INC","12975 CLEARANCE CENTER RD",null,"AKRON","NY",14001,"USA","AKRON, NY 14001 USA "]
["STRONGHOLD SECURITY/FORTIWALL",126261,"STRONGHOLD SECURITY/FORTIWALL","10785 TORREY PINES CIR",null,"CARMEL","IN",46032,"USA","CARMEL, IN 46032 USA "]
["STRUCK & IRWIN FENCE INC",12017,"STRUCK & IRWIN FENCE INC","826 WILLIAMSON ST",null,"MADISON","WI",53703,"USA","MADISON, WI 53703 USA "]
["STRUCTURE PROBE INC",13720,"STRUCTURE PROBE INC","PO BOX 656",null,"WEST CHESTER","PA",193810656,"USA","WEST CHESTER, PA 193810656 USA "]
["STUTZ ASSOCIATES",64030,"STUTZ ASSOCIATES","101 FISK DR",null,"MADISON","WI",53704,"USA","MADISON, WI 53704 USA "]
["SUB TOWN DELI",136689,"SUB TOWN DELI","852 JANESVILLE ST   STE A",null,"OREGON","WI",53575,"USA","OREGON, WI 53575 USA "]
["SUBTECHNIQUE",7876,"SUBTECHNIQUE","4950-C EISENHOWER AVE.",null,"ALEXANDRIA","VA",22304,"USA","ALEXANDRIA, VA 22304 USA "]
["SUBURBAN INDUSTRIES, INC.",112172,"SUBURBAN INDUSTRIES, INC.","1090 E GREEN STREET",null,"FRANKLIN PARK","IL",60131,"USA","FRANKLIN PARK, IL 60131 USA "]
["SUGAR & SPICE EATERY, INC",133786,"SUGAR & SPICE EATERY, INC","317 NORA ST",null,"STOUGHTON","WI",53589,"USA","STOUGHTON, WI 53589 USA "]
[{"$f":"IF($C2947=\"\",\"\",$C2947)","v":"SULLIVAN BROS INC"},12041,"SULLIVAN BROS INC","2515 S STOUGHTON RD","PO BOX 7578","MADISON","WI",53716,"USA","MADISON, WI 53716 USA "]
["SULLIVAN MANUFACTURING CORP",117983,"SULLIVAN MANUFACTURING CORP","6100 W EXECUTIVE DRIVE",null,"MEQUON","WI",53092,"USA",{"$f":"IF(F2948=\"\",\"\",F2948&\", \")&IF(G2948=\"\",\"\",G2948&\" \")&IF(H2948=\"\",\"\",H2948&\" \")&IF(I2948=\"\",\"\",I2948&\" \")","v":"MEQUON, WI 53092 USA "}]
["SULZER MACHINE & MANUFACTURING",121999,"SULZER MACHINE & MANUFACTURING","2475 SPRING BROOK RD",null,"MOSINEE","WI",54455,"USA","MOSINEE, WI 54455 USA "]
["SUMIKA ELECTRONIC MATERIALS",124116,"SUMIKA ELECTRONIC MATERIALS","3832 EAST WATKINS ST",null,"PHOENIX","AZ",85034,"USA","PHOENIX, AZ 85034 USA "]
["SUMITOMO CRYOGENICS",121544,"SUMITOMO CRYOGENICS","870 CAMBRIDGE DR",null,"ELK GROVE VILLAGE","IL",60007,"USA","ELK GROVE VILLAGE, IL 60007 USA "]
["SUMMIT RACING EQUIPMENT",128349,"SUMMIT RACING EQUIPMENT","PO BOX 909",null,"AKRON","OH","44398-6177","USA","AKRON, OH 44398-6177 USA "]
["SUN MICROSYSTEMS",113852,"SUN MICROSYSTEMS","1 NETWORK DR",null,"BURLINGTON","MA",1803,"USA","BURLINGTON, MA 1803 USA "]
["SUN MICROSYSTEMS",49358,"SUN MICROSYSTEMS","SUITE 300","N16 W23217 STONE RIDGE DR","WAUKESHA","WI",53188,"USA","WAUKESHA, WI 53188 USA "]
["SUNBELT SOFTWARE",105085,"SUNBELT SOFTWARE","101 GARDEN AVE STE 230",null,"CLEARWATER","FL",33755,"USA","CLEARWATER, FL 33755 USA "]
["SUNBELT SOFTWARE DISTRIBUTION",105086,"SUNBELT SOFTWARE DISTRIBUTION","101 GARDEN AVENUE","STE 120","CLEARWATER","FL",33755,"USA","CLEARWATER, FL 33755 USA "]
["SUNDANCE SUPPLY",123333,"SUNDANCE SUPPLY","P O BOX 225",null,"OLGA","WA",98279,"USA","OLGA, WA 98279 USA "]
["SUNIX CORPORATION",129960,"SUNIX CORPORATION","2061 WRIGHT AVE SUITE A8",null,"LAVERNE","CA",91750,"USA","LAVERNE, CA 91750 USA "]
["SUNSOURCE",126360,"SUNSOURCE","113 WINTER DR",null,"GRANITE FALLS","MN",56241,"USA","GRANITE FALLS, MN 56241 USA "]
["SUPER WAREHOUSE",122749,"SUPER WAREHOUSE","739 DESIGN CT., STE. 500",null,"CHULA VISTA","CA",91911,"USA","CHULA VISTA, CA 91911 USA "]
["SUPERBOLT",104019,"SUPERBOLT","PO BOX 683",null,"CARNEGIE","PA",15106,"USA","CARNEGIE, PA 15106 USA "]
["SUPERCIRCUITS",103319,"SUPERCIRCUITS","ONE SUPERCIRCUITS PLAZA",null,"LEANDER","TX",78641,"USA","LEANDER, TX 78641 USA "]
["SUPERINTENDENT OF DOCUMENTS",86258,"SUPERINTENDENT OF DOCUMENTS","PO BOX 371954",null,"PITTSBURGH","PA",15250,"USA","PITTSBURGH, PA 15250 USA "]
["SUPERIOR DETROIT",35463,"SUPERIOR DETROIT","23730 RESEARCH DR.",null,"FARMINGTON HILLS","MI",48335,"USA","FARMINGTON HILLS, MI 48335 USA "]
["SUPERMICRO COMPUTER",16854,"SUPERMICRO COMPUTER","385 VAN NESS AVE",null,"TORRANCE","CA",90501,"USA","TORRANCE, CA 90501 USA "]
["SUREPURE CHEMICALS INC",80927,"SUREPURE CHEMICALS INC","23 WOODLINE RD",null,"FLORHAM PARK","NJ",7932,"USA","FLORHAM PARK, NJ 7932 USA "]
["SURFACE FINISHES INC",62265,"SURFACE FINISHES INC","42 OFFICIAL RD",null,"ADDISON","IL",60101,"USA","ADDISON, IL 60101 USA "]
["SURFACE/INTERFACE INC.",32711,"SURFACE/INTERFACE INC.","110 PIONEER WAY SUITE D",null,"MOUNTAIN VEIW","CA",94041,"USA","MOUNTAIN VEIW, CA 94041 USA "]
["SURPLUS CENTER",128034,"SURPLUS CENTER","1015 WEST O ST",null,"LINCOLN","NE",68528,"USA","LINCOLN, NE 68528 USA "]
["SURPLUS SALES OF NEBRASKA",92833,"SURPLUS SALES OF NEBRASKA","1218 NICHOLAS ST",null,"OMAHA","NE",68102,"USA","OMAHA, NE 68102 USA "]
["SURPLUS SHED",126345,"SURPLUS SHED","8408 ALLENTOWN PIKE",null,"BLANDON","PA",19510,"USA","BLANDON, PA 19510 USA "]
["SURPLUSEQ.COM, INC.",127131,"SURPLUSEQ.COM, INC.","329 WEST MELINDA LANE",null,"PHOENIX","AZ",85027,"USA","PHOENIX, AZ 85027 USA "]
["SURVEYMONKEY.COM",126942,"SURVEYMONKEY.COM","815 NW 13TH AVENUE SUITE D",null,"PORTLAND","OR",97209,"USA","PORTLAND, OR 97209 USA "]
["SVEN REICHE",130768,"SVEN REICHE","3544 MENTONE AVE, APT 8",null,"LOS ANGELES","CA",90034,"USA","LOS ANGELES, CA 90034 USA "]
["SWALES AEROSPACE",114820,"SWALES AEROSPACE","5050 POWDER MILL RD",null,"BELTSVILLE","MD",20705,"USA","BELTSVILLE, MD 20705 USA "]
["SWANSON ANALYSIS SYSTEMS INC",21356,"SWANSON ANALYSIS SYSTEMS INC","PO BOX 65 JOHNSON RD",null,"HOUSTON","PA",153420065,"USA","HOUSTON, PA 153420065 USA "]
["SWHIFT SYSTEMS INC",128451,"SWHIFT SYSTEMS INC","422 S. JACOBSON RD",null,"SANDPOINT","ID",83864,"USA","SANDPOINT, ID 83864 USA "]
["SWISS AUTOMATION",22466,"SWISS AUTOMATION","3 HILLVEIW DR",null,"BARRINGTON","IL",60010,"USA","BARRINGTON, IL 60010 USA "]
["SYMANTEC CORPORATION",12108,"SYMANTEC CORPORATION","PO BOX 10849",null,"EUGENE","OR","97440-2849","USA","EUGENE, OR 97440-2849 USA "]
["SYMMETRICOM","SYMMETRICOM","SYMMETRICOM","3750 WESTWIND BLVD",null,"SANTA ROSA","CA",95403,"USA","SANTA ROSA, CA 95403 USA "]
["SYMMETRICOM",124232,"SYMMETRICOM","3750 WESTWIND BLVD",null,"SANTA ROSA","CA",95403,"USA","SANTA ROSA, CA 95403 USA "]
["SYNAPTECH",128875,"SYNAPTECH","115 WEST EIGHTH AV  SUITE 290",null,"EUGENE","OR",97401,"USA","EUGENE, OR 97401 USA "]
["SYNCHROTRON RADIATION CENTER","UW0031","SYNCHROTRON RADIATION CENTER","3731 SCHNEIDER DR",null,"STOUGHTON","WI",53589,"USA","STOUGHTON, WI 53589 USA "]
["SYNCHROTRON RADIATION NEWS",116818,"SYNCHROTRON RADIATION NEWS","PO BOX 1547",null,"SURPRISE","AZ",85378,"USA","SURPRISE, AZ 85378 USA "]
["SYNERCOMM",102666,"SYNERCOMM","16855 W CLEVELAND AVE",null,"NEW BERLIN","WI",53151,"USA","NEW BERLIN, WI 53151 USA "]
["SYNERGY SOFTWARE",80847,"SYNERGY SOFTWARE","2457 PERKIOMEN AVE",null,"READING","PA",19606,"USA","READING, PA 19606 USA "]
["SYSTEM PLANNING CORP",17757,"SYSTEM PLANNING CORP","1429 NORTH QUINCY",null,"ARLINGTON","VA",22207,"USA","ARLINGTON, VA 22207 USA "]
["SYSTEMS MAINTENANCE SERVICES",121700,"SYSTEMS MAINTENANCE SERVICES","1484 ELMHURST ROAD",null,"ELK GROVE","IL",50007,"USA","ELK GROVE, IL 50007 USA "]
["SYSTRAN CORPORATION",114054,"SYSTRAN CORPORATION","4126 LINDEN AVE",null,"DAYTON","OH",45432,"USA","DAYTON, OH 45432 USA "]
["SYSTRON DONNER CORPORATION",12172,"SYSTRON DONNER CORPORATION","13100 TELFAIR AVE",null,"SYLMAR","CA",91342,"USA","SYLMAR, CA 91342 USA "]
["T MAKER RESEARCH CORP",47442,"T MAKER RESEARCH CORP","1390 VILLA ST",null,"MOUNTAINVIEW","CA",940411126,"USA","MOUNTAINVIEW, CA 940411126 USA "]
["T&A INDUSTRIAL",4747,"T&A INDUSTRIAL","PO BOX 1330",null,"BROOKFIELD","WI",53008,"USA","BROOKFIELD, WI 53008 USA "]
["T&A INDUSTRIAL DISTRIBUTORS",12559,"T&A INDUSTRIAL DISTRIBUTORS","1506 W PIERCE ST","PO BOX 480","MILWAUKEE","WI",53201,"USA","MILWAUKEE, WI 53201 USA "]
["T.A.D. MACHINE TOOL CO",128422,"T.A.D. MACHINE TOOL CO","33260 GROESBECK HWY",null,"FRASER","MI",48026,"USA","FRASER, MI 48026 USA "]
["TAI  (TECHNOLOGY APPLICATIONS,",138929,"TAI  (TECHNOLOGY APPLICATIONS,","5710 FLATIRON PARKWAY   SUITE",null,"BOULDER","CO","80301-5711","USA","BOULDER, CO 80301-5711 USA "]
["TAL TECHNOLOGIES",23519,"TAL TECHNOLOGIES","2101 BRANDYWINE ST","SUITE 102","PHILADELPHIA","PA",19130,"USA","PHILADELPHIA, PA 19130 USA "]
["TANDEMLOC",126194,"TANDEMLOC","824 HIGHWAY 101",null,"HAVELOCK","NC",28532,"USA","HAVELOCK, NC 28532 USA "]
["TAPCO USA, INC.",129730,"TAPCO USA, INC.","5605 PIKE RD",null,"LOVES PARK","IL",61111,"USA","LOVES PARK, IL 61111 USA "]
["TAPE4BACKUP.COM",124235,"TAPE4BACKUP.COM","46309C WARM SPRINGS BLVD",null,"FREMONT","CA",94539,"USA","FREMONT, CA 94539 USA "]
["TAPEDISK CORP",13184,"TAPEDISK CORP","200 MAIN STREET",null,"MENOMONIE","WI",54751,"USA","MENOMONIE, WI 54751 USA "]
["TARANET IA INC.",16955,"TARANET IA INC.","1615 BOWEN ROAD",null,"NAOMI","BRITISH COLUMBIA",0,"CANADA","NAOMI, BRITISH COLUMBIA 0 CANADA "]
["TARGET",115582,"TARGET","4301 LIEN RD",null,"MADISON","WI",53704,"USA","MADISON, WI 53704 USA "]
["TARGET",103532,"TARGET","201 JUNCTION RD",null,"MADISON","WI",53717,"USA","MADISON, WI 53717 USA "]
["TARGET COMMERICAL INTERIORS",10897,"TARGET COMMERICAL INTERIORS","702 E WASHINGTON AV",null,"MADISON","WI",53703,"USA","MADISON, WI 53703 USA "]
["TARPS PLUS",134528,"TARPS PLUS","38940 TRADE CENTER DR",null,"PALMDALE","CA",93551,"USA","PALMDALE, CA 93551 USA "]
["TAYLOR & FRANCIS",56422,"TAYLOR & FRANCIS","SYNCHRTRON RADIATION NEWS","25 CHESTNUT STREET STE 800","PHILEDELPHIA","PA",19106,"USA","PHILEDELPHIA, PA 19106 USA "]
["TAYLOR HOBSON INC",92671,"TAYLOR HOBSON INC","2100 GOLF RD. SUITE 350",null,"ROLLING MEADOWS","IL",60008,"USA","ROLLING MEADOWS, IL 60008 USA "]
["TAYLOR INDUSTRIAL ELECTRONICS",131417,"TAYLOR INDUSTRIAL ELECTRONICS","8355 N STEVEN RD",null,"MILWAUKEE","WI",53223,"USA","MILWAUKEE, WI 53223 USA "]
["TCI ALUMINUM",82444,"TCI ALUMINUM","240 E ROSECRANS AVE",null,"GARDENA","CA",90248,"USA","GARDENA, CA 90248 USA "]
["TCI AMERICA",82346,"TCI AMERICA","9211 N HARBORGATE ST",null,"PORTLAND","OR",97203,"USA","PORTLAND, OR 97203 USA "]
[{"$f":"IF($C3011=\"\",\"\",$C3011)","v":"TCO POWER CENTER"},63633,"TCO POWER CENTER","717 ATLAS AV",null,"MADISON","WI",53704,"USA","MADISON, WI 53704 USA "]
["TECH MART",11474,"TECH MART","1424 ODENTON ROAD",null,"ODENTON","MD",21113,"USA",{"$f":"IF(F3012=\"\",\"\",F3012&\", \")&IF(G3012=\"\",\"\",G3012&\" \")&IF(H3012=\"\",\"\",H3012&\" \")&IF(I3012=\"\",\"\",I3012&\" \")","v":"ODENTON, MD 21113 USA "}]
["TECH POOL STUDIOS INC",86161,"TECH POOL STUDIOS INC","1463 WARRENSVILLE CENTER RD",null,"CLEVELAND","OH",441219964,"USA","CLEVELAND, OH 441219964 USA "]
["TECH WELD INC",3634,"TECH WELD INC","1620 GILPEN AVE","PO BOX 508","SOUTH ELGIN","IL",60177,"USA","SOUTH ELGIN, IL 60177 USA "]
["TECH-ETCH, INC",49754,"TECH-ETCH, INC","45 ALDRIN RD",null,"PLYMOUTH","MA",2360,"USA","PLYMOUTH, MA 2360 USA "]
["TECHMAR CORPORATION",24189,"TECHMAR CORPORATION","5420 MCCONNEL",null,"LOS ANGELES","CA",90066,"USA","LOS ANGELES, CA 90066 USA "]
["TECHMASTER INC",3716,"TECHMASTER INC","PO BOX 1026",null,"MENOMONEE FALLS","WI",530521026,"USA","MENOMONEE FALLS, WI 530521026 USA "]
["TECHNI TOOL INC",8406,"TECHNI TOOL INC","5 APOLLO RD","PO BOX 368","PLYMOUTH MEETING","PA",19462,"USA","PLYMOUTH MEETING, PA 19462 USA "]
["TECHNIC INC",69436,"TECHNIC INC","3265 N RIDGE AV",null,"ARLINGTON HEIGHTS","IL",60004,"USA","ARLINGTON HEIGHTS, IL 60004 USA "]
["TECHNICAL MANUFACTURING CORP",22284,"TECHNICAL MANUFACTURING CORP","15 CENTENIAL DR",null,"PEABODY","MA",1960,"USA","PEABODY, MA 1960 USA "]
["TECHNICAL PRODUCTS INC",13603,"TECHNICAL PRODUCTS INC","4003 ELMWOOD RD",null,"HUBERTUS","WI",53033,"USA","HUBERTUS, WI 53033 USA "]
["TECHNIMARK INC",121811,"TECHNIMARK INC","720 INDUSTRIAL DR","STE 111","CARY","IL",60013,"USA","CARY, IL 60013 USA "]
["TECHNOLOGY GALAXY",119217,"TECHNOLOGY GALAXY","7065 W ANN RD","STE 130-421","LAS VEGAS","NV",89130,"USA","LAS VEGAS, NV 89130 USA "]
["TECHPOOL",107771,"TECHPOOL","2726 LOKER AVE WEST",null,"CARLSBAD","CA",92008,"USA","CARLSBAD, CA 92008 USA "]
["TECTRA GMBH",126135,"TECTRA GMBH","REUTERWEG 65","D-60323 FRANKFURT/M","D-60323 FRANKFURT/M",null,null,"USA","D-60323 FRANKFURT/M, USA "]
["TED PELLA INC",9894,"TED PELLA INC","BOX 492477",null,"REDDING","CA",960492477,"USA","REDDING, CA 960492477 USA "]
["TEETER WARSH COMPANY",62219,"TEETER WARSH COMPANY","1112 N JACKSON",null,"MILWAUKEE","WI",53202,"USA","MILWAUKEE, WI 53202 USA "]
["TEK PRODUCTS",115523,"TEK PRODUCTS","2435 W INDUSTRIAL BLVD","PO BOX 547","LONG LAKE","MN",55356,"USA","LONG LAKE, MN 55356 USA "]
["TEK-SUPPLY INC",123817,"TEK-SUPPLY INC","935 DIECKMAN RD",null,"WOODSTOCK","IL",60098,"USA","WOODSTOCK, IL 60098 USA "]
["TEK-TEMP",24522,"TEK-TEMP","410 MAGNOLIA AVE",null,"CROYDON","PA",19020,"USA","CROYDON, PA 19020 USA "]
["TEKNA SEAL",22629,"TEKNA SEAL","5301 EAST RIVER ROAD #109",null,"MINNEAPOLIS","MN",55421,"USA","MINNEAPOLIS, MN 55421 USA "]
["TEKNET ELECTRONICS",126754,"TEKNET ELECTRONICS","5965 SHILOH RD E   STE A",null,"ALPHARETTA","GA",30005,"USA","ALPHARETTA, GA 30005 USA "]
["TEKSYSTEMS",102987,"TEKSYSTEMS","2810 CROSSROADS DRIVE",null,"MADISON","WI",53718,"USA","MADISON, WI 53718 USA "]
["TEKTRONIX",79094,"TEKTRONIX","MS 50295 PO BOX 4600",null,"BEAVERTON","OR",97076,"USA","BEAVERTON, OR 97076 USA "]
["TEKTRONIX",86004,"TEKTRONIX","PO BOX 1000","MS G3583","WILSONVILLE","OR",97070,"USA","WILSONVILLE, OR 97070 USA "]
["TEKTRONIX INC",12317,"TEKTRONIX INC","5350 KEYSTONE CT",null,"ROLLING MEADOWS","IL",60008,"USA","ROLLING MEADOWS, IL 60008 USA "]
["TEKTRONIX INC",41244,"TEKTRONIX INC","NATIONAL MARKETING CTR","PO BOX 4600","BEAVERTON","OR",97076,"USA","BEAVERTON, OR 97076 USA "]
["TELECHEM INTERNATIONAL",114460,"TELECHEM INTERNATIONAL","524 E WEDDELL DR","STE 3","SUNNYVALE","CA",94089,"USA","SUNNYVALE, CA 94089 USA "]
["TELEDYNE BENTHOS",81936,"TELEDYNE BENTHOS","EDGERTON DR",null,"NORTH FALMOUTH","MA",2856,"USA","NORTH FALMOUTH, MA 2856 USA "]
["TELEDYNE IMPULSE ENTERPRISE",94392,"TELEDYNE IMPULSE ENTERPRISE","8274 RONSON RD",null,"SAN DIEGO","CA",92111,"USA","SAN DIEGO, CA 92111 USA "]
["TELEDYNE STORM PRODUCTS",138281,"TELEDYNE STORM PRODUCTS","9215 PREMIER ROW",null,"DALLAS","TX",75247,"USA","DALLAS, TX 75247 USA "]
["TELEPHONE ANSWERING SERV (TAS)",60614,"TELEPHONE ANSWERING SERV (TAS)","1050 REGENT STREET #203",null,"MADISON","WI",53715,"USA","MADISON, WI 53715 USA "]
["TELEPHONE TOOLS OF GEORGIA,INC",125429,"TELEPHONE TOOLS OF GEORGIA,INC","P.O. BOX 1240",null,"CARTERSVILLE","GA",30120,"USA","CARTERSVILLE, GA 30120 USA "]
["TELIC",92513,"TELIC","1631 COLORADO AVE",null,"SANTA MONICA","CA",90404,"USA","SANTA MONICA, CA 90404 USA "]
["TELOG INSTRUMENTS INC",105368,"TELOG INSTRUMENTS INC","830 CANNING PARKWAY",null,"VICTOR","NY",14564,"USA","VICTOR, NY 14564 USA "]
["TEMPERATURE SYSTEMS INC.",12342,"TEMPERATURE SYSTEMS INC.","5001 VOGES RD",null,"MADISON","WI",53718,"USA","MADISON, WI 53718 USA "]
["TENCOR INC",71850,"TENCOR INC","2400-T CHARLESTON ROAD",null,"MOUNTAIN VIEW","CA",94043,"USA","MOUNTAIN VIEW, CA 94043 USA "]
["TEQUIPMENT.NET",124708,"TEQUIPMENT.NET","205 WESTWOOD AVE",null,"LONG BEACH","NJ",7740,"USA","LONG BEACH, NJ 7740 USA "]
["TERRA UNIVERSAL INC",77284,"TERRA UNIVERSAL INC","700 N HARBOR BLVD",null,"ANAHEIM","CA",928052589,"USA","ANAHEIM, CA 928052589 USA "]
["TERRATIAL TECHNOLOGIES",130536,"TERRATIAL TECHNOLOGIES","1360 PEACHTREE STREET",null,"ATLANTA","GA",30309,"USA","ATLANTA, GA 30309 USA "]
["TESSCO TECHNOLOLGIES",33836,"TESSCO TECHNOLOLGIES","11126 MCCORMICK RD.",null,"HUNT VALLEY","MD",21031,"USA","HUNT VALLEY, MD 21031 USA "]
["TEST EQUITY INC",62915,"TEST EQUITY INC","2450 TURQUOISE CIR",null,"THOUSAND OAKS","CA",91320,"USA","THOUSAND OAKS, CA 91320 USA "]
["TEX USERS GROUP",20678,"TEX USERS GROUP","PO BOX 869",null,"SANTA BARBARA","CA",93102,"USA","SANTA BARBARA, CA 93102 USA "]
["TEXAS AMERICA SAFETY CO",126307,"TEXAS AMERICA SAFETY CO","4400 DANHIL DR",null,"BROWNWOOD","TX",76801,"USA","BROWNWOOD, TX 76801 USA "]
["TEXAS INSTRUMENTS",12414,"TEXAS INSTRUMENTS","PO BOX 1444  MS 7722",null,"HOUSTON","TX",77251,"USA","HOUSTON, TX 77251 USA "]
["TEXAS INSTRUMENTS",100687,"TEXAS INSTRUMENTS","7800 BONNER DRIVE,MS3944",null,"DALLAS","TEXAS",75251,"USA","DALLAS, TEXAS 75251 USA "]
["TEXAS INSTRUMENTS INC",49755,"TEXAS INSTRUMENTS INC","PO BOX 225012 MS89",null,"DALLAS","TX",75265,"USA","DALLAS, TX 75265 USA "]
["TEXAS TECHNOLOGIES INC",123194,"TEXAS TECHNOLOGIES INC","17013 FM 1431",null,"LEANDER","TX",78641,"USA","LEANDER, TX 78641 USA "]
["TEXLOC","TEXLOC","TEXLOC","4700 LONE STAR BLVD",null,"FT WORTH","TX",76106,"USA","FT WORTH, TX 76106 USA "]
["TEXLOC",132577,"TEXLOC","4700 LONE STAR BLVD",null,"FT WORTH","TX",76106,"USA","FT WORTH, TX 76106 USA "]
["TEXMATE",12423,"TEXMATE","995 PARK CENTER DR",null,"VISTA","CA",920838397,"USA","VISTA, CA 920838397 USA "]
["TEXWIPE COMPANY",12428,"TEXWIPE COMPANY","650 E CRESCENT AVE","PO BOX 308","UPPER SADDLE RIVER","NJ",7458,"USA","UPPER SADDLE RIVER, NJ 7458 USA "]
["THE BETTY MILLS CO",123326,"THE BETTY MILLS CO","60 E 3RD AVE","STE 201","SAN MATEO","CA",94401,"USA","SAN MATEO, CA 94401 USA "]
["THE DRY BEAN","K00024","THE DRY BEAN","5264 VERONA RD",null,"MADISON","WI",53711,"USA","MADISON, WI 53711 USA "]
["THE EDGEWATER HOTEL",27939,"THE EDGEWATER HOTEL","666 WISCONSIN AVE",null,"MADISON","WI",53706,"USA","MADISON, WI 53706 USA "]
["THE H & H TRAILER CO",133250,"THE H & H TRAILER CO","PO BOX 114","HIGHWAY 71 SOUTH","BRADDYVILLE","IA",51631,"USA","BRADDYVILLE, IA 51631 USA "]
["THE HOME DEPOT",113873,"THE HOME DEPOT","4550 VERONA RD",null,"MADISON","WI",53711,"USA","MADISON, WI 53711 USA "]
["THE JOHNSON CORPORATION",59961,"THE JOHNSON CORPORATION","805 WOOD STREET",null,"THREE RIVERS","MI",49093,"USA","THREE RIVERS, MI 49093 USA "]
["THE LEE COMPANY",19820,"THE LEE COMPANY","8600 W BRYN MAWR AVE #160-N",null,"CHICAGO","IL",60631,"USA","CHICAGO, IL 60631 USA "]
["THE MANIFORD CENTER",127356,"THE MANIFORD CENTER","12 COMMERICAL BLVD",null,"MEDFORD","NY",11763,"USA","MEDFORD, NY 11763 USA "]
["THE PORTLAND GROUP, INC",23275,"THE PORTLAND GROUP, INC","2 CENTERPOINT DR, STE 320",null,"LAKE OSWEGO","OR",97035,"USA","LAKE OSWEGO, OR 97035 USA "]
["THE PRINTER WORKS",45888,"THE PRINTER WORKS","3481 ARDEN RD",null,"HAYWARD","CA",94545,"USA","HAYWARD, CA 94545 USA "]
["THE PYLE CENTER","UW0051","THE PYLE CENTER","702 LANGDON STREET",null,"MADISON","WI",53706,"USA","MADISON, WI 53706 USA "]
["THE REGENT",66352,"THE REGENT","1402 REGENT ST",null,"MADISON","WI",53711,"USA","MADISON, WI 53711 USA "]
[{"$f":"IF($C3075=\"\",\"\",$C3075)","v":"THE REMBAR CO, INC"},10707,"THE REMBAR CO, INC","PO BOX 67","67 MAIN ST","DOBBS FERRY","NY",10522,"USA","DOBBS FERRY, NY 10522 USA "]
["THE ROWLAND COMPANY",119750,"THE ROWLAND COMPANY","4900 N 20TH ST",null,"PHILADELPHIA","PA","19144-2402","USA",{"$f":"IF(F3076=\"\",\"\",F3076&\", \")&IF(G3076=\"\",\"\",G3076&\" \")&IF(H3076=\"\",\"\",H3076&\" \")&IF(I3076=\"\",\"\",I3076&\" \")","v":"PHILADELPHIA, PA 19144-2402 USA "}]
["THE TAPE COMPANY",20138,"THE TAPE COMPANY","845 N CHRUCH CT",null,"ELMHURST","IL",60126,"USA","ELMHURST, IL 60126 USA "]
["THE ZIPPERTUBING CO",63559,"THE ZIPPERTUBING CO","13000 S. BROADWAY","P.O. BOX 61129","LOS ANGELES","CA","90061-0129","USA","LOS ANGELES, CA 90061-0129 USA "]
["THERM TECH OF WAUKESHA INC",78072,"THERM TECH OF WAUKESHA INC","305 TRAVES LANE",null,"WAUKESHA","WI",53186,"USA","WAUKESHA, WI 53186 USA "]
["THERMAL REDUCTION CO.",21323,"THERMAL REDUCTION CO.","1 PAVILION AVE.",null,"RIVERSIDE","NJ",8075,"USA","RIVERSIDE, NJ 8075 USA "]
["THERMIONICS LABORATORY INC",26465,"THERMIONICS LABORATORY INC","22815 SUTRO ST","PO BOX 3711","HAYWARD","CA",94540,"USA","HAYWARD, CA 94540 USA "]
["THERMIONICS LABORATORY INC NW",85283,"THERMIONICS LABORATORY INC NW","231B OTTO ST",null,"PORT TOWNSEND","WA",98368,"USA","PORT TOWNSEND, WA 98368 USA "]
["THERMIONICS METAL PROCESSING",104357,"THERMIONICS METAL PROCESSING","3118 DEPOT ROAD",null,"HAYWARD","CA","94545-2708","USA","HAYWARD, CA 94545-2708 USA "]
["THERMO ELECTRON CORP",115103,"THERMO ELECTRON CORP","SEE 115064",null,"BEVERLY","MA",1915,"USA","BEVERLY, MA 1915 USA "]
["THERMO ELECTRON CORPORATION",4195,"THERMO ELECTRON CORPORATION","25 NIMBLE HILL RD","PO BOX 1178","NEWINGTON","NH",3801,"USA","NEWINGTON, NH 3801 USA "]
["THERMO ELECTRON SCIENTIFIC",20660,"THERMO ELECTRON SCIENTIFIC","5225 VERONA ROAD",null,"MADISON","WI",537114451,"USA","MADISON, WI 537114451 USA "]
["THERMO ELECTRON SPECTROSCOPY",117599,"THERMO ELECTRON SPECTROSCOPY","5225-5 VERONA ROAD",null,"MADISON","WI",53711,"USA","MADISON, WI 53711 USA "]
["THERMO SHIELD",76651,"THERMO SHIELD","361 GROVE DR",null,"PORTOLA VALLEY","CA",94028,"USA","PORTOLA VALLEY, CA 94028 USA "]
["THERMO TECH",90208,"THERMO TECH","1012 S THIRD ST",null,"WATERTOWN","WI",53094,"USA","WATERTOWN, WI 53094 USA "]
["THERMOCOAX",111520,"THERMOCOAX","6825 SHILOH ROAD EAST, STE.B7",null,"ALPHARETTA","GA",30005,"USA","ALPHARETTA, GA 30005 USA "]
["THERMOLYNE CORPORATION",12450,"THERMOLYNE CORPORATION","2555 KERPER BLVD",null,"DUBUQUE","IA",52001,"USA","DUBUQUE, IA 52001 USA "]
["THERMOMICROSCOPES",109331,"THERMOMICROSCOPES","1171 BORREGAS AVE",null,"SUNNYVALE","CA",94089,"USA","SUNNYVALE, CA 94089 USA "]
["THERMOVAC INC",7470,"THERMOVAC INC","1509 RAPIDS DR",null,"RACINE","WI",53404,"USA","RACINE, WI 53404 USA "]
["THERMTROL CORPORATION",123367,"THERMTROL CORPORATION","8914 PLEASANTWOOD AVE NW","P O BOX 2501","NORTH CANTON","OH",44720,"USA","NORTH CANTON, OH 44720 USA "]
["THINK INK AND DESIGN",126807,"THINK INK AND DESIGN","2819 ROYAL AVENUE",null,"MADISON","WI",53713,"USA","MADISON, WI 53713 USA "]
["THINKGEEK INC",120433,"THINKGEEK INC","10801 MAIN ST","STE 700","FAIRFAX","VA",22030,"USA","FAIRFAX, VA 22030 USA "]
["THK AMERICA INC",67500,"THK AMERICA INC","200 E COMMERCE DR",null,"SCHAUMBURG","IL",60173,"USA","SCHAUMBURG, IL 60173 USA "]
["THOMAS INDUSTRIAL SUPPLY INC",131039,"THOMAS INDUSTRIAL SUPPLY INC","748 ALDERSON ST",null,"SCHOFIELD","WI","54476-0647","USA","SCHOFIELD, WI 54476-0647 USA "]
["THOMAS PUBLISHING COMPANY",12470,"THOMAS PUBLISHING COMPANY","1 PENN PLAZA","250 W 34TH ST","NEW YORK","NY",101190138,"USA","NEW YORK, NY 101190138 USA "]
["THOMPSON GRINDERS INC",60310,"THOMPSON GRINDERS INC","N8138 MAPLE ST",null,"IXONIA","WI",53036,"USA","IXONIA, WI 53036 USA "]
["THOR LABS INC",84235,"THOR LABS INC","PO BOX 366",null,"NEWTON","NJ",7860,"USA","NEWTON, NJ 7860 USA "]
["THORNTON ASSOCIATES, INC",48639,"THORNTON ASSOCIATES, INC","1432 MAIN ST.",null,"WALTHAM","MA",null,"USA","WALTHAM, MA USA "]
["THORSTAD CHEVROLET",12490,"THORSTAD CHEVROLET","1702 S PARK ST",null,"MADISON","WI",53713,"USA","MADISON, WI 53713 USA "]
["THRIFT PAINTING",71261,"THRIFT PAINTING","1525 S STOUGHTON RD",null,"MADISON","WI",51761,"USA","MADISON, WI 51761 USA "]
["THT SALES COMPANY, INC.",100185,"THT SALES COMPANY, INC.","7216 D. WASHINGTON N.E.",null,"ALBURUERQUE","NM",78109,"USA","ALBURUERQUE, NM 78109 USA "]
["THUEMLING INDUSTRIAL PRODUCTS",12499,"THUEMLING INDUSTRIAL PRODUCTS","P O BOX 1625","1225 PEARL ST","WAUKESHA","WI",53187,"USA","WAUKESHA, WI 53187 USA "]
["THURNER HEAT TREATING CORP",68732,"THURNER HEAT TREATING CORP","1501 N 108TH ST",null,"MILWAUKEE","WI",53226,"USA","MILWAUKEE, WI 53226 USA "]
["TICO TITANIUM",67463,"TICO TITANIUM","30150 S WIXOM RD",null,"WIXOM","MI",48393,"USA","WIXOM, MI 48393 USA "]
["TIERNEY BROTHERS",87420,"TIERNEY BROTHERS","3300 UNIVERSITY AVENUE",null,"MINNEAPOLIS","MN","55414-3326","USA","MINNEAPOLIS, MN 55414-3326 USA "]
["TIERRA",27803,"TIERRA","7725 SHADY BEACH",null,"WHITMORE LAKE","MI",48189,"USA","WHITMORE LAKE, MI 48189 USA "]
["TIGER DIRECT",103996,"TIGER DIRECT","7795 W FLAGLER ST",null,"MIAMI","FL",33144,"USA","MIAMI, FL 33144 USA "]
["TIGER SOFTWARE",79839,"TIGER SOFTWARE","800 DOUGLAS ENTRANCE","7TH FLOOR","CORAL GABLES","FL",331349711,"USA","CORAL GABLES, FL 331349711 USA "]
["TIGER SOFTWARE",22535,"TIGER SOFTWARE","8700 W FLAGLER ST",null,"MIAMI","FL","33174-2428","USA","MIAMI, FL 33174-2428 USA "]
["TIME MOTION TOOLS INC",66170,"TIME MOTION TOOLS INC","12778 BROOKPRINTER PL",null,"POWAY","CA",92064,"USA","POWAY, CA 92064 USA "]
["TIMES MICROWAVE SYSTEMS",127018,"TIMES MICROWAVE SYSTEMS","PO BOX 5039","358 HALL AV","WALLINGFORD","CT",64092,"USA","WALLINGFORD, CT 64092 USA "]
["TINSLEY",14074,"TINSLEY",null,null,null,null,null,"USA","USA "]
["TITAN TOOL SUPPLY CO INC",12537,"TITAN TOOL SUPPLY CO INC","PO BOX 182",null,"BUFFALO","NY",14216,"USA","BUFFALO, NY 14216 USA "]
["TITAN WIRELESS, LLC",130261,"TITAN WIRELESS, LLC","1700 BRYANT DR, SUITE 204",null,"ROUND ROCK","TX",78664,"USA","ROUND ROCK, TX 78664 USA "]
["TJT INTERNATIONAL",106585,"TJT INTERNATIONAL","14090 E FIRESTONE BLVD",null,"SANTA FE SRPING","CA",90670,"USA","SANTA FE SRPING, CA 90670 USA "]
["TMW MEDIA",126837,"TMW MEDIA","2321 ABBOTT KINNEY BLVD",null,"VENICE","CA",90291,"USA","VENICE, CA 90291 USA "]
["TODDCO INC",124580,"TODDCO INC","28 JORDANS PL","#6","CHICO","CA",95973,"USA","CHICO, CA 95973 USA "]
["TOLEDO METAL SPINNING",127381,"TOLEDO METAL SPINNING","1819 CLINTON ST",null,"TOLEDO","OH",43607,"USA","TOLEDO, OH 43607 USA "]
["TOM O'ROURKE",134385,"TOM O'ROURKE","10 TWIN GLENS RD",null,"ITHACA","NY",14850,"USA","ITHACA, NY 14850 USA "]
["TOM TIERNAN & ASSOCIATES",5003,"TOM TIERNAN & ASSOCIATES","8710 W BLUEMOUND RD","PO BOX 26455","MILWAUKEE","WI",53226,"USA","MILWAUKEE, WI 53226 USA "]
["TOMAHAWK LIVE TRAP",5294,"TOMAHAWK LIVE TRAP","P O BOX 323",null,"TOMAHAWK","WI",54487,"USA","TOMAHAWK, WI 54487 USA "]
["TONAR INDUSTRIES",126672,"TONAR INDUSTRIES","491 FRANKLIN AVENUE",null,"ROCKAWAY","NJ",7866,"USA","ROCKAWAY, NJ 7866 USA "]
["TOOL SERVICE CORP",14802,"TOOL SERVICE CORP","2942 N 117TH ST","PO BOX 26248","MILWAUKEE","WI",53226,"USA","MILWAUKEE, WI 53226 USA "]
["TOOLMANN MACHINERY SALES",131120,"TOOLMANN MACHINERY SALES","1610 S. MAIN ST",null,"OSHKOSH","WI",54902,"USA","OSHKOSH, WI 54902 USA "]
["TOPAC INC",17131,"TOPAC INC","99 DERBEY ST STE 303",null,"HINGHAM","MA",2043,"USA","HINGHAM, MA 2043 USA "]
["TOPOMETRIX",12249,"TOPOMETRIX","5403 BETSY ROSS DRIVE",null,"SANTA CLARA","CA","95054-1162","USA","SANTA CLARA, CA 95054-1162 USA "]
["TORVAC",100198,"TORVAC","5905 GOLDEN VALLEY RD STE 222",null,"MINNEAPOLIS","MN",55422,"USA","MINNEAPOLIS, MN 55422 USA "]
["TOTAL RECALL",16612,"TOTAL RECALL","2482 WAYNOKA ROAD",null,"COLORADO SPRINGS","CO",80815,"USA","COLORADO SPRINGS, CO 80815 USA "]
["TOUGH SOLUTIONS",128927,"TOUGH SOLUTIONS","39 PARK PLACE, SUITE 300",null,"APPLETON","WI",54914,"USA","APPLETON, WI 54914 USA "]
["TOWER OPTICAL CORP",121548,"TOWER OPTICAL CORP","3600 S CONGRESS AV   UNIT J",null,"BOYNTON BEACH","FL",33426,"USA","BOYNTON BEACH, FL 33426 USA "]
["TOWN & COUNTRY ELECTRIC",101764,"TOWN & COUNTRY ELECTRIC","4309 NEPTUNE CT",null,"MADISON","WI",53714,"USA","MADISON, WI 53714 USA "]
["TOWN OF DUNN",12873,"TOWN OF DUNN","4156 COUNTY RD B",null,"MCFARLAND","WI",53558,"USA","MCFARLAND, WI 53558 USA "]
["TRA CON",12605,"TRA CON","55 NORTH ST",null,"MEDFORD","MA",2155,"USA","MEDFORD, MA 2155 USA "]
["TRACE MEDICAL EQUIPMENT INC",31668,"TRACE MEDICAL EQUIPMENT INC","5000 VARSITY LN",null,"LISLE","IL",60532,"USA","LISLE, IL 60532 USA "]
[{"$f":"IF($C3139=\"\",\"\",$C3139)","v":"TRAINING INNOVATIONS"},29387,"TRAINING INNOVATIONS","C/O BILL JONES","2125 S. FISH HATCHERY RD.","OREGON","WI",53575,"USA","OREGON, WI 53575 USA "]
["TRANS-COIL, INC",123316,"TRANS-COIL, INC","7878N 86TH ST",null,"MILWAUKEE","WI",53224,"USA",{"$f":"IF(F3140=\"\",\"\",F3140&\", \")&IF(G3140=\"\",\"\",G3140&\" \")&IF(H3140=\"\",\"\",H3140&\" \")&IF(I3140=\"\",\"\",I3140&\" \")","v":"MILWAUKEE, WI 53224 USA "}]
["TRANSCOM CORP",136014,"TRANSCOM CORP","PO BOX 26744",null,"ELKINS PARK","PA",19027,"USA","ELKINS PARK, PA 19027 USA "]
["TRANSDUCER TECHNIQUES",75500,"TRANSDUCER TECHNIQUES","43178 BUSINESS PARK DR",null,"TEMECULA","CA",92590,"USA","TEMECULA, CA 92590 USA "]
["TRANSFER ENGINEERING",112070,"TRANSFER ENGINEERING","2199 WARM SPRINGS COURT, STE1",null,"FREMONT","CA",94539,"USA","FREMONT, CA 94539 USA "]
["TRANSGROUP WORLDWIDE LOGISTICS",134554,"TRANSGROUP WORLDWIDE LOGISTICS","1400 N MITTEL BLVD SUITE A",null,"WOOD DALE","ILLINOIS",60191,"USA","WOOD DALE, ILLINOIS 60191 USA "]
["TRANSOURCE COMPUTERS",135428,"TRANSOURCE COMPUTERS","2405 W. UTOPIA RD",null,"PHOENIZ","AZ",85027,"USA","PHOENIZ, AZ 85027 USA "]
["TRAVEL EASE INC",18950,"TRAVEL EASE INC","1245 E. WASHINGTON AVE",null,"MADISON","WI",53703,"USA","MADISON, WI 53703 USA "]
["TRAVELING SOFTWARE",24086,"TRAVELING SOFTWARE","PO BOX 690",null,"BUFFALO","NY",14207,"USA","BUFFALO, NY 14207 USA "]
["TRAVELING SOFTWARE",69336,"TRAVELING SOFTWARE","18702 N CREEK PKWY",null,"BOTHELL","WA",98011,"USA","BOTHELL, WA 98011 USA "]
["TRAVERS TOOL COMPANY",12648,"TRAVERS TOOL COMPANY","128 15  26TH AV","PO BOX 1550","FLUSHING","NY",11354,"USA","FLUSHING, NY 11354 USA "]
["TRAVLYN PEDDLERS",128902,"TRAVLYN PEDDLERS","1838 LARKSPUR DR",null,"ARLINGTON","TX",76013,"USA","ARLINGTON, TX 76013 USA "]
["TRCA",123623,"TRCA","3401 E UNIVERSITY",null,"DENTON","TX",76208,"USA","DENTON, TX 76208 USA "]
["TREASURE CHEST",94826,"TREASURE CHEST","PO BOX 1251",null,"KENNER","LA",70065,"USA","KENNER, LA 70065 USA "]
["TREASURE CHEST",17223,"TREASURE CHEST","5005 BLOOMFIELD",null,"JEFFERSON","LA",70121,"USA","JEFFERSON, LA 70121 USA "]
["TRI PHASE AUTOMATION INC.",11260,"TRI PHASE AUTOMATION INC.","20725 WATERTOWN ROAD",null,"WAUKESHA","WI",53186,"USA","WAUKESHA, WI 53186 USA "]
["TRI SOURCE INC.",35945,"TRI SOURCE INC.","415 HOWE AVE",null,"SHELTON","CONNETICUT",6484,"USA","SHELTON, CONNETICUT 6484 USA "]
["TRI STATE PUMP",128466,"TRI STATE PUMP","2403 PAYNTERS RD",null,"MANASQUAN","NJ",8736,"USA","MANASQUAN, NJ 8736 USA "]
["TRI WIRE",123859,"TRI WIRE","2201 RANGE RD",null,"ROCKFORD","IL",61111,"USA","ROCKFORD, IL 61111 USA "]
["TRI-COUNTY APPLIANCE",5919,"TRI-COUNTY APPLIANCE","156 N. MAIN ST",null,"OREGON","WI",53575,"USA","OREGON, WI 53575 USA "]
["TRI-STATE ELECTRONIC CORP",72153,"TRI-STATE ELECTRONIC CORP","200 W NORTHWEST HWY",null,"MOUNT PROSPECT","IL",60056,"USA","MOUNT PROSPECT, IL 60056 USA "]
["TRIAD PROCESS EQUIPMENT",128064,"TRIAD PROCESS EQUIPMENT","4922 TECHNICAL DR",null,"MILFORD","MI",48381,"USA","MILFORD, MI 48381 USA "]
["TRIAD PROJECT MANAGEMENT",117593,"TRIAD PROJECT MANAGEMENT","3452 E FOOTHILL BLVD, STE 530",null,"PASADENA","CA",91107,"USA","PASADENA, CA 91107 USA "]
["TRIANGLE CABLES.COM LLC",125235,"TRIANGLE CABLES.COM LLC","1602 SQUAW WALDEN LANE",null,"APEX","NC",27523,"USA","APEX, NC 27523 USA "]
["TRIANGLE TECH",92785,"TRIANGLE TECH","1441 BRANDING LN",null,"DOWNERS GROVE","IL",60515,"USA","DOWNERS GROVE, IL 60515 USA "]
["TRIBECA COMPUTER CORPORATION",15307,"TRIBECA COMPUTER CORPORATION","10 REUTEN DRIVE",null,"CLOSTER","NJ",7624,"USA","CLOSTER, NJ 7624 USA "]
["TRICO MANUFACTURING CORP",122461,"TRICO MANUFACTURING CORP","1235 HICKORY ST",null,"PEWAUKEE","WI","53072-3999","USA","PEWAUKEE, WI 53072-3999 USA "]
["TRIGRAM SYSTEMS",20168,"TRIGRAM SYSTEMS","5840 NORTHUMBERLAND ST",null,"PITTSBURGH","PA",15217,"USA","PITTSBURGH, PA 15217 USA "]
["TRILOBYTE PICTURES",127453,"TRILOBYTE PICTURES","933 WILLIAMSON ST",null,"MADISON","WI",53703,"USA","MADISON, WI 53703 USA "]
["TRIM-LOK INC",71187,"TRIM-LOK INC","6855 HERMOSA CIR",null,"BUENA PARK","CA",90622,"USA","BUENA PARK, CA 90622 USA "]
["TRIMETRIX",83965,"TRIMETRIX","444 NE RAVENNA BLVD","SUITE 210","SEATTLE","WA",981159910,"USA","SEATTLE, WA 981159910 USA "]
["TRIPHASE AUTOMATION",2428,"TRIPHASE AUTOMATION","STE 26","850 ELM GROVE RD","ELM GROVE","WI",53122,"USA","ELM GROVE, WI 53122 USA "]
["TRIWAY MACHINING",106075,"TRIWAY MACHINING","4581 AMERICAN ROAD",null,"ROCKFORD","IL",61109,"USA","ROCKFORD, IL 61109 USA "]
["TUBEDEPOT.COM",125343,"TUBEDEPOT.COM","1687 SHELBY OAKS DR., STE. 8",null,"MEMPHIS","TN",38134,"USA","MEMPHIS, TN 38134 USA "]
["TUBESALES",12746,"TUBESALES","11431 N PORT WASHINGTON RD  SU",null,"MEQUON","WI",53092,"USA","MEQUON, WI 53092 USA "]
["TUCKER ELECTRONICS CO",17491,"TUCKER ELECTRONICS CO","PO BOX 551419",null,"DALLAS","TX",753551419,"USA","DALLAS, TX 753551419 USA "]
["TULSA POWER PRODUCTS",104719,"TULSA POWER PRODUCTS","913 N WHEELING",null,"TULSA","OK",74110,"USA","TULSA, OK 74110 USA "]
["TUNGSTEN PRODUCTS",14635,"TUNGSTEN PRODUCTS","1297 COUNTY LINE RD",null,"MADISON","AL",35756,"USA","MADISON, AL 35756 USA "]
["TUSHAUS COMPUTER SERVICE",27318,"TUSHAUS COMPUTER SERVICE","10400 INNOVATION DR, STE 100",null,"WAUWATOSA","WI",53226,"USA","WAUWATOSA, WI 53226 USA "]
["TW METALS",115619,"TW METALS","235 TUBEWAY DR",null,"CAROL STREAM","IL",60188,"USA","CAROL STREAM, IL 60188 USA "]
["TWIN CITIES DIGITAL",17925,"TWIN CITIES DIGITAL","211 RIVER RIDGE CIRCLE SOUTH","STE 103","BURNSVILLE","MN",55337,"USA","BURNSVILLE, MN 55337 USA "]
["TWP INC",13510,"TWP INC","2831 TENTH STREET",null,"BERKELEY","CA",94710,"USA","BERKELEY, CA 94710 USA "]
["TWR SERVICE CORP",83021,"TWR SERVICE CORP","5341 N OTTO AVE",null,"ROSEMONT","IL",60018,"USA","ROSEMONT, IL 60018 USA "]
["TYCO THERMAL CONTROLS MW",126415,"TYCO THERMAL CONTROLS MW","2505 W. ZIMNY DR.",null,"POSEN","IL",60469,"USA","POSEN, IL 60469 USA "]
["TYGH SILICON",86987,"TYGH SILICON","6111 SOUTHFRONT RD","BLDG H","LIVERMORE","CA",94551,"USA","LIVERMORE, CA 94551 USA "]
["TYLER TOOL CO","K00029","TYLER TOOL CO","P.O. BOX 272",null,"TYLERTOWN","MS",39667,"USA","TYLERTOWN, MS 39667 USA "]
["U FRAME IT",50047,"U FRAME IT","857 E JOHNSON STREET",null,"MADISON","WI",53717,"USA","MADISON, WI 53717 USA "]
["U.S. CUSTOMS SERVICE",112306,"U.S. CUSTOMS SERVICE","ATTN: FP&F","PO BOX 370920","MILWAUKEE","WI",532730920,"USA","MILWAUKEE, WI 532730920 USA "]
["UC COMPONENTS",95801,"UC COMPONENTS","SUITE 16","2330 OLD MIDDLEFIELD","MOUNTAIN VIEW","CA",94043,"USA","MOUNTAIN VIEW, CA 94043 USA "]
["UC REGENTS",125704,"UC REGENTS","UNIVERSITY OF CA / PHYSICS","366 LECONTE HALL","BERKELEY","CA",94720,"USA","BERKELEY, CA 94720 USA "]
["UDT SENSORS",97512,"UDT SENSORS","% SCIENTIFIC SPECTRUM MIDWEST","PO BOX 36","CLARENDON HILLS","IL",60514,"USA","CLARENDON HILLS, IL 60514 USA "]
["ULEAD SYSTEMS",100080,"ULEAD SYSTEMS","970 WEST 190TH STREET",null,"TORANCE","CA",90502,"USA","TORANCE, CA 90502 USA "]
["ULINE INC",29284,"ULINE INC","950 ALBRECHT DR",null,"LAKE BLUFF","IL",60044,"USA","LAKE BLUFF, IL 60044 USA "]
["ULLMER'S DAIRY EQUIPMENT, INC",133654,"ULLMER'S DAIRY EQUIPMENT, INC","8628 N BROWN COUNTY LINE RD",null,"PULASKI","WI",54162,"USA","PULASKI, WI 54162 USA "]
["ULTRA ONE CORPORATION",130369,"ULTRA ONE CORPORATION","EDGEWATER INDUSTRIAL PARK","112 EAST AVENUE UNIT 8","HACKETTSTOWN","NJ",7840,"USA","HACKETTSTOWN, NJ 7840 USA "]
["ULTRAVOLT INC",127128,"ULTRAVOLT INC","1800 OCEAN AVE",null,"RONKONKOMA","NY",11779,"USA","RONKONKOMA, NY 11779 USA "]
["UMX- UNIVERSAL MERCANTILE EXCH",134009,"UMX- UNIVERSAL MERCANTILE EXCH","21128 COMMERCE POINT DR",null,"WALNUT","CA",91789,"USA","WALNUT, CA 91789 USA "]
["UNCLE BUDS SMALL ENGINE",94181,"UNCLE BUDS SMALL ENGINE","516 E MAIN ST",null,"STOUGHTON","WI",53589,"USA","STOUGHTON, WI 53589 USA "]
["UNICO, INC",32279,"UNICO, INC","P.O. BOX 0505","3725 NICHOLSON","FRANKSVILLE","WI","53126-0505","USA","FRANKSVILLE, WI 53126-0505 USA "]
["UNIFIED EQUIPMENT SYSTEMS",105354,"UNIFIED EQUIPMENT SYSTEMS","42950 N WALNUT",null,"CLINTON TOWNSHIP","MI",48036,"USA","CLINTON TOWNSHIP, MI 48036 USA "]
["UNIFIED NEWSPAPER GROUP",111439,"UNIFIED NEWSPAPER GROUP","845 MARKET STREET","OREGON, WI 53573",null,null,null,"USA","USA "]
["UNION CAB OF MADISON",21837,"UNION CAB OF MADISON","P O BOX 8305",null,"MADISON","WI",53708,"USA","MADISON, WI 53708 USA "]
["UNION SOUTH","UW0027","UNION SOUTH","227 NORTH RANDALL",null,"MADISON","WI",53706,"USA","MADISON, WI 53706 USA "]
["UNION TRANSFER & STORAGE INC",52469,"UNION TRANSFER & STORAGE INC","5034 VOGES RD",null,"MADISON","WI",53718,"USA","MADISON, WI 53718 USA "]
[{"$f":"IF($C3203=\"\",\"\",$C3203)","v":"UNIPHASE CORP"},58830,"UNIPHASE CORP","163 BAYPOINTE PKWY",null,"SAN JOSE","CA",95134,"USA","SAN JOSE, CA 95134 USA "]
["UNIQUE MANUFACTURING INC",77497,"UNIQUE MANUFACTURING INC","591 N BURR OAKS AVE",null,"OREGON","WI",53575,"USA",{"$f":"IF(F3204=\"\",\"\",F3204&\", \")&IF(G3204=\"\",\"\",G3204&\" \")&IF(H3204=\"\",\"\",H3204&\" \")&IF(I3204=\"\",\"\",I3204&\" \")","v":"OREGON, WI 53575 USA "}]
["UNISOURCE",15528,"UNISOURCE","5355 S WESTRIDGE DR",null,"NEW BERLIN","WI",53151,"USA","NEW BERLIN, WI 53151 USA "]
["UNISOURCE WORLDWIDE, INC",135958,"UNISOURCE WORLDWIDE, INC","1141 NORTH SWIFT ROAD",null,"ADDISON","IL",60101,"USA","ADDISON, IL 60101 USA "]
["UNISTRUT",12855,"UNISTRUT","1140 W THORNDALE",null,"ITASCA","IL",60143,"USA","ITASCA, IL 60143 USA "]
["UNISTRUT WISCONSIN",117989,"UNISTRUT WISCONSIN","8989 N 55TH ST",null,"NEW BERLIN","WI",53223,"USA","NEW BERLIN, WI 53223 USA "]
["UNITEC SYSTEMS INC",68651,"UNITEC SYSTEMS INC","23046 AVENIDA DE LA CARLOTA","SUITE 600","LAGUNA HILLS","CA",92653,"USA","LAGUNA HILLS, CA 92653 USA "]
["UNITED AIR",50508,"UNITED AIR",null,null,"USA",null,null,"USA","USA, USA "]
["UNITED BUILDING CENTERS",4731,"UNITED BUILDING CENTERS","1987 PLEASANT VIEW RD","PO BOX 530","MIDDLETON","WI",535620530,"USA","MIDDLETON, WI 535620530 USA "]
["UNITED EQUIPMENT ACCESSORIES",130352,"UNITED EQUIPMENT ACCESSORIES","PO BOX 817","3103 E. BREMER AVE","WAVERLY","IA","50677-0817","USA","WAVERLY, IA 50677-0817 USA "]
["UNITED PARCEL SERVICE",12904,"UNITED PARCEL SERVICE","PO BOX 1259",null,"WAUKESHA","WI",53187,"USA","WAUKESHA, WI 53187 USA "]
["UNITED RENTALS",112685,"UNITED RENTALS","1018 ANN RD",null,"MADISON","WI",53713,"USA","MADISON, WI 53713 USA "]
["UNITED SCALE & ENGINEERING",12915,"UNITED SCALE & ENGINEERING","16725 W VICTOR RD",null,"NEW BERLIN","WI",531514132,"USA","NEW BERLIN, WI 531514132 USA "]
["UNITED STATES BRASS & COPPER",76929,"UNITED STATES BRASS & COPPER","1418 CENTER CIRCLE DR",null,"DOWNERS GROVE","IL",60515,"USA","DOWNERS GROVE, IL 60515 USA "]
["UNITED STATES POSTAL SERVICE",104347,"UNITED STATES POSTAL SERVICE",null,null,null,"WI",null,"USA","WI USA "]
["UNITED STATES RADIATION",20955,"UNITED STATES RADIATION","BOX 409",null,"HACKETTSTOWN","NJ",7840,"USA","HACKETTSTOWN, NJ 7840 USA "]
["UNITED TITANIUM INC",82414,"UNITED TITANIUM INC","3450 OLD AIRPORT RD","PO BOX 951","WOOSTER","OH",44691,"USA","WOOSTER, OH 44691 USA "]
["UNITEK EQUIPMENT INC",12997,"UNITEK EQUIPMENT INC","1820 S MYRTLE",null,"MONROVIA","CA",91016,"USA","MONROVIA, CA 91016 USA "]
["UNITY ELECTRONICS",118741,"UNITY ELECTRONICS","30083 AHERN AV",null,"UNION CITY","CA",94587,"USA","UNION CITY, CA 94587 USA "]
["UNIV OF ALASKA-FAIRBANKS",14128,"UNIV OF ALASKA-FAIRBANKS","GEOPHYSICAL INSTITUTE","903 KOYUKUK DR","FAIRBANKS","AK",68508,"USA","FAIRBANKS, AK 68508 USA "]
["UNIVERSAL METAL FINISHING, CO.",19291,"UNIVERSAL METAL FINISHING, CO.","1201 W. LAKE STREET",null,"CHICAGO","ILLINOIS",60607,"USA","CHICAGO, ILLINOIS 60607 USA "]
["UNIVERSAL METAL HOSE CO",84897,"UNIVERSAL METAL HOSE CO","2133 S KEDZIE AVE",null,"CHICAGO","IL",60623,"USA","CHICAGO, IL 60623 USA "]
["UNIVERSAL PAPER & PACKAGING",13011,"UNIVERSAL PAPER & PACKAGING","2226 MUSTANG WAY","PO BOX 8070","MADISON","WI",53708,"USA","MADISON, WI 53708 USA "]
["UNIVERSAL RADIO INC",104314,"UNIVERSAL RADIO INC","6830 AMERICAN PKWY",null,"REYNOLDSBURG","OH",43068,"USA","REYNOLDSBURG, OH 43068 USA "]
["UNIVERSAL SHIELDING CORP",135502,"UNIVERSAL SHIELDING CORP","20 W. JEFRYN BLVD",null,"DEER PARK","NY","11729-5769","USA","DEER PARK, NY 11729-5769 USA "]
["UNIVERSAL THREAD GRINDING CO",78066,"UNIVERSAL THREAD GRINDING CO","30 CHAMBERS ST",null,"FAIRFIELD","CT",6430,"USA","FAIRFIELD, CT 6430 USA "]
["UNIVERSAL VOLTRONICS CORP",13017,"UNIVERSAL VOLTRONICS CORP","57 COMMERCE DR",null,"BROOKFIELD","CT","06804-3405","USA","BROOKFIELD, CT 06804-3405 USA "]
["UNIVERSITY BOOK STORE",13021,"UNIVERSITY BOOK STORE","711 STATE ST",null,"MADISON","WI",53703,"USA","MADISON, WI 53703 USA "]
["UNIVERSITY CLUB",27096,"UNIVERSITY CLUB","803 STATE ST",null,"MADISON","WI",53703,"USA","MADISON, WI 53703 USA "]
["UNIVERSITY COMMUNICATIONS","UW0053","UNIVERSITY COMMUNICATIONS","CREATIVE SERVICES","528 WARF, 610 WALNUT ST","MADISON","WI",53705,"USA","MADISON, WI 53705 USA "]
["UNIVERSITY EXTENSION","UW0026","UNIVERSITY EXTENSION","432 N. LAKE ST. ROOM 102",null,"MADISON","WI","53706-1498","USA","MADISON, WI 53706-1498 USA "]
["UNIVERSITY HOUSING","UW0022","UNIVERSITY HOUSING","SLICHTER HALL",null,"MADISON","WI",53706,"USA","MADISON, WI 53706 USA "]
["UNIVERSITY INN",41635,"UNIVERSITY INN","441 N FRANCES ST",null,"MADISON","WI",53703,"USA","MADISON, WI 53703 USA "]
["UNIVERSITY MECHANICAL & ENGINE",124263,"UNIVERSITY MECHANICAL & ENGINE","1168 FESLER ST",null,"EL CAJON","CA",92020,"USA","EL CAJON, CA 92020 USA "]
["UNIVERSITY OF CA IRVINE",123037,"UNIVERSITY OF CA IRVINE","4129 FREDERICK REINES HALL",null,"IRVINE","CA",92697,"USA","IRVINE, CA 92697 USA "]
["UNIVERSITY OF CHICAGO",132552,"UNIVERSITY OF CHICAGO","5640 S. ELLIS AVE, LASR107",null,"CHICAGO","IL",60637,"USA","CHICAGO, IL 60637 USA "]
["UNIVERSITY OF CHICAGO PRESS",2737,"UNIVERSITY OF CHICAGO PRESS","1427 E. 60TH STREET",null,"CHICAGO","IL",60637,"USA","CHICAGO, IL 60637 USA "]
["UNIVERSITY OF DELAWARE",105876,"UNIVERSITY OF DELAWARE","104 THE GREEN","217 SHARP LAB","NEWARK","DE",19716,"USA","NEWARK, DE 19716 USA "]
["UNIVERSITY OF GLASGOW",93836,"UNIVERSITY OF GLASGOW","FINANCE OFFICER","UNIVERSITY OF GLASGOW G12 8QQ",null,null,null,"SCOTLAND","SCOTLAND "]
["UNIVERSITY OF HAWAII",130193,"UNIVERSITY OF HAWAII","OFFICE OF RESEARCH SERVICES","2530 DOLE ST, SAKAMAKI D-200","HONOLULU","HI",96822,"USA","HONOLULU, HI 96822 USA "]
["UNIVERSITY OF HAWAII",30314,"UNIVERSITY OF HAWAII","DEPT OF PHYSICS","2505 CORREA RD","HONOLULU","HI",96822,"USA","HONOLULU, HI 96822 USA "]
["UNIVERSITY OF MARYLAND",135181,"UNIVERSITY OF MARYLAND","4324 JOHN S TOLL PHYSICS BLDG",null,"COLLEGE PARK","MD",20742,"USA","COLLEGE PARK, MD 20742 USA "]
["UNIVERSITY OF MINNESOTA",18893,"UNIVERSITY OF MINNESOTA","MICROTECHNOLOGY LAB","1-165 EE/CSCI 200 UNION ST.SE","MINNEAPOLIS","MN",55455,"USA","MINNEAPOLIS, MN 55455 USA "]
["UNIVERSITY OF MINNESOTA","UW0033","UNIVERSITY OF MINNESOTA","SUITE 201","1100 WASHINGTON AVE","MINNEAPOLIS","MN",55415,"USA","MINNEAPOLIS, MN 55415 USA "]
["UNIVERSITY OF NEBRASKA-LINCOLN",69455,"UNIVERSITY OF NEBRASKA-LINCOLN","2255 W ST. STE 101","PO BOX 830850","LINCOLN","NE","68583-0850","USA","LINCOLN, NE 68583-0850 USA "]
["UNIVERSITY OF NEVADA LAS VEGAS",55141,"UNIVERSITY OF NEVADA LAS VEGAS","4505  MARYLAND PKWY",null,"LAS VEGAS","NV",89154,"USA","LAS VEGAS, NV 89154 USA "]
["UNIVERSITY OF NORTH TEXAS",6681,"UNIVERSITY OF NORTH TEXAS","P.O. BOX 311427",null,"DENTON","TX","76203-1427","USA","DENTON, TX 76203-1427 USA "]
["UNIVERSITY OF OKLAHOMA",24514,"UNIVERSITY OF OKLAHOMA","SOUTHWEST CENTER FOR HUMAN REL","1610 ASP AVE, SUITE 500","NORMAN","OK",73072,"USA","NORMAN, OK 73072 USA "]
["UNIVERSITY OF VERMONT",130130,"UNIVERSITY OF VERMONT","P.O. BOX 1306",null,"WILLISTON","VT",5495,"USA","WILLISTON, VT 5495 USA "]
["UNIVERSITY OF WI-EXTENSION",123275,"UNIVERSITY OF WI-EXTENSION","PYLE CENTER","702 LANGDON ST","MADISON","WI",53706,"USA","MADISON, WI 53706 USA "]
["UNIVERSITY OUTREACH","UW0041","UNIVERSITY OUTREACH","DEPT. OF GOV. AFFAIRS","610 LANGDON ST.","MADISON","WI","53703-1195","USA","MADISON, WI 53703-1195 USA "]
["UNIVERSITY WAFER COMPANY",115742,"UNIVERSITY WAFER COMPANY","55 TALL OAKS DR STE 704",null,"WEYMOUTH","MA",2190,"USA","WEYMOUTH, MA 2190 USA "]
["UPS",10609,"UPS","12400 W. BLUE MOUND ROAD",null,"ELM GROVE","WI",53122,"USA","ELM GROVE, WI 53122 USA "]
["UPS CUSTOMHOUSE BROKERAGE",105606,"UPS CUSTOMHOUSE BROKERAGE","1930 BISHOP LANE STE 200",null,"LOUISVILLE","KY",40218,"USA","LOUISVILLE, KY 40218 USA "]
["US AIR",87868,"US AIR","4811 S 76TH ST",null,"MILWAUKEE","WI",53220,"USA","MILWAUKEE, WI 53220 USA "]
["US COMMERCE DEPARTMENT",12936,"US COMMERCE DEPARTMENT","NATIONAL TECHNICAL INFORMATION","5285 PORT ROYAL RD","SPRINGFIELD","VA",22161,"USA","SPRINGFIELD, VA 22161 USA "]
["US COMPOSITES",123589,"US COMPOSITES","5101 GEORGIA AVENUE",null,"WEST PALM BEACH","FL",33405,"USA","WEST PALM BEACH, FL 33405 USA "]
["US DIGITAL",18140,"US DIGITAL","11000 NE 34TH CIR",null,"VANCOUVER","WA",98682,"USA","VANCOUVER, WA 98682 USA "]
["US FILTER ENVIRONSCAN SVCS",125587,"US FILTER ENVIRONSCAN SVCS","301 W MILITARY RD",null,"ROTHSCHILD","WI",54474,"USA","ROTHSCHILD, WI 54474 USA "]
["US FLAG STORE",135853,"US FLAG STORE","10000 WESTINGHOUSE DR, STE #1",null,"NEW STANTON","PA",15672,"USA","NEW STANTON, PA 15672 USA "]
["US GOVERNMENT PRINTING OFFICE",85103,"US GOVERNMENT PRINTING OFFICE","118 FEDERAL BLDG","1000 LIBERTY AVE","PITTSBURGH","PA",15222,"USA","PITTSBURGH, PA 15222 USA "]
["US INSTRUMENT SERVICES",124638,"US INSTRUMENT SERVICES","1607 HART ST","STE 200","SOUTHLAKE","TX",76092,"USA","SOUTHLAKE, TX 76092 USA "]
["US PARTICLE ACCELERATOR SCHOOL",33204,"US PARTICLE ACCELERATOR SCHOOL","KIRK & PINE STREETS","PO BOX 500","BATAVIA","IL",60510,"USA","BATAVIA, IL 60510 USA "]
["US PLASTICS CORP",12979,"US PLASTICS CORP","1390 NEUBRECHT RD",null,"LIMA","OH",45801,"USA","LIMA, OH 45801 USA "]
[{"$f":"IF($C3267=\"\",\"\",$C3267)","v":"US SHOP TOOLS"},121599,"US SHOP TOOLS","1340 S. ALLEC ST",null,"ANAHEIM","CA",92805,"USA","ANAHEIM, CA 92805 USA "]
["USA BLUEBOOK",128270,"USA BLUEBOOK","3781 BUR WOOD DR",null,"WAUKEGAN","IL",60085,"USA",{"$f":"IF(F3268=\"\",\"\",F3268&\", \")&IF(G3268=\"\",\"\",G3268&\" \")&IF(H3268=\"\",\"\",H3268&\" \")&IF(I3268=\"\",\"\",I3268&\" \")","v":"WAUKEGAN, IL 60085 USA "}]
["USA MOBILITY",114705,"USA MOBILITY","PO BOX 941565",null,"PLANO","TX","75094-1565","USA","PLANO, TX 75094-1565 USA "]
["USBID INC",124297,"USBID INC","907 E STRAWBRIDGE AVE",null,"MELBOURNE","FL",32901,"USA","MELBOURNE, FL 32901 USA "]
["USEMCO",128432,"USEMCO","PO BOX 550",null,"TOMAH","WI",54660,"USA","TOMAH, WI 54660 USA "]
["USHIO AMERICA INC",50835,"USHIO AMERICA INC","201O1 S VERMONT AVE",null,"TORRANCE","CA",90502,"USA","TORRANCE, CA 90502 USA "]
["USI INC",35438,"USI INC","33 BUSINESS PARK DR","PO BOX 644","BRANFORD","CT",6405,"USA","BRANFORD, CT 6405 USA "]
["USK CABLE",105009,"USK CABLE","2379 PLEASANTDALE RD",null,"DORAVILLE","GA",30340,"USA","DORAVILLE, GA 30340 USA "]
["USPS",12790,"USPS","3902 MILWAUKEE ST",null,"MADISON","WI",53714,"USA","MADISON, WI 53714 USA "]
["UTE MICROWAVE INC",115664,"UTE MICROWAVE INC","3500 SUNSET AVE",null,"ASBURY PARK","NJ",7712,"USA","ASBURY PARK, NJ 7712 USA "]
["UTILITY TOOL & MACHINE",33084,"UTILITY TOOL & MACHINE","4188 S KINNICKINNIC AVE",null,"MILWAUKEE","WI",53207,"USA","MILWAUKEE, WI 53207 USA "]
["UW - RIVER FALLS",116791,"UW - RIVER FALLS","DEPARTMENT OF PHYSICS","410 S 3RD ST","RIVER FALLS","WI",54022,"USA","RIVER FALLS, WI 54022 USA "]
["UW BURSAR'S OFFICE","UW0071","UW BURSAR'S OFFICE","21 N PARK RM. 7223",null,"MADISON","WI",53715,"USA","MADISON, WI 53715 USA "]
["UW CASH MANAGEMENT","UW0052","UW CASH MANAGEMENT","21 N PARK ST SUITE 6101",null,"MADISON","WI",53706,"USA","MADISON, WI 53706 USA "]
["UW ENVIRONMENTAL HEALTH PROG","UW0077","UW ENVIRONMENTAL HEALTH PROG","333 EAST CAMPUS MALL",null,"MADISON","WI",53706,"USA","MADISON, WI 53706 USA "]
["UW EXTENSION MAIL SERVICES","UW0075","UW EXTENSION MAIL SERVICES",null,null,"MADISON","WI",null,"USA","MADISON, WI USA "]
["UW FLUNO CENTER EXECUTIVE EDU","UW0070","UW FLUNO CENTER EXECUTIVE EDU","601 UNIVERSITY AVE.",null,"MADISON","WI","53715-1035","USA","MADISON, WI 53715-1035 USA "]
["UW GEOSCIENCES","UW0078","UW GEOSCIENCES",null,null,"MADISON","WI",53706,"USA","MADISON, WI 53706 USA "]
["UW PUBLICATIONS","UW0018","UW PUBLICATIONS","610 WALNUT ST",null,"MADISON","WI",53705,"USA","MADISON, WI 53705 USA "]
["UW PURCHASING",99999,"UW PURCHASING","PETERSON BUILDING",null,null,null,null,"USA","USA "]
["UW SAFETY DEPT.","UW0020","UW SAFETY DEPT.","317 N. RANDALL",null,"MADISON","WI",53706,"USA","MADISON, WI 53706 USA "]
["UW SCHOOL OF BUSINESS  SBDC","UW0074","UW SCHOOL OF BUSINESS  SBDC","975 UNIVERSITY AV",null,"MADISON","WI",53706,"USA","MADISON, WI 53706 USA "]
["UW SYSTEM ADMINISTRATION","UW0048","UW SYSTEM ADMINISTRATION","PO BOX 8010",null,"MADISON","WI","53708-8010","USA","MADISON, WI 53708-8010 USA "]
["UW WISCONSIN EXTENSION",30428,"UW WISCONSIN EXTENSION","702 LANGDON ST",null,"MADISON","WI",53706,"USA","MADISON, WI 53706 USA "]
["UW-CHEMISTRY","UW0054","UW-CHEMISTRY","606 W LAKESIDE STREET",null,"MADISON","WI",53715,"USA","MADISON, WI 53715 USA "]
["UW-DEPT OF ASTRONOMY","UW0056","UW-DEPT OF ASTRONOMY","475 N CHARTER ST",null,"MADISON","WI",53706,"USA","MADISON, WI 53706 USA "]
["UW-LAW SCHOOL","UW0055","UW-LAW SCHOOL","975 BASCOM HALL",null,"MADISON","WI",53706,"USA","MADISON, WI 53706 USA "]
["UW-MADISON INTERNAL AUDIT","UW0044","UW-MADISON INTERNAL AUDIT","722 UNIVERSITY AVENUE",null,"MADISON","WI",53715,"USA","MADISON, WI 53715 USA "]
["UW-RIVER FALLS",999989,"UW-RIVER FALLS","410 S 3RD ST",null,"RIVER FALLS","WI",54022,"USA","RIVER FALLS, WI 54022 USA "]
["UZ ENGINEERED PRODUCTS",102530,"UZ ENGINEERED PRODUCTS","3325 ST CLAIRE AVE",null,"CLEVELAND","OH",44114,"USA","CLEVELAND, OH 44114 USA "]
["VACUUM ONE",110699,"VACUUM ONE","2502 N CLARK ST STE 207",null,"CHICAGO","IL",60614,"USA","CHICAGO, IL 60614 USA "]
["VACUUM RESEARCH CORP",13943,"VACUUM RESEARCH CORP","2419 SMALLMAN ST",null,"PITTSBURGH","PA",15222,"USA","PITTSBURGH, PA 15222 USA "]
["VACUUM TECHNICAL SERVICES",109671,"VACUUM TECHNICAL SERVICES","PO BOX 450847",null,"KISSIMMEE","FLORIDA","34745-0847","USA","KISSIMMEE, FLORIDA 34745-0847 USA "]
["VACUUM TECHNOLOGY",73769,"VACUUM TECHNOLOGY","1003 ALVIN WEINBERG DRIVE",null,"OAK RIDGE","TENN",37830,"USA","OAK RIDGE, TENN 37830 USA "]
["VACUUM TUBE IND.",19292,"VACUUM TUBE IND.","506 N. WARREN AVENUE","PO BOX 2009","BROCKTON","MA","02405-2009","USA","BROCKTON, MA 02405-2009 USA "]
["VACUUM TUBES INC",125185,"VACUUM TUBES INC","1080 SLIGH BLVD",null,"ORLANDO","FL","32806-1029","USA","ORLANDO, FL 32806-1029 USA "]
["VALLEY DESIGN CORP",122425,"VALLEY DESIGN CORP","151D HARVEY WEST BLVD",null,"SANTA CRUZ","CA",95060,"USA","SANTA CRUZ, CA 95060 USA "]
["VALLEY TOOL INC",122426,"VALLEY TOOL INC","3040 N POINTER RD",null,"APPLETON","WI",54911,"USA","APPLETON, WI 54911 USA "]
["VALUE EXPRESS",36205,"VALUE EXPRESS","635 E REMINGTON ROAD UNIT B",null,"SCHAUMBERG","IL",60173,"USA","SCHAUMBERG, IL 60173 USA "]
["VALUETRONICS",113901,"VALUETRONICS","1657 CAMBRIDGE DR",null,"ELGIN","IL",60123,"USA","ELGIN, IL 60123 USA "]
["VALUETRONICS",124848,"VALUETRONICS","1657 CAMBRIDGE DR",null,"ELGIN","IL",60123,"USA","ELGIN, IL 60123 USA "]
["VALVE TECH INC",21749,"VALVE TECH INC","N94 W143000 GARWIN MACE DR",null,"MENOMONEE FALLS","WI",53051,"USA","MENOMONEE FALLS, WI 53051 USA "]
["VANGUARD COMPUTERS",114666,"VANGUARD COMPUTERS","13100 W LISBON RD","SUITE 100","BROOKFIELD","WI",53005,"USA","BROOKFIELD, WI 53005 USA "]
["VANGUARD COMPUTERS",45051,"VANGUARD COMPUTERS","13100 W LISBON RD",null,"BROOKFIELD","WI",53005,"USA","BROOKFIELD, WI 53005 USA "]
["VANTON PUMP & EQUIPMENT CORP",29182,"VANTON PUMP & EQUIPMENT CORP","201 SWEATLAND AVE",null,"HILLSIDE","NJ",7205,"USA","HILLSIDE, NJ 7205 USA "]
["VARIABLE SYMBOLS, INC.",8000,"VARIABLE SYMBOLS, INC.","6537 CHABOT RD",null,"OAKLAND","CA",94618,"USA","OAKLAND, CA 94618 USA "]
["VARIAN VACUUM",13158,"VARIAN VACUUM","121 HARTWELL AVE",null,"LEXINGTON","MA",2173,"USA","LEXINGTON, MA 2173 USA "]
["VARIAN VACUUM",97321,"VARIAN VACUUM","121 HARTWELL AVE",null,"LEXINGTON","MA",2421,"USA","LEXINGTON, MA 2421 USA "]
["VAT",54276,"VAT","% MIDWEST VACUUM","201 OGDEN AV  SUITE 15","HINSDALE","IL",60521,"USA","HINSDALE, IL 60521 USA "]
["VAT INCORPORATED",49817,"VAT INCORPORATED","600 W CUMMINGS PKWY",null,"WOBURN","MA",1801,"USA","WOBURN, MA 1801 USA "]
["VECTOR FIELDS, INC",109766,"VECTOR FIELDS, INC","1700 N FARNSWORTH AVE",null,"AURORA","IL",60505,"USA","AURORA, IL 60505 USA "]
["VEGAS FASTENER MFG",134072,"VEGAS FASTENER MFG","4315 WEST OQUENDO ROAD",null,"LAS VEGAS","NV",89118,"USA","LAS VEGAS, NV 89118 USA "]
["VELMEX INC",9043,"VELMEX INC","PO BOX 38",null,"EAST BLOOMFIELD","NY",14443,"USA","EAST BLOOMFIELD, NY 14443 USA "]
["VELOCITY MANUFACTURING, INC",124960,"VELOCITY MANUFACTURING, INC","41 INDUSTRIAL DR",null,"EXETER","NH",3833,"USA","EXETER, NH 3833 USA "]
["VELOCITY SYSTEMS",126145,"VELOCITY SYSTEMS","222 W WASHINGTON STE 430",null,"MADISON","WI",53703,"USA","MADISON, WI 53703 USA "]
["VERIZON",127089,"VERIZON","1515 E. WOODFIELD RD",null,"SCHAUMBURG","IL",60173,"USA","SCHAUMBURG, IL 60173 USA "]
["VERONA BUS SERVICE INC",81455,"VERONA BUS SERVICE INC","219 PAOLI ST","PO BOX 930245","VERONA","WI",53593,"USA","VERONA, WI 53593 USA "]
["VERTEQ",105430,"VERTEQ","2024 SELBY AVE",null,"SAINT PAUL","MN",55104,"USA","SAINT PAUL, MN 55104 USA "]
["VESTIL MFG CORP",128293,"VESTIL MFG CORP","2999 N WAYNE ST","P O BOX 507","ANGOLA","IN",46703,"USA","ANGOLA, IN 46703 USA "]
["VG SCIENTA AB",101660,"VG SCIENTA AB","P O BOX 15120","SE-750 15","UPSALA",null,null,"SWEDEN","UPSALA, SWEDEN "]
["VG SCIENTA INC",115064,"VG SCIENTA INC","37A PLEASANT ST  STE 1",null,"NEWBURYPORT","MA",1950,"USA","NEWBURYPORT, MA 1950 USA "]
["VIADON",126966,"VIADON","26200 SOUTH WHITING WAY",null,"MONEE","IL",60449,"USA","MONEE, IL 60449 USA "]
["VICOR CORPORATION",88390,"VICOR CORPORATION","25 FRONTAGE RD",null,"ANDOVER","MA",1810,"USA","ANDOVER, MA 1810 USA "]
["VICTOR ASSOCIATES INC",88109,"VICTOR ASSOCIATES INC","658 SERRILL DR",null,"HATBORO","PA",19040,"USA","HATBORO, PA 19040 USA "]
[{"$f":"IF($C3331=\"\",\"\",$C3331)","v":"VIDEO PRODUCTS INC"},111657,"VIDEO PRODUCTS INC","1275 DANNER DR",null,"AURORA","OH",44202,"USA","AURORA, OH 44202 USA "]
["VIKING DECAL",17610,"VIKING DECAL","647 TAYLOR LANE",null,"STOUGHTON","WI",53589,"USA",{"$f":"IF(F3332=\"\",\"\",F3332&\", \")&IF(G3332=\"\",\"\",G3332&\" \")&IF(H3332=\"\",\"\",H3332&\" \")&IF(I3332=\"\",\"\",I3332&\" \")","v":"STOUGHTON, WI 53589 USA "}]
["VISIBLE COMPUTER SUPPLY",13289,"VISIBLE COMPUTER SUPPLY","1750 WALLACE AVE",null,"ST CHARLES","IL",601749852,"USA","ST CHARLES, IL 601749852 USA "]
["VISIO CORPORATION",32268,"VISIO CORPORATION","PO BOX 1500",null,"FAIRPORT","NY",14450,"USA","FAIRPORT, NY 14450 USA "]
["VISUAL NUMERICS INC",45731,"VISUAL NUMERICS INC","6230 LOOKOUT RD",null,"BOULDER","CO",80301,"USA","BOULDER, CO 80301 USA "]
["VISUAL NUMERICS INC.",6244,"VISUAL NUMERICS INC.","9990 RICHMOND AVE.,STE 400",null,"HOUSTON","TX",77042,"USA","HOUSTON, TX 77042 USA "]
["VISUAL WORKPLACE",128908,"VISUAL WORKPLACE","2668 EDWARD ST",null,"JENISON","MI",49428,"USA","JENISON, MI 49428 USA "]
["VME MICROSYSTEMS DIVISION",63243,"VME MICROSYSTEMS DIVISION","SCIENCE APPLICATIONS INTERNATI","12090 S MEMORIAL PKWY","HUNTSVILLE","AL",35803,"USA","HUNTSVILLE, AL 35803 USA "]
["VMIC",91286,"VMIC","12090 S MEMORIAL PKWY",null,"HUNTSVILLE","AL",35803,"USA","HUNTSVILLE, AL 35803 USA "]
["VMP INC",122915,"VMP INC","24830 AVENUE TIBBITS",null,"VALENCIA","CA",91355,"USA","VALENCIA, CA 91355 USA "]
["VMWARE, INC.",110313,"VMWARE, INC.","3401 HILLVIEW AVENUE",null,"PALO ALTO","CA",94304,"USA","PALO ALTO, CA 94304 USA "]
["VO BAKER COMPANY",34908,"VO BAKER COMPANY","8647 TWINBROOK ROAD",null,"MENTOR","OH",44060,"USA","MENTOR, OH 44060 USA "]
["VOIPSUPPLY.COM",130555,"VOIPSUPPLY.COM","454 SONWIL DRIVE",null,"BUFFALO","NY",14225,"USA","BUFFALO, NY 14225 USA "]
["VONDRA ENGRAVING",13344,"VONDRA ENGRAVING","1128 STEWART ST",null,"MADISON","WI",53713,"USA","MADISON, WI 53713 USA "]
["VTS JOACHIM SCHWARZ GMBH",124098,"VTS JOACHIM SCHWARZ GMBH","CARLA-MARIA-VON-WEBER-STR. 1",null,"RASTATT","GERMANY",null,"USA","RASTATT, GERMANY USA "]
["VULCAN LEAD PRODUCTS",13356,"VULCAN LEAD PRODUCTS","1402 W PIERCE",null,"MILWAUKEE","WI",53204,"USA","MILWAUKEE, WI 53204 USA "]
["VWR SCIENTIFIC INC",13082,"VWR SCIENTIFIC INC","PO BOX 66929","O HARE AMF","CHICAGO","IL",60666,"USA","CHICAGO, IL 60666 USA "]
["W A HAMMOND DRIERITE CO","K00032","W A HAMMOND DRIERITE CO","P O BOX 460",null,"HAMMOND","OH","45385-0460","USA","HAMMOND, OH 45385-0460 USA "]
["W J ROBERTS CO INC",123303,"W J ROBERTS CO INC","181 CENTRAL ST",null,"SAUGUS","MA",1906,"USA","SAUGUS, MA 1906 USA "]
["W K ROBSON",123530,"W K ROBSON","1118 POWDERHORN DR",null,"NEWARK","DE",19713,"USA","NEWARK, DE 19713 USA "]
["WA HAMMOND DRIERITE CO",125220,"WA HAMMOND DRIERITE CO","P.O. BOX 460",null,"XENIA","OH","45385-0460","USA","XENIA, OH 45385-0460 USA "]
["WAFERNET",95166,"WAFERNET","SUITE 120","1641 N FIRST ST","SAN JOSE","CA",95112,"USA","SAN JOSE, CA 95112 USA "]
["WAISMAN COMPUTING SERVICES","UW0064","WAISMAN COMPUTING SERVICES","WAISMAN CENTER",null,"MADISON","WI",53706,"USA","MADISON, WI 53706 USA "]
["WAL-MART",103887,"WAL-MART","4198 NAKOOSA TRAIL",null,"MADISON","WI",53714,"USA","MADISON, WI 53714 USA "]
["WALGREENS","K00027","WALGREENS","4741 VERONA RD",null,"MADISON","WI",53711,"USA","MADISON, WI 53711 USA "]
["WALMART",75802,"WALMART","7202 WATTS RD",null,"MADISON","WI",53719,"USA","MADISON, WI 53719 USA "]
["WALT DISNEY WORLD RESORTS",124789,"WALT DISNEY WORLD RESORTS","CORONADO SPRINGS RESORT","1000 W BUENA VISTA DR","LAKE BUENA VISTA","FL","32830-8403","USA","LAKE BUENA VISTA, FL 32830-8403 USA "]
["WANG LABORATORIES INC",57794,"WANG LABORATORIES INC","MAINTENANCE RENEWALS","836 NORTH ST  M/S 027-110","TEWKSBURY","MA",1876,"USA","TEWKSBURY, MA 1876 USA "]
["WARDS NATURAL SCIENCE",13462,"WARDS NATURAL SCIENCE","5100 W. HENRIETTA RD",null,"ROCHESTER","NY",14692,"USA","ROCHESTER, NY 14692 USA "]
["WARMAN INTERNATIONAL INC.",60780,"WARMAN INTERNATIONAL INC.","P.O. BOX 7610",null,"MADISON","WI",53707,"USA","MADISON, WI 53707 USA "]
["WASHINGTON EQUIPMENT & SUPPLY",13479,"WASHINGTON EQUIPMENT & SUPPLY","324 W LAKESIDE ST",null,"MADISON","WI",53715,"USA","MADISON, WI 53715 USA "]
["WASHINGTON STATE UNIVERSITY",107956,"WASHINGTON STATE UNIVERSITY","GEOANALYTICAL LAB",null,"PULLMAN","WA",99164,"USA","PULLMAN, WA 99164 USA "]
["WASTE MANAGEMENT OF WI MADISON",2817,"WASTE MANAGEMENT OF WI MADISON","2418 W BADGER RD",null,"MADISON","WI",53713,"USA","MADISON, WI 53713 USA "]
["WATERJET CUTTING SPECIALISTS",128450,"WATERJET CUTTING SPECIALISTS","600 W. SOUTH","P.O. BOX 22066","LINCOLN","NE",68522,"USA","LINCOLN, NE 68522 USA "]
["WATERS INDUSTRIAL SUPPLY",59953,"WATERS INDUSTRIAL SUPPLY","PO BOX 805",null,"BROOKFIELD","WI",53008,"USA","BROOKFIELD, WI 53008 USA "]
["WATSON BRICKSON LUMBER",128701,"WATSON BRICKSON LUMBER","600 N ST",null,"LINCOLN","NE",68508,"USA","LINCOLN, NE 68508 USA "]
["WATSON GRINDING & MFG",124909,"WATSON GRINDING & MFG","4525 GESSNER","P.O. BOX 800426","HOUSTON","TX",77041,"USA","HOUSTON, TX 77041 USA "]
["WATSON INDUSTRIES INC",6190,"WATSON INDUSTRIES INC","3041 MELBY RD",null,"EAU CLAIRE","WI",54703,"USA","EAU CLAIRE, WI 54703 USA "]
["WATTEREDGE-UNIFLEX, INC",65546,"WATTEREDGE-UNIFLEX, INC","567 MILLER ROAD",null,"AVON LAKE","OH",44012,"USA","AVON LAKE, OH 44012 USA "]
["WAUKESHA INDUSTRIAL SUPPLY",12449,"WAUKESHA INDUSTRIAL SUPPLY","W227 N678 WESTMOUND DR","PO BOX 216","WAUKESHA","WI",531870216,"USA","WAUKESHA, WI 531870216 USA "]
["WAUKESHA PACKAGING SUPPLY INC",123332,"WAUKESHA PACKAGING SUPPLY INC","2111 S WEST AVE",null,"WAUKESHA","WI",53187,"USA","WAUKESHA, WI 53187 USA "]
["WAUSAU CHEMICAL CORPORATION",13530,"WAUSAU CHEMICAL CORPORATION","2001 N RIVER DR","P O BOX 953","WAUSAU","WI","54402-0953","USA","WAUSAU, WI 54402-0953 USA "]
["WAVEMETRICS",80849,"WAVEMETRICS","PO BOX 2088",null,"LAKE OSWEGO","OR",97035,"USA","LAKE OSWEGO, OR 97035 USA "]
["WAYTEK, INC",124843,"WAYTEK, INC","7660 QUATTRO DRIVE",null,"CHANHASSEN","MN",55317,"USA","CHANHASSEN, MN 55317 USA "]
["WCAM-WISC CTR FOR APPL MICROEL","UW0029","WCAM-WISC CTR FOR APPL MICROEL","1410 JOHNSON DR.",null,"MADISON","WI",53706,"USA","MADISON, WI 53706 USA "]
["WDL SYSTEMS",93516,"WDL SYSTEMS","220 CHATHAM BUSINESS DR",null,"PITTSBORO","NC",27312,"USA","PITTSBORO, NC 27312 USA "]
["WE THEW SUPPLY CO INC",65858,"WE THEW SUPPLY CO INC","PO BOX 2426","333 S BROADWAY","GREEN BAY","WI",54306,"USA","GREEN BAY, WI 54306 USA "]
["WEATHERHAVEN",126029,"WEATHERHAVEN","5700 MARINE WAY",null,"BURNABY","BRITISH COLUMBIA",null,"CANADA","BURNABY, BRITISH COLUMBIA CANADA "]
["WEED INSTRUMENT CO INC",24581,"WEED INSTRUMENT CO INC","707 JEFFREY WAY","PO BOX 300","ROUND ROCK","TX",78680,"USA","ROUND ROCK, TX 78680 USA "]
["WEICO WIRE & CABLE",39013,"WEICO WIRE & CABLE","161 RODEO DR",null,"EDGEWOOD","NY",11717,"USA","EDGEWOOD, NY 11717 USA "]
["WEIMER BEARING & TRANSMISSION",63197,"WEIMER BEARING & TRANSMISSION","W134 N5368 CAMPBELLDR","PO BOX 667","MENOMONEE FALLS","WI",53052,"USA","MENOMONEE FALLS, WI 53052 USA "]
["WEIMER BEARING & TRANSMISSION",126182,"WEIMER BEARING & TRANSMISSION","1535 CORPORATE CENTER CR",null,"SUN PRAIRIE","WI",53590,"USA","SUN PRAIRIE, WI 53590 USA "]
["WELCH RIETSCHLE THOMAS",122309,"WELCH RIETSCHLE THOMAS","7301 N. CENTRAL AVE","P.O. BOX 183","SKOKIE","IL",60077,"USA","SKOKIE, IL 60077 USA "]
["WELCH VACUUM TECHNOLOGY",83146,"WELCH VACUUM TECHNOLOGY","7300 N LINDER AVE","PO BOX 183","SKOKIE","IL",60077,"USA","SKOKIE, IL 60077 USA "]
["WENDT LIBRARY","UW0036","WENDT LIBRARY","215 NORTH",null,"MADISON","WI",53706,"USA","MADISON, WI 53706 USA "]
["WENZEL ASSOCIATES",115665,"WENZEL ASSOCIATES","1005 LA POSADA DRIVE",null,"AUSTIN","TX",0,"USA","AUSTIN, TX 0 USA "]
["WERNER  ELECTRIC SUPPLY",75030,"WERNER  ELECTRIC SUPPLY","PO BOX 7305",null,"MADISON","WI",537077305,"USA","MADISON, WI 537077305 USA "]
["WESCO",13599,"WESCO","W229 N1420 WESTWOOD DR., STE.",null,"WAUKESHA","WI",53186,"USA","WAUKESHA, WI 53186 USA "]
["WEST HILLS LAN SYSTEMS",27846,"WEST HILLS LAN SYSTEMS","8943 FULLBRIGHT AVE",null,"CHATSWORTH","CA",91311,"USA","CHATSWORTH, CA 91311 USA "]
["WEST MARINE",107360,"WEST MARINE","2455 W BROADWAY",null,"MADISON","WI",53713,"USA","MADISON, WI 53713 USA "]
["WEST MARINE PRODUCTS",65041,"WEST MARINE PRODUCTS","P O BOX 60070",null,"WATSONVILLE","CA","95077-0070","USA","WATSONVILLE, CA 95077-0070 USA "]
["WEST SPUR TREE EQUIP INC",133836,"WEST SPUR TREE EQUIP INC","1680 BAKER CREEK PL",null,"BELLINGHAM","WA",98226,"USA","BELLINGHAM, WA 98226 USA "]
["WEST WASHINGTON ASSOCIATES",14750,"WEST WASHINGTON ASSOCIATES","150 E GILMAN STREET",null,"MADISON","WI",53703,"USA","MADISON, WI 53703 USA "]
["WEST WASHINGTON ASSOCIATES LLC",104750,"WEST WASHINGTON ASSOCIATES LLC","150 E GILMAN STREET",null,"MADISON","WI",53703,"USA","MADISON, WI 53703 USA "]
[{"$f":"IF($C3395=\"\",\"\",$C3395)","v":"WESTERN ENVIRONMENTAL LINER"},128478,"WESTERN ENVIRONMENTAL LINER","8121 W HARRISON",null,"TOLLESON","AZ",85353,"USA","TOLLESON, AZ 85353 USA "]
["WESTERN SCIENTIFIC, INC",113,"WESTERN SCIENTIFIC, INC","9445 FARNHAM ST",null,"SAN DIEGO","CA",92123,"USA",{"$f":"IF(F3396=\"\",\"\",F3396&\", \")&IF(G3396=\"\",\"\",G3396&\" \")&IF(H3396=\"\",\"\",H3396&\" \")&IF(I3396=\"\",\"\",I3396&\" \")","v":"SAN DIEGO, CA 92123 USA "}]
["WESTIN HOTEL",85988,"WESTIN HOTEL","50 SOUTH CAPITOL AVE",null,"INDIANAPOLIS","IN",46204,"USA","INDIANAPOLIS, IN 46204 USA "]
["WESTIN PEACHTREE PLAZA",61604,"WESTIN PEACHTREE PLAZA","210 PEACHTREE ST. NW",null,"ATLANTA","GA",30303,"USA","ATLANTA, GA 30303 USA "]
["WESTIN SEATTLE",91561,"WESTIN SEATTLE","1900 FIFTH AVE",null,"SEATTLE","WA",98101,"USA","SEATTLE, WA 98101 USA "]
["WHELAN & ASSOCIATES",105488,"WHELAN & ASSOCIATES","2607 CHEROKEE RD",null,"JANESVILLE","WI",53545,"USA","JANESVILLE, WI 53545 USA "]
["WHITMAN CONTROLS CORP",108548,"WHITMAN CONTROLS CORP","201 DOLPHIN RD",null,"BRISTOL","CT",6010,"USA","BRISTOL, CT 6010 USA "]
["WHITTET-HIGGINS",20167,"WHITTET-HIGGINS","33 HIGGINSON AVE",null,"CENTRAL FALLS","RI",2863,"USA","CENTRAL FALLS, RI 2863 USA "]
["WI DEPT OF COMMERCE",122948,"WI DEPT OF COMMERCE","PO BOX 2858",null,"MADISON","WI",53701,"USA","MADISON, WI 53701 USA "]
["WI DPI PUBLICATION SALES",62280,"WI DPI PUBLICATION SALES","DRAWER 179",null,"MILWAUKEE","WI",53293,"USA","MILWAUKEE, WI 53293 USA "]
["WI STATE INDUSTRY LABOR & HUMA",45354,"WI STATE INDUSTRY LABOR & HUMA","SAFTEY & BUILDING DIVISION","201 E WASHINGTON AVE","MADISON","WI",53707,"USA","MADISON, WI 53707 USA "]
["WI STRUCTURE & MATERIAL TESTIN","UW0060","WI STRUCTURE & MATERIAL TESTIN","1314 ENGINEERING HALL",null,"MADISON","WI",53706,"USA","MADISON, WI 53706 USA "]
["WIDEBAND DESIGN, LLC",129321,"WIDEBAND DESIGN, LLC","9 BISHOPS HILL CR",null,"MADISON","WI",53717,"USA","MADISON, WI 53717 USA "]
["WIEDENBECK INC",13722,"WIEDENBECK INC","2451 KILGUST RD","PO BOX 9446","MADISON","WI",53715,"USA","MADISON, WI 53715 USA "]
["WIHA QUALITY TOOLS",126999,"WIHA QUALITY TOOLS","1348 DUNDAS CIR","OAKWOOD INDUSTRIAL PARK","MONTICELLO","MN",55362,"USA","MONTICELLO, MN 55362 USA "]
["WILLY STEET CO-OP",86197,"WILLY STEET CO-OP","1221 WILLIAMSON STREET",null,"MADISON","WI",53703,"USA","MADISON, WI 53703 USA "]
["WILSON TOOL CORPORATION",3597,"WILSON TOOL CORPORATION","2401 20TH ST",null,"ROCKFORD","IL",61104,"USA","ROCKFORD, IL 61104 USA "]
["WILSON TOOL INTERNATIONAL, INC",13793,"WILSON TOOL INTERNATIONAL, INC","12912 FARNHAM AVE",null,"WHITE BEAR LAKE","MN",55110,"USA","WHITE BEAR LAKE, MN 55110 USA "]
["WINFRED M BERG INC",1727,"WINFRED M BERG INC","499 OCEAN AVE","PO BOX 130","EAST ROCKAWAY LI","NY",11518,"USA","EAST ROCKAWAY LI, NY 11518 USA "]
["WINSTRUCT INC.",30715,"WINSTRUCT INC.","13232 NE 130TH PL",null,"KIRKLAND","WI",98034,"USA","KIRKLAND, WI 98034 USA "]
["WINZIP COMPUTING",15603,"WINZIP COMPUTING","P O BOX 540",null,"MANSFIELD","CT",6268,"USA","MANSFIELD, CT 6268 USA "]
["WIRE AUTOMATIC DEVICE CO",127539,"WIRE AUTOMATIC DEVICE CO","1-9-27 JOKOJI AMAGASAKI-SHI",null,"HYOGO-KEN","JAPAN","660-0811","USA","HYOGO-KEN, JAPAN 660-0811 USA "]
["WIREWORKS",83133,"WIREWORKS","503 S NINE MOUND RD",null,"VERONA","WI",53593,"USA","VERONA, WI 53593 USA "]
["WIS CENTER, REGISTRATION OFF","UW0019","WIS CENTER, REGISTRATION OFF","702 LANGDON ST",null,"MADISON","WI",53706,"USA","MADISON, WI 53706 USA "]
["WIS COUNCIL OF SAFETY",45206,"WIS COUNCIL OF SAFETY","501 E WASHINGTON AVE",null,"MADISON","WI",53705,"USA","MADISON, WI 53705 USA "]
["WISCO INDUSTRIES INC",27829,"WISCO INDUSTRIES INC","736 JANESVILLE ST",null,"OREGON","WI",53575,"USA","OREGON, WI 53575 USA "]
["WISCOLIFT  INC",130538,"WISCOLIFT  INC","W6396 SPECIALTY DR",null,"GREENVILLE","WI",54942,"USA","GREENVILLE, WI 54942 USA "]
["WISCONSIN COMPRESSED AIR CORP",44421,"WISCONSIN COMPRESSED AIR CORP","3056 W MEINECKE AVE",null,"MILWAUKEE","WI",53210,"USA","MILWAUKEE, WI 53210 USA "]
["WISCONSIN CONTROL CORP",86784,"WISCONSIN CONTROL CORP","N8 W22520 JOHNSON DR A",null,"WAUKESHA","WI",53186,"USA","WAUKESHA, WI 53186 USA "]
["WISCONSIN DEPT OF EMPLOYMENT R",20524,"WISCONSIN DEPT OF EMPLOYMENT R","OFFICE OF EMPLOYEE DEVELOPMENT","137 E WILSON","MADISON","WI",537077855,"USA","MADISON, WI 537077855 USA "]
["WISCONSIN ENGINEER MAGAZINE",61219,"WISCONSIN ENGINEER MAGAZINE","1550 ENGINEERING DRIVE",null,"MADISON","WI",53706,"USA","MADISON, WI 53706 USA "]
["WISCONSIN FOAM PRODUCTS",75771,"WISCONSIN FOAM PRODUCTS","4601 TOMPKINS DR",null,"MADISON","WI",53716,"USA","MADISON, WI 53716 USA "]
["WISCONSIN HARDCOAT INC",49124,"WISCONSIN HARDCOAT INC","N57W13457 REICHERT AVE",null,"MENOMONEE FALLS","WI",53051,"USA","MENOMONEE FALLS, WI 53051 USA "]
["WISCONSIN HOUSING FACILITY",65953,"WISCONSIN HOUSING FACILITY","3731 SCHNEIDER DR",null,"STOUGHTON","WI",53589,"USA","STOUGHTON, WI 53589 USA "]
["WISCONSIN HOUSING FACILITY","UW0042","WISCONSIN HOUSING FACILITY","3731 SCHNEIDER DR.",null,"STOUGHTON","WI",53589,"USA","STOUGHTON, WI 53589 USA "]
["WISCONSIN LIFT TRUCK",41939,"WISCONSIN LIFT TRUCK","2401 FOSTER AV",null,"JANESVILLE","WI",53547,"USA","JANESVILLE, WI 53547 USA "]
["WISCONSIN LIFT TRUCK CORP",100646,"WISCONSIN LIFT TRUCK CORP","1650 S 108TH ST",null,"WEST ALLIS","WI",53214,"USA","WEST ALLIS, WI 53214 USA "]
["WISCONSIN LIFTING SPECIALISTS",13933,"WISCONSIN LIFTING SPECIALISTS","2033 W ST PAUL AVE",null,"MILWAUKEE","WI",53233,"USA","MILWAUKEE, WI 53233 USA "]
["WISCONSIN METAL SALES",68802,"WISCONSIN METAL SALES","2400 E MAIN ST","P O BOX 149","REEDSBURG","WI",53957,"USA","REEDSBURG, WI 53957 USA "]
["WISCONSIN PLASTICS",122741,"WISCONSIN PLASTICS","6017 QUEENS WAY",null,"MADISON","WI",53716,"USA","MADISON, WI 53716 USA "]
["WISCONSIN PLATING",128372,"WISCONSIN PLATING","620 STANNARD ST",null,"RACINE","WI",53403,"USA","RACINE, WI 53403 USA "]
["WISCONSIN POWER & LIGHT CO",63549,"WISCONSIN POWER & LIGHT CO","222 W WASHINGTON AVE","PO BOX 192","MADISON","WI",537010192,"USA","MADISON, WI 537010192 USA "]
["WISCONSIN POWER & LIGHT CO.",24338,"WISCONSIN POWER & LIGHT CO.","7617 MINERAL POINT ROAD",null,"MADISON","WI","53717-1699","USA","MADISON, WI 53717-1699 USA "]
["WISCONSIN SECTION-AIHA","K00033","WISCONSIN SECTION-AIHA","C/O ERIK OSBY","KOHLER CO","KOHLER","WI",53044,"USA","KOHLER, WI 53044 USA "]
["WISCONSIN STATE DOCUMENT SALES",13963,"WISCONSIN STATE DOCUMENT SALES","202 S THORNTON AVE","PO BOX 7840","MADISON","WI",537077840,"USA","MADISON, WI 537077840 USA "]
["WISCONSIN STEEL & TUBE",126436,"WISCONSIN STEEL & TUBE","1555 N. MAYFAIR RD",null,"MILWAUKEE","WI",53226,"USA","MILWAUKEE, WI 53226 USA "]
["WISCONSIN TECHNICAL COLLEGE",18522,"WISCONSIN TECHNICAL COLLEGE","SYSTEM FOUNDATION, INC","ONE FOUNDATION CIRCLE","WAUNAKEE","WI","53597-8914","USA","WAUNAKEE, WI 53597-8914 USA "]
["WISCONSIN UNION CATERING","UW0035","WISCONSIN UNION CATERING","MEMORIAL UNION",null,"MADISON","WI",53706,"USA","MADISON, WI 53706 USA "]
["WISE COMPONENTS",123716,"WISE COMPONENTS","79 HARBORVIEW AVE",null,"STAMFORD","CT",6902,"USA","STAMFORD, CT 6902 USA "]
["WISE SOFTWARE",8923,"WISE SOFTWARE","2700 E NINTH ST","STE 100","NEWBERG","OR",97132,"USA","NEWBERG, OR 97132 USA "]
["WISP-ROUTER.COM",131099,"WISP-ROUTER.COM","1123 S BROADWAY",null,"PITTSBURG","KS",66762,"USA","PITTSBURG, KS 66762 USA "]
["WITCO SYSTEMS",32861,"WITCO SYSTEMS","2501 S STOUGHTON RD",null,"MADISON","WI",53716,"USA","MADISON, WI 53716 USA "]
["WJ ROBERTS","K00019","WJ ROBERTS","181 CENTRAL STREET",null,"SAUGUS","MA",1906,"USA","SAUGUS, MA 1906 USA "]
["WOLFF KUBLY HILLDALE",14067,"WOLFF KUBLY HILLDALE","702 N MIDVALE BLVD",null,"MADISON","WI",53705,"USA","MADISON, WI 53705 USA "]
["WOLFRAM RESEARCH INC",77253,"WOLFRAM RESEARCH INC","PO BOX 6059",null,"CHAMPAIGN","IL",618269902,"USA","CHAMPAIGN, IL 618269902 USA "]
["WOLOHANS LUMBER",16274,"WOLOHANS LUMBER","RT 1","4701 LIEN RD","MADISON","WI",53704,"USA","MADISON, WI 53704 USA "]
["WOODS LINE EQUIPMENT INC",131924,"WOODS LINE EQUIPMENT INC","3634 S 125TH AVE",null,"AVONDALE","AZ",85323,"USA","AVONDALE, AZ 85323 USA "]
["WOODS MANUFACTURING",111425,"WOODS MANUFACTURING","8055 N. RIDGEWAY",null,"SKOKIE","IL",60076,"USA","SKOKIE, IL 60076 USA "]
["WORK BENCH TOOL COMPANY",48354,"WORK BENCH TOOL COMPANY","2833 PERRY ST",null,"MADISON","WI",53713,"USA","MADISON, WI 53713 USA "]
["WORLD CLASS WIRE & CABLE",126726,"WORLD CLASS WIRE & CABLE","2885 S 171ST ST",null,"NEW BERLIN","WI",53151,"USA","NEW BERLIN, WI 53151 USA "]
["WORLD ENVIRONMENTAL TECHNOLOGY",126587,"WORLD ENVIRONMENTAL TECHNOLOGY","135 CHARLES RD, STE G",null,"CAROL STREAM","IL",60188,"USA","CAROL STREAM, IL 60188 USA "]
["WORLD PUBLISHERS",94952,"WORLD PUBLISHERS","2400 E DEVON AVE STE 156",null,"DES PLAINES","IL",60018,"USA","DES PLAINES, IL 60018 USA "]
["WORLD SCIENTIFIC PUBLISHING",79670,"WORLD SCIENTIFIC PUBLISHING","1060 MAIN ST",null,"RIVER EDGE","NJ",7661,"USA","RIVER EDGE, NJ 7661 USA "]
["WORLD-LINK COMMUNICATIONS",132834,"WORLD-LINK COMMUNICATIONS","1101 WORCESTER RD",null,"FRAMINGHAM","MA",1701,"USA","FRAMINGHAM, MA 1701 USA "]
[{"$f":"IF($C3459=\"\",\"\",$C3459)","v":"WW GRAINGER INC"},63074,"WW GRAINGER INC","501 ATLAS AVE",null,"MADISON","WI",53714,"USA","MADISON, WI 53714 USA "]
["WYNDHAM GARDEN HOTEL",115346,"WYNDHAM GARDEN HOTEL","800 HATIONAL PARTWAY",null,"SCHAUMBURG","IL",60173,"USA",{"$f":"IF(F3460=\"\",\"\",F3460&\", \")&IF(G3460=\"\",\"\",G3460&\" \")&IF(H3460=\"\",\"\",H3460&\" \")&IF(I3460=\"\",\"\",I3460&\" \")","v":"SCHAUMBURG, IL 60173 USA "}]
["WYNN ENVIRONMENTAL",125370,"WYNN ENVIRONMENTAL","2745 TERWOOD ROAD",null,"WILLOW GROVE","PA",19090,"USA","WILLOW GROVE, PA 19090 USA "]
["X ENGRG SOFTWARE SYSTEMS CORP",100387,"X ENGRG SOFTWARE SYSTEMS CORP","P O BOX 33091",null,"RALEIGH","NC",27636,"USA","RALEIGH, NC 27636 USA "]
["XACT WIRE EDM CORP",81480,"XACT WIRE EDM CORP","730 LARRY COURT",null,"WAUKESHA","WI",53186,"USA","WAUKESHA, WI 53186 USA "]
["XANTREX TECHNOLOGY",111264,"XANTREX TECHNOLOGY","8587 BAXTER PLACE",null,"BURNABY BC",null,"V5A4V7","CANADA","BURNABY BC, V5A4V7 CANADA "]
["XEL YASUAKI FUKADA",114295,"XEL YASUAKI FUKADA","THE SUMITOMA BANK","AKASSAKA BRANCH","TOKYO",null,null,"USA","TOKYO, USA "]
["XEROGRAPHICS SUPPLY",4146,"XEROGRAPHICS SUPPLY","2242C BLUEMOUND RD",null,"WAUKESHA","WI",53186,"USA","WAUKESHA, WI 53186 USA "]
["XEROX CORP",129469,"XEROX CORP","3400 HILLVIEW AVE",null,"PALO ALTO","CA",94304,"USA","PALO ALTO, CA 94304 USA "]
["XEROX CORPORATION",33959,"XEROX CORPORATION","440 EXECUTIVE DR",null,"BROOKFIELD","WI",53005,"USA","BROOKFIELD, WI 53005 USA "]
["XEROX CORPORATION",14173,"XEROX CORPORATION","2802 COHO ST",null,"MADISON","WI",53713,"USA","MADISON, WI 53713 USA "]
["XEROX CORPORATION",112065,"XEROX CORPORATION","P O BOX 1000","MS 7060-583","WILSONVILLE","OR",97070,"USA","WILSONVILLE, OR 97070 USA "]
["XEROX CORPORATION",44845,"XEROX CORPORATION","% TELEMARKETING","3000 DES PLAINES AVE","DES PLAINES","IL",60018,"USA","DES PLAINES, IL 60018 USA "]
["XILINX INC",97380,"XILINX INC","2100 LOGIC DR",null,"SAN JOSE","CA",95124,"USA","SAN JOSE, CA 95124 USA "]
["XILOR INC",113284,"XILOR INC","1400 LIBERTY ST",null,"KNOXVILLE","TN",37909,"USA","KNOXVILLE, TN 37909 USA "]
["XIODONG JIN",133711,"XIODONG JIN","1010 WARRIOR CT",null,"WAUNAKEE","WI",53597,"USA","WAUNAKEE, WI 53597 USA "]
["XL MACHINES INC",119573,"XL MACHINES INC","N54 W13667 WOODALE DR",null,"MENOMONEE FALLS","WI",53051,"USA","MENOMONEE FALLS, WI 53051 USA "]
["XPEDX",52552,"XPEDX","929 WATSON AVE",null,"MADISON","WI",53713,"USA","MADISON, WI 53713 USA "]
["XYCOM",75769,"XYCOM","750 N MAPLE ROAD",null,"SALINE","MI",48176,"USA","SALINE, MI 48176 USA "]
["Y&Y",96244,"Y&Y","106 INDIAN HILL",null,"CARLISLE","MA",1741,"USA","CARLISLE, MA 1741 USA "]
["YALE CORDAGE",122631,"YALE CORDAGE","77 INDUSTRIAL PARK RD",null,"SACO","ME",4072,"USA","SACO, ME 4072 USA "]
["YARDE METALS",126235,"YARDE METALS","10160 PHILIPPS PARKWAY",null,"STREETSBORO","OH",44241,"USA","STREETSBORO, OH 44241 USA "]
["YELLOW FREIGHT SYS",93925,"YELLOW FREIGHT SYS","3466 CAPITAL DR",null,"SUN PRAIRIE","WI",53590,"USA","SUN PRAIRIE, WI 53590 USA "]
["YES EQUIPMENT & SERVICES INC",135575,"YES EQUIPMENT & SERVICES INC","W136 N4901 CAMPBELL DR",null,"MENOMONEE FALLS","WI",53051,"USA","MENOMONEE FALLS, WI 53051 USA "]
["YES EQUIPMENT & SERVICES INC",1417,"YES EQUIPMENT & SERVICES INC","1815 S 108TH ST",null,"WEST ALLIS","WI",53214,"USA","WEST ALLIS, WI 53214 USA "]
["YIELD ENGINEERING SYSTEMS INC",92068,"YIELD ENGINEERING SYSTEMS INC","2119 OAKLAND RD",null,"SAN JOSE","CA",95131,"USA","SAN JOSE, CA 95131 USA "]
["ZABER TECHNOLOGIES INC.",114464,"ZABER TECHNOLOGIES INC.","1777 WEST 75TH AVEE","FIRST FLOOR","VANCOUVER","BC","V6P6P2","CANADA","VANCOUVER, BC V6P6P2 CANADA "]
["ZEIER PLASTIC & MFG CO",14252,"ZEIER PLASTIC & MFG CO","2203 N STOUGHTON RD",null,"MADISON","WI",53704,"USA","MADISON, WI 53704 USA "]
["ZEISS",79936,"ZEISS","APS DIVISION","POSTFACH 1339/1380","OBERKOCHEN",null,null,"GERMANY","OBERKOCHEN, GERMANY "]
["ZEMAX DEVELOPMENT CORP",5705,"ZEMAX DEVELOPMENT CORP","3001 112TH AVE NE, STE 202",null,"BELLEVUE","WA",98004,"USA","BELLEVUE, WA 98004 USA "]
["ZENOSS, INC",132281,"ZENOSS, INC","275 WEST ST, SUITE 204",null,"ANNAPOLIS","MD",21401,"USA","ANNAPOLIS, MD 21401 USA "]
["ZEON AMERICA, INC",104872,"ZEON AMERICA, INC","4111 BELLS LANE",null,"LOUISVILLE","KY",40211,"USA","LOUISVILLE, KY 40211 USA "]
["ZEOS INTERNATIONAL LTD",79676,"ZEOS INTERNATIONAL LTD","1301 INDUSTRIAL BLVD",null,"MINNEAPOLIS","MN",55413,"USA","MINNEAPOLIS, MN 55413 USA "]
["ZERO HALIBURTON",81648,"ZERO HALIBURTON","12224 MONTAQUE ST",null,"PACOIMA","CA",91331,"USA","PACOIMA, CA 91331 USA "]
["ZESTRON AMERICA",123094,"ZESTRON AMERICA","21641 BEAUMEADE CIRCLE","SUITE 315","ASHBURN","VA",20147,"USA","ASHBURN, VA 20147 USA "]
["ZIP ZOOM FLY",121730,"ZIP ZOOM FLY","38929 CHERRY ST",null,"NEWARK","CA",94560,"USA","NEWARK, CA 94560 USA "]
["ZOLO",6237,"ZOLO","4946 N 63RD ST",null,"BOULDER","CO",80301,"USA","BOULDER, CO 80301 USA "]
["ZORN-COCHRANE",45535,"ZORN-COCHRANE","4803 TRIANGLE ST",null,"MCFARLAND","WI",53558,"USA","MCFARLAND, WI 53558 USA "]
["ZRB BEARING INC",94599,"ZRB BEARING INC","11 VILLAGE LN",null,"HARWINTON","CT",6791,"USA","HARWINTON, CT 6791 USA "]
["ZURBACHEN",6221,"ZURBACHEN","2619 INDUSTRIAL DR","PO BOX 4406","MADISON","WI",53713,"USA","MADISON, WI 53713 USA "]
["ZURBUCHEN OIL",7926,"ZURBUCHEN OIL","509 W VERONA AVE",null,"VERONA","WI",53593,"USA","VERONA, WI 53593 USA "]
["ZYGO CORPORATION",50466,"ZYGO CORPORATION","LAUREL BROOK RD",null,"MIDDLEFIELD","CT",6455,"USA","MIDDLEFIELD, CT 6455 USA "]
["",null,null,null,null,null,null,null,null,""]
["",null,null,null,null,null,null,null,null,""]
["",null,null,null,null,null,null,null,null,""]
["",null,null,null,null,null,null,null,null,""]
["",null,null,null,null,null,null,null,null,""]
["",null,null,null,null,null,null,null,null,""]
["",null,null,null,null,null,null,null,null,""]
["",null,null,null,null,null,null,null,null,""]
["",null,null,null,null,null,null,null,null,""]
["",null,null,null,null,null,null,null,null,""]
["",null,null,null,null,null,null,null,null,""]
["",null,null,null,null,null,null,null,null,""]
["",null,null,null,null,null,null,null,null,""]
["",null,null,null,null,null,null,null,null,""]
["",null,null,null,null,null,null,null,null,""]
["",null,null,null,null,null,null,null,null,""]
["",null,null,null,null,null,null,null,null,""]
["",null,null,null,null,null,null,null,null,""]
["",null,null,null,null,null,null,null,null,""]
["",null,null,null,null,null,null,null,null,""]
["",null,null,null,null,null,null,null,null,""]
["",null,null,null,null,null,null,null,null,""]
[{"$f":"IF($C3523=\"\",\"\",$C3523)","v":""},null,null,null,null,null,null,null,null,""]
["",null,null,null,null,null,null,null,null,{"$f":"IF(F3524=\"\",\"\",F3524&\", \")&IF(G3524=\"\",\"\",G3524&\" \")&IF(H3524=\"\",\"\",H3524&\" \")&IF(I3524=\"\",\"\",I3524&\" \")","v":""}]
["",null,null,null,null,null,null,null,null,""]
["",null,null,null,null,null,null,null,null,""]
["",null,null,null,null,null,null,null,null,""]
["",null,null,null,null,null,null,null,null,""]
["",null,null,null,null,null,null,null,null,""]
["",null,null,null,null,null,null,null,null,""]
["",null,null,null,null,null,null,null,null,""]
["",null,null,null,null,null,null,null,null,""]
["",null,null,null,null,null,null,null,null,""]
["",null,null,null,null,null,null,null,null,""]
["",null,null,null,null,null,null,null,null,""]
["",null,null,null,null,null,null,null,null,""]
["",null,null,null,null,null,null,null,null,""]
["",null,null,null,null,null,null,null,null,""]
["",null,null,null,null,null,null,null,null,""]
["",null,null,null,null,null,null,null,null,""]
["",null,null,null,null,null,null,null,null,""]
["",null,null,null,null,null,null,null,null,""]
["",null,null,null,null,null,null,null,null,""]
["",null,null,null,null,null,null,null,null,""]
["",null,null,null,null,null,null,null,null,""]
["",null,null,null,null,null,null,null,null,""]
["",null,null,null,null,null,null,null,null,""]
["",null,null,null,null,null,null,null,null,""]
["",null,null,null,null,null,null,null,null,""]
["",null,null,null,null,null,null,null,null,""]
["",null,null,null,null,null,null,null,null,""]
["",null,null,null,null,null,null,null,null,""]
["",null,null,null,null,null,null,null,null,""]
["",null,null,null,null,null,null,null,null,""]
["",null,null,null,null,null,null,null,null,""]
["",null,null,null,null,null,null,null,null,""]
["",null,null,null,null,null,null,null,null,""]
["",null,null,null,null,null,null,null,null,""]
["",null,null,null,null,null,null,null,null,""]
["",null,null,null,null,null,null,null,null,""]
["",null,null,null,null,null,null,null,null,""]
["",null,null,null,null,null,null,null,null,""]
["",null,null,null,null,null,null,null,null,""]
["",null,null,null,null,null,null,null,null,""]
["",null,null,null,null,null,null,null,null,""]
["",null,null,null,null,null,null,null,null,""]
["",null,null,null,null,null,null,null,null,""]
["",null,null,null,null,null,null,null,null,""]
["",null,null,null,null,null,null,null,null,""]
["",null,null,null,null,null,null,null,null,""]
["",null,null,null,null,null,null,null,null,""]
["",null,null,null,null,null,null,null,null,""]
["",null,null,null,null,null,null,null,null,""]
["",null,null,null,null,null,null,null,null,""]
["",null,null,null,null,null,null,null,null,""]
["",null,null,null,null,null,null,null,null,""]
["",null,null,null,null,null,null,null,null,""]
["",null,null,null,null,null,null,null,null,""]
["",null,null,null,null,null,null,null,null,""]
["",null,null,null,null,null,null,null,null,""]
["",null,null,null,null,null,null,null,null,""]
["",null,null,null,null,null,null,null,null,""]
["",null,null,null,null,null,null,null,null,""]
["",null,null,null,null,null,null,null,null,""]
["",null,null,null,null,null,null,null,null,""]
["",null,null,null,null,null,null,null,null,""]
[{"$f":"IF($C3587=\"\",\"\",$C3587)","v":""},null,null,null,null,null,null,null,null,""]
["",null,null,null,null,null,null,null,null,{"$f":"IF(F3588=\"\",\"\",F3588&\", \")&IF(G3588=\"\",\"\",G3588&\" \")&IF(H3588=\"\",\"\",H3588&\" \")&IF(I3588=\"\",\"\",I3588&\" \")","v":""}]
["",null,null,null,null,null,null,null,null,""]
["",null,null,null,null,null,null,null,null,""]
["",null,null,null,null,null,null,null,null,""]
["",null,null,null,null,null,null,null,null,""]
["",null,null,null,null,null,null,null,null,""]
["",null,null,null,null,null,null,null,null,""]
["",null,null,null,null,null,null,null,null,""]
["",null,null,null,null,null,null,null,null,""]
["",null,null,null,null,null,null,null,null,""]
["",null,null,null,null,null,null,null,null,""]
["",null,null,null,null,null,null,null,null,""]
["",null,null,null,null,null,null,null,null,""]
["",null,null,null,null,null,null,null,null,""]
["",null,null,null,null,null,null,null,null,""]
["",null,null,null,null,null,null,null,null,""]
["",null,null,null,null,null,null,null,null,""]
["",null,null,null,null,null,null,null,null,""]
["",null,null,null,null,null,null,null,null,""]
["",null,null,null,null,null,null,null,null,""]
["",null,null,null,null,null,null,null,null,""]
["",null,null,null,null,null,null,null,null,""]
["",null,null,null,null,null,null,null,null,""]
["",null,null,null,null,null,null,null,null,""]
["",null,null,null,null,null,null,null,null,""]
["",null,null,null,null,null,null,null,null,""]
["",null,null,null,null,null,null,null,null,""]
["",null,null,null,null,null,null,null,null,""]
["",null,null,null,null,null,null,null,null,""]
["",null,null,null,null,null,null,null,null,""]
["",null,null,null,null,null,null,null,null,""]
["",null,null,null,null,null,null,null,null,""]
["",null,null,null,null,null,null,null,null,""]
["",null,null,null,null,null,null,null,null,""]
["",null,null,null,null,null,null,null,null,""]
["",null,null,null,null,null,null,null,null,""]
["",null,null,null,null,null,null,null,null,""]
["",null,null,null,null,null,null,null,null,""]
["",null,null,null,null,null,null,null,null,""]
["",null,null,null,null,null,null,null,null,""]
["",null,null,null,null,null,null,null,null,""]
["",null,null,null,null,null,null,null,null,""]
["",null,null,null,null,null,null,null,null,""]
["",null,null,null,null,null,null,null,null,""]
["",null,null,null,null,null,null,null,null,""]
["",null,null,null,null,null,null,null,null,""]
["",null,null,null,null,null,null,null,null,""]
["",null,null,null,null,null,null,null,null,""]
["",null,null,null,null,null,null,null,null,""]
["",null,null,null,null,null,null,null,null,""]
["",null,null,null,null,null,null,null,null,""]
["",null,null,null,null,null,null,null,null,""]
["",null,null,null,null,null,null,null,null,""]
["",null,null,null,null,null,null,null,null,""]
["",null,null,null,null,null,null,null,null,""]
["",null,null,null,null,null,null,null,null,""]
["",null,null,null,null,null,null,null,null,""]
["",null,null,null,null,null,null,null,null,""]
["",null,null,null,null,null,null,null,null,""]
["",null,null,null,null,null,null,null,null,""]
["",null,null,null,null,null,null,null,null,""]
["",null,null,null,null,null,null,null,null,""]
["",null,null,null,null,null,null,null,null,""]
[{"$f":"IF($C3651=\"\",\"\",$C3651)","v":""},null,null,null,null,null,null,null,null,""]
["",null,null,null,null,null,null,null,null,{"$f":"IF(F3652=\"\",\"\",F3652&\", \")&IF(G3652=\"\",\"\",G3652&\" \")&IF(H3652=\"\",\"\",H3652&\" \")&IF(I3652=\"\",\"\",I3652&\" \")","v":""}]
["",null,null,null,null,null,null,null,null,""]
["",null,null,null,null,null,null,null,null,""]
["",null,null,null,null,null,null,null,null,""]
["",null,null,null,null,null,null,null,null,""]
["",null,null,null,null,null,null,null,null,""]
["",null,null,null,null,null,null,null,null,""]
["",null,null,null,null,null,null,null,null,""]
["",null,null,null,null,null,null,null,null,""]
["",null,null,null,null,null,null,null,null,""]
["",null,null,null,null,null,null,null,null,""]
["",null,null,null,null,null,null,null,null,""]
["",null,null,null,null,null,null,null,null,""]
["",null,null,null,null,null,null,null,null,""]
["",null,null,null,null,null,null,null,null,""]
["",null,null,null,null,null,null,null,null,""]
["",null,null,null,null,null,null,null,null,""]
["",null,null,null,null,null,null,null,null,""]
["",null,null,null,null,null,null,null,null,""]
["",null,null,null,null,null,null,null,null,""]
["",null,null,null,null,null,null,null,null,""]
["",null,null,null,null,null,null,null,null,""]
["",null,null,null,null,null,null,null,null,""]
["",null,null,null,null,null,null,null,null,""]
["",null,null,null,null,null,null,null,null,""]
["",null,null,null,null,null,null,null,null,""]
["",null,null,null,null,null,null,null,null,""]
["",null,null,null,null,null,null,null,null,""]
["",null,null,null,null,null,null,null,null,""]
["",null,null,null,null,null,null,null,null,""]
["",null,null,null,null,null,null,null,null,""]
["",null,null,null,null,null,null,null,null,""]
["",null,null,null,null,null,null,null,null,""]
["",null,null,null,null,null,null,null,null,""]
["",null,null,null,null,null,null,null,null,""]
["",null,null,null,null,null,null,null,null,""]
["",null,null,null,null,null,null,null,null,""]
["",null,null,null,null,null,null,null,null,""]
["",null,null,null,null,null,null,null,null,""]
["",null,null,null,null,null,null,null,null,""]
["",null,null,null,null,null,null,null,null,""]
["",null,null,null,null,null,null,null,null,""]
["",null,null,null,null,null,null,null,null,""]
["",null,null,null,null,null,null,null,null,""]
["",null,null,null,null,null,null,null,null,""]
["",null,null,null,null,null,null,null,null,""]
["",null,null,null,null,null,null,null,null,""]
["",null,null,null,null,null,null,null,null,""]
["",null,null,null,null,null,null,null,null,""]